{"text_format":"1","workbook":"xlsx","n_sheets":14,"sheets":["Project Summary","Annual CF","Tenant Summary","MLA's","Monthly CF","Argus-->","LP Returns","Monthly Cash Flows","Prevailing Market Rate","Scheduled Base Rental Revenue","Occupancy","Waterfall","Tax Wksht","Global Assumptions"],"not_rendered":{"charts":0,"images":1,"macros":1,"external_links":2,"defined_names":28,"comments":1,"pivot_tables":0},"unopened":[],"bounds":{"document_bytes":16777216,"sheet_cells":100000,"rows_first":2000,"rows_last":500,"rows_between":2000,"halvings":0,"cell_chars":16384,"cell_head_chars":4096},"cells_cut":0,"cells_raw":0,"read":"whole","date_system":"1900"}

{"sheet":"Project Summary","index":0,"n_rows":66,"n_cols":18,"rows_kept":66,"cut":false,"hidden":false,"merged":[]}
[]
[null,"x",null,null,null,null,null,null,null,null,null,null,null,null,null,null,null,"x"]
[null,null,"Project Summary"]
[null,null,"Woodforest Shopping Center"]
[]
[null,null,"PROJECT OVERVIEW",null,null,null,null,null,null,null,null,"DISPOSITION"]
[null,null,"Address",null,null,null,null,null,null,"421 Uvalde Rd",null,"Hold Period",null,null,null,null,7]
[null,null,"City, State Zip",null,null,null,null,null,null,"Houston, TX 77015",null,"Exit Date",null,null,null,null,{"$f":"+EOMONTH($J$14,$Q$7*12)","v":"2025-01-31"}]
[null,null,"Year Built / Renvoated",null,null,null,null,null,null,1968,null,null,null,null,null,"$ Actual","$ PSF"]
[null,null,"Class",null,null,null,null,null,null,"B",null,"NTM NOI",null,null,null,{"$f":"+SUMIFS('Monthly CF'!$F$49:$EG$49,'Monthly CF'!$F$6:$EG$6,\">\"&$Q$8,'Monthly CF'!$F$6:$EG$6,\"<=\"&(EOMONTH($Q$8,12)))","v":1217272.2080025866},{"$f":"+P10/$J$12","v":10.698378534224402}]
[null,null,"Owner",null,null,null,null,null,null,"CCG Woodforest, LP",null,"Exit Cap",null,null,null,0.08]
[null,null,"Net Rentable SF",null,null,null,null,null,null,113781,null,"Gross Sales Price",null,null,null,{"$f":"+P10/P11","v":15215902.600032333},{"$f":"+P12/$J$12","v":133.72973167780503}]
[null,null,"Occupancy at Close",null,null,null,null,null,null,0.84799999999999998,null,"   Less: Closing Costs",null,null,0.01,{"$f":"+-P12*O13","v":-152159.02600032333},-1.3372973167780502]
[null,null,"Acquisition Date",null,null,null,null,null,null,"2018-01-01",null,"Net Sales Proceeds",null,null,null,{"$f":"SUM(P12:P13)","v":15063743.574032011},{"$f":"+P14/$J$12","v":132.39243436102697}]
[null,null,"Stabilization Date",null,null,null,null,null,null,"2019-06-30",null,"   Less: Debt Repayment",null,null,null,{"$f":"+SUM('Monthly CF'!E74:EG74)","v":-6165263.6683341172},{"$f":"+P15/$J$12","v":-54.185353163833305}]
[null,null,"Hold Period (Months) to Reach Stabilization",null,null,null,null,null,null,{"$f":"(J15-J14)/(365/12)","v":17.917808219178081},null,"Sales Distribution after Debt Repayment",null,null,null,{"$f":"+P14+P15","v":8898479.9056978934},{"$f":"+P16/$J$12","v":78.207081197193673}]
[]
[null,null,"SOURCES & USES AT CLOSING",null,null,null,null,null,null,null,null,"MARK-TO-MARKET ANALYSIS"]
[null,null,"Sources",null,null,null,null,null,"$ Actual","$ PSF",null,null,null,null,null,"$ Actual","$ PSF"]
[null,null,null,"Loan Proceeds",null,null,null,{"$f":"+I25/I34*0.65","v":0.6310679611650486},{"$f":"+H20*I34","v":7475000.0000000009},{"$f":"+I20/$J$12","v":65.69638164544169},null,"Stabilized Basis",null,null,null,{"$f":"+M40","v":11911557.949999994},{"$f":"+P20/$J$12","v":104.6884624849491}]
[null,null,null,"Equity",null,null,null,{"$f":"1-H20","v":0.3689320388349514},{"$f":"+H21*I34","v":4369999.9999999991},{"$f":"+I21/$J$12","v":38.407115423488975},null,"Market Rent at Close (NNN)",null,null,null,{"$f":"+Q21*$J$12","v":1251591},11]
[null,null,"Total Sources",null,null,null,null,null,{"$f":"SUM(I20:I21)","v":11845000},{"$f":"+I22/$J$12","v":104.10349706893066},null,"   Less: General Vacancy",null,null,0.05,{"$f":"+-P21*O22","v":-62579.55},{"$f":"+P22/$J$12","v":-0.55000000000000004}]
[null,null,null,null,null,null,null,null,null,null,null,"Market Rent after Vacancy (NNN)",null,null,null,{"$f":"+P21+P22","v":1189011.45},{"$f":"+P23/$J$12","v":10.45}]
[null,null,"Uses",null,null,null,null,null,"$ Actual","$ PSF",null,"Untrended Mark-to-Market YOC @ Stabilization",null,null,null,null,{"$f":"+Q23/Q20","v":9.9819977788883657E-2}]
[null,null,null,"Purchase Price",null,null,null,null,11500000,{"$f":"+I25/$J$12","v":101.07135637760258}]
[null,null,null,"Renovation Budget",null,null,null,null,0,{"$f":"+I26/$J$12","v":0},null,"OPERATING METRICS"]
[null,null,null,"Closing Costs & Loan Fees",null,null,null,null,null,null,null,null,"Last",null,null,"NTM Cap Rate","Economic "]
[null,null,null,null,"Legal Fees",null,null,null,0,{"$f":"+I28/$J$12","v":0},null,"Period","Dollar Basis","PSF","NOI (NTM)","on Total Basis","Occupancy"]
[null,null,null,null,"Lender Fees",null,null,0,{"$f":"H29*I20","v":0},0,null,"At Close",{"$f":"+I34-SUM(I26)","v":11845000},{"$f":"+M29/$J$12","v":104.10349706893066},{"$f":"+SUM('Monthly CF'!F49:Q49)","v":942287.00682356162},{"$f":"+O29/M29","v":7.9551456886750666E-2},{"$f":"+'Annual CF'!G$8","v":0.86173731407997234}]
[null,null,null,null,"Appraisal, Structural,  Environmental & Survey",null,null,null,0,0,null,1,{"$f":"+M29+SUMIF('Monthly CF'!$E$4:$EG$4,'Project Summary'!L30,'Monthly CF'!$E$56:$EG$56)+SUMIF('Monthly CF'!$E$4:$EG$4,'Project Summary'!L30,'Monthly CF'!$E$93:$EG$93)+SUMIF('Monthly CF'!$E$4:$EG$4,'Project Summary'!L30,'Monthly CF'!$E$94:$EG$94)","v":11891426.199999999},104.51152828679656,{"$f":"+SUMIF('Monthly CF'!$F$4:$EG$4,'Project Summary'!L30+1,'Monthly CF'!$F$49:$EG$49)","v":1119580.2534971735},9.4150208281759643E-2,{"$f":"+'Annual CF'!G$8","v":0.86173731407997234}]
[null,null,null,null,"Title (Endorsements)",null,null,null,0,0,null,{"$f":"+L30+1","v":2},{"$f":"+M30+SUMIF('Monthly CF'!$E$4:$EG$4,'Project Summary'!L31,'Monthly CF'!$E$56:$EG$56)+SUMIF('Monthly CF'!$E$4:$EG$4,'Project Summary'!L31,'Monthly CF'!$E$93:$EG$93)+SUMIF('Monthly CF'!$E$4:$EG$4,'Project Summary'!L31,'Monthly CF'!$E$94:$EG$94)","v":11924832.399999999},104.80512915161582,{"$f":"+SUMIF('Monthly CF'!$F$4:$EG$4,'Project Summary'!L31+1,'Monthly CF'!$F$49:$EG$49)","v":1173766.124875718},9.8430408537709776E-2,{"$f":"+'Annual CF'!H$8","v":0.92692101493219425}]
[null,null,null,null,"Acquisition Fee",null,null,0.03,{"$f":"+H32*I25","v":345000},3.0321406913280775,null,3,{"$f":"+M31+SUMIF('Monthly CF'!$E$4:$EG$4,'Project Summary'!L32,'Monthly CF'!$E$56:$EG$56)+SUMIF('Monthly CF'!$E$4:$EG$4,'Project Summary'!L32,'Monthly CF'!$E$93:$EG$93)+SUMIF('Monthly CF'!$E$4:$EG$4,'Project Summary'!L32,'Monthly CF'!$E$94:$EG$94)","v":11947588.599999998},105.0051291516158,{"$f":"+SUMIF('Monthly CF'!$F$4:$EG$4,'Project Summary'!L32+1,'Monthly CF'!$F$49:$EG$49)","v":1175262.8692724851},9.8368207059999144E-2,{"$f":"+'Annual CF'!I$8","v":0.93790703192975977}]
[null,null,null,"Total Closing Costs & Loan Fees",null,null,null,null,{"$f":"+SUM(I28:I32)","v":345000},3.0321406913280775,null,4,{"$f":"+M32+SUMIF('Monthly CF'!$E$4:$EG$4,'Project Summary'!L33,'Monthly CF'!$E$56:$EG$56)+SUMIF('Monthly CF'!$E$4:$EG$4,'Project Summary'!L33,'Monthly CF'!$E$93:$EG$93)+SUMIF('Monthly CF'!$E$4:$EG$4,'Project Summary'!L33,'Monthly CF'!$E$94:$EG$94)","v":11970344.799999997},105.20512915161579,{"$f":"+SUMIF('Monthly CF'!$F$4:$EG$4,'Project Summary'!L33+1,'Monthly CF'!$F$49:$EG$49)","v":1185515.512667822},9.9037707975447975E-2,{"$f":"+'Annual CF'!J$8","v":0.93790703192975977}]
[null,null,"Total Costs",null,null,null,null,null,{"$f":"+I25+I26+I33","v":11845000},104.10349706893066,null,5,{"$f":"+M33+SUMIF('Monthly CF'!$E$4:$EG$4,'Project Summary'!L34,'Monthly CF'!$E$56:$EG$56)+SUMIF('Monthly CF'!$E$4:$EG$4,'Project Summary'!L34,'Monthly CF'!$E$93:$EG$93)+SUMIF('Monthly CF'!$E$4:$EG$4,'Project Summary'!L34,'Monthly CF'!$E$94:$EG$94)","v":11993100.999999996},105.4051291516158,{"$f":"+SUMIF('Monthly CF'!$F$4:$EG$4,'Project Summary'!L34+1,'Monthly CF'!$F$49:$EG$49)","v":1197560.7353650182},9.9854135753965442E-2,{"$f":"+'Annual CF'!K$8","v":0.93790703192975977}]
[null,null,null,null,null,null,null,null,null,null,null,6,{"$f":"+M34+SUMIF('Monthly CF'!$E$4:$EG$4,'Project Summary'!L35,'Monthly CF'!$E$56:$EG$56)+SUMIF('Monthly CF'!$E$4:$EG$4,'Project Summary'!L35,'Monthly CF'!$E$93:$EG$93)+SUMIF('Monthly CF'!$E$4:$EG$4,'Project Summary'!L35,'Monthly CF'!$E$94:$EG$94)","v":12015857.199999996},105.60512915161578,{"$f":"+SUMIF('Monthly CF'!$F$4:$EG$4,'Project Summary'!L35+1,'Monthly CF'!$F$49:$EG$49)","v":1218088.864743131},0.10137344714309117,{"$f":"+'Annual CF'!L$8","v":0.93790703192975977}]
[null,null,"SOURCES & USES - FULLY FUNDED",null,null,null,null,null,null,null,null,7,{"$f":"+M35+SUMIF('Monthly CF'!$E$4:$EG$4,'Project Summary'!L36,'Monthly CF'!$E$56:$EG$56)+SUMIF('Monthly CF'!$E$4:$EG$4,'Project Summary'!L36,'Monthly CF'!$E$93:$EG$93)+SUMIF('Monthly CF'!$E$4:$EG$4,'Project Summary'!L36,'Monthly CF'!$E$94:$EG$94)","v":12038613.399999995},105.80512915161577,{"$f":"+SUMIF('Monthly CF'!$F$4:$EG$4,'Project Summary'!L36+1,'Monthly CF'!$F$49:$EG$49)","v":1217272.2080025866},0.10111398776229388,{"$f":"+'Annual CF'!M$8","v":0.93790703192975977}]
[null,null,"Sources",null,null,null,null,null,"$ Actual","$ PSF",null,8,{"$f":"+M36+SUMIF('Monthly CF'!$E$4:$EG$4,'Project Summary'!L37,'Monthly CF'!$E$56:$EG$56)+SUMIF('Monthly CF'!$E$4:$EG$4,'Project Summary'!L37,'Monthly CF'!$E$93:$EG$93)+SUMIF('Monthly CF'!$E$4:$EG$4,'Project Summary'!L37,'Monthly CF'!$E$94:$EG$94)","v":12061369.599999994},106.00512915161578,{"$f":"+SUMIF('Monthly CF'!$F$4:$EG$4,'Project Summary'!L37+1,'Monthly CF'!$F$49:$EG$49)","v":1216431.0515598261},0.10085347617237654,{"$f":"+'Annual CF'!N$8","v":0.93790703192975977}]
[null,null,null,"Loan Proceeds",null,{"$f":"+I38/$I$47","v":0.62924477158625247},null,null,{"$f":"+I20","v":7475000.0000000009},{"$f":"+I38/$J$12","v":65.69638164544169},null,9,{"$f":"+M37+SUMIF('Monthly CF'!$E$4:$EG$4,'Project Summary'!L38,'Monthly CF'!$E$56:$EG$56)+SUMIF('Monthly CF'!$E$4:$EG$4,'Project Summary'!L38,'Monthly CF'!$E$93:$EG$93)+SUMIF('Monthly CF'!$E$4:$EG$4,'Project Summary'!L38,'Monthly CF'!$E$94:$EG$94)","v":12084125.799999993},106.20512915161576,{"$f":"+SUMIF('Monthly CF'!$F$4:$EG$4,'Project Summary'!L38+1,'Monthly CF'!$F$49:$EG$49)","v":1226564.6604237827},0.10150214262282699,{"$f":"+'Annual CF'!O$8","v":0.93790703192975977}]
[null,null,null,"Equity",null,{"$f":"+I39/$I$47","v":0.36786617415811673},null,null,{"$f":"+MAX('Monthly CF'!E82:EG82)","v":4369999.9999999991},38.407115423488975,null,10,{"$f":"+M38+SUMIF('Monthly CF'!$E$4:$EG$4,'Project Summary'!L39,'Monthly CF'!$E$56:$EG$56)+SUMIF('Monthly CF'!$E$4:$EG$4,'Project Summary'!L39,'Monthly CF'!$E$93:$EG$93)+SUMIF('Monthly CF'!$E$4:$EG$4,'Project Summary'!L39,'Monthly CF'!$E$94:$EG$94)","v":12106881.999999993},106.40512915161575,{"$f":"+SUMIF('Monthly CF'!$F$4:$EG$4,'Project Summary'!L39+1,'Monthly CF'!$F$49:$EG$49)","v":1225748.6827370522},0.10124396047942426,{"$f":"+'Annual CF'!P$8","v":0.93790703192975977}]
[null,null,null,"Cash Flow",null,{"$f":"+I40/$I$47","v":2.8890542556307937E-3},null,null,{"$f":"+I47-SUM(I38:I39)","v":34320},0.30163208268515834,null,"At Stabilization",{"$f":"+INDEX('Monthly CF'!$E$96:$EG$96,MATCH('Project Summary'!$J$15,'Monthly CF'!$E$6:$EG$6))","v":11911557.949999994},104.6884624849491,{"$f":"+INDEX('Monthly CF'!$E$98:$EG$98,MATCH('Project Summary'!$J$15,'Monthly CF'!$E$6:$EG$6))","v":1162762.7890989839},9.7616348254342705E-2,0.93799999999999994]
[null,null,"Total Sources",null,null,null,null,null,{"$f":"SUM(I38:I40)","v":11879320},{"$f":"SUM(J38:J40)","v":104.40512915161582}]
[null,null,null,null,null,null,null,null,null,null,null,"ROLLOVER SCHEDULE"]
[null,null,"Uses",null,null,null,null,null,"$ Actual","$ PSF",null,null,null,"Current",null,"Cumulative"]
[null,null,null,"Acquisition Costs",null,null,null,null,{"$f":"+I34-SUM(I26)","v":11845000},{"$f":"+I44/$J$12","v":104.10349706893066},null,"Period","Year Ending","SF Expired","% Expired","SF Expired","% Expired"]
[null,null,null,"TI & LCs",null,null,null,null,{"$f":"+SUM('Monthly CF'!F52:EG53)","v":34320},0.30163208268515834,null,"At Close",{"$f":"+J14","v":"2018-01-01"},17265,{"$f":"+N45/$J$12","v":0.15173886677037468},{"$f":"+N45","v":17265},{"$f":"+O45","v":0.15173886677037468}]
[null,null,null,"Renovation Capex",null,null,null,null,{"$f":"+I26","v":0},0,null,1,{"$f":"+EOMONTH(M45,12)","v":"2019-01-31"},8985,{"$f":"+N46/$J$12","v":7.8967490178500799E-2},{"$f":"+P45+N46","v":26250},{"$f":"+Q45+O46","v":0.23070635694887548}]
[null,null,"Total Capitalization",null,null,null,null,null,{"$f":"SUM(I44:I46)","v":11879320},104.40512915161582,null,{"$f":"+L46+1","v":2},{"$f":"+EOMONTH(M46,12)","v":"2020-01-31"},17271,{"$f":"+N47/$J$12","v":0.15179159965196298},{"$f":"+P46+N47","v":43521},{"$f":"+Q46+O47","v":0.38249795660083846}]
[null,null,null,null,null,null,null,null,null,null,null,3,"2021-01-31",5025,4.4163788330213304E-2,48546,0.42666174493105175]
[null,null,"RENOVATION",null,null,null,null,null,null,null,null,4,"2022-01-31",8335,7.3254761339766744E-2,56881,0.49991650627081852]
[null,null,null,null,null,null,null,null,"$ Actual","$ PSF",null,5,"2023-01-31",24200,0.21268928907286805,81081,0.71260579534368662]
[null,null,"Total Capex Spend",null,null,null,null,null,{"$f":"+I26","v":0},{"$f":"+I51/$J$12","v":0},null,6,"2024-01-31",29000,0.25487559434351958,110081,0.96748138968720621]
[null,null,null,null,null,null,null,null,null,null,null,7,"2025-01-31",2700,2.3729796714741479E-2,112781,0.99121118640194772]
[null,null,"Capex Start",null,null,null,null,null,null,null,null,8,"2026-01-31",1000,8.7888135980523988E-3,113781,1.0000000000000002]
[null,null,"Time to Complete",null,null,null,null,null,null,null,null,9,"2027-01-31",{"$f":"+SUMIF('Tenant Summary'!$O$8:$O$31,'Project Summary'!L54,'Tenant Summary'!$D$8:$D$31)","v":0},0,113781,1.0000000000000002]
[null,null,"Capex End",null,null,null,null,null,null,null,null,10,"2028-01-31",{"$f":"+SUMIF('Tenant Summary'!$O$8:$O$31,'Project Summary'!L55,'Tenant Summary'!$D$8:$D$31)","v":0},0,113781,1.0000000000000002]
[null,null,"Capex Spend per Month"]
[null,null,null,null,null,null,null,null,null,null,null,"RETURNS"]
[null,null,"FINANCING",null,null,null,null,null,null,null,null,"Unlevered IRR",null,null,null,null,{"$f":"+'Monthly CF'!$D$62","v":0.12438662710684167}]
[null,null,"Acquisition Loan Proceeds",null,null,null,null,null,null,{"$f":"+I20-J60","v":7475000.0000000009},null,"Unlevered Multiple",null,null,null,null,{"$f":"+'Monthly CF'!$D$63","v":1.93180173417281}]
[null,null,"Additional Debt Reserve / Holdback Proceeds",null,null,null,null,null,null,{"$f":"+SUM(I26)*H20","v":0},null,"Levered IRR",null,null,null,null,{"$f":"+'Monthly CF'!D77","v":0.2201883134514413}]
[null,null,"Term",null,null,null,null,null,null,{"$f":"Q7","v":7},null,"Levered Multiple",null,null,null,null,{"$f":"+'Monthly CF'!D78","v":3.0144579728776764}]
[null,null,"Rate",null,null,null,null,null,null,4.65E-2,null,"Levered Analysis",null,null,"% of Total Profit","$ Actual","$ PSF"]
[null,null,"Initial IO?",null,null,null,null,null,null,"no",null,"NPV of Total Cash Flows",null,null,{"$f":"+P63/$P$63","v":1},{"$f":"NPV(((($Q$60+1)^(1/12)-1)),'Monthly CF'!F75:EG75)","v":4369999.9999999981},{"$f":"+P63/$J$12","v":38.407115423488968}]
[null,null,"Switch to Amo",null,null,null,null,null,null,0,null,"Cash Flows",null,null,{"$f":"+P64/$P$63","v":0.49435425264388633},{"$f":"NPV(((($Q$60+1)^(1/12)-1)),'Monthly CF'!F100:EG100)","v":2160328.0840537823},{"$f":"+P64/$J$12","v":18.986720841386369}]
[null,null,"Amortization Period",null,null,null,null,null,null,25,null,"Sales Proceeds",null,null,{"$f":"+P65/$P$63","v":0.50564574735611389},{"$f":"NPV(((($Q$60+1)^(1/12)-1)),'Monthly CF'!F101:EG101)","v":2209671.9159462168},{"$f":"+P65/$J$12","v":19.420394582102606}]
[null,"x",null,null,null,null,null,null,null,null,null,null,null,null,null,null,null,"x"]

{"sheet":"Annual CF","index":1,"n_rows":53,"n_cols":17,"rows_kept":53,"cut":false,"hidden":false,"merged":[]}
[]
[null,"Annual Cash Flows"]
[null,{"$f":"+'Project Summary'!C4","v":"Woodforest Shopping Center"}]
[null,"Year",null,null,null,0,{"$f":"+F4+1","v":1},{"$f":"+G4+1","v":2},3,4,5,6,7,8,9,10,11]
[null,"Date",null,null,null,{"$f":"+'Project Summary'!$J$14","v":"2018-01-01"},{"$f":"+EOMONTH(F5,12)","v":"2019-01-31"},{"$f":"+EOMONTH(G5,12)","v":"2020-01-31"},"2021-01-31","2022-01-31","2023-01-31","2024-01-31","2025-01-31","2026-01-31","2027-01-31","2028-01-31","2029-01-31"]
[]
[null,"Average Occupancy",null,null,null,null,{"$f":"+INDEX(Occupancy!$B$18:$L$18,MATCH('Annual CF'!G5,Occupancy!$B$2:$L$2))/'Project Summary'!$J$12","v":0.86173731407997234},{"$f":"+INDEX(Occupancy!$B$18:$L$18,MATCH('Annual CF'!H5,Occupancy!$B$2:$L$2))/'Project Summary'!$J$12","v":0.92692101493219425},{"$f":"+INDEX(Occupancy!$B$18:$L$18,MATCH('Annual CF'!I5,Occupancy!$B$2:$L$2))/'Project Summary'!$J$12","v":0.93790703192975977},{"$f":"+INDEX(Occupancy!$B$18:$L$18,MATCH('Annual CF'!J5,Occupancy!$B$2:$L$2))/'Project Summary'!$J$12","v":0.93790703192975977},{"$f":"+INDEX(Occupancy!$B$18:$L$18,MATCH('Annual CF'!K5,Occupancy!$B$2:$L$2))/'Project Summary'!$J$12","v":0.93790703192975977},{"$f":"+INDEX(Occupancy!$B$18:$L$18,MATCH('Annual CF'!L5,Occupancy!$B$2:$L$2))/'Project Summary'!$J$12","v":0.93790703192975977},{"$f":"+INDEX(Occupancy!$B$18:$L$18,MATCH('Annual CF'!M5,Occupancy!$B$2:$L$2))/'Project Summary'!$J$12","v":0.93790703192975977},{"$f":"+INDEX(Occupancy!$B$18:$L$18,MATCH('Annual CF'!N5,Occupancy!$B$2:$L$2))/'Project Summary'!$J$12","v":0.93790703192975977},{"$f":"+INDEX(Occupancy!$B$18:$L$18,MATCH('Annual CF'!O5,Occupancy!$B$2:$L$2))/'Project Summary'!$J$12","v":0.93790703192975977},{"$f":"+INDEX(Occupancy!$B$18:$L$18,MATCH('Annual CF'!P5,Occupancy!$B$2:$L$2))/'Project Summary'!$J$12","v":0.93790703192975977},{"$f":"+INDEX(Occupancy!$B$18:$L$18,MATCH('Annual CF'!Q5,Occupancy!$B$2:$L$2))/'Project Summary'!$J$12","v":0.93790703192975977}]
[null,"Economic Occupancy (w/ General Vacancy)",null,null,null,null,{"$f":"+G7","v":0.86173731407997234},{"$f":"+H7","v":0.92692101493219425},0.93790703192975977,0.93790703192975977,0.93790703192975977,0.93790703192975977,0.93790703192975977,0.93790703192975977,0.93790703192975977,0.93790703192975977,0.93790703192975977]
[null,"Gross Rent / Occupied SF",null,null,null,null,{"$f":"(G15+G16+G17)/(G7*'Project Summary'!$J$12)","v":13.77214985473532},{"$f":"(H15+H16+H17)/(H7*'Project Summary'!$J$12)","v":14.58913855315622},{"$f":"(I15+I16+I17)/(I7*'Project Summary'!$J$12)","v":15.032320626899606},{"$f":"(J15+J16+J17)/(J7*'Project Summary'!$J$12)","v":15.155847272305186},{"$f":"(K15+K16+K17)/(K7*'Project Summary'!$J$12)","v":15.364707557946529},{"$f":"(L15+L16+L17)/(L7*'Project Summary'!$J$12)","v":15.593749091266528},{"$f":"(M15+M16+M17)/(M7*'Project Summary'!$J$12)","v":15.905766203582107},{"$f":"(N15+N16+N17)/(N7*'Project Summary'!$J$12)","v":16.021358098917446},{"$f":"(O15+O16+O17)/(O7*'Project Summary'!$J$12)","v":16.140417751112846},{"$f":"(P15+P16+P17)/(P7*'Project Summary'!$J$12)","v":16.366126519610489},{"$f":"(Q15+Q16+Q17)/(Q7*'Project Summary'!$J$12)","v":16.481622299756385}]
[null,"Gross Rent / Occupied SF Growth Rate",null,null,null,null,null,{"$f":"+(H9-G9)/G9","v":5.9321798487401177E-2},{"$f":"+(I9-H9)/H9","v":3.037753546096171E-2},8.217403584682377E-3,1.3780838635329931E-2,1.4906989440325508E-2,2.0009114581068192E-2,7.2672950083540336E-3,7.4313083485378637E-3,1.3984072282272941E-2,7.0570015456928254E-3]
[]
[null,"Acquisition Cost",null,null,null,{"$f":"+'Monthly CF'!E7","v":-11845000}]
[null,"Base Rental Revenue",null,null,null,null,{"$f":"+SUMIF('Monthly CF'!$F$4:$EG$4,'Annual CF'!G$4,'Monthly CF'!$F10:$EG10)","v":996575.55},{"$f":"+SUMIF('Monthly CF'!$F$4:$EG$4,'Annual CF'!H$4,'Monthly CF'!$F10:$EG10)","v":1149215.7},{"$f":"+SUMIF('Monthly CF'!$F$4:$EG$4,'Annual CF'!I$4,'Monthly CF'!$F10:$EG10)","v":1200492.3666666667},{"$f":"+SUMIF('Monthly CF'!$F$4:$EG$4,'Annual CF'!J$4,'Monthly CF'!$F10:$EG10)","v":1202714.7},{"$f":"+SUMIF('Monthly CF'!$F$4:$EG$4,'Annual CF'!K$4,'Monthly CF'!$F10:$EG10)","v":1213714.7000000002},{"$f":"+SUMIF('Monthly CF'!$F$4:$EG$4,'Annual CF'!L$4,'Monthly CF'!$F10:$EG10)","v":1226529.7000000004},{"$f":"+SUMIF('Monthly CF'!$F$4:$EG$4,'Annual CF'!M$4,'Monthly CF'!$F10:$EG10)","v":1247850.7000000002},{"$f":"+SUMIF('Monthly CF'!$F$4:$EG$4,'Annual CF'!N$4,'Monthly CF'!$F10:$EG10)","v":1247850.7000000002},{"$f":"+SUMIF('Monthly CF'!$F$4:$EG$4,'Annual CF'!O$4,'Monthly CF'!$F10:$EG10)","v":1247850.7000000002},{"$f":"+SUMIF('Monthly CF'!$F$4:$EG$4,'Annual CF'!P$4,'Monthly CF'!$F10:$EG10)","v":1258850.7000000002},{"$f":"+SUMIF('Monthly CF'!$F$4:$EG$4,'Annual CF'!Q$4,'Monthly CF'!$F10:$EG10)","v":1258850.7000000002}]
[null,"Less: Vacancy Loss",null,null,null,null,{"$f":"+SUMIF('Monthly CF'!$F$4:$EG$4,'Annual CF'!G$4,'Monthly CF'!$F11:$EG11)","v":0},{"$f":"+SUMIF('Monthly CF'!$F$4:$EG$4,'Annual CF'!H$4,'Monthly CF'!$F11:$EG11)","v":0},{"$f":"+SUMIF('Monthly CF'!$F$4:$EG$4,'Annual CF'!I$4,'Monthly CF'!$F11:$EG11)","v":0},{"$f":"+SUMIF('Monthly CF'!$F$4:$EG$4,'Annual CF'!J$4,'Monthly CF'!$F11:$EG11)","v":0},{"$f":"+SUMIF('Monthly CF'!$F$4:$EG$4,'Annual CF'!K$4,'Monthly CF'!$F11:$EG11)","v":0},{"$f":"+SUMIF('Monthly CF'!$F$4:$EG$4,'Annual CF'!L$4,'Monthly CF'!$F11:$EG11)","v":0},{"$f":"+SUMIF('Monthly CF'!$F$4:$EG$4,'Annual CF'!M$4,'Monthly CF'!$F11:$EG11)","v":0},{"$f":"+SUMIF('Monthly CF'!$F$4:$EG$4,'Annual CF'!N$4,'Monthly CF'!$F11:$EG11)","v":0},{"$f":"+SUMIF('Monthly CF'!$F$4:$EG$4,'Annual CF'!O$4,'Monthly CF'!$F11:$EG11)","v":0},{"$f":"+SUMIF('Monthly CF'!$F$4:$EG$4,'Annual CF'!P$4,'Monthly CF'!$F11:$EG11)","v":0},{"$f":"+SUMIF('Monthly CF'!$F$4:$EG$4,'Annual CF'!Q$4,'Monthly CF'!$F11:$EG11)","v":0}]
[null,"   Scheduled Base Rental Revenue",null,null,null,null,{"$f":"SUM(G13:G14)","v":996575.55},{"$f":"SUM(H13:H14)","v":1149215.7},1200492.3666666667,1202714.7,1213714.7000000002,1226529.7000000004,1247850.7000000002,1247850.7000000002,1247850.7000000002,1258850.7000000002,1258850.7000000002]
[null,"Expense Reimbursement Revenue",null,null,null,null,{"$f":"+SUMPRODUCT(--('Monthly CF'!$E$4:$EG$4='Annual CF'!G$4),--('Monthly CF'!$E14:$EG14))","v":353774.56182356155},{"$f":"+SUMPRODUCT(--('Monthly CF'!$E$4:$EG$4='Annual CF'!H$4),--('Monthly CF'!$E14:$EG14))","v":389442.38664717379},{"$f":"+SUMPRODUCT(--('Monthly CF'!$E$4:$EG$4='Annual CF'!I$4),--('Monthly CF'!$E14:$EG14))","v":403696.76135355164},{"$f":"+SUMPRODUCT(--('Monthly CF'!$E$4:$EG$4='Annual CF'!J$4),--('Monthly CF'!$E14:$EG14))","v":414656.69751132024},{"$f":"+SUMPRODUCT(--('Monthly CF'!$E$4:$EG$4='Annual CF'!K$4),--('Monthly CF'!$E14:$EG14))","v":425945.43175382173},{"$f":"+SUMPRODUCT(--('Monthly CF'!$E$4:$EG$4='Annual CF'!L$4),--('Monthly CF'!$E14:$EG14))","v":437572.82802359824},{"$f":"+SUMPRODUCT(--('Monthly CF'!$E$4:$EG$4='Annual CF'!M$4),--('Monthly CF'!$E14:$EG14))","v":449549.04618146806},{"$f":"+SUMPRODUCT(--('Monthly CF'!$E$4:$EG$4='Annual CF'!N$4),--('Monthly CF'!$E14:$EG14))","v":461884.55088407401},{"$f":"+SUMPRODUCT(--('Monthly CF'!$E$4:$EG$4='Annual CF'!O$4),--('Monthly CF'!$E14:$EG14))","v":474590.12072775816},{"$f":"+SUMPRODUCT(--('Monthly CF'!$E$4:$EG$4='Annual CF'!P$4),--('Monthly CF'!$E14:$EG14))","v":487676.85766675288},{"$f":"+SUMPRODUCT(--('Monthly CF'!$E$4:$EG$4='Annual CF'!Q$4),--('Monthly CF'!$E14:$EG14))","v":500002.10534080205}]
[null,"Other Income",null,null,null,null,{"$f":"+SUMPRODUCT(--('Monthly CF'!$E$4:$EG$4='Annual CF'!G$4),--('Monthly CF'!$E15:$EG15))","v":0},{"$f":"+SUMPRODUCT(--('Monthly CF'!$E$4:$EG$4='Annual CF'!H$4),--('Monthly CF'!$E15:$EG15))","v":0},{"$f":"+SUMPRODUCT(--('Monthly CF'!$E$4:$EG$4='Annual CF'!I$4),--('Monthly CF'!$E15:$EG15))","v":0},{"$f":"+SUMPRODUCT(--('Monthly CF'!$E$4:$EG$4='Annual CF'!J$4),--('Monthly CF'!$E15:$EG15))","v":0},{"$f":"+SUMPRODUCT(--('Monthly CF'!$E$4:$EG$4='Annual CF'!K$4),--('Monthly CF'!$E15:$EG15))","v":0},{"$f":"+SUMPRODUCT(--('Monthly CF'!$E$4:$EG$4='Annual CF'!L$4),--('Monthly CF'!$E15:$EG15))","v":0},{"$f":"+SUMPRODUCT(--('Monthly CF'!$E$4:$EG$4='Annual CF'!M$4),--('Monthly CF'!$E15:$EG15))","v":0},{"$f":"+SUMPRODUCT(--('Monthly CF'!$E$4:$EG$4='Annual CF'!N$4),--('Monthly CF'!$E15:$EG15))","v":0},{"$f":"+SUMPRODUCT(--('Monthly CF'!$E$4:$EG$4='Annual CF'!O$4),--('Monthly CF'!$E15:$EG15))","v":0},{"$f":"+SUMPRODUCT(--('Monthly CF'!$E$4:$EG$4='Annual CF'!P$4),--('Monthly CF'!$E15:$EG15))","v":0},{"$f":"+SUMPRODUCT(--('Monthly CF'!$E$4:$EG$4='Annual CF'!Q$4),--('Monthly CF'!$E15:$EG15))","v":0}]
[null,"Less: General Vacancy",null,null,null,null,{"$f":"+SUMPRODUCT(--('Monthly CF'!$E$4:$EG$4='Annual CF'!G$4),--('Monthly CF'!$E19:$EG19))","v":0},{"$f":"+SUMPRODUCT(--('Monthly CF'!$E$4:$EG$4='Annual CF'!H$4),--('Monthly CF'!$E19:$EG19))","v":0},{"$f":"+SUMPRODUCT(--('Monthly CF'!$E$4:$EG$4='Annual CF'!I$4),--('Monthly CF'!$E19:$EG19))","v":0},{"$f":"+SUMPRODUCT(--('Monthly CF'!$E$4:$EG$4='Annual CF'!J$4),--('Monthly CF'!$E19:$EG19))","v":0},{"$f":"+SUMPRODUCT(--('Monthly CF'!$E$4:$EG$4='Annual CF'!K$4),--('Monthly CF'!$E19:$EG19))","v":0},{"$f":"+SUMPRODUCT(--('Monthly CF'!$E$4:$EG$4='Annual CF'!L$4),--('Monthly CF'!$E19:$EG19))","v":0},{"$f":"+SUMPRODUCT(--('Monthly CF'!$E$4:$EG$4='Annual CF'!M$4),--('Monthly CF'!$E19:$EG19))","v":0},{"$f":"+SUMPRODUCT(--('Monthly CF'!$E$4:$EG$4='Annual CF'!N$4),--('Monthly CF'!$E19:$EG19))","v":0},{"$f":"+SUMPRODUCT(--('Monthly CF'!$E$4:$EG$4='Annual CF'!O$4),--('Monthly CF'!$E19:$EG19))","v":0},{"$f":"+SUMPRODUCT(--('Monthly CF'!$E$4:$EG$4='Annual CF'!P$4),--('Monthly CF'!$E19:$EG19))","v":0},{"$f":"+SUMPRODUCT(--('Monthly CF'!$E$4:$EG$4='Annual CF'!Q$4),--('Monthly CF'!$E19:$EG19))","v":0}]
[null,"Less: Operating Expenses",null,null,null,null,{"$f":"+SUMPRODUCT(--('Monthly CF'!$E$4:$EG$4='Annual CF'!G$4),--('Monthly CF'!$E47:$EG47))","v":-408063.10499999986},{"$f":"+SUMPRODUCT(--('Monthly CF'!$E$4:$EG$4='Annual CF'!H$4),--('Monthly CF'!$E47:$EG47))","v":-419077.83315000008},{"$f":"+SUMPRODUCT(--('Monthly CF'!$E$4:$EG$4='Annual CF'!I$4),--('Monthly CF'!$E47:$EG47))","v":-430423.00314449996},{"$f":"+SUMPRODUCT(--('Monthly CF'!$E$4:$EG$4='Annual CF'!J$4),--('Monthly CF'!$E47:$EG47))","v":-442108.5282388351},{"$f":"+SUMPRODUCT(--('Monthly CF'!$E$4:$EG$4='Annual CF'!K$4),--('Monthly CF'!$E47:$EG47))","v":-454144.61908600002},{"$f":"+SUMPRODUCT(--('Monthly CF'!$E$4:$EG$4='Annual CF'!L$4),--('Monthly CF'!$E47:$EG47))","v":-466541.79265858023},{"$f":"+SUMPRODUCT(--('Monthly CF'!$E$4:$EG$4='Annual CF'!M$4),--('Monthly CF'!$E47:$EG47))","v":-479310.88143833738},{"$f":"+SUMPRODUCT(--('Monthly CF'!$E$4:$EG$4='Annual CF'!N$4),--('Monthly CF'!$E47:$EG47))","v":-492463.04288148775},{"$f":"+SUMPRODUCT(--('Monthly CF'!$E$4:$EG$4='Annual CF'!O$4),--('Monthly CF'!$E47:$EG47))","v":-506009.76916793233},{"$f":"+SUMPRODUCT(--('Monthly CF'!$E$4:$EG$4='Annual CF'!P$4),--('Monthly CF'!$E47:$EG47))","v":-519962.89724297036},{"$f":"+SUMPRODUCT(--('Monthly CF'!$E$4:$EG$4='Annual CF'!Q$4),--('Monthly CF'!$E47:$EG47))","v":-533104.12260374997}]
[null,"   Net Operating Income",null,null,null,null,{"$f":"SUM(G15:G19)","v":942287.00682356174},{"$f":"SUM(H15:H19)","v":1119580.2534971738},1173766.1248757183,1175262.8692724851,1185515.5126678217,1197560.7353650185,1218088.8647431307,1217272.2080025864,1216431.0515598259,1226564.6604237827,1225748.6827370524]
[null,"NOI Growth Rate",null,null,null,null,null,{"$f":"+(H20-G20)/G20","v":0.18815206554876041},{"$f":"+(I20-H20)/H20","v":4.8398380740716833E-2},1.2751640765960596E-3,8.7237022996252758E-3,1.0160324827880847E-2,1.7141618601794972E-2,-6.7044101968420796E-4,-6.9101753677654209E-4,8.3306068609169948E-3,-6.6525452188414603E-4]
[]
[null,"Tenant Improvements",null,null,null,null,{"$f":"+SUMPRODUCT(--('Monthly CF'!$E$4:$EG$4='Annual CF'!G$4),--('Monthly CF'!$E52:$EG$52))","v":0},{"$f":"+SUMPRODUCT(--('Monthly CF'!$E$4:$EG$4='Annual CF'!H$4),--('Monthly CF'!$E52:$EG$52))","v":0},{"$f":"+SUMPRODUCT(--('Monthly CF'!$E$4:$EG$4='Annual CF'!I$4),--('Monthly CF'!$E52:$EG$52))","v":0},{"$f":"+SUMPRODUCT(--('Monthly CF'!$E$4:$EG$4='Annual CF'!J$4),--('Monthly CF'!$E52:$EG$52))","v":0},{"$f":"+SUMPRODUCT(--('Monthly CF'!$E$4:$EG$4='Annual CF'!K$4),--('Monthly CF'!$E52:$EG$52))","v":0},{"$f":"+SUMPRODUCT(--('Monthly CF'!$E$4:$EG$4='Annual CF'!L$4),--('Monthly CF'!$E52:$EG$52))","v":0},{"$f":"+SUMPRODUCT(--('Monthly CF'!$E$4:$EG$4='Annual CF'!M$4),--('Monthly CF'!$E52:$EG$52))","v":0},{"$f":"+SUMPRODUCT(--('Monthly CF'!$E$4:$EG$4='Annual CF'!N$4),--('Monthly CF'!$E52:$EG$52))","v":0},{"$f":"+SUMPRODUCT(--('Monthly CF'!$E$4:$EG$4='Annual CF'!O$4),--('Monthly CF'!$E52:$EG$52))","v":0},{"$f":"+SUMPRODUCT(--('Monthly CF'!$E$4:$EG$4='Annual CF'!P$4),--('Monthly CF'!$E52:$EG$52))","v":0},{"$f":"+SUMPRODUCT(--('Monthly CF'!$E$4:$EG$4='Annual CF'!Q$4),--('Monthly CF'!$E52:$EG$52))","v":0}]
[null,"Leasing Commissions",null,null,null,null,{"$f":"+SUMPRODUCT(--('Monthly CF'!$E$4:$EG$4='Annual CF'!G$4),--('Monthly CF'!$E53:$EG53))","v":23670},{"$f":"+SUMPRODUCT(--('Monthly CF'!$E$4:$EG$4='Annual CF'!H$4),--('Monthly CF'!$E53:$EG53))","v":10650},{"$f":"+SUMPRODUCT(--('Monthly CF'!$E$4:$EG$4='Annual CF'!I$4),--('Monthly CF'!$E53:$EG53))","v":0},{"$f":"+SUMPRODUCT(--('Monthly CF'!$E$4:$EG$4='Annual CF'!J$4),--('Monthly CF'!$E53:$EG53))","v":0},{"$f":"+SUMPRODUCT(--('Monthly CF'!$E$4:$EG$4='Annual CF'!K$4),--('Monthly CF'!$E53:$EG53))","v":0},{"$f":"+SUMPRODUCT(--('Monthly CF'!$E$4:$EG$4='Annual CF'!L$4),--('Monthly CF'!$E53:$EG53))","v":0},{"$f":"+SUMPRODUCT(--('Monthly CF'!$E$4:$EG$4='Annual CF'!M$4),--('Monthly CF'!$E53:$EG53))","v":0},{"$f":"+SUMPRODUCT(--('Monthly CF'!$E$4:$EG$4='Annual CF'!N$4),--('Monthly CF'!$E53:$EG53))","v":0},{"$f":"+SUMPRODUCT(--('Monthly CF'!$E$4:$EG$4='Annual CF'!O$4),--('Monthly CF'!$E53:$EG53))","v":0},{"$f":"+SUMPRODUCT(--('Monthly CF'!$E$4:$EG$4='Annual CF'!P$4),--('Monthly CF'!$E53:$EG53))","v":0},{"$f":"+SUMPRODUCT(--('Monthly CF'!$E$4:$EG$4='Annual CF'!Q$4),--('Monthly CF'!$E53:$EG53))","v":0}]
[null,"Reserves",null,null,null,null,{"$f":"+SUMPRODUCT(--('Monthly CF'!$E$4:$EG$4='Annual CF'!G$4),--('Monthly CF'!$E54:$EG54))","v":22756.199999999997},{"$f":"+SUMPRODUCT(--('Monthly CF'!$E$4:$EG$4='Annual CF'!H$4),--('Monthly CF'!$E54:$EG54))","v":22756.199999999997},{"$f":"+SUMPRODUCT(--('Monthly CF'!$E$4:$EG$4='Annual CF'!I$4),--('Monthly CF'!$E54:$EG54))","v":22756.199999999997},{"$f":"+SUMPRODUCT(--('Monthly CF'!$E$4:$EG$4='Annual CF'!J$4),--('Monthly CF'!$E54:$EG54))","v":22756.199999999997},{"$f":"+SUMPRODUCT(--('Monthly CF'!$E$4:$EG$4='Annual CF'!K$4),--('Monthly CF'!$E54:$EG54))","v":22756.199999999997},{"$f":"+SUMPRODUCT(--('Monthly CF'!$E$4:$EG$4='Annual CF'!L$4),--('Monthly CF'!$E54:$EG54))","v":22756.199999999997},{"$f":"+SUMPRODUCT(--('Monthly CF'!$E$4:$EG$4='Annual CF'!M$4),--('Monthly CF'!$E54:$EG54))","v":22756.199999999997},{"$f":"+SUMPRODUCT(--('Monthly CF'!$E$4:$EG$4='Annual CF'!N$4),--('Monthly CF'!$E54:$EG54))","v":22756.199999999997},{"$f":"+SUMPRODUCT(--('Monthly CF'!$E$4:$EG$4='Annual CF'!O$4),--('Monthly CF'!$E54:$EG54))","v":22756.199999999997},{"$f":"+SUMPRODUCT(--('Monthly CF'!$E$4:$EG$4='Annual CF'!P$4),--('Monthly CF'!$E54:$EG54))","v":22756.199999999997},{"$f":"+SUMPRODUCT(--('Monthly CF'!$E$4:$EG$4='Annual CF'!Q$4),--('Monthly CF'!$E54:$EG54))","v":22756.199999999997}]
[null,"Renovation Capex",null,null,null,null,{"$f":"+SUMPRODUCT(--('Monthly CF'!$E$4:$EG$4='Annual CF'!G$4),--('Monthly CF'!$E55:$EG55))","v":0},{"$f":"+SUMPRODUCT(--('Monthly CF'!$E$4:$EG$4='Annual CF'!H$4),--('Monthly CF'!$E55:$EG55))","v":0},{"$f":"+SUMPRODUCT(--('Monthly CF'!$E$4:$EG$4='Annual CF'!I$4),--('Monthly CF'!$E55:$EG55))","v":0},{"$f":"+SUMPRODUCT(--('Monthly CF'!$E$4:$EG$4='Annual CF'!J$4),--('Monthly CF'!$E55:$EG55))","v":0},{"$f":"+SUMPRODUCT(--('Monthly CF'!$E$4:$EG$4='Annual CF'!K$4),--('Monthly CF'!$E55:$EG55))","v":0},{"$f":"+SUMPRODUCT(--('Monthly CF'!$E$4:$EG$4='Annual CF'!L$4),--('Monthly CF'!$E55:$EG55))","v":0},{"$f":"+SUMPRODUCT(--('Monthly CF'!$E$4:$EG$4='Annual CF'!M$4),--('Monthly CF'!$E55:$EG55))","v":0},{"$f":"+SUMPRODUCT(--('Monthly CF'!$E$4:$EG$4='Annual CF'!N$4),--('Monthly CF'!$E55:$EG55))","v":0},{"$f":"+SUMPRODUCT(--('Monthly CF'!$E$4:$EG$4='Annual CF'!O$4),--('Monthly CF'!$E55:$EG55))","v":0},{"$f":"+SUMPRODUCT(--('Monthly CF'!$E$4:$EG$4='Annual CF'!P$4),--('Monthly CF'!$E55:$EG55))","v":0},{"$f":"+SUMPRODUCT(--('Monthly CF'!$E$4:$EG$4='Annual CF'!Q$4),--('Monthly CF'!$E55:$EG55))","v":0}]
[null,"   Total Leasing & Capital Costs",null,null,null,null,{"$f":"SUM(G23:G26)","v":46426.2},33406.199999999997,22756.199999999997,22756.199999999997,22756.199999999997,22756.199999999997,22756.199999999997,22756.199999999997,22756.199999999997,22756.199999999997,22756.199999999997]
[]
[null,"Cash Flow Before Debt Service",null,null,null,{"$f":"+SUMPRODUCT(--('Monthly CF'!$E$4:$EG$4='Annual CF'!F$4),--('Monthly CF'!$E58:$EG58))","v":-11845000},{"$f":"+SUMPRODUCT(--('Monthly CF'!$E$4:$EG$4='Annual CF'!G$4),--('Monthly CF'!$E58:$EG58))","v":895860.80682356178},{"$f":"+SUMPRODUCT(--('Monthly CF'!$E$4:$EG$4='Annual CF'!H$4),--('Monthly CF'!$E58:$EG58))","v":1086174.0534971736},{"$f":"+SUMPRODUCT(--('Monthly CF'!$E$4:$EG$4='Annual CF'!I$4),--('Monthly CF'!$E58:$EG58))","v":1151009.9248757181},{"$f":"+SUMPRODUCT(--('Monthly CF'!$E$4:$EG$4='Annual CF'!J$4),--('Monthly CF'!$E58:$EG58))","v":1152506.6692724852},{"$f":"+SUMPRODUCT(--('Monthly CF'!$E$4:$EG$4='Annual CF'!K$4),--('Monthly CF'!$E58:$EG58))","v":1162759.3126678215},{"$f":"+SUMPRODUCT(--('Monthly CF'!$E$4:$EG$4='Annual CF'!L$4),--('Monthly CF'!$E58:$EG58))","v":1174804.5353650178},{"$f":"+SUMPRODUCT(--('Monthly CF'!$E$4:$EG$4='Annual CF'!M$4),--('Monthly CF'!$E58:$EG58))","v":1195332.664743131},{"$f":"+SUMPRODUCT(--('Monthly CF'!$E$4:$EG$4='Annual CF'!N$4),--('Monthly CF'!$E58:$EG58))","v":0},{"$f":"+SUMPRODUCT(--('Monthly CF'!$E$4:$EG$4='Annual CF'!O$4),--('Monthly CF'!$E58:$EG58))","v":0},{"$f":"+SUMPRODUCT(--('Monthly CF'!$E$4:$EG$4='Annual CF'!P$4),--('Monthly CF'!$E58:$EG58))","v":0},{"$f":"+SUMPRODUCT(--('Monthly CF'!$E$4:$EG$4='Annual CF'!Q$4),--('Monthly CF'!$E58:$EG58))","v":0}]
[null,"Net Proceeds from Sale of Building",null,null,null,{"$f":"+SUMPRODUCT(--('Monthly CF'!$E$4:$EG$4='Annual CF'!F$4),--('Monthly CF'!$E59:$EG59))","v":0},{"$f":"+SUMPRODUCT(--('Monthly CF'!$E$4:$EG$4='Annual CF'!G$4),--('Monthly CF'!$E59:$EG59))","v":0},{"$f":"+SUMPRODUCT(--('Monthly CF'!$E$4:$EG$4='Annual CF'!H$4),--('Monthly CF'!$E59:$EG59))","v":0},{"$f":"+SUMPRODUCT(--('Monthly CF'!$E$4:$EG$4='Annual CF'!I$4),--('Monthly CF'!$E59:$EG59))","v":0},{"$f":"+SUMPRODUCT(--('Monthly CF'!$E$4:$EG$4='Annual CF'!J$4),--('Monthly CF'!$E59:$EG59))","v":0},{"$f":"+SUMPRODUCT(--('Monthly CF'!$E$4:$EG$4='Annual CF'!K$4),--('Monthly CF'!$E59:$EG59))","v":0},{"$f":"+SUMPRODUCT(--('Monthly CF'!$E$4:$EG$4='Annual CF'!L$4),--('Monthly CF'!$E59:$EG59))","v":0},{"$f":"+SUMPRODUCT(--('Monthly CF'!$E$4:$EG$4='Annual CF'!M$4),--('Monthly CF'!$E59:$EG59))","v":15063743.574032011},{"$f":"+SUMPRODUCT(--('Monthly CF'!$E$4:$EG$4='Annual CF'!N$4),--('Monthly CF'!$E59:$EG59))","v":0},{"$f":"+SUMPRODUCT(--('Monthly CF'!$E$4:$EG$4='Annual CF'!O$4),--('Monthly CF'!$E59:$EG59))","v":0},{"$f":"+SUMPRODUCT(--('Monthly CF'!$E$4:$EG$4='Annual CF'!P$4),--('Monthly CF'!$E59:$EG59))","v":0},{"$f":"+SUMPRODUCT(--('Monthly CF'!$E$4:$EG$4='Annual CF'!Q$4),--('Monthly CF'!$E59:$EG59))","v":0}]
[null,"Unlevered Cash Flow",null,null,null,{"$f":"+F29+F30","v":-11845000},{"$f":"+G29+G30","v":895860.80682356178},1086174.0534971736,1151009.9248757181,1152506.6692724852,1162759.3126678215,1174804.5353650178,16259076.238775142,0,0,0,0]
[]
[null,"Loan Proceeds",null,null,null,{"$f":"+SUMPRODUCT(--('Monthly CF'!$E$4:$EG$4='Annual CF'!F$4),--('Monthly CF'!$E71:$EG71))","v":7475000.0000000009},{"$f":"+SUMPRODUCT(--('Monthly CF'!$E$4:$EG$4='Annual CF'!G$4),--('Monthly CF'!$E71:$EG71))","v":0},{"$f":"+SUMPRODUCT(--('Monthly CF'!$E$4:$EG$4='Annual CF'!H$4),--('Monthly CF'!$E71:$EG71))","v":0},{"$f":"+SUMPRODUCT(--('Monthly CF'!$E$4:$EG$4='Annual CF'!I$4),--('Monthly CF'!$E71:$EG71))","v":0},{"$f":"+SUMPRODUCT(--('Monthly CF'!$E$4:$EG$4='Annual CF'!J$4),--('Monthly CF'!$E71:$EG71))","v":0},{"$f":"+SUMPRODUCT(--('Monthly CF'!$E$4:$EG$4='Annual CF'!K$4),--('Monthly CF'!$E71:$EG71))","v":0},{"$f":"+SUMPRODUCT(--('Monthly CF'!$E$4:$EG$4='Annual CF'!L$4),--('Monthly CF'!$E71:$EG71))","v":0},{"$f":"+SUMPRODUCT(--('Monthly CF'!$E$4:$EG$4='Annual CF'!M$4),--('Monthly CF'!$E71:$EG71))","v":0},{"$f":"+SUMPRODUCT(--('Monthly CF'!$E$4:$EG$4='Annual CF'!N$4),--('Monthly CF'!$E71:$EG71))","v":0},{"$f":"+SUMPRODUCT(--('Monthly CF'!$E$4:$EG$4='Annual CF'!O$4),--('Monthly CF'!$E71:$EG71))","v":0},{"$f":"+SUMPRODUCT(--('Monthly CF'!$E$4:$EG$4='Annual CF'!P$4),--('Monthly CF'!$E71:$EG71))","v":0},{"$f":"+SUMPRODUCT(--('Monthly CF'!$E$4:$EG$4='Annual CF'!Q$4),--('Monthly CF'!$E71:$EG71))","v":0}]
[null,"Financing Fees",null,null,null,{"$f":"+SUMPRODUCT(--('Monthly CF'!$E$4:$EG$4='Annual CF'!F$4),--('Monthly CF'!$E72:$EG72))","v":0},{"$f":"+SUMPRODUCT(--('Monthly CF'!$E$4:$EG$4='Annual CF'!G$4),--('Monthly CF'!$E72:$EG72))","v":0},{"$f":"+SUMPRODUCT(--('Monthly CF'!$E$4:$EG$4='Annual CF'!H$4),--('Monthly CF'!$E72:$EG72))","v":0},{"$f":"+SUMPRODUCT(--('Monthly CF'!$E$4:$EG$4='Annual CF'!I$4),--('Monthly CF'!$E72:$EG72))","v":0},{"$f":"+SUMPRODUCT(--('Monthly CF'!$E$4:$EG$4='Annual CF'!J$4),--('Monthly CF'!$E72:$EG72))","v":0},{"$f":"+SUMPRODUCT(--('Monthly CF'!$E$4:$EG$4='Annual CF'!K$4),--('Monthly CF'!$E72:$EG72))","v":0},{"$f":"+SUMPRODUCT(--('Monthly CF'!$E$4:$EG$4='Annual CF'!L$4),--('Monthly CF'!$E72:$EG72))","v":0},{"$f":"+SUMPRODUCT(--('Monthly CF'!$E$4:$EG$4='Annual CF'!M$4),--('Monthly CF'!$E72:$EG72))","v":0},{"$f":"+SUMPRODUCT(--('Monthly CF'!$E$4:$EG$4='Annual CF'!N$4),--('Monthly CF'!$E72:$EG72))","v":0},{"$f":"+SUMPRODUCT(--('Monthly CF'!$E$4:$EG$4='Annual CF'!O$4),--('Monthly CF'!$E72:$EG72))","v":0},{"$f":"+SUMPRODUCT(--('Monthly CF'!$E$4:$EG$4='Annual CF'!P$4),--('Monthly CF'!$E72:$EG72))","v":0},{"$f":"+SUMPRODUCT(--('Monthly CF'!$E$4:$EG$4='Annual CF'!Q$4),--('Monthly CF'!$E72:$EG72))","v":0}]
[null,"Debt Service",null,null,null,{"$f":"+SUMPRODUCT(--('Monthly CF'!$E$4:$EG$4='Annual CF'!F$4),--('Monthly CF'!$E73:$EG73))","v":0},{"$f":"+SUMPRODUCT(--('Monthly CF'!$E$4:$EG$4='Annual CF'!G$4),--('Monthly CF'!$E73:$EG73))","v":-506249.50449533743},{"$f":"+SUMPRODUCT(--('Monthly CF'!$E$4:$EG$4='Annual CF'!H$4),--('Monthly CF'!$E73:$EG73))","v":-506249.50449533743},{"$f":"+SUMPRODUCT(--('Monthly CF'!$E$4:$EG$4='Annual CF'!I$4),--('Monthly CF'!$E73:$EG73))","v":-506249.50449533743},{"$f":"+SUMPRODUCT(--('Monthly CF'!$E$4:$EG$4='Annual CF'!J$4),--('Monthly CF'!$E73:$EG73))","v":-506249.50449533743},{"$f":"+SUMPRODUCT(--('Monthly CF'!$E$4:$EG$4='Annual CF'!K$4),--('Monthly CF'!$E73:$EG73))","v":-506249.50449533743},{"$f":"+SUMPRODUCT(--('Monthly CF'!$E$4:$EG$4='Annual CF'!L$4),--('Monthly CF'!$E73:$EG73))","v":-506249.50449533743},{"$f":"+SUMPRODUCT(--('Monthly CF'!$E$4:$EG$4='Annual CF'!M$4),--('Monthly CF'!$E73:$EG73))","v":-506249.50449533743},{"$f":"+SUMPRODUCT(--('Monthly CF'!$E$4:$EG$4='Annual CF'!N$4),--('Monthly CF'!$E73:$EG73))","v":0},{"$f":"+SUMPRODUCT(--('Monthly CF'!$E$4:$EG$4='Annual CF'!O$4),--('Monthly CF'!$E73:$EG73))","v":0},{"$f":"+SUMPRODUCT(--('Monthly CF'!$E$4:$EG$4='Annual CF'!P$4),--('Monthly CF'!$E73:$EG73))","v":0},{"$f":"+SUMPRODUCT(--('Monthly CF'!$E$4:$EG$4='Annual CF'!Q$4),--('Monthly CF'!$E73:$EG73))","v":0}]
[null,"Debt Repayment",null,null,null,{"$f":"+SUMPRODUCT(--('Monthly CF'!$E$4:$EG$4='Annual CF'!F$4),--('Monthly CF'!$E74:$EG74))","v":0},{"$f":"+SUMPRODUCT(--('Monthly CF'!$E$4:$EG$4='Annual CF'!G$4),--('Monthly CF'!$E74:$EG74))","v":0},{"$f":"+SUMPRODUCT(--('Monthly CF'!$E$4:$EG$4='Annual CF'!H$4),--('Monthly CF'!$E74:$EG74))","v":0},{"$f":"+SUMPRODUCT(--('Monthly CF'!$E$4:$EG$4='Annual CF'!I$4),--('Monthly CF'!$E74:$EG74))","v":0},{"$f":"+SUMPRODUCT(--('Monthly CF'!$E$4:$EG$4='Annual CF'!J$4),--('Monthly CF'!$E74:$EG74))","v":0},{"$f":"+SUMPRODUCT(--('Monthly CF'!$E$4:$EG$4='Annual CF'!K$4),--('Monthly CF'!$E74:$EG74))","v":0},{"$f":"+SUMPRODUCT(--('Monthly CF'!$E$4:$EG$4='Annual CF'!L$4),--('Monthly CF'!$E74:$EG74))","v":0},{"$f":"+SUMPRODUCT(--('Monthly CF'!$E$4:$EG$4='Annual CF'!M$4),--('Monthly CF'!$E74:$EG74))","v":-6165263.6683341172},{"$f":"+SUMPRODUCT(--('Monthly CF'!$E$4:$EG$4='Annual CF'!N$4),--('Monthly CF'!$E74:$EG74))","v":0},{"$f":"+SUMPRODUCT(--('Monthly CF'!$E$4:$EG$4='Annual CF'!O$4),--('Monthly CF'!$E74:$EG74))","v":0},{"$f":"+SUMPRODUCT(--('Monthly CF'!$E$4:$EG$4='Annual CF'!P$4),--('Monthly CF'!$E74:$EG74))","v":0},{"$f":"+SUMPRODUCT(--('Monthly CF'!$E$4:$EG$4='Annual CF'!Q$4),--('Monthly CF'!$E74:$EG74))","v":0}]
[null,"Levered Cash Flow",null,null,null,{"$f":"SUM(F33:F36)+F31","v":-4369999.9999999991},{"$f":"SUM(G33:G36)+G31","v":389611.30232822435},579924.54900183622,644760.4203803807,646257.16477714782,656509.80817248416,668555.03086968046,9587563.0659456868,0,0,0,0]
[]
[null,"Outstanding Debt Balance",null,null,null,{"$f":"+INDEX('Monthly CF'!$E$91:$EG$91,MATCH('Annual CF'!F5,'Monthly CF'!$E$6:$EG$6))","v":7475000.0000000009},{"$f":"+INDEX('Monthly CF'!$E$91:$EG$91,MATCH('Annual CF'!G5,'Monthly CF'!$E$6:$EG$6))","v":7312912.4508476015},{"$f":"+INDEX('Monthly CF'!$E$91:$EG$91,MATCH('Annual CF'!H5,'Monthly CF'!$E$6:$EG$6))","v":7143125.10377678},{"$f":"+INDEX('Monthly CF'!$E$91:$EG$91,MATCH('Annual CF'!I5,'Monthly CF'!$E$6:$EG$6))","v":6965272.188015542},{"$f":"+INDEX('Monthly CF'!$E$91:$EG$91,MATCH('Annual CF'!J5,'Monthly CF'!$E$6:$EG$6))","v":6778970.5572374826},{"$f":"+INDEX('Monthly CF'!$E$91:$EG$91,MATCH('Annual CF'!K5,'Monthly CF'!$E$6:$EG$6))","v":6583818.8641544236},{"$f":"+INDEX('Monthly CF'!$E$91:$EG$91,MATCH('Annual CF'!L5,'Monthly CF'!$E$6:$EG$6))","v":6379396.6958989343},{"$f":"+INDEX('Monthly CF'!$E$91:$EG$91,MATCH('Annual CF'!M5,'Monthly CF'!$E$6:$EG$6))","v":0},{"$f":"+INDEX('Monthly CF'!$E$91:$EG$91,MATCH('Annual CF'!N5,'Monthly CF'!$E$6:$EG$6))","v":0},{"$f":"+INDEX('Monthly CF'!$E$91:$EG$91,MATCH('Annual CF'!O5,'Monthly CF'!$E$6:$EG$6))","v":0},{"$f":"+INDEX('Monthly CF'!$E$91:$EG$91,MATCH('Annual CF'!P5,'Monthly CF'!$E$6:$EG$6))","v":0},{"$f":"+INDEX('Monthly CF'!$E$91:$EG$91,MATCH('Annual CF'!Q5,'Monthly CF'!$E$6:$EG$6))","v":0}]
[]
[null,"NOI Yield on Initial Cost",null,null,null,null,{"$f":"+G20/-$F$12*(G5<'Project Summary'!$Q$8)","v":7.9551456886750679E-2},{"$f":"+H20/-$F$12","v":9.4519227817405974E-2},9.9093805392631337E-2,9.9220166253481235E-2,0.10008573344599593,0.10110263700844394,0.10283569985167841,0.10276675458020991,0.10269574095059737,0.10355125879474737,0.10348237085158737]
[null,"NOI Yield on Total Cost",null,null,null,null,{"$f":"+G20/-($F$12-SUM($F$27:G27))","v":7.9240874136994752E-2},{"$f":"+H20/-($F$12-SUM($F$27:H27))","v":9.3886456089493864E-2},{"$f":"+I20/-($F$12-SUM($F$27:I27))","v":9.8242931203349121E-2},{"$f":"+J20/-($F$12-SUM($F$27:J27))","v":9.8181204377043932E-2},{"$f":"+K20/-($F$12-SUM($F$27:K27))","v":9.8849789780626515E-2},{"$f":"+L20/-($F$12-SUM($F$27:L27))","v":9.966502725789872E-2},{"$f":"+M20/-($F$12-SUM($F$27:M27))","v":0.10118182420768913},{"$f":"+N20/-($F$12-SUM($F$27:N27))","v":0.10092321588442049},{"$f":"+O20/-($F$12-SUM($F$27:O27))","v":0.10066355412816257},{"$f":"+P20/-($F$12-SUM($F$27:P27))","v":0.10131135831866393},{"$f":"+Q20/-($F$12-SUM($F$27:Q27))","v":0.1010540184732841}]
[null,"Cash-on-cash Yield (Initial Cost)",null,null,null,null,{"$f":"+IF(EOMONTH(G$5,-1)>'Project Summary'!$Q$8,\"NA\",(G29+G33+G35)/-$F$37)","v":8.9155904422934654E-2},{"$f":"+IF(EOMONTH(H$5,-1)>'Project Summary'!$Q$8,\"NA\",(H29+H33+H35)/-$F$37)","v":0.13270584645350947},{"$f":"+IF(EOMONTH(I$5,-1)>'Project Summary'!$Q$8,\"NA\",(I29+I33+I35)/-$F$37)","v":0.14754243029299333},{"$f":"+IF(EOMONTH(J$5,-1)>'Project Summary'!$Q$8,\"NA\",(J29+J33+J35)/-$F$37)","v":0.14788493473161279},{"$f":"+IF(EOMONTH(K$5,-1)>'Project Summary'!$Q$8,\"NA\",(K29+K33+K35)/-$F$37)","v":0.15023107738500785},{"$f":"+IF(EOMONTH(L$5,-1)>'Project Summary'!$Q$8,\"NA\",(L29+L33+L35)/-$F$37)","v":0.15298742125164316},{"$f":"+IF(EOMONTH(M$5,-1)>'Project Summary'!$Q$8,\"NA\",(M29+M33+M35)/-$F$37)","v":0.15768493369514733},{"$f":"+IF(EOMONTH(N$5,-1)>'Project Summary'!$Q$8,\"NA\",(N29+N33+N35)/-$F$37)","v":"NA"},{"$f":"+IF(EOMONTH(O$5,-1)>'Project Summary'!$Q$8,\"NA\",(O29+O33+O35)/-$F$37)","v":"NA"},{"$f":"+IF(EOMONTH(P$5,-1)>'Project Summary'!$Q$8,\"NA\",(P29+P33+P35)/-$F$37)","v":"NA"},{"$f":"+IF(EOMONTH(Q$5,-1)>'Project Summary'!$Q$8,\"NA\",(Q29+Q33+Q35)/-$F$37)","v":"NA"}]
[null,"Cash-on-cash Yield (Total Cost)",null,null,null,null,{"$f":"+IF(EOMONTH(G$5,-1)>'Project Summary'!$Q$8,\"NA\",(G29+G33+G35)/(INDEX('Monthly CF'!$E$82:$EG$82, MATCH('Annual CF'!G5,'Monthly CF'!$E$6:$EG$6))))","v":8.9155904422934654E-2},{"$f":"+IF(EOMONTH(H$5,-1)>'Project Summary'!$Q$8,\"NA\",(H29+H33+H35)/(INDEX('Monthly CF'!$E$82:$EG$82, MATCH('Annual CF'!H5,'Monthly CF'!$E$6:$EG$6))))","v":0.13270584645350947},{"$f":"+IF(EOMONTH(I$5,-1)>'Project Summary'!$Q$8,\"NA\",(I29+I33+I35)/(INDEX('Monthly CF'!$E$82:$EG$82, MATCH('Annual CF'!I5,'Monthly CF'!$E$6:$EG$6))))","v":0.14754243029299333},{"$f":"+IF(EOMONTH(J$5,-1)>'Project Summary'!$Q$8,\"NA\",(J29+J33+J35)/(INDEX('Monthly CF'!$E$82:$EG$82, MATCH('Annual CF'!J5,'Monthly CF'!$E$6:$EG$6))))","v":0.14788493473161279},{"$f":"+IF(EOMONTH(K$5,-1)>'Project Summary'!$Q$8,\"NA\",(K29+K33+K35)/(INDEX('Monthly CF'!$E$82:$EG$82, MATCH('Annual CF'!K5,'Monthly CF'!$E$6:$EG$6))))","v":0.15023107738500785},{"$f":"+IF(EOMONTH(L$5,-1)>'Project Summary'!$Q$8,\"NA\",(L29+L33+L35)/(INDEX('Monthly CF'!$E$82:$EG$82, MATCH('Annual CF'!L5,'Monthly CF'!$E$6:$EG$6))))","v":0.15298742125164316},{"$f":"+IF(EOMONTH(M$5,-1)>'Project Summary'!$Q$8,\"NA\",(M29+M33+M35)/(INDEX('Monthly CF'!$E$82:$EG$82, MATCH('Annual CF'!M5,'Monthly CF'!$E$6:$EG$6))))","v":0.15768493369514733},{"$f":"+IF(EOMONTH(N$5,-1)>'Project Summary'!$Q$8,\"NA\",(N29+N33+N35)/(INDEX('Monthly CF'!$E$82:$EG$82, MATCH('Annual CF'!N5,'Monthly CF'!$E$6:$EG$6))))","v":"NA"},{"$f":"+IF(EOMONTH(O$5,-1)>'Project Summary'!$Q$8,\"NA\",(O29+O33+O35)/(INDEX('Monthly CF'!$E$82:$EG$82, MATCH('Annual CF'!O5,'Monthly CF'!$E$6:$EG$6))))","v":"NA"},{"$f":"+IF(EOMONTH(P$5,-1)>'Project Summary'!$Q$8,\"NA\",(P29+P33+P35)/(INDEX('Monthly CF'!$E$82:$EG$82, MATCH('Annual CF'!P5,'Monthly CF'!$E$6:$EG$6))))","v":"NA"},{"$f":"+IF(EOMONTH(Q$5,-1)>'Project Summary'!$Q$8,\"NA\",(Q29+Q33+Q35)/(INDEX('Monthly CF'!$E$82:$EG$82, MATCH('Annual CF'!Q5,'Monthly CF'!$E$6:$EG$6))))","v":"NA"}]
[null,"Debt Yield",null,null,null,null,{"$f":"+IF(G39>0,G20/G39,\"NA\")","v":0.12885249388078565},0.15673535563659929,0.16851690690498816,0.17336892959620992,0.18006502565287091,0.18772319585249866,"NA","NA","NA","NA","NA"]
[null,"Debt Coverage Ratio",null,null,null,null,{"$f":"+IF(G39>0,G20/-G35,\"NA\")","v":1.8613094896021576},2.2115187146963127,2.3185526394654055,2.3215091745009486,2.341761329425144,2.3655543852014733,"NA","NA","NA","NA","NA"]
[]
[]
[]
[]
[]
[]
[null,"Cash Flow Before Debt Service Check",null,null,null,null,{"$f":"+G20-G27-G29","v":0},0,0,0,0,0,0,1194516.0080025864,1193674.8515598259,1203808.4604237827,1202992.4827370525]

{"sheet":"Tenant Summary","index":2,"n_rows":33,"n_cols":15,"rows_kept":33,"cut":false,"hidden":false,"merged":[]}
[]
[null,"x",null,null,null,null,null,null,null,null,null,null,null,"x"]
[null,null,"Tenant Summary"]
[null,null,{"$f":"+'Project Summary'!C4","v":"Woodforest Shopping Center"}]
[null,null,null,null,null,"At Acquisition",null,null,null,null,"At Expiration"]
[null,null,null,null,null,"In-place","Mkt. Rent","In-place as","Lease",null,"NNN","Mkt. Rate","In-place as"]
[null,null,"Tenant","Total SF",null,"Rent","(NNN)","% of Mkt.","Expiration",null,"Rent","(NNN)","% of Mkt.",null,"Expiration Year"]
[null,null,{"$f":"+'Prevailing Market Rate'!A6","v":"Mai Thai Seafood"},{"$f":"+'Prevailing Market Rate'!C6","v":2200},null,{"$f":"+'Scheduled Base Rental Revenue'!G6","v":14.58},{"$f":"+'Prevailing Market Rate'!G6","v":14.58},{"$f":"+F8/G8","v":1},{"$f":"+'Prevailing Market Rate'!E6","v":"2019-08-31"},null,{"$f":"+INDEX('Scheduled Base Rental Revenue'!$G6:$EH6,MATCH('Tenant Summary'!I8,'Scheduled Base Rental Revenue'!$G$3:$EH$3))","v":14.58},{"$f":"+INDEX('Prevailing Market Rate'!$H6:$EH6,MATCH('Tenant Summary'!I8,'Prevailing Market Rate'!$G$3:$EH$3))","v":15.0174},{"$f":"+K8/L8","v":0.970873786407767},null,{"$f":"+INDEX('Monthly CF'!$F$4:$EG$4,MATCH('Tenant Summary'!I8,'Monthly CF'!$F$6:$EG$6))","v":2}]
[null,null,{"$f":"+'Prevailing Market Rate'!A7","v":"Rainbow Shops"},{"$f":"+'Prevailing Market Rate'!C7","v":4500},null,{"$f":"+'Scheduled Base Rental Revenue'!G7","v":14.5},{"$f":"+'Prevailing Market Rate'!G7","v":14.5},{"$f":"+F9/G9","v":1},{"$f":"+'Prevailing Market Rate'!E7","v":"2023-01-31"},null,{"$f":"+INDEX('Scheduled Base Rental Revenue'!$G7:$EH7,MATCH('Tenant Summary'!I9,'Scheduled Base Rental Revenue'!$G$3:$EH$3))","v":16},{"$f":"+INDEX('Prevailing Market Rate'!$H7:$EH7,MATCH('Tenant Summary'!I9,'Prevailing Market Rate'!$G$3:$EH$3))","v":16.809474077350004},{"$f":"+K9/L9","v":0.95184417587218073},null,{"$f":"+INDEX('Monthly CF'!$F$4:$EG$4,MATCH('Tenant Summary'!I9,'Monthly CF'!$F$6:$EG$6))","v":5}]
[null,null,{"$f":"+'Prevailing Market Rate'!A8","v":"Palais Royal"},{"$f":"+'Prevailing Market Rate'!C8","v":24500},null,{"$f":"+'Scheduled Base Rental Revenue'!G8","v":5.5},{"$f":"+'Prevailing Market Rate'!G8","v":5.5},1,{"$f":"+'Prevailing Market Rate'!E8","v":"2023-11-30"},null,{"$f":"+INDEX('Scheduled Base Rental Revenue'!$G8:$EH8,MATCH('Tenant Summary'!I10,'Scheduled Base Rental Revenue'!$G$3:$EH$3))","v":6},{"$f":"+INDEX('Prevailing Market Rate'!$H8:$EH8,MATCH('Tenant Summary'!I10,'Prevailing Market Rate'!$G$3:$EH$3))","v":6.3760074086499996},0.94102776478272443,null,{"$f":"+INDEX('Monthly CF'!$F$4:$EG$4,MATCH('Tenant Summary'!I10,'Monthly CF'!$F$6:$EG$6))","v":6}]
[null,null,{"$f":"+'Prevailing Market Rate'!A9","v":"Vantage Sale and Lease"},{"$f":"+'Prevailing Market Rate'!C9","v":2800},null,{"$f":"+'Scheduled Base Rental Revenue'!G9","v":12.94},{"$f":"+'Prevailing Market Rate'!G9","v":12.94},1,{"$f":"+'Prevailing Market Rate'!E9","v":"2021-04-30"},null,{"$f":"+INDEX('Scheduled Base Rental Revenue'!$G9:$EH9,MATCH('Tenant Summary'!I11,'Scheduled Base Rental Revenue'!$G$3:$EH$3))","v":12.94},{"$f":"+INDEX('Prevailing Market Rate'!$H9:$EH9,MATCH('Tenant Summary'!I11,'Prevailing Market Rate'!$G$3:$EH$3))","v":14.139887380000001},0.9151416593531595,null,{"$f":"+INDEX('Monthly CF'!$F$4:$EG$4,MATCH('Tenant Summary'!I11,'Monthly CF'!$F$6:$EG$6))","v":4}]
[null,null,{"$f":"+'Prevailing Market Rate'!A10","v":"LNA Beauty Supply"},{"$f":"+'Prevailing Market Rate'!C10","v":3535},null,{"$f":"+'Scheduled Base Rental Revenue'!G10","v":11.79},{"$f":"+'Prevailing Market Rate'!G10","v":11.79},1,{"$f":"+'Prevailing Market Rate'!E10","v":"2021-04-30"},null,{"$f":"+INDEX('Scheduled Base Rental Revenue'!$G10:$EH10,MATCH('Tenant Summary'!I12,'Scheduled Base Rental Revenue'!$G$3:$EH$3))","v":11.79},{"$f":"+INDEX('Prevailing Market Rate'!$H10:$EH10,MATCH('Tenant Summary'!I12,'Prevailing Market Rate'!$G$3:$EH$3))","v":12.88325133},0.9151416593531595,null,{"$f":"+INDEX('Monthly CF'!$F$4:$EG$4,MATCH('Tenant Summary'!I12,'Monthly CF'!$F$6:$EG$6))","v":4}]
[null,null,{"$f":"+'Prevailing Market Rate'!A11","v":"dd's DISCOUNTS"},{"$f":"+'Prevailing Market Rate'!C11","v":22000},null,{"$f":"+'Scheduled Base Rental Revenue'!G11","v":5.25},{"$f":"+'Prevailing Market Rate'!G11","v":5.25},1,{"$f":"+'Prevailing Market Rate'!E11","v":"2022-01-31"},null,{"$f":"+INDEX('Scheduled Base Rental Revenue'!$G11:$EH11,MATCH('Tenant Summary'!I13,'Scheduled Base Rental Revenue'!$G$3:$EH$3))","v":5.25},{"$f":"+INDEX('Prevailing Market Rate'!$H11:$EH11,MATCH('Tenant Summary'!I13,'Prevailing Market Rate'!$G$3:$EH$3))","v":5.9089212524999999},0.88848704791568889,null,{"$f":"+INDEX('Monthly CF'!$F$4:$EG$4,MATCH('Tenant Summary'!I13,'Monthly CF'!$F$6:$EG$6))","v":4}]
[null,null,{"$f":"+'Prevailing Market Rate'!A12","v":"Advance Auto Parts"},{"$f":"+'Prevailing Market Rate'!C12","v":6060},null,{"$f":"+'Scheduled Base Rental Revenue'!G12","v":11.25},{"$f":"+'Prevailing Market Rate'!G12","v":11.25},1,{"$f":"+'Prevailing Market Rate'!E12","v":"2018-12-31"},null,{"$f":"+INDEX('Scheduled Base Rental Revenue'!$G12:$EH12,MATCH('Tenant Summary'!I14,'Scheduled Base Rental Revenue'!$G$3:$EH$3))","v":11.25},{"$f":"+INDEX('Prevailing Market Rate'!$H12:$EH12,MATCH('Tenant Summary'!I14,'Prevailing Market Rate'!$G$3:$EH$3))","v":11.5875},0.970873786407767,null,{"$f":"+INDEX('Monthly CF'!$F$4:$EG$4,MATCH('Tenant Summary'!I14,'Monthly CF'!$F$6:$EG$6))","v":1}]
[null,null,{"$f":"+'Prevailing Market Rate'!A13","v":"Jay's Barber Shop"},{"$f":"+'Prevailing Market Rate'!C13","v":450},null,{"$f":"+'Scheduled Base Rental Revenue'!G13","v":18},{"$f":"+'Prevailing Market Rate'!G13","v":18},1,{"$f":"+'Prevailing Market Rate'!E13","v":"2018-01-31"},null,{"$f":"+INDEX('Scheduled Base Rental Revenue'!$G13:$EH13,MATCH('Tenant Summary'!I15,'Scheduled Base Rental Revenue'!$G$3:$EH$3))","v":18},{"$f":"+INDEX('Prevailing Market Rate'!$H13:$EH13,MATCH('Tenant Summary'!I15,'Prevailing Market Rate'!$G$3:$EH$3))","v":18},1,null,1]
[null,null,{"$f":"+'Prevailing Market Rate'!A14","v":"Arena Salon"},{"$f":"+'Prevailing Market Rate'!C14","v":1200},null,{"$f":"+'Scheduled Base Rental Revenue'!G14","v":17.5},{"$f":"+'Prevailing Market Rate'!G14","v":17.5},1,{"$f":"+'Prevailing Market Rate'!E14","v":"2022-02-28"},null,{"$f":"+INDEX('Scheduled Base Rental Revenue'!$G14:$EH14,MATCH('Tenant Summary'!I16,'Scheduled Base Rental Revenue'!$G$3:$EH$3))","v":17.5},{"$f":"+INDEX('Prevailing Market Rate'!$H14:$EH14,MATCH('Tenant Summary'!I16,'Prevailing Market Rate'!$G$3:$EH$3))","v":19.696404175000001},0.88848704791568889,null,{"$f":"+INDEX('Monthly CF'!$F$4:$EG$4,MATCH('Tenant Summary'!I16,'Monthly CF'!$F$6:$EG$6))","v":5}]
[null,null,{"$f":"+'Prevailing Market Rate'!A15","v":"QW World Party Supply"},{"$f":"+'Prevailing Market Rate'!C15","v":7800},null,{"$f":"+'Scheduled Base Rental Revenue'!G15","v":8.32},{"$f":"+'Prevailing Market Rate'!G15","v":8.32},1,{"$f":"+'Prevailing Market Rate'!E15","v":"2019-05-31"},null,{"$f":"+INDEX('Scheduled Base Rental Revenue'!$G15:$EH15,MATCH('Tenant Summary'!I17,'Scheduled Base Rental Revenue'!$G$3:$EH$3))","v":8.32},{"$f":"+INDEX('Prevailing Market Rate'!$H15:$EH15,MATCH('Tenant Summary'!I17,'Prevailing Market Rate'!$G$3:$EH$3))","v":8.5696000000000012},0.97087378640776689,null,{"$f":"+INDEX('Monthly CF'!$F$4:$EG$4,MATCH('Tenant Summary'!I17,'Monthly CF'!$F$6:$EG$6))","v":2}]
[null,null,{"$f":"+'Prevailing Market Rate'!A16","v":"Advance America"},{"$f":"+'Prevailing Market Rate'!C16","v":1525},null,{"$f":"+'Scheduled Base Rental Revenue'!G16","v":17.05},{"$f":"+'Prevailing Market Rate'!G16","v":17.05},1,{"$f":"+'Prevailing Market Rate'!E16","v":"2020-11-30"},null,{"$f":"+INDEX('Scheduled Base Rental Revenue'!$G16:$EH16,MATCH('Tenant Summary'!I18,'Scheduled Base Rental Revenue'!$G$3:$EH$3))","v":17.05},{"$f":"+INDEX('Prevailing Market Rate'!$H16:$EH16,MATCH('Tenant Summary'!I18,'Prevailing Market Rate'!$G$3:$EH$3))","v":18.088345000000004},0.94259590913375424,null,{"$f":"+INDEX('Monthly CF'!$F$4:$EG$4,MATCH('Tenant Summary'!I18,'Monthly CF'!$F$6:$EG$6))","v":3}]
[null,null,{"$f":"+'Prevailing Market Rate'!A17","v":"Woodforest Insurance and Tax"},{"$f":"+'Prevailing Market Rate'!C17","v":1200},null,{"$f":"+'Scheduled Base Rental Revenue'!G17","v":12.5},{"$f":"+'Prevailing Market Rate'!G17","v":12.5},1,{"$f":"+'Prevailing Market Rate'!E17","v":"2020-09-30"},null,{"$f":"+INDEX('Scheduled Base Rental Revenue'!$G17:$EH17,MATCH('Tenant Summary'!I19,'Scheduled Base Rental Revenue'!$G$3:$EH$3))","v":12.5},{"$f":"+INDEX('Prevailing Market Rate'!$H17:$EH17,MATCH('Tenant Summary'!I19,'Prevailing Market Rate'!$G$3:$EH$3))","v":13.26125},0.94259590913375435,null,{"$f":"+INDEX('Monthly CF'!$F$4:$EG$4,MATCH('Tenant Summary'!I19,'Monthly CF'!$F$6:$EG$6))","v":3}]
[null,null,{"$f":"+'Prevailing Market Rate'!A18","v":"Glass Etching by Matisse"},{"$f":"+'Prevailing Market Rate'!C18","v":1475},null,{"$f":"+'Scheduled Base Rental Revenue'!G18","v":12.28},{"$f":"+'Prevailing Market Rate'!G18","v":12.28},1,{"$f":"+'Prevailing Market Rate'!E18","v":"2018-11-30"},null,{"$f":"+INDEX('Scheduled Base Rental Revenue'!$G18:$EH18,MATCH('Tenant Summary'!I20,'Scheduled Base Rental Revenue'!$G$3:$EH$3))","v":12.28},{"$f":"+INDEX('Prevailing Market Rate'!$H18:$EH18,MATCH('Tenant Summary'!I20,'Prevailing Market Rate'!$G$3:$EH$3))","v":12.28},1,null,{"$f":"+INDEX('Monthly CF'!$F$4:$EG$4,MATCH('Tenant Summary'!I20,'Monthly CF'!$F$6:$EG$6))","v":1}]
[null,null,{"$f":"+'Prevailing Market Rate'!A19","v":"Regional Finance Corp"},{"$f":"+'Prevailing Market Rate'!C19","v":1200},null,{"$f":"+'Scheduled Base Rental Revenue'!G19","v":14.41},{"$f":"+'Prevailing Market Rate'!G19","v":14.41},1,{"$f":"+'Prevailing Market Rate'!E19","v":"2019-05-31"},null,{"$f":"+INDEX('Scheduled Base Rental Revenue'!$G19:$EH19,MATCH('Tenant Summary'!I21,'Scheduled Base Rental Revenue'!$G$3:$EH$3))","v":14.41},{"$f":"+INDEX('Prevailing Market Rate'!$H19:$EH19,MATCH('Tenant Summary'!I21,'Prevailing Market Rate'!$G$3:$EH$3))","v":14.8423},0.970873786407767,null,{"$f":"+INDEX('Monthly CF'!$F$4:$EG$4,MATCH('Tenant Summary'!I21,'Monthly CF'!$F$6:$EG$6))","v":2}]
[null,null,{"$f":"+'Prevailing Market Rate'!A20","v":"Cici's Pizza"},{"$f":"+'Prevailing Market Rate'!C20","v":3800},null,{"$f":"+'Scheduled Base Rental Revenue'!G20","v":21.3},{"$f":"+'Prevailing Market Rate'!G20","v":21.3},1,{"$f":"+'Prevailing Market Rate'!E20","v":"2019-12-31"},null,{"$f":"+INDEX('Scheduled Base Rental Revenue'!$G20:$EH20,MATCH('Tenant Summary'!I22,'Scheduled Base Rental Revenue'!$G$3:$EH$3))","v":21.3},{"$f":"+INDEX('Prevailing Market Rate'!$H20:$EH20,MATCH('Tenant Summary'!I22,'Prevailing Market Rate'!$G$3:$EH$3))","v":22.597170000000002},0.94259590913375435,null,{"$f":"+INDEX('Monthly CF'!$F$4:$EG$4,MATCH('Tenant Summary'!I22,'Monthly CF'!$F$6:$EG$6))","v":2}]
[null,null,{"$f":"+'Prevailing Market Rate'!A21","v":"Texan Credit Corporation"},{"$f":"+'Prevailing Market Rate'!C21","v":1000},null,{"$f":"+'Scheduled Base Rental Revenue'!G21","v":20},{"$f":"+'Prevailing Market Rate'!G21","v":20},1,{"$f":"+'Prevailing Market Rate'!E21","v":"2022-05-31"},null,{"$f":"+INDEX('Scheduled Base Rental Revenue'!$G21:$EH21,MATCH('Tenant Summary'!I23,'Scheduled Base Rental Revenue'!$G$3:$EH$3))","v":20},{"$f":"+INDEX('Prevailing Market Rate'!$H21:$EH21,MATCH('Tenant Summary'!I23,'Prevailing Market Rate'!$G$3:$EH$3))","v":22.510176200000004},0.88848704791568878,null,{"$f":"+INDEX('Monthly CF'!$F$4:$EG$4,MATCH('Tenant Summary'!I23,'Monthly CF'!$F$6:$EG$6))","v":5}]
[null,null,{"$f":"+'Prevailing Market Rate'!A22","v":"Freeway Insurance"},{"$f":"+'Prevailing Market Rate'!C22","v":1000},null,{"$f":"+'Scheduled Base Rental Revenue'!G22","v":15},{"$f":"+'Prevailing Market Rate'!G22","v":15},1,{"$f":"+'Prevailing Market Rate'!E22","v":"2021-08-31"},null,{"$f":"+INDEX('Scheduled Base Rental Revenue'!$G22:$EH22,MATCH('Tenant Summary'!I24,'Scheduled Base Rental Revenue'!$G$3:$EH$3))","v":15},{"$f":"+INDEX('Prevailing Market Rate'!$H22:$EH22,MATCH('Tenant Summary'!I24,'Prevailing Market Rate'!$G$3:$EH$3))","v":16.390905},0.91514165935315961,null,{"$f":"+INDEX('Monthly CF'!$F$4:$EG$4,MATCH('Tenant Summary'!I24,'Monthly CF'!$F$6:$EG$6))","v":4}]
[null,null,{"$f":"+'Prevailing Market Rate'!A23","v":"Pizza Patron"},{"$f":"+'Prevailing Market Rate'!C23","v":1000},null,{"$f":"+'Scheduled Base Rental Revenue'!G23","v":16},{"$f":"+'Prevailing Market Rate'!G23","v":16},1,{"$f":"+'Prevailing Market Rate'!E23","v":"2018-10-31"},null,{"$f":"+INDEX('Scheduled Base Rental Revenue'!$G23:$EH23,MATCH('Tenant Summary'!I25,'Scheduled Base Rental Revenue'!$G$3:$EH$3))","v":16},{"$f":"+INDEX('Prevailing Market Rate'!$H23:$EH23,MATCH('Tenant Summary'!I25,'Prevailing Market Rate'!$G$3:$EH$3))","v":16},1,null,{"$f":"+INDEX('Monthly CF'!$F$4:$EG$4,MATCH('Tenant Summary'!I25,'Monthly CF'!$F$6:$EG$6))","v":1}]
[null,null,{"$f":"+'Prevailing Market Rate'!A24","v":"Young Tream Hair Braiding"},{"$f":"+'Prevailing Market Rate'!C24","v":1000},null,{"$f":"+'Scheduled Base Rental Revenue'!G24","v":16},{"$f":"+'Prevailing Market Rate'!G24","v":16},1,{"$f":"+'Prevailing Market Rate'!E24","v":"2021-02-28"},null,{"$f":"+INDEX('Scheduled Base Rental Revenue'!$G24:$EH24,MATCH('Tenant Summary'!I26,'Scheduled Base Rental Revenue'!$G$3:$EH$3))","v":16},{"$f":"+INDEX('Prevailing Market Rate'!$H24:$EH24,MATCH('Tenant Summary'!I26,'Prevailing Market Rate'!$G$3:$EH$3))","v":17.483632},0.91514165935315961,null,{"$f":"+INDEX('Monthly CF'!$F$4:$EG$4,MATCH('Tenant Summary'!I26,'Monthly CF'!$F$6:$EG$6))","v":4}]
[null,null,{"$f":"+'Prevailing Market Rate'!A25","v":"Income Tax"},{"$f":"+'Prevailing Market Rate'!C25","v":1000},null,{"$f":"+'Scheduled Base Rental Revenue'!G25","v":15.95},{"$f":"+'Prevailing Market Rate'!G25","v":15.95},1,{"$f":"+'Prevailing Market Rate'!E25","v":"2025-04-30"},null,{"$f":"+INDEX('Scheduled Base Rental Revenue'!$G25:$EH25,MATCH('Tenant Summary'!I27,'Scheduled Base Rental Revenue'!$G$3:$EH$3))","v":17.55},{"$f":"+INDEX('Prevailing Market Rate'!$H25:$EH25,MATCH('Tenant Summary'!I27,'Prevailing Market Rate'!$G$3:$EH$3))","v":19.616488153526678},0.89465555009879982,null,{"$f":"+INDEX('Monthly CF'!$F$4:$EG$4,MATCH('Tenant Summary'!I27,'Monthly CF'!$F$6:$EG$6))","v":8}]
[null,null,{"$f":"+'Prevailing Market Rate'!A26","v":"Great Cuts N Style"},{"$f":"+'Prevailing Market Rate'!C26","v":1000},null,{"$f":"+'Scheduled Base Rental Revenue'!G26","v":13.72},{"$f":"+'Prevailing Market Rate'!G26","v":13.72},1,{"$f":"+'Prevailing Market Rate'!E26","v":"2019-05-31"},null,{"$f":"+INDEX('Scheduled Base Rental Revenue'!$G26:$EH26,MATCH('Tenant Summary'!I28,'Scheduled Base Rental Revenue'!$G$3:$EH$3))","v":13.72},{"$f":"+INDEX('Prevailing Market Rate'!$H26:$EH26,MATCH('Tenant Summary'!I28,'Prevailing Market Rate'!$G$3:$EH$3))","v":14.131600000000001},0.970873786407767,null,{"$f":"+INDEX('Monthly CF'!$F$4:$EG$4,MATCH('Tenant Summary'!I28,'Monthly CF'!$F$6:$EG$6))","v":2}]
[null,null,{"$f":"+'Prevailing Market Rate'!A27","v":"Dollar Daze"},{"$f":"+'Prevailing Market Rate'!C27","v":2300},null,{"$f":"+'Scheduled Base Rental Revenue'!G27","v":14},{"$f":"+'Prevailing Market Rate'!G27","v":14},1,{"$f":"+'Prevailing Market Rate'!E27","v":"2020-12-31"},null,{"$f":"+INDEX('Scheduled Base Rental Revenue'!$G27:$EH27,MATCH('Tenant Summary'!I29,'Scheduled Base Rental Revenue'!$G$3:$EH$3))","v":14},{"$f":"+INDEX('Prevailing Market Rate'!$H27:$EH27,MATCH('Tenant Summary'!I29,'Prevailing Market Rate'!$G$3:$EH$3))","v":15.298178000000002},0.9151416593531595,null,{"$f":"+INDEX('Monthly CF'!$F$4:$EG$4,MATCH('Tenant Summary'!I29,'Monthly CF'!$F$6:$EG$6))","v":3}]
[null,null,{"$f":"+'Prevailing Market Rate'!A28","v":"MetroPCS"},{"$f":"+'Prevailing Market Rate'!C28","v":2700},null,{"$f":"+'Scheduled Base Rental Revenue'!G28","v":11.21},{"$f":"+'Prevailing Market Rate'!G28","v":11.21},1,{"$f":"+'Prevailing Market Rate'!E28","v":"2024-01-31"},null,{"$f":"+INDEX('Scheduled Base Rental Revenue'!$G28:$EH28,MATCH('Tenant Summary'!I30,'Scheduled Base Rental Revenue'!$G$3:$EH$3))","v":12.34},{"$f":"+INDEX('Prevailing Market Rate'!$H28:$EH28,MATCH('Tenant Summary'!I30,'Prevailing Market Rate'!$G$3:$EH$3))","v":13.385326244090091},0.92190506043499498,null,{"$f":"+INDEX('Monthly CF'!$F$4:$EG$4,MATCH('Tenant Summary'!I30,'Monthly CF'!$F$6:$EG$6))","v":6}]
[null,null,{"$f":"+'Prevailing Market Rate'!A29","v":"Title Max"},{"$f":"+'Prevailing Market Rate'!C29","v":1271},null,{"$f":"+'Scheduled Base Rental Revenue'!G29","v":40},{"$f":"+'Prevailing Market Rate'!G29","v":40},1,{"$f":"+'Prevailing Market Rate'!E29","v":"2019-03-31"},null,{"$f":"+INDEX('Scheduled Base Rental Revenue'!$G29:$EH29,MATCH('Tenant Summary'!I31,'Scheduled Base Rental Revenue'!$G$3:$EH$3))","v":40},{"$f":"+INDEX('Prevailing Market Rate'!$H29:$EH29,MATCH('Tenant Summary'!I31,'Prevailing Market Rate'!$G$3:$EH$3))","v":41.2},0.97087378640776689,null,{"$f":"+INDEX('Monthly CF'!$F$4:$EG$4,MATCH('Tenant Summary'!I31,'Monthly CF'!$F$6:$EG$6))","v":2}]
[null,null,"Total / Wtd. Average",{"$f":"SUM(D8:D31)","v":96516},null,{"$f":"SUMPRODUCT(F8:F31,$D$8:$D$31)/$D$32","v":9.8945242239628666},{"$f":"SUMPRODUCT(G8:G31,$D$8:$D$31)/$D$32","v":9.8945242239628666},{"$f":"SUMPRODUCT(H8:H31,$D$8:$D$31)/$D$32","v":1},{"$f":"SUMPRODUCT(I8:I31,$D$8:$D$31)/$D$32","v":"2021-10-25T22:09:08.750"},null,{"$f":"SUMPRODUCT(K8:K31,$D$8:$D$31)/$D$32","v":10.139571677234862},{"$f":"SUMPRODUCT(L8:L31,$D$8:$D$31)/$D$32","v":10.816212641200629},{"$f":"SUMPRODUCT(M8:M31,$D$8:$D$31)/$D$32","v":0.93242333476401029}]
[null,"x",null,null,null,null,null,null,null,null,null,null,null,"x"]

{"sheet":"MLA's","index":3,"n_rows":28,"n_cols":9,"rows_kept":28,"cut":false,"hidden":false,"merged":[]}
[]
[]
[]
[null,"x",null,null,null,null,null,null,"x"]
[null,null,"Market Leasing Assumptions"]
[null,null,{"$f":"+'Project Summary'!C4","v":"Woodforest Shopping Center"}]
[]
[null,null,"MLA Categories",null,"Small Tenant Space","dd's Expansion","Anchor","Junior Anchor"]
[]
[null,null,"Lease Date",null,"Every 4 Months","Never","2019-01-01","2019-06-01"]
[]
[null,null,"  Market Rent",null,"   $/SqFt/Yr","   $/SqFt/Yr","   $/SqFt/Yr","   $/SqFt/Yr"]
[null,null,null,"       New:",13.5,0,7,10]
[null,null,null,"   Renewal:",13.5,0,7,10]
[null,null,null,"    Result:",13.5,0,7,10]
[]
[null,null,"  Leasing Commissions",null,"     Percent","     Percent","     Percent","     Percent"]
[null,null,null,"       New:",0.06,0.06,0.06,0.06]
[]
[null,null,"Non-Weighted Items"]
[null,null,"  Rent Changes"]
[null,null,"  Reimbursements",null,"         Net","         Net","         Net","         Net"]
[]
[null,null,"  Term Lengths",null,5,5,5,5]
[null,null,null,null,"        Years","        Years","        Years","        Years"]
[]
[null,null,"Term Overrides",null,"          No","          No","          No","          No"]
[null,"x",null,null,null,null,null,null,"x"]

{"sheet":"Monthly CF","index":4,"n_rows":101,"n_cols":137,"rows_kept":101,"cut":false,"hidden":false,"merged":[]}
[]
[null,"Monthly Cash Flows"]
[null,{"$f":"+'Project Summary'!C4","v":"Woodforest Shopping Center"}]
[null,"Year",null,null,0,1,{"$f":"IF(MONTH($F$6)=MONTH(G$6),F4+1,F4)","v":1},{"$f":"IF(MONTH($F$6)=MONTH(H$6),G4+1,G4)","v":1},1,1,1,1,1,1,1,1,1,2,2,2,2,2,2,2,2,2,2,2,2,3,3,3,3,3,3,3,3,3,3,3,3,4,4,4,4,4,4,4,4,4,4,4,4,5,5,5,5,5,5,5,5,5,5,5,5,6,6,6,6,6,6,{"$f":"IF(MONTH($F$6)=MONTH(BT$6),BS4+1,BS4)","v":6},6,6,6,6,6,7,7,7,7,7,7,7,7,7,7,7,7,8,8,8,8,8,8,8,8,8,8,8,8,9,9,9,9,9,9,9,9,9,9,9,9,10,10,10,10,10,10,10,10,10,10,10,10,11,11,11,11,11,11,11,11,11,11,{"$f":"IF(MONTH($F$6)=MONTH(EF$6),EE4+1,EE4)","v":11},11]
[null,"Month",null,null,0,{"$f":"+E5+1","v":1},{"$f":"+F5+1","v":2},3,4,5,6,7,8,9,10,11,12,13,14,15,16,17,18,19,20,21,22,23,24,25,26,27,28,29,30,31,32,33,34,35,36,37,38,39,40,41,42,43,44,45,46,47,48,49,50,51,52,53,54,55,56,57,58,59,60,61,62,63,64,65,{"$f":"+BR5+1","v":66},67,68,69,70,71,72,73,74,75,76,77,78,79,80,81,82,83,84,85,86,87,88,89,90,91,92,93,94,95,96,97,98,99,100,101,102,103,104,105,106,107,108,109,110,111,112,113,114,115,116,117,118,119,120,121,122,123,124,125,126,127,128,129,{"$f":"+ED5+1","v":130},131,132]
[null,"Date",null,null,{"$f":"+'Project Summary'!J14","v":"2018-01-01"},{"$f":"+EOMONTH(E6,1)","v":"2018-02-28"},{"$f":"+EOMONTH(F6,1)","v":"2018-03-31"},"2018-04-30","2018-05-31","2018-06-30","2018-07-31","2018-08-31","2018-09-30","2018-10-31","2018-11-30","2018-12-31","2019-01-31","2019-02-28","2019-03-31","2019-04-30","2019-05-31","2019-06-30","2019-07-31","2019-08-31","2019-09-30","2019-10-31","2019-11-30","2019-12-31","2020-01-31","2020-02-29","2020-03-31","2020-04-30","2020-05-31","2020-06-30","2020-07-31","2020-08-31","2020-09-30","2020-10-31","2020-11-30","2020-12-31","2021-01-31","2021-02-28","2021-03-31","2021-04-30","2021-05-31","2021-06-30","2021-07-31","2021-08-31","2021-09-30","2021-10-31","2021-11-30","2021-12-31","2022-01-31","2022-02-28","2022-03-31","2022-04-30","2022-05-31","2022-06-30","2022-07-31","2022-08-31","2022-09-30","2022-10-31","2022-11-30","2022-12-31","2023-01-31","2023-02-28","2023-03-31","2023-04-30","2023-05-31","2023-06-30",{"$f":"+EOMONTH(BR6,1)","v":"2023-07-31"},"2023-08-31","2023-09-30","2023-10-31","2023-11-30","2023-12-31","2024-01-31","2024-02-29","2024-03-31","2024-04-30","2024-05-31","2024-06-30","2024-07-31","2024-08-31","2024-09-30","2024-10-31","2024-11-30","2024-12-31","2025-01-31","2025-02-28","2025-03-31","2025-04-30","2025-05-31","2025-06-30","2025-07-31","2025-08-31","2025-09-30","2025-10-31","2025-11-30","2025-12-31","2026-01-31","2026-02-28","2026-03-31","2026-04-30","2026-05-31","2026-06-30","2026-07-31","2026-08-31","2026-09-30","2026-10-31","2026-11-30","2026-12-31","2027-01-31","2027-02-28","2027-03-31","2027-04-30","2027-05-31","2027-06-30","2027-07-31","2027-08-31","2027-09-30","2027-10-31","2027-11-30","2027-12-31","2028-01-31","2028-02-29","2028-03-31","2028-04-30","2028-05-31","2028-06-30","2028-07-31","2028-08-31","2028-09-30","2028-10-31",{"$f":"+EOMONTH(ED6,1)","v":"2028-11-30"},"2028-12-31","2029-01-31"]
[null,"Acquisition Cost",null,null,{"$f":"-'Project Summary'!I34+'Project Summary'!I26","v":-11845000}]
[]
[null,"REVENUE"]
[null,{"$f":"+'Monthly Cash Flows'!A16","v":"  Base Rental Revenue"},null,null,null,{"$f":"+INDEX('Monthly Cash Flows'!$B16:$EC16,MATCH('Monthly CF'!F$6,'Monthly Cash Flows'!$B$13:$EC$13))","v":80144.15833333334},{"$f":"+INDEX('Monthly Cash Flows'!$B16:$EC16,MATCH('Monthly CF'!G$6,'Monthly Cash Flows'!$B$13:$EC$13))","v":80144.15833333334},{"$f":"+INDEX('Monthly Cash Flows'!$B16:$EC16,MATCH('Monthly CF'!H$6,'Monthly Cash Flows'!$B$13:$EC$13))","v":80144.15833333334},{"$f":"+INDEX('Monthly Cash Flows'!$B16:$EC16,MATCH('Monthly CF'!I$6,'Monthly Cash Flows'!$B$13:$EC$13))","v":82469.15833333334},{"$f":"+INDEX('Monthly Cash Flows'!$B16:$EC16,MATCH('Monthly CF'!J$6,'Monthly Cash Flows'!$B$13:$EC$13))","v":82469.15833333334},{"$f":"+INDEX('Monthly Cash Flows'!$B16:$EC16,MATCH('Monthly CF'!K$6,'Monthly Cash Flows'!$B$13:$EC$13))","v":82469.15833333334},{"$f":"+INDEX('Monthly Cash Flows'!$B16:$EC16,MATCH('Monthly CF'!L$6,'Monthly Cash Flows'!$B$13:$EC$13))","v":82469.15833333334},{"$f":"+INDEX('Monthly Cash Flows'!$B16:$EC16,MATCH('Monthly CF'!M$6,'Monthly Cash Flows'!$B$13:$EC$13))","v":83760.824999999997},{"$f":"+INDEX('Monthly Cash Flows'!$B16:$EC16,MATCH('Monthly CF'!N$6,'Monthly Cash Flows'!$B$13:$EC$13))","v":83760.824999999997},{"$f":"+INDEX('Monthly Cash Flows'!$B16:$EC16,MATCH('Monthly CF'!O$6,'Monthly Cash Flows'!$B$13:$EC$13))","v":83969.15833333334},{"$f":"+INDEX('Monthly Cash Flows'!$B16:$EC16,MATCH('Monthly CF'!P$6,'Monthly Cash Flows'!$B$13:$EC$13))","v":84989.991666666683},{"$f":"+INDEX('Monthly Cash Flows'!$B16:$EC16,MATCH('Monthly CF'!Q$6,'Monthly Cash Flows'!$B$13:$EC$13))","v":89785.641666666663},{"$f":"+INDEX('Monthly Cash Flows'!$B16:$EC16,MATCH('Monthly CF'!R$6,'Monthly Cash Flows'!$B$13:$EC$13))","v":90039.891666666663},{"$f":"+INDEX('Monthly Cash Flows'!$B16:$EC16,MATCH('Monthly CF'!S$6,'Monthly Cash Flows'!$B$13:$EC$13))","v":90039.891666666663},{"$f":"+INDEX('Monthly Cash Flows'!$B16:$EC16,MATCH('Monthly CF'!T$6,'Monthly Cash Flows'!$B$13:$EC$13))","v":90463.558333333334},{"$f":"+INDEX('Monthly Cash Flows'!$B16:$EC16,MATCH('Monthly CF'!U$6,'Monthly Cash Flows'!$B$13:$EC$13))","v":91755.224999999991},{"$f":"+INDEX('Monthly Cash Flows'!$B16:$EC16,MATCH('Monthly CF'!V$6,'Monthly Cash Flows'!$B$13:$EC$13))","v":97269.224999999991},{"$f":"+INDEX('Monthly Cash Flows'!$B16:$EC16,MATCH('Monthly CF'!W$6,'Monthly Cash Flows'!$B$13:$EC$13))","v":97269.224999999991},{"$f":"+INDEX('Monthly Cash Flows'!$B16:$EC16,MATCH('Monthly CF'!X$6,'Monthly Cash Flows'!$B$13:$EC$13))","v":97269.224999999991},{"$f":"+INDEX('Monthly Cash Flows'!$B16:$EC16,MATCH('Monthly CF'!Y$6,'Monthly Cash Flows'!$B$13:$EC$13))","v":98819.224999999991},{"$f":"+INDEX('Monthly Cash Flows'!$B16:$EC16,MATCH('Monthly CF'!Z$6,'Monthly Cash Flows'!$B$13:$EC$13))","v":98819.224999999991},{"$f":"+INDEX('Monthly Cash Flows'!$B16:$EC16,MATCH('Monthly CF'!AA$6,'Monthly Cash Flows'!$B$13:$EC$13))","v":98819.224999999991},{"$f":"+INDEX('Monthly Cash Flows'!$B16:$EC16,MATCH('Monthly CF'!AB$6,'Monthly Cash Flows'!$B$13:$EC$13))","v":98819.224999999991},{"$f":"+INDEX('Monthly Cash Flows'!$B16:$EC16,MATCH('Monthly CF'!AC$6,'Monthly Cash Flows'!$B$13:$EC$13))","v":99832.558333333334},{"$f":"+INDEX('Monthly Cash Flows'!$B16:$EC16,MATCH('Monthly CF'!AD$6,'Monthly Cash Flows'!$B$13:$EC$13))","v":99832.558333333334},{"$f":"+INDEX('Monthly Cash Flows'!$B16:$EC16,MATCH('Monthly CF'!AE$6,'Monthly Cash Flows'!$B$13:$EC$13))","v":99832.558333333334},{"$f":"+INDEX('Monthly Cash Flows'!$B16:$EC16,MATCH('Monthly CF'!AF$6,'Monthly Cash Flows'!$B$13:$EC$13))","v":99832.558333333334},{"$f":"+INDEX('Monthly Cash Flows'!$B16:$EC16,MATCH('Monthly CF'!AG$6,'Monthly Cash Flows'!$B$13:$EC$13))","v":99965.891666666663},{"$f":"+INDEX('Monthly Cash Flows'!$B16:$EC16,MATCH('Monthly CF'!AH$6,'Monthly Cash Flows'!$B$13:$EC$13))","v":99965.891666666663},{"$f":"+INDEX('Monthly Cash Flows'!$B16:$EC16,MATCH('Monthly CF'!AI$6,'Monthly Cash Flows'!$B$13:$EC$13))","v":99965.891666666663},{"$f":"+INDEX('Monthly Cash Flows'!$B16:$EC16,MATCH('Monthly CF'!AJ$6,'Monthly Cash Flows'!$B$13:$EC$13))","v":99965.891666666663},{"$f":"+INDEX('Monthly Cash Flows'!$B16:$EC16,MATCH('Monthly CF'!AK$6,'Monthly Cash Flows'!$B$13:$EC$13))","v":100226.22499999999},{"$f":"+INDEX('Monthly Cash Flows'!$B16:$EC16,MATCH('Monthly CF'!AL$6,'Monthly Cash Flows'!$B$13:$EC$13))","v":100226.22499999999},{"$f":"+INDEX('Monthly Cash Flows'!$B16:$EC16,MATCH('Monthly CF'!AM$6,'Monthly Cash Flows'!$B$13:$EC$13))","v":100226.22499999999},{"$f":"+INDEX('Monthly Cash Flows'!$B16:$EC16,MATCH('Monthly CF'!AN$6,'Monthly Cash Flows'!$B$13:$EC$13))","v":100226.22499999999},{"$f":"+INDEX('Monthly Cash Flows'!$B16:$EC16,MATCH('Monthly CF'!AO$6,'Monthly Cash Flows'!$B$13:$EC$13))","v":100226.22499999999},{"$f":"+INDEX('Monthly Cash Flows'!$B16:$EC16,MATCH('Monthly CF'!AP$6,'Monthly Cash Flows'!$B$13:$EC$13))","v":100226.22499999999},{"$f":"+INDEX('Monthly Cash Flows'!$B16:$EC16,MATCH('Monthly CF'!AQ$6,'Monthly Cash Flows'!$B$13:$EC$13))","v":100226.22499999999},{"$f":"+INDEX('Monthly Cash Flows'!$B16:$EC16,MATCH('Monthly CF'!AR$6,'Monthly Cash Flows'!$B$13:$EC$13))","v":100226.22499999999},{"$f":"+INDEX('Monthly Cash Flows'!$B16:$EC16,MATCH('Monthly CF'!AS$6,'Monthly Cash Flows'!$B$13:$EC$13))","v":100226.22499999999},{"$f":"+INDEX('Monthly Cash Flows'!$B16:$EC16,MATCH('Monthly CF'!AT$6,'Monthly Cash Flows'!$B$13:$EC$13))","v":100226.22499999999},{"$f":"+INDEX('Monthly Cash Flows'!$B16:$EC16,MATCH('Monthly CF'!AU$6,'Monthly Cash Flows'!$B$13:$EC$13))","v":100226.22499999999},{"$f":"+INDEX('Monthly Cash Flows'!$B16:$EC16,MATCH('Monthly CF'!AV$6,'Monthly Cash Flows'!$B$13:$EC$13))","v":100226.22499999999},{"$f":"+INDEX('Monthly Cash Flows'!$B16:$EC16,MATCH('Monthly CF'!AW$6,'Monthly Cash Flows'!$B$13:$EC$13))","v":100226.22499999999},{"$f":"+INDEX('Monthly Cash Flows'!$B16:$EC16,MATCH('Monthly CF'!AX$6,'Monthly Cash Flows'!$B$13:$EC$13))","v":100226.22499999999},{"$f":"+INDEX('Monthly Cash Flows'!$B16:$EC16,MATCH('Monthly CF'!AY$6,'Monthly Cash Flows'!$B$13:$EC$13))","v":100226.22499999999},{"$f":"+INDEX('Monthly Cash Flows'!$B16:$EC16,MATCH('Monthly CF'!AZ$6,'Monthly Cash Flows'!$B$13:$EC$13))","v":100226.22499999999},{"$f":"+INDEX('Monthly Cash Flows'!$B16:$EC16,MATCH('Monthly CF'!BA$6,'Monthly Cash Flows'!$B$13:$EC$13))","v":100226.22499999999},{"$f":"+INDEX('Monthly Cash Flows'!$B16:$EC16,MATCH('Monthly CF'!BB$6,'Monthly Cash Flows'!$B$13:$EC$13))","v":101142.89166666668},{"$f":"+INDEX('Monthly Cash Flows'!$B16:$EC16,MATCH('Monthly CF'!BC$6,'Monthly Cash Flows'!$B$13:$EC$13))","v":101142.89166666668},{"$f":"+INDEX('Monthly Cash Flows'!$B16:$EC16,MATCH('Monthly CF'!BD$6,'Monthly Cash Flows'!$B$13:$EC$13))","v":101142.89166666668},{"$f":"+INDEX('Monthly Cash Flows'!$B16:$EC16,MATCH('Monthly CF'!BE$6,'Monthly Cash Flows'!$B$13:$EC$13))","v":101142.89166666668},{"$f":"+INDEX('Monthly Cash Flows'!$B16:$EC16,MATCH('Monthly CF'!BF$6,'Monthly Cash Flows'!$B$13:$EC$13))","v":101142.89166666668},{"$f":"+INDEX('Monthly Cash Flows'!$B16:$EC16,MATCH('Monthly CF'!BG$6,'Monthly Cash Flows'!$B$13:$EC$13))","v":101142.89166666668},{"$f":"+INDEX('Monthly Cash Flows'!$B16:$EC16,MATCH('Monthly CF'!BH$6,'Monthly Cash Flows'!$B$13:$EC$13))","v":101142.89166666668},{"$f":"+INDEX('Monthly Cash Flows'!$B16:$EC16,MATCH('Monthly CF'!BI$6,'Monthly Cash Flows'!$B$13:$EC$13))","v":101142.89166666668},{"$f":"+INDEX('Monthly Cash Flows'!$B16:$EC16,MATCH('Monthly CF'!BJ$6,'Monthly Cash Flows'!$B$13:$EC$13))","v":101142.89166666668},{"$f":"+INDEX('Monthly Cash Flows'!$B16:$EC16,MATCH('Monthly CF'!BK$6,'Monthly Cash Flows'!$B$13:$EC$13))","v":101142.89166666668},{"$f":"+INDEX('Monthly Cash Flows'!$B16:$EC16,MATCH('Monthly CF'!BL$6,'Monthly Cash Flows'!$B$13:$EC$13))","v":101142.89166666668},{"$f":"+INDEX('Monthly Cash Flows'!$B16:$EC16,MATCH('Monthly CF'!BM$6,'Monthly Cash Flows'!$B$13:$EC$13))","v":101142.89166666668},{"$f":"+INDEX('Monthly Cash Flows'!$B16:$EC16,MATCH('Monthly CF'!BN$6,'Monthly Cash Flows'!$B$13:$EC$13))","v":101892.89166666668},{"$f":"+INDEX('Monthly Cash Flows'!$B16:$EC16,MATCH('Monthly CF'!BO$6,'Monthly Cash Flows'!$B$13:$EC$13))","v":101892.89166666668},{"$f":"+INDEX('Monthly Cash Flows'!$B16:$EC16,MATCH('Monthly CF'!BP$6,'Monthly Cash Flows'!$B$13:$EC$13))","v":101892.89166666668},{"$f":"+INDEX('Monthly Cash Flows'!$B16:$EC16,MATCH('Monthly CF'!BQ$6,'Monthly Cash Flows'!$B$13:$EC$13))","v":101892.89166666668},{"$f":"+INDEX('Monthly Cash Flows'!$B16:$EC16,MATCH('Monthly CF'!BR$6,'Monthly Cash Flows'!$B$13:$EC$13))","v":101892.89166666668},{"$f":"+INDEX('Monthly Cash Flows'!$B16:$EC16,MATCH('Monthly CF'!BS$6,'Monthly Cash Flows'!$B$13:$EC$13))","v":101892.89166666668},{"$f":"+INDEX('Monthly Cash Flows'!$B16:$EC16,MATCH('Monthly CF'!BT$6,'Monthly Cash Flows'!$B$13:$EC$13))","v":101892.89166666668},{"$f":"+INDEX('Monthly Cash Flows'!$B16:$EC16,MATCH('Monthly CF'!BU$6,'Monthly Cash Flows'!$B$13:$EC$13))","v":101892.89166666668},{"$f":"+INDEX('Monthly Cash Flows'!$B16:$EC16,MATCH('Monthly CF'!BV$6,'Monthly Cash Flows'!$B$13:$EC$13))","v":101892.89166666668},{"$f":"+INDEX('Monthly Cash Flows'!$B16:$EC16,MATCH('Monthly CF'!BW$6,'Monthly Cash Flows'!$B$13:$EC$13))","v":102184.55833333335},{"$f":"+INDEX('Monthly Cash Flows'!$B16:$EC16,MATCH('Monthly CF'!BX$6,'Monthly Cash Flows'!$B$13:$EC$13))","v":103654.55833333335},{"$f":"+INDEX('Monthly Cash Flows'!$B16:$EC16,MATCH('Monthly CF'!BY$6,'Monthly Cash Flows'!$B$13:$EC$13))","v":103654.55833333335},{"$f":"+INDEX('Monthly Cash Flows'!$B16:$EC16,MATCH('Monthly CF'!BZ$6,'Monthly Cash Flows'!$B$13:$EC$13))","v":103987.55833333335},{"$f":"+INDEX('Monthly Cash Flows'!$B16:$EC16,MATCH('Monthly CF'!CA$6,'Monthly Cash Flows'!$B$13:$EC$13))","v":103987.55833333335},{"$f":"+INDEX('Monthly Cash Flows'!$B16:$EC16,MATCH('Monthly CF'!CB$6,'Monthly Cash Flows'!$B$13:$EC$13))","v":103987.55833333335},{"$f":"+INDEX('Monthly Cash Flows'!$B16:$EC16,MATCH('Monthly CF'!CC$6,'Monthly Cash Flows'!$B$13:$EC$13))","v":103987.55833333335},{"$f":"+INDEX('Monthly Cash Flows'!$B16:$EC16,MATCH('Monthly CF'!CD$6,'Monthly Cash Flows'!$B$13:$EC$13))","v":103987.55833333335},{"$f":"+INDEX('Monthly Cash Flows'!$B16:$EC16,MATCH('Monthly CF'!CE$6,'Monthly Cash Flows'!$B$13:$EC$13))","v":103987.55833333335},{"$f":"+INDEX('Monthly Cash Flows'!$B16:$EC16,MATCH('Monthly CF'!CF$6,'Monthly Cash Flows'!$B$13:$EC$13))","v":103987.55833333335},{"$f":"+INDEX('Monthly Cash Flows'!$B16:$EC16,MATCH('Monthly CF'!CG$6,'Monthly Cash Flows'!$B$13:$EC$13))","v":103987.55833333335},{"$f":"+INDEX('Monthly Cash Flows'!$B16:$EC16,MATCH('Monthly CF'!CH$6,'Monthly Cash Flows'!$B$13:$EC$13))","v":103987.55833333335},{"$f":"+INDEX('Monthly Cash Flows'!$B16:$EC16,MATCH('Monthly CF'!CI$6,'Monthly Cash Flows'!$B$13:$EC$13))","v":103987.55833333335},{"$f":"+INDEX('Monthly Cash Flows'!$B16:$EC16,MATCH('Monthly CF'!CJ$6,'Monthly Cash Flows'!$B$13:$EC$13))","v":103987.55833333335},{"$f":"+INDEX('Monthly Cash Flows'!$B16:$EC16,MATCH('Monthly CF'!CK$6,'Monthly Cash Flows'!$B$13:$EC$13))","v":103987.55833333335},{"$f":"+INDEX('Monthly Cash Flows'!$B16:$EC16,MATCH('Monthly CF'!CL$6,'Monthly Cash Flows'!$B$13:$EC$13))","v":103987.55833333335},{"$f":"+INDEX('Monthly Cash Flows'!$B16:$EC16,MATCH('Monthly CF'!CM$6,'Monthly Cash Flows'!$B$13:$EC$13))","v":103987.55833333335},{"$f":"+INDEX('Monthly Cash Flows'!$B16:$EC16,MATCH('Monthly CF'!CN$6,'Monthly Cash Flows'!$B$13:$EC$13))","v":103987.55833333335},{"$f":"+INDEX('Monthly Cash Flows'!$B16:$EC16,MATCH('Monthly CF'!CO$6,'Monthly Cash Flows'!$B$13:$EC$13))","v":103987.55833333335},{"$f":"+INDEX('Monthly Cash Flows'!$B16:$EC16,MATCH('Monthly CF'!CP$6,'Monthly Cash Flows'!$B$13:$EC$13))","v":103987.55833333335},{"$f":"+INDEX('Monthly Cash Flows'!$B16:$EC16,MATCH('Monthly CF'!CQ$6,'Monthly Cash Flows'!$B$13:$EC$13))","v":103987.55833333335},{"$f":"+INDEX('Monthly Cash Flows'!$B16:$EC16,MATCH('Monthly CF'!CR$6,'Monthly Cash Flows'!$B$13:$EC$13))","v":103987.55833333335},{"$f":"+INDEX('Monthly Cash Flows'!$B16:$EC16,MATCH('Monthly CF'!CS$6,'Monthly Cash Flows'!$B$13:$EC$13))","v":103987.55833333335},{"$f":"+INDEX('Monthly Cash Flows'!$B16:$EC16,MATCH('Monthly CF'!CT$6,'Monthly Cash Flows'!$B$13:$EC$13))","v":103987.55833333335},{"$f":"+INDEX('Monthly Cash Flows'!$B16:$EC16,MATCH('Monthly CF'!CU$6,'Monthly Cash Flows'!$B$13:$EC$13))","v":103987.55833333335},{"$f":"+INDEX('Monthly Cash Flows'!$B16:$EC16,MATCH('Monthly CF'!CV$6,'Monthly Cash Flows'!$B$13:$EC$13))","v":103987.55833333335},{"$f":"+INDEX('Monthly Cash Flows'!$B16:$EC16,MATCH('Monthly CF'!CW$6,'Monthly Cash Flows'!$B$13:$EC$13))","v":103987.55833333335},{"$f":"+INDEX('Monthly Cash Flows'!$B16:$EC16,MATCH('Monthly CF'!CX$6,'Monthly Cash Flows'!$B$13:$EC$13))","v":103987.55833333335},{"$f":"+INDEX('Monthly Cash Flows'!$B16:$EC16,MATCH('Monthly CF'!CY$6,'Monthly Cash Flows'!$B$13:$EC$13))","v":103987.55833333335},{"$f":"+INDEX('Monthly Cash Flows'!$B16:$EC16,MATCH('Monthly CF'!CZ$6,'Monthly Cash Flows'!$B$13:$EC$13))","v":103987.55833333335},{"$f":"+INDEX('Monthly Cash Flows'!$B16:$EC16,MATCH('Monthly CF'!DA$6,'Monthly Cash Flows'!$B$13:$EC$13))","v":103987.55833333335},{"$f":"+INDEX('Monthly Cash Flows'!$B16:$EC16,MATCH('Monthly CF'!DB$6,'Monthly Cash Flows'!$B$13:$EC$13))","v":103987.55833333335},{"$f":"+INDEX('Monthly Cash Flows'!$B16:$EC16,MATCH('Monthly CF'!DC$6,'Monthly Cash Flows'!$B$13:$EC$13))","v":103987.55833333335},{"$f":"+INDEX('Monthly Cash Flows'!$B16:$EC16,MATCH('Monthly CF'!DD$6,'Monthly Cash Flows'!$B$13:$EC$13))","v":103987.55833333335},{"$f":"+INDEX('Monthly Cash Flows'!$B16:$EC16,MATCH('Monthly CF'!DE$6,'Monthly Cash Flows'!$B$13:$EC$13))","v":103987.55833333335},{"$f":"+INDEX('Monthly Cash Flows'!$B16:$EC16,MATCH('Monthly CF'!DF$6,'Monthly Cash Flows'!$B$13:$EC$13))","v":103987.55833333335},{"$f":"+INDEX('Monthly Cash Flows'!$B16:$EC16,MATCH('Monthly CF'!DG$6,'Monthly Cash Flows'!$B$13:$EC$13))","v":103987.55833333335},{"$f":"+INDEX('Monthly Cash Flows'!$B16:$EC16,MATCH('Monthly CF'!DH$6,'Monthly Cash Flows'!$B$13:$EC$13))","v":103987.55833333335},{"$f":"+INDEX('Monthly Cash Flows'!$B16:$EC16,MATCH('Monthly CF'!DI$6,'Monthly Cash Flows'!$B$13:$EC$13))","v":103987.55833333335},{"$f":"+INDEX('Monthly Cash Flows'!$B16:$EC16,MATCH('Monthly CF'!DJ$6,'Monthly Cash Flows'!$B$13:$EC$13))","v":104904.22500000002},{"$f":"+INDEX('Monthly Cash Flows'!$B16:$EC16,MATCH('Monthly CF'!DK$6,'Monthly Cash Flows'!$B$13:$EC$13))","v":104904.22500000002},{"$f":"+INDEX('Monthly Cash Flows'!$B16:$EC16,MATCH('Monthly CF'!DL$6,'Monthly Cash Flows'!$B$13:$EC$13))","v":104904.22500000002},{"$f":"+INDEX('Monthly Cash Flows'!$B16:$EC16,MATCH('Monthly CF'!DM$6,'Monthly Cash Flows'!$B$13:$EC$13))","v":104904.22500000002},{"$f":"+INDEX('Monthly Cash Flows'!$B16:$EC16,MATCH('Monthly CF'!DN$6,'Monthly Cash Flows'!$B$13:$EC$13))","v":104904.22500000002},{"$f":"+INDEX('Monthly Cash Flows'!$B16:$EC16,MATCH('Monthly CF'!DO$6,'Monthly Cash Flows'!$B$13:$EC$13))","v":104904.22500000002},{"$f":"+INDEX('Monthly Cash Flows'!$B16:$EC16,MATCH('Monthly CF'!DP$6,'Monthly Cash Flows'!$B$13:$EC$13))","v":104904.22500000002},{"$f":"+INDEX('Monthly Cash Flows'!$B16:$EC16,MATCH('Monthly CF'!DQ$6,'Monthly Cash Flows'!$B$13:$EC$13))","v":104904.22500000002},{"$f":"+INDEX('Monthly Cash Flows'!$B16:$EC16,MATCH('Monthly CF'!DR$6,'Monthly Cash Flows'!$B$13:$EC$13))","v":104904.22500000002},{"$f":"+INDEX('Monthly Cash Flows'!$B16:$EC16,MATCH('Monthly CF'!DS$6,'Monthly Cash Flows'!$B$13:$EC$13))","v":104904.22500000002},{"$f":"+INDEX('Monthly Cash Flows'!$B16:$EC16,MATCH('Monthly CF'!DT$6,'Monthly Cash Flows'!$B$13:$EC$13))","v":104904.22500000002},{"$f":"+INDEX('Monthly Cash Flows'!$B16:$EC16,MATCH('Monthly CF'!DU$6,'Monthly Cash Flows'!$B$13:$EC$13))","v":104904.22500000002},{"$f":"+INDEX('Monthly Cash Flows'!$B16:$EC16,MATCH('Monthly CF'!DV$6,'Monthly Cash Flows'!$B$13:$EC$13))","v":104904.22500000002},{"$f":"+INDEX('Monthly Cash Flows'!$B16:$EC16,MATCH('Monthly CF'!DW$6,'Monthly Cash Flows'!$B$13:$EC$13))","v":104904.22500000002},{"$f":"+INDEX('Monthly Cash Flows'!$B16:$EC16,MATCH('Monthly CF'!DX$6,'Monthly Cash Flows'!$B$13:$EC$13))","v":104904.22500000002},{"$f":"+INDEX('Monthly Cash Flows'!$B16:$EC16,MATCH('Monthly CF'!DY$6,'Monthly Cash Flows'!$B$13:$EC$13))","v":104904.22500000002},{"$f":"+INDEX('Monthly Cash Flows'!$B16:$EC16,MATCH('Monthly CF'!DZ$6,'Monthly Cash Flows'!$B$13:$EC$13))","v":104904.22500000002},{"$f":"+INDEX('Monthly Cash Flows'!$B16:$EC16,MATCH('Monthly CF'!EA$6,'Monthly Cash Flows'!$B$13:$EC$13))","v":104904.22500000002},{"$f":"+INDEX('Monthly Cash Flows'!$B16:$EC16,MATCH('Monthly CF'!EB$6,'Monthly Cash Flows'!$B$13:$EC$13))","v":104904.22500000002},{"$f":"+INDEX('Monthly Cash Flows'!$B16:$EC16,MATCH('Monthly CF'!EC$6,'Monthly Cash Flows'!$B$13:$EC$13))","v":104904.22500000002},{"$f":"+INDEX('Monthly Cash Flows'!$B16:$EC16,MATCH('Monthly CF'!ED$6,'Monthly Cash Flows'!$B$13:$EC$13))","v":104904.22500000002},{"$f":"+INDEX('Monthly Cash Flows'!$B16:$EC16,MATCH('Monthly CF'!EE$6,'Monthly Cash Flows'!$B$13:$EC$13))","v":104904.22500000002},{"$f":"+INDEX('Monthly Cash Flows'!$B16:$EC16,MATCH('Monthly CF'!EF$6,'Monthly Cash Flows'!$B$13:$EC$13))","v":104904.22500000002},{"$f":"+INDEX('Monthly Cash Flows'!$B16:$EC16,MATCH('Monthly CF'!EG$6,'Monthly Cash Flows'!$B$13:$EC$13))","v":104904.22500000002}]
[null,{"$f":"+'Monthly Cash Flows'!A17","v":"  Absorption & Turnover Vacancy"},null,null,null,{"$f":"+INDEX('Monthly Cash Flows'!$B17:$EC17,MATCH('Monthly CF'!F$6,'Monthly Cash Flows'!$B$13:$EC$13))","v":0},{"$f":"+INDEX('Monthly Cash Flows'!$B17:$EC17,MATCH('Monthly CF'!G$6,'Monthly Cash Flows'!$B$13:$EC$13))","v":0},{"$f":"+INDEX('Monthly Cash Flows'!$B17:$EC17,MATCH('Monthly CF'!H$6,'Monthly Cash Flows'!$B$13:$EC$13))","v":0},{"$f":"+INDEX('Monthly Cash Flows'!$B17:$EC17,MATCH('Monthly CF'!I$6,'Monthly Cash Flows'!$B$13:$EC$13))","v":0},{"$f":"+INDEX('Monthly Cash Flows'!$B17:$EC17,MATCH('Monthly CF'!J$6,'Monthly Cash Flows'!$B$13:$EC$13))","v":0},{"$f":"+INDEX('Monthly Cash Flows'!$B17:$EC17,MATCH('Monthly CF'!K$6,'Monthly Cash Flows'!$B$13:$EC$13))","v":0},{"$f":"+INDEX('Monthly Cash Flows'!$B17:$EC17,MATCH('Monthly CF'!L$6,'Monthly Cash Flows'!$B$13:$EC$13))","v":0},{"$f":"+INDEX('Monthly Cash Flows'!$B17:$EC17,MATCH('Monthly CF'!M$6,'Monthly Cash Flows'!$B$13:$EC$13))","v":0},{"$f":"+INDEX('Monthly Cash Flows'!$B17:$EC17,MATCH('Monthly CF'!N$6,'Monthly Cash Flows'!$B$13:$EC$13))","v":0},{"$f":"+INDEX('Monthly Cash Flows'!$B17:$EC17,MATCH('Monthly CF'!O$6,'Monthly Cash Flows'!$B$13:$EC$13))","v":0},{"$f":"+INDEX('Monthly Cash Flows'!$B17:$EC17,MATCH('Monthly CF'!P$6,'Monthly Cash Flows'!$B$13:$EC$13))","v":0},{"$f":"+INDEX('Monthly Cash Flows'!$B17:$EC17,MATCH('Monthly CF'!Q$6,'Monthly Cash Flows'!$B$13:$EC$13))","v":0},{"$f":"+INDEX('Monthly Cash Flows'!$B17:$EC17,MATCH('Monthly CF'!R$6,'Monthly Cash Flows'!$B$13:$EC$13))","v":0},{"$f":"+INDEX('Monthly Cash Flows'!$B17:$EC17,MATCH('Monthly CF'!S$6,'Monthly Cash Flows'!$B$13:$EC$13))","v":0},{"$f":"+INDEX('Monthly Cash Flows'!$B17:$EC17,MATCH('Monthly CF'!T$6,'Monthly Cash Flows'!$B$13:$EC$13))","v":0},{"$f":"+INDEX('Monthly Cash Flows'!$B17:$EC17,MATCH('Monthly CF'!U$6,'Monthly Cash Flows'!$B$13:$EC$13))","v":0},{"$f":"+INDEX('Monthly Cash Flows'!$B17:$EC17,MATCH('Monthly CF'!V$6,'Monthly Cash Flows'!$B$13:$EC$13))","v":0},{"$f":"+INDEX('Monthly Cash Flows'!$B17:$EC17,MATCH('Monthly CF'!W$6,'Monthly Cash Flows'!$B$13:$EC$13))","v":0},{"$f":"+INDEX('Monthly Cash Flows'!$B17:$EC17,MATCH('Monthly CF'!X$6,'Monthly Cash Flows'!$B$13:$EC$13))","v":0},{"$f":"+INDEX('Monthly Cash Flows'!$B17:$EC17,MATCH('Monthly CF'!Y$6,'Monthly Cash Flows'!$B$13:$EC$13))","v":0},{"$f":"+INDEX('Monthly Cash Flows'!$B17:$EC17,MATCH('Monthly CF'!Z$6,'Monthly Cash Flows'!$B$13:$EC$13))","v":0},{"$f":"+INDEX('Monthly Cash Flows'!$B17:$EC17,MATCH('Monthly CF'!AA$6,'Monthly Cash Flows'!$B$13:$EC$13))","v":0},{"$f":"+INDEX('Monthly Cash Flows'!$B17:$EC17,MATCH('Monthly CF'!AB$6,'Monthly Cash Flows'!$B$13:$EC$13))","v":0},{"$f":"+INDEX('Monthly Cash Flows'!$B17:$EC17,MATCH('Monthly CF'!AC$6,'Monthly Cash Flows'!$B$13:$EC$13))","v":0},{"$f":"+INDEX('Monthly Cash Flows'!$B17:$EC17,MATCH('Monthly CF'!AD$6,'Monthly Cash Flows'!$B$13:$EC$13))","v":0},{"$f":"+INDEX('Monthly Cash Flows'!$B17:$EC17,MATCH('Monthly CF'!AE$6,'Monthly Cash Flows'!$B$13:$EC$13))","v":0},{"$f":"+INDEX('Monthly Cash Flows'!$B17:$EC17,MATCH('Monthly CF'!AF$6,'Monthly Cash Flows'!$B$13:$EC$13))","v":0},{"$f":"+INDEX('Monthly Cash Flows'!$B17:$EC17,MATCH('Monthly CF'!AG$6,'Monthly Cash Flows'!$B$13:$EC$13))","v":0},{"$f":"+INDEX('Monthly Cash Flows'!$B17:$EC17,MATCH('Monthly CF'!AH$6,'Monthly Cash Flows'!$B$13:$EC$13))","v":0},{"$f":"+INDEX('Monthly Cash Flows'!$B17:$EC17,MATCH('Monthly CF'!AI$6,'Monthly Cash Flows'!$B$13:$EC$13))","v":0},{"$f":"+INDEX('Monthly Cash Flows'!$B17:$EC17,MATCH('Monthly CF'!AJ$6,'Monthly Cash Flows'!$B$13:$EC$13))","v":0},{"$f":"+INDEX('Monthly Cash Flows'!$B17:$EC17,MATCH('Monthly CF'!AK$6,'Monthly Cash Flows'!$B$13:$EC$13))","v":0},{"$f":"+INDEX('Monthly Cash Flows'!$B17:$EC17,MATCH('Monthly CF'!AL$6,'Monthly Cash Flows'!$B$13:$EC$13))","v":0},{"$f":"+INDEX('Monthly Cash Flows'!$B17:$EC17,MATCH('Monthly CF'!AM$6,'Monthly Cash Flows'!$B$13:$EC$13))","v":0},{"$f":"+INDEX('Monthly Cash Flows'!$B17:$EC17,MATCH('Monthly CF'!AN$6,'Monthly Cash Flows'!$B$13:$EC$13))","v":0},{"$f":"+INDEX('Monthly Cash Flows'!$B17:$EC17,MATCH('Monthly CF'!AO$6,'Monthly Cash Flows'!$B$13:$EC$13))","v":0},{"$f":"+INDEX('Monthly Cash Flows'!$B17:$EC17,MATCH('Monthly CF'!AP$6,'Monthly Cash Flows'!$B$13:$EC$13))","v":0},{"$f":"+INDEX('Monthly Cash Flows'!$B17:$EC17,MATCH('Monthly CF'!AQ$6,'Monthly Cash Flows'!$B$13:$EC$13))","v":0},{"$f":"+INDEX('Monthly Cash Flows'!$B17:$EC17,MATCH('Monthly CF'!AR$6,'Monthly Cash Flows'!$B$13:$EC$13))","v":0},{"$f":"+INDEX('Monthly Cash Flows'!$B17:$EC17,MATCH('Monthly CF'!AS$6,'Monthly Cash Flows'!$B$13:$EC$13))","v":0},{"$f":"+INDEX('Monthly Cash Flows'!$B17:$EC17,MATCH('Monthly CF'!AT$6,'Monthly Cash Flows'!$B$13:$EC$13))","v":0},{"$f":"+INDEX('Monthly Cash Flows'!$B17:$EC17,MATCH('Monthly CF'!AU$6,'Monthly Cash Flows'!$B$13:$EC$13))","v":0},{"$f":"+INDEX('Monthly Cash Flows'!$B17:$EC17,MATCH('Monthly CF'!AV$6,'Monthly Cash Flows'!$B$13:$EC$13))","v":0},{"$f":"+INDEX('Monthly Cash Flows'!$B17:$EC17,MATCH('Monthly CF'!AW$6,'Monthly Cash Flows'!$B$13:$EC$13))","v":0},{"$f":"+INDEX('Monthly Cash Flows'!$B17:$EC17,MATCH('Monthly CF'!AX$6,'Monthly Cash Flows'!$B$13:$EC$13))","v":0},{"$f":"+INDEX('Monthly Cash Flows'!$B17:$EC17,MATCH('Monthly CF'!AY$6,'Monthly Cash Flows'!$B$13:$EC$13))","v":0},{"$f":"+INDEX('Monthly Cash Flows'!$B17:$EC17,MATCH('Monthly CF'!AZ$6,'Monthly Cash Flows'!$B$13:$EC$13))","v":0},{"$f":"+INDEX('Monthly Cash Flows'!$B17:$EC17,MATCH('Monthly CF'!BA$6,'Monthly Cash Flows'!$B$13:$EC$13))","v":0},{"$f":"+INDEX('Monthly Cash Flows'!$B17:$EC17,MATCH('Monthly CF'!BB$6,'Monthly Cash Flows'!$B$13:$EC$13))","v":0},{"$f":"+INDEX('Monthly Cash Flows'!$B17:$EC17,MATCH('Monthly CF'!BC$6,'Monthly Cash Flows'!$B$13:$EC$13))","v":0},{"$f":"+INDEX('Monthly Cash Flows'!$B17:$EC17,MATCH('Monthly CF'!BD$6,'Monthly Cash Flows'!$B$13:$EC$13))","v":0},{"$f":"+INDEX('Monthly Cash Flows'!$B17:$EC17,MATCH('Monthly CF'!BE$6,'Monthly Cash Flows'!$B$13:$EC$13))","v":0},{"$f":"+INDEX('Monthly Cash Flows'!$B17:$EC17,MATCH('Monthly CF'!BF$6,'Monthly Cash Flows'!$B$13:$EC$13))","v":0},{"$f":"+INDEX('Monthly Cash Flows'!$B17:$EC17,MATCH('Monthly CF'!BG$6,'Monthly Cash Flows'!$B$13:$EC$13))","v":0},{"$f":"+INDEX('Monthly Cash Flows'!$B17:$EC17,MATCH('Monthly CF'!BH$6,'Monthly Cash Flows'!$B$13:$EC$13))","v":0},{"$f":"+INDEX('Monthly Cash Flows'!$B17:$EC17,MATCH('Monthly CF'!BI$6,'Monthly Cash Flows'!$B$13:$EC$13))","v":0},{"$f":"+INDEX('Monthly Cash Flows'!$B17:$EC17,MATCH('Monthly CF'!BJ$6,'Monthly Cash Flows'!$B$13:$EC$13))","v":0},{"$f":"+INDEX('Monthly Cash Flows'!$B17:$EC17,MATCH('Monthly CF'!BK$6,'Monthly Cash Flows'!$B$13:$EC$13))","v":0},{"$f":"+INDEX('Monthly Cash Flows'!$B17:$EC17,MATCH('Monthly CF'!BL$6,'Monthly Cash Flows'!$B$13:$EC$13))","v":0},{"$f":"+INDEX('Monthly Cash Flows'!$B17:$EC17,MATCH('Monthly CF'!BM$6,'Monthly Cash Flows'!$B$13:$EC$13))","v":0},{"$f":"+INDEX('Monthly Cash Flows'!$B17:$EC17,MATCH('Monthly CF'!BN$6,'Monthly Cash Flows'!$B$13:$EC$13))","v":0},{"$f":"+INDEX('Monthly Cash Flows'!$B17:$EC17,MATCH('Monthly CF'!BO$6,'Monthly Cash Flows'!$B$13:$EC$13))","v":0},{"$f":"+INDEX('Monthly Cash Flows'!$B17:$EC17,MATCH('Monthly CF'!BP$6,'Monthly Cash Flows'!$B$13:$EC$13))","v":0},{"$f":"+INDEX('Monthly Cash Flows'!$B17:$EC17,MATCH('Monthly CF'!BQ$6,'Monthly Cash Flows'!$B$13:$EC$13))","v":0},{"$f":"+INDEX('Monthly Cash Flows'!$B17:$EC17,MATCH('Monthly CF'!BR$6,'Monthly Cash Flows'!$B$13:$EC$13))","v":0},{"$f":"+INDEX('Monthly Cash Flows'!$B17:$EC17,MATCH('Monthly CF'!BS$6,'Monthly Cash Flows'!$B$13:$EC$13))","v":0},{"$f":"+INDEX('Monthly Cash Flows'!$B17:$EC17,MATCH('Monthly CF'!BT$6,'Monthly Cash Flows'!$B$13:$EC$13))","v":0},{"$f":"+INDEX('Monthly Cash Flows'!$B17:$EC17,MATCH('Monthly CF'!BU$6,'Monthly Cash Flows'!$B$13:$EC$13))","v":0},{"$f":"+INDEX('Monthly Cash Flows'!$B17:$EC17,MATCH('Monthly CF'!BV$6,'Monthly Cash Flows'!$B$13:$EC$13))","v":0},{"$f":"+INDEX('Monthly Cash Flows'!$B17:$EC17,MATCH('Monthly CF'!BW$6,'Monthly Cash Flows'!$B$13:$EC$13))","v":0},{"$f":"+INDEX('Monthly Cash Flows'!$B17:$EC17,MATCH('Monthly CF'!BX$6,'Monthly Cash Flows'!$B$13:$EC$13))","v":0},{"$f":"+INDEX('Monthly Cash Flows'!$B17:$EC17,MATCH('Monthly CF'!BY$6,'Monthly Cash Flows'!$B$13:$EC$13))","v":0},{"$f":"+INDEX('Monthly Cash Flows'!$B17:$EC17,MATCH('Monthly CF'!BZ$6,'Monthly Cash Flows'!$B$13:$EC$13))","v":0},{"$f":"+INDEX('Monthly Cash Flows'!$B17:$EC17,MATCH('Monthly CF'!CA$6,'Monthly Cash Flows'!$B$13:$EC$13))","v":0},{"$f":"+INDEX('Monthly Cash Flows'!$B17:$EC17,MATCH('Monthly CF'!CB$6,'Monthly Cash Flows'!$B$13:$EC$13))","v":0},{"$f":"+INDEX('Monthly Cash Flows'!$B17:$EC17,MATCH('Monthly CF'!CC$6,'Monthly Cash Flows'!$B$13:$EC$13))","v":0},{"$f":"+INDEX('Monthly Cash Flows'!$B17:$EC17,MATCH('Monthly CF'!CD$6,'Monthly Cash Flows'!$B$13:$EC$13))","v":0},{"$f":"+INDEX('Monthly Cash Flows'!$B17:$EC17,MATCH('Monthly CF'!CE$6,'Monthly Cash Flows'!$B$13:$EC$13))","v":0},{"$f":"+INDEX('Monthly Cash Flows'!$B17:$EC17,MATCH('Monthly CF'!CF$6,'Monthly Cash Flows'!$B$13:$EC$13))","v":0},{"$f":"+INDEX('Monthly Cash Flows'!$B17:$EC17,MATCH('Monthly CF'!CG$6,'Monthly Cash Flows'!$B$13:$EC$13))","v":0},{"$f":"+INDEX('Monthly Cash Flows'!$B17:$EC17,MATCH('Monthly CF'!CH$6,'Monthly Cash Flows'!$B$13:$EC$13))","v":0},{"$f":"+INDEX('Monthly Cash Flows'!$B17:$EC17,MATCH('Monthly CF'!CI$6,'Monthly Cash Flows'!$B$13:$EC$13))","v":0},{"$f":"+INDEX('Monthly Cash Flows'!$B17:$EC17,MATCH('Monthly CF'!CJ$6,'Monthly Cash Flows'!$B$13:$EC$13))","v":0},{"$f":"+INDEX('Monthly Cash Flows'!$B17:$EC17,MATCH('Monthly CF'!CK$6,'Monthly Cash Flows'!$B$13:$EC$13))","v":0},{"$f":"+INDEX('Monthly Cash Flows'!$B17:$EC17,MATCH('Monthly CF'!CL$6,'Monthly Cash Flows'!$B$13:$EC$13))","v":0},{"$f":"+INDEX('Monthly Cash Flows'!$B17:$EC17,MATCH('Monthly CF'!CM$6,'Monthly Cash Flows'!$B$13:$EC$13))","v":0},{"$f":"+INDEX('Monthly Cash Flows'!$B17:$EC17,MATCH('Monthly CF'!CN$6,'Monthly Cash Flows'!$B$13:$EC$13))","v":0},{"$f":"+INDEX('Monthly Cash Flows'!$B17:$EC17,MATCH('Monthly CF'!CO$6,'Monthly Cash Flows'!$B$13:$EC$13))","v":0},{"$f":"+INDEX('Monthly Cash Flows'!$B17:$EC17,MATCH('Monthly CF'!CP$6,'Monthly Cash Flows'!$B$13:$EC$13))","v":0},{"$f":"+INDEX('Monthly Cash Flows'!$B17:$EC17,MATCH('Monthly CF'!CQ$6,'Monthly Cash Flows'!$B$13:$EC$13))","v":0},{"$f":"+INDEX('Monthly Cash Flows'!$B17:$EC17,MATCH('Monthly CF'!CR$6,'Monthly Cash Flows'!$B$13:$EC$13))","v":0},{"$f":"+INDEX('Monthly Cash Flows'!$B17:$EC17,MATCH('Monthly CF'!CS$6,'Monthly Cash Flows'!$B$13:$EC$13))","v":0},{"$f":"+INDEX('Monthly Cash Flows'!$B17:$EC17,MATCH('Monthly CF'!CT$6,'Monthly Cash Flows'!$B$13:$EC$13))","v":0},{"$f":"+INDEX('Monthly Cash Flows'!$B17:$EC17,MATCH('Monthly CF'!CU$6,'Monthly Cash Flows'!$B$13:$EC$13))","v":0},{"$f":"+INDEX('Monthly Cash Flows'!$B17:$EC17,MATCH('Monthly CF'!CV$6,'Monthly Cash Flows'!$B$13:$EC$13))","v":0},{"$f":"+INDEX('Monthly Cash Flows'!$B17:$EC17,MATCH('Monthly CF'!CW$6,'Monthly Cash Flows'!$B$13:$EC$13))","v":0},{"$f":"+INDEX('Monthly Cash Flows'!$B17:$EC17,MATCH('Monthly CF'!CX$6,'Monthly Cash Flows'!$B$13:$EC$13))","v":0},{"$f":"+INDEX('Monthly Cash Flows'!$B17:$EC17,MATCH('Monthly CF'!CY$6,'Monthly Cash Flows'!$B$13:$EC$13))","v":0},{"$f":"+INDEX('Monthly Cash Flows'!$B17:$EC17,MATCH('Monthly CF'!CZ$6,'Monthly Cash Flows'!$B$13:$EC$13))","v":0},{"$f":"+INDEX('Monthly Cash Flows'!$B17:$EC17,MATCH('Monthly CF'!DA$6,'Monthly Cash Flows'!$B$13:$EC$13))","v":0},{"$f":"+INDEX('Monthly Cash Flows'!$B17:$EC17,MATCH('Monthly CF'!DB$6,'Monthly Cash Flows'!$B$13:$EC$13))","v":0},{"$f":"+INDEX('Monthly Cash Flows'!$B17:$EC17,MATCH('Monthly CF'!DC$6,'Monthly Cash Flows'!$B$13:$EC$13))","v":0},{"$f":"+INDEX('Monthly Cash Flows'!$B17:$EC17,MATCH('Monthly CF'!DD$6,'Monthly Cash Flows'!$B$13:$EC$13))","v":0},{"$f":"+INDEX('Monthly Cash Flows'!$B17:$EC17,MATCH('Monthly CF'!DE$6,'Monthly Cash Flows'!$B$13:$EC$13))","v":0},{"$f":"+INDEX('Monthly Cash Flows'!$B17:$EC17,MATCH('Monthly CF'!DF$6,'Monthly Cash Flows'!$B$13:$EC$13))","v":0},{"$f":"+INDEX('Monthly Cash Flows'!$B17:$EC17,MATCH('Monthly CF'!DG$6,'Monthly Cash Flows'!$B$13:$EC$13))","v":0},{"$f":"+INDEX('Monthly Cash Flows'!$B17:$EC17,MATCH('Monthly CF'!DH$6,'Monthly Cash Flows'!$B$13:$EC$13))","v":0},{"$f":"+INDEX('Monthly Cash Flows'!$B17:$EC17,MATCH('Monthly CF'!DI$6,'Monthly Cash Flows'!$B$13:$EC$13))","v":0},{"$f":"+INDEX('Monthly Cash Flows'!$B17:$EC17,MATCH('Monthly CF'!DJ$6,'Monthly Cash Flows'!$B$13:$EC$13))","v":0},{"$f":"+INDEX('Monthly Cash Flows'!$B17:$EC17,MATCH('Monthly CF'!DK$6,'Monthly Cash Flows'!$B$13:$EC$13))","v":0},{"$f":"+INDEX('Monthly Cash Flows'!$B17:$EC17,MATCH('Monthly CF'!DL$6,'Monthly Cash Flows'!$B$13:$EC$13))","v":0},{"$f":"+INDEX('Monthly Cash Flows'!$B17:$EC17,MATCH('Monthly CF'!DM$6,'Monthly Cash Flows'!$B$13:$EC$13))","v":0},{"$f":"+INDEX('Monthly Cash Flows'!$B17:$EC17,MATCH('Monthly CF'!DN$6,'Monthly Cash Flows'!$B$13:$EC$13))","v":0},{"$f":"+INDEX('Monthly Cash Flows'!$B17:$EC17,MATCH('Monthly CF'!DO$6,'Monthly Cash Flows'!$B$13:$EC$13))","v":0},{"$f":"+INDEX('Monthly Cash Flows'!$B17:$EC17,MATCH('Monthly CF'!DP$6,'Monthly Cash Flows'!$B$13:$EC$13))","v":0},{"$f":"+INDEX('Monthly Cash Flows'!$B17:$EC17,MATCH('Monthly CF'!DQ$6,'Monthly Cash Flows'!$B$13:$EC$13))","v":0},{"$f":"+INDEX('Monthly Cash Flows'!$B17:$EC17,MATCH('Monthly CF'!DR$6,'Monthly Cash Flows'!$B$13:$EC$13))","v":0},{"$f":"+INDEX('Monthly Cash Flows'!$B17:$EC17,MATCH('Monthly CF'!DS$6,'Monthly Cash Flows'!$B$13:$EC$13))","v":0},{"$f":"+INDEX('Monthly Cash Flows'!$B17:$EC17,MATCH('Monthly CF'!DT$6,'Monthly Cash Flows'!$B$13:$EC$13))","v":0},{"$f":"+INDEX('Monthly Cash Flows'!$B17:$EC17,MATCH('Monthly CF'!DU$6,'Monthly Cash Flows'!$B$13:$EC$13))","v":0},{"$f":"+INDEX('Monthly Cash Flows'!$B17:$EC17,MATCH('Monthly CF'!DV$6,'Monthly Cash Flows'!$B$13:$EC$13))","v":0},{"$f":"+INDEX('Monthly Cash Flows'!$B17:$EC17,MATCH('Monthly CF'!DW$6,'Monthly Cash Flows'!$B$13:$EC$13))","v":0},{"$f":"+INDEX('Monthly Cash Flows'!$B17:$EC17,MATCH('Monthly CF'!DX$6,'Monthly Cash Flows'!$B$13:$EC$13))","v":0},{"$f":"+INDEX('Monthly Cash Flows'!$B17:$EC17,MATCH('Monthly CF'!DY$6,'Monthly Cash Flows'!$B$13:$EC$13))","v":0},{"$f":"+INDEX('Monthly Cash Flows'!$B17:$EC17,MATCH('Monthly CF'!DZ$6,'Monthly Cash Flows'!$B$13:$EC$13))","v":0},{"$f":"+INDEX('Monthly Cash Flows'!$B17:$EC17,MATCH('Monthly CF'!EA$6,'Monthly Cash Flows'!$B$13:$EC$13))","v":0},{"$f":"+INDEX('Monthly Cash Flows'!$B17:$EC17,MATCH('Monthly CF'!EB$6,'Monthly Cash Flows'!$B$13:$EC$13))","v":0},{"$f":"+INDEX('Monthly Cash Flows'!$B17:$EC17,MATCH('Monthly CF'!EC$6,'Monthly Cash Flows'!$B$13:$EC$13))","v":0},{"$f":"+INDEX('Monthly Cash Flows'!$B17:$EC17,MATCH('Monthly CF'!ED$6,'Monthly Cash Flows'!$B$13:$EC$13))","v":0},{"$f":"+INDEX('Monthly Cash Flows'!$B17:$EC17,MATCH('Monthly CF'!EE$6,'Monthly Cash Flows'!$B$13:$EC$13))","v":0},{"$f":"+INDEX('Monthly Cash Flows'!$B17:$EC17,MATCH('Monthly CF'!EF$6,'Monthly Cash Flows'!$B$13:$EC$13))","v":0},{"$f":"+INDEX('Monthly Cash Flows'!$B17:$EC17,MATCH('Monthly CF'!EG$6,'Monthly Cash Flows'!$B$13:$EC$13))","v":0}]
[]
[null,"  Scheduled Base Rental Revenue",null,null,null,{"$f":"+SUM(F10:F12)","v":80144.15833333334},{"$f":"+SUM(G10:G12)","v":80144.15833333334},80144.15833333334,82469.15833333334,82469.15833333334,82469.15833333334,82469.15833333334,83760.824999999997,83760.824999999997,83969.15833333334,84989.991666666683,89785.641666666663,90039.891666666663,90039.891666666663,90463.558333333334,91755.224999999991,97269.224999999991,97269.224999999991,97269.224999999991,98819.224999999991,98819.224999999991,98819.224999999991,98819.224999999991,99832.558333333334,99832.558333333334,99832.558333333334,99832.558333333334,99965.891666666663,99965.891666666663,99965.891666666663,99965.891666666663,100226.22499999999,100226.22499999999,100226.22499999999,100226.22499999999,100226.22499999999,100226.22499999999,100226.22499999999,100226.22499999999,100226.22499999999,100226.22499999999,100226.22499999999,100226.22499999999,100226.22499999999,100226.22499999999,100226.22499999999,100226.22499999999,100226.22499999999,101142.89166666668,101142.89166666668,101142.89166666668,101142.89166666668,101142.89166666668,101142.89166666668,101142.89166666668,101142.89166666668,101142.89166666668,101142.89166666668,101142.89166666668,101142.89166666668,101892.89166666668,101892.89166666668,101892.89166666668,101892.89166666668,101892.89166666668,{"$f":"+SUM(BS10:BS12)","v":101892.89166666668},101892.89166666668,101892.89166666668,101892.89166666668,102184.55833333335,103654.55833333335,103654.55833333335,103987.55833333335,103987.55833333335,103987.55833333335,103987.55833333335,103987.55833333335,103987.55833333335,103987.55833333335,103987.55833333335,103987.55833333335,103987.55833333335,103987.55833333335,103987.55833333335,103987.55833333335,103987.55833333335,103987.55833333335,103987.55833333335,103987.55833333335,103987.55833333335,103987.55833333335,103987.55833333335,103987.55833333335,103987.55833333335,103987.55833333335,103987.55833333335,103987.55833333335,103987.55833333335,103987.55833333335,103987.55833333335,103987.55833333335,103987.55833333335,103987.55833333335,103987.55833333335,103987.55833333335,103987.55833333335,103987.55833333335,103987.55833333335,104904.22500000002,104904.22500000002,104904.22500000002,104904.22500000002,104904.22500000002,104904.22500000002,104904.22500000002,104904.22500000002,104904.22500000002,104904.22500000002,104904.22500000002,104904.22500000002,104904.22500000002,104904.22500000002,104904.22500000002,104904.22500000002,104904.22500000002,104904.22500000002,104904.22500000002,104904.22500000002,104904.22500000002,{"$f":"+SUM(EE10:EE12)","v":104904.22500000002},104904.22500000002,104904.22500000002]
[null,{"$f":"'Monthly Cash Flows'!A39","v":"  Total Reimbursement Revenue"},null,null,null,{"$f":"+INDEX('Monthly Cash Flows'!$B39:$EC39,MATCH('Monthly CF'!F$6,'Monthly Cash Flows'!$B$13:$EC$13))","v":28780.616645134069},{"$f":"+INDEX('Monthly Cash Flows'!$B39:$EC39,MATCH('Monthly CF'!G$6,'Monthly Cash Flows'!$B$13:$EC$13))","v":28780.616645134069},{"$f":"+INDEX('Monthly Cash Flows'!$B39:$EC39,MATCH('Monthly CF'!H$6,'Monthly Cash Flows'!$B$13:$EC$13))","v":28780.616645134069},{"$f":"+INDEX('Monthly Cash Flows'!$B39:$EC39,MATCH('Monthly CF'!I$6,'Monthly Cash Flows'!$B$13:$EC$13))","v":29317.36816779603},{"$f":"+INDEX('Monthly Cash Flows'!$B39:$EC39,MATCH('Monthly CF'!J$6,'Monthly Cash Flows'!$B$13:$EC$13))","v":29317.36816779603},{"$f":"+INDEX('Monthly Cash Flows'!$B39:$EC39,MATCH('Monthly CF'!K$6,'Monthly Cash Flows'!$B$13:$EC$13))","v":29317.36816779603},{"$f":"+INDEX('Monthly Cash Flows'!$B39:$EC39,MATCH('Monthly CF'!L$6,'Monthly Cash Flows'!$B$13:$EC$13))","v":29317.36816779603},{"$f":"+INDEX('Monthly Cash Flows'!$B39:$EC39,MATCH('Monthly CF'!M$6,'Monthly Cash Flows'!$B$13:$EC$13))","v":29615.563458163782},{"$f":"+INDEX('Monthly Cash Flows'!$B39:$EC39,MATCH('Monthly CF'!N$6,'Monthly Cash Flows'!$B$13:$EC$13))","v":29615.563458163782},{"$f":"+INDEX('Monthly Cash Flows'!$B39:$EC39,MATCH('Monthly CF'!O$6,'Monthly Cash Flows'!$B$13:$EC$13))","v":29615.563458163782},{"$f":"+INDEX('Monthly Cash Flows'!$B39:$EC39,MATCH('Monthly CF'!P$6,'Monthly Cash Flows'!$B$13:$EC$13))","v":29615.563458163782},{"$f":"+INDEX('Monthly Cash Flows'!$B39:$EC39,MATCH('Monthly CF'!Q$6,'Monthly Cash Flows'!$B$13:$EC$13))","v":31700.985384320171},{"$f":"+INDEX('Monthly Cash Flows'!$B39:$EC39,MATCH('Monthly CF'!R$6,'Monthly Cash Flows'!$B$13:$EC$13))","v":31700.985384320171},{"$f":"+INDEX('Monthly Cash Flows'!$B39:$EC39,MATCH('Monthly CF'!S$6,'Monthly Cash Flows'!$B$13:$EC$13))","v":31700.985384320171},{"$f":"+INDEX('Monthly Cash Flows'!$B39:$EC39,MATCH('Monthly CF'!T$6,'Monthly Cash Flows'!$B$13:$EC$13))","v":31700.985384320171},{"$f":"+INDEX('Monthly Cash Flows'!$B39:$EC39,MATCH('Monthly CF'!U$6,'Monthly Cash Flows'!$B$13:$EC$13))","v":32007.227756362368},{"$f":"+INDEX('Monthly Cash Flows'!$B39:$EC39,MATCH('Monthly CF'!V$6,'Monthly Cash Flows'!$B$13:$EC$13))","v":32680.960974855207},{"$f":"+INDEX('Monthly Cash Flows'!$B39:$EC39,MATCH('Monthly CF'!W$6,'Monthly Cash Flows'!$B$13:$EC$13))","v":32680.960974855207},{"$f":"+INDEX('Monthly Cash Flows'!$B39:$EC39,MATCH('Monthly CF'!X$6,'Monthly Cash Flows'!$B$13:$EC$13))","v":32680.960974855207},{"$f":"+INDEX('Monthly Cash Flows'!$B39:$EC39,MATCH('Monthly CF'!Y$6,'Monthly Cash Flows'!$B$13:$EC$13))","v":32680.960974855207},{"$f":"+INDEX('Monthly Cash Flows'!$B39:$EC39,MATCH('Monthly CF'!Z$6,'Monthly Cash Flows'!$B$13:$EC$13))","v":32680.960974855207},{"$f":"+INDEX('Monthly Cash Flows'!$B39:$EC39,MATCH('Monthly CF'!AA$6,'Monthly Cash Flows'!$B$13:$EC$13))","v":32680.960974855207},{"$f":"+INDEX('Monthly Cash Flows'!$B39:$EC39,MATCH('Monthly CF'!AB$6,'Monthly Cash Flows'!$B$13:$EC$13))","v":32680.960974855207},{"$f":"+INDEX('Monthly Cash Flows'!$B39:$EC39,MATCH('Monthly CF'!AC$6,'Monthly Cash Flows'!$B$13:$EC$13))","v":33565.475913864357},{"$f":"+INDEX('Monthly Cash Flows'!$B39:$EC39,MATCH('Monthly CF'!AD$6,'Monthly Cash Flows'!$B$13:$EC$13))","v":33565.475913864357},{"$f":"+INDEX('Monthly Cash Flows'!$B39:$EC39,MATCH('Monthly CF'!AE$6,'Monthly Cash Flows'!$B$13:$EC$13))","v":33565.475913864357},{"$f":"+INDEX('Monthly Cash Flows'!$B39:$EC39,MATCH('Monthly CF'!AF$6,'Monthly Cash Flows'!$B$13:$EC$13))","v":33565.475913864357},{"$f":"+INDEX('Monthly Cash Flows'!$B39:$EC39,MATCH('Monthly CF'!AG$6,'Monthly Cash Flows'!$B$13:$EC$13))","v":33565.475913864357},{"$f":"+INDEX('Monthly Cash Flows'!$B39:$EC39,MATCH('Monthly CF'!AH$6,'Monthly Cash Flows'!$B$13:$EC$13))","v":33565.475913864357},{"$f":"+INDEX('Monthly Cash Flows'!$B39:$EC39,MATCH('Monthly CF'!AI$6,'Monthly Cash Flows'!$B$13:$EC$13))","v":33565.475913864357},{"$f":"+INDEX('Monthly Cash Flows'!$B39:$EC39,MATCH('Monthly CF'!AJ$6,'Monthly Cash Flows'!$B$13:$EC$13))","v":33565.475913864357},{"$f":"+INDEX('Monthly Cash Flows'!$B39:$EC39,MATCH('Monthly CF'!AK$6,'Monthly Cash Flows'!$B$13:$EC$13))","v":33565.475913864357},{"$f":"+INDEX('Monthly Cash Flows'!$B39:$EC39,MATCH('Monthly CF'!AL$6,'Monthly Cash Flows'!$B$13:$EC$13))","v":33565.475913864357},{"$f":"+INDEX('Monthly Cash Flows'!$B39:$EC39,MATCH('Monthly CF'!AM$6,'Monthly Cash Flows'!$B$13:$EC$13))","v":33565.475913864357},{"$f":"+INDEX('Monthly Cash Flows'!$B39:$EC39,MATCH('Monthly CF'!AN$6,'Monthly Cash Flows'!$B$13:$EC$13))","v":33565.475913864357},{"$f":"+INDEX('Monthly Cash Flows'!$B39:$EC39,MATCH('Monthly CF'!AO$6,'Monthly Cash Flows'!$B$13:$EC$13))","v":34476.526301043777},{"$f":"+INDEX('Monthly Cash Flows'!$B39:$EC39,MATCH('Monthly CF'!AP$6,'Monthly Cash Flows'!$B$13:$EC$13))","v":34476.526301043777},{"$f":"+INDEX('Monthly Cash Flows'!$B39:$EC39,MATCH('Monthly CF'!AQ$6,'Monthly Cash Flows'!$B$13:$EC$13))","v":34476.526301043777},{"$f":"+INDEX('Monthly Cash Flows'!$B39:$EC39,MATCH('Monthly CF'!AR$6,'Monthly Cash Flows'!$B$13:$EC$13))","v":34476.526301043777},{"$f":"+INDEX('Monthly Cash Flows'!$B39:$EC39,MATCH('Monthly CF'!AS$6,'Monthly Cash Flows'!$B$13:$EC$13))","v":34476.526301043777},{"$f":"+INDEX('Monthly Cash Flows'!$B39:$EC39,MATCH('Monthly CF'!AT$6,'Monthly Cash Flows'!$B$13:$EC$13))","v":34476.526301043777},{"$f":"+INDEX('Monthly Cash Flows'!$B39:$EC39,MATCH('Monthly CF'!AU$6,'Monthly Cash Flows'!$B$13:$EC$13))","v":34476.526301043777},{"$f":"+INDEX('Monthly Cash Flows'!$B39:$EC39,MATCH('Monthly CF'!AV$6,'Monthly Cash Flows'!$B$13:$EC$13))","v":34476.526301043777},{"$f":"+INDEX('Monthly Cash Flows'!$B39:$EC39,MATCH('Monthly CF'!AW$6,'Monthly Cash Flows'!$B$13:$EC$13))","v":34476.526301043777},{"$f":"+INDEX('Monthly Cash Flows'!$B39:$EC39,MATCH('Monthly CF'!AX$6,'Monthly Cash Flows'!$B$13:$EC$13))","v":34476.526301043777},{"$f":"+INDEX('Monthly Cash Flows'!$B39:$EC39,MATCH('Monthly CF'!AY$6,'Monthly Cash Flows'!$B$13:$EC$13))","v":34476.526301043777},{"$f":"+INDEX('Monthly Cash Flows'!$B39:$EC39,MATCH('Monthly CF'!AZ$6,'Monthly Cash Flows'!$B$13:$EC$13))","v":34476.526301043777},{"$f":"+INDEX('Monthly Cash Flows'!$B39:$EC39,MATCH('Monthly CF'!BA$6,'Monthly Cash Flows'!$B$13:$EC$13))","v":35414.908199838588},{"$f":"+INDEX('Monthly Cash Flows'!$B39:$EC39,MATCH('Monthly CF'!BB$6,'Monthly Cash Flows'!$B$13:$EC$13))","v":35414.908199838588},{"$f":"+INDEX('Monthly Cash Flows'!$B39:$EC39,MATCH('Monthly CF'!BC$6,'Monthly Cash Flows'!$B$13:$EC$13))","v":35414.908199838588},{"$f":"+INDEX('Monthly Cash Flows'!$B39:$EC39,MATCH('Monthly CF'!BD$6,'Monthly Cash Flows'!$B$13:$EC$13))","v":35414.908199838588},{"$f":"+INDEX('Monthly Cash Flows'!$B39:$EC39,MATCH('Monthly CF'!BE$6,'Monthly Cash Flows'!$B$13:$EC$13))","v":35414.908199838588},{"$f":"+INDEX('Monthly Cash Flows'!$B39:$EC39,MATCH('Monthly CF'!BF$6,'Monthly Cash Flows'!$B$13:$EC$13))","v":35414.908199838588},{"$f":"+INDEX('Monthly Cash Flows'!$B39:$EC39,MATCH('Monthly CF'!BG$6,'Monthly Cash Flows'!$B$13:$EC$13))","v":35414.908199838588},{"$f":"+INDEX('Monthly Cash Flows'!$B39:$EC39,MATCH('Monthly CF'!BH$6,'Monthly Cash Flows'!$B$13:$EC$13))","v":35414.908199838588},{"$f":"+INDEX('Monthly Cash Flows'!$B39:$EC39,MATCH('Monthly CF'!BI$6,'Monthly Cash Flows'!$B$13:$EC$13))","v":35414.908199838588},{"$f":"+INDEX('Monthly Cash Flows'!$B39:$EC39,MATCH('Monthly CF'!BJ$6,'Monthly Cash Flows'!$B$13:$EC$13))","v":35414.908199838588},{"$f":"+INDEX('Monthly Cash Flows'!$B39:$EC39,MATCH('Monthly CF'!BK$6,'Monthly Cash Flows'!$B$13:$EC$13))","v":35414.908199838588},{"$f":"+INDEX('Monthly Cash Flows'!$B39:$EC39,MATCH('Monthly CF'!BL$6,'Monthly Cash Flows'!$B$13:$EC$13))","v":35414.908199838588},{"$f":"+INDEX('Monthly Cash Flows'!$B39:$EC39,MATCH('Monthly CF'!BM$6,'Monthly Cash Flows'!$B$13:$EC$13))","v":36381.441555597237},{"$f":"+INDEX('Monthly Cash Flows'!$B39:$EC39,MATCH('Monthly CF'!BN$6,'Monthly Cash Flows'!$B$13:$EC$13))","v":36381.441555597237},{"$f":"+INDEX('Monthly Cash Flows'!$B39:$EC39,MATCH('Monthly CF'!BO$6,'Monthly Cash Flows'!$B$13:$EC$13))","v":36381.441555597237},{"$f":"+INDEX('Monthly Cash Flows'!$B39:$EC39,MATCH('Monthly CF'!BP$6,'Monthly Cash Flows'!$B$13:$EC$13))","v":36381.441555597237},{"$f":"+INDEX('Monthly Cash Flows'!$B39:$EC39,MATCH('Monthly CF'!BQ$6,'Monthly Cash Flows'!$B$13:$EC$13))","v":36381.441555597237},{"$f":"+INDEX('Monthly Cash Flows'!$B39:$EC39,MATCH('Monthly CF'!BR$6,'Monthly Cash Flows'!$B$13:$EC$13))","v":36381.441555597237},{"$f":"+INDEX('Monthly Cash Flows'!$B39:$EC39,MATCH('Monthly CF'!BS$6,'Monthly Cash Flows'!$B$13:$EC$13))","v":36381.441555597237},{"$f":"+INDEX('Monthly Cash Flows'!$B39:$EC39,MATCH('Monthly CF'!BT$6,'Monthly Cash Flows'!$B$13:$EC$13))","v":36381.441555597237},{"$f":"+INDEX('Monthly Cash Flows'!$B39:$EC39,MATCH('Monthly CF'!BU$6,'Monthly Cash Flows'!$B$13:$EC$13))","v":36381.441555597237},{"$f":"+INDEX('Monthly Cash Flows'!$B39:$EC39,MATCH('Monthly CF'!BV$6,'Monthly Cash Flows'!$B$13:$EC$13))","v":36381.441555597237},{"$f":"+INDEX('Monthly Cash Flows'!$B39:$EC39,MATCH('Monthly CF'!BW$6,'Monthly Cash Flows'!$B$13:$EC$13))","v":36381.441555597237},{"$f":"+INDEX('Monthly Cash Flows'!$B39:$EC39,MATCH('Monthly CF'!BX$6,'Monthly Cash Flows'!$B$13:$EC$13))","v":36381.441555597237},{"$f":"+INDEX('Monthly Cash Flows'!$B39:$EC39,MATCH('Monthly CF'!BY$6,'Monthly Cash Flows'!$B$13:$EC$13))","v":37376.97091202865},{"$f":"+INDEX('Monthly Cash Flows'!$B39:$EC39,MATCH('Monthly CF'!BZ$6,'Monthly Cash Flows'!$B$13:$EC$13))","v":37376.97091202865},{"$f":"+INDEX('Monthly Cash Flows'!$B39:$EC39,MATCH('Monthly CF'!CA$6,'Monthly Cash Flows'!$B$13:$EC$13))","v":37376.97091202865},{"$f":"+INDEX('Monthly Cash Flows'!$B39:$EC39,MATCH('Monthly CF'!CB$6,'Monthly Cash Flows'!$B$13:$EC$13))","v":37376.97091202865},{"$f":"+INDEX('Monthly Cash Flows'!$B39:$EC39,MATCH('Monthly CF'!CC$6,'Monthly Cash Flows'!$B$13:$EC$13))","v":37376.97091202865},{"$f":"+INDEX('Monthly Cash Flows'!$B39:$EC39,MATCH('Monthly CF'!CD$6,'Monthly Cash Flows'!$B$13:$EC$13))","v":37376.97091202865},{"$f":"+INDEX('Monthly Cash Flows'!$B39:$EC39,MATCH('Monthly CF'!CE$6,'Monthly Cash Flows'!$B$13:$EC$13))","v":37376.97091202865},{"$f":"+INDEX('Monthly Cash Flows'!$B39:$EC39,MATCH('Monthly CF'!CF$6,'Monthly Cash Flows'!$B$13:$EC$13))","v":37376.97091202865},{"$f":"+INDEX('Monthly Cash Flows'!$B39:$EC39,MATCH('Monthly CF'!CG$6,'Monthly Cash Flows'!$B$13:$EC$13))","v":37376.97091202865},{"$f":"+INDEX('Monthly Cash Flows'!$B39:$EC39,MATCH('Monthly CF'!CH$6,'Monthly Cash Flows'!$B$13:$EC$13))","v":37376.97091202865},{"$f":"+INDEX('Monthly Cash Flows'!$B39:$EC39,MATCH('Monthly CF'!CI$6,'Monthly Cash Flows'!$B$13:$EC$13))","v":37376.97091202865},{"$f":"+INDEX('Monthly Cash Flows'!$B39:$EC39,MATCH('Monthly CF'!CJ$6,'Monthly Cash Flows'!$B$13:$EC$13))","v":37376.97091202865},{"$f":"+INDEX('Monthly Cash Flows'!$B39:$EC39,MATCH('Monthly CF'!CK$6,'Monthly Cash Flows'!$B$13:$EC$13))","v":38402.366149153},{"$f":"+INDEX('Monthly Cash Flows'!$B39:$EC39,MATCH('Monthly CF'!CL$6,'Monthly Cash Flows'!$B$13:$EC$13))","v":38402.366149153},{"$f":"+INDEX('Monthly Cash Flows'!$B39:$EC39,MATCH('Monthly CF'!CM$6,'Monthly Cash Flows'!$B$13:$EC$13))","v":38402.366149153},{"$f":"+INDEX('Monthly Cash Flows'!$B39:$EC39,MATCH('Monthly CF'!CN$6,'Monthly Cash Flows'!$B$13:$EC$13))","v":38402.366149153},{"$f":"+INDEX('Monthly Cash Flows'!$B39:$EC39,MATCH('Monthly CF'!CO$6,'Monthly Cash Flows'!$B$13:$EC$13))","v":38402.366149153},{"$f":"+INDEX('Monthly Cash Flows'!$B39:$EC39,MATCH('Monthly CF'!CP$6,'Monthly Cash Flows'!$B$13:$EC$13))","v":38402.366149153},{"$f":"+INDEX('Monthly Cash Flows'!$B39:$EC39,MATCH('Monthly CF'!CQ$6,'Monthly Cash Flows'!$B$13:$EC$13))","v":38402.366149153},{"$f":"+INDEX('Monthly Cash Flows'!$B39:$EC39,MATCH('Monthly CF'!CR$6,'Monthly Cash Flows'!$B$13:$EC$13))","v":38402.366149153},{"$f":"+INDEX('Monthly Cash Flows'!$B39:$EC39,MATCH('Monthly CF'!CS$6,'Monthly Cash Flows'!$B$13:$EC$13))","v":38402.366149153},{"$f":"+INDEX('Monthly Cash Flows'!$B39:$EC39,MATCH('Monthly CF'!CT$6,'Monthly Cash Flows'!$B$13:$EC$13))","v":38402.366149153},{"$f":"+INDEX('Monthly Cash Flows'!$B39:$EC39,MATCH('Monthly CF'!CU$6,'Monthly Cash Flows'!$B$13:$EC$13))","v":38402.366149153},{"$f":"+INDEX('Monthly Cash Flows'!$B39:$EC39,MATCH('Monthly CF'!CV$6,'Monthly Cash Flows'!$B$13:$EC$13))","v":38402.366149153},{"$f":"+INDEX('Monthly Cash Flows'!$B39:$EC39,MATCH('Monthly CF'!CW$6,'Monthly Cash Flows'!$B$13:$EC$13))","v":39458.523243391086},{"$f":"+INDEX('Monthly Cash Flows'!$B39:$EC39,MATCH('Monthly CF'!CX$6,'Monthly Cash Flows'!$B$13:$EC$13))","v":39458.523243391086},{"$f":"+INDEX('Monthly Cash Flows'!$B39:$EC39,MATCH('Monthly CF'!CY$6,'Monthly Cash Flows'!$B$13:$EC$13))","v":39458.523243391086},{"$f":"+INDEX('Monthly Cash Flows'!$B39:$EC39,MATCH('Monthly CF'!CZ$6,'Monthly Cash Flows'!$B$13:$EC$13))","v":39458.523243391086},{"$f":"+INDEX('Monthly Cash Flows'!$B39:$EC39,MATCH('Monthly CF'!DA$6,'Monthly Cash Flows'!$B$13:$EC$13))","v":39458.523243391086},{"$f":"+INDEX('Monthly Cash Flows'!$B39:$EC39,MATCH('Monthly CF'!DB$6,'Monthly Cash Flows'!$B$13:$EC$13))","v":39458.523243391086},{"$f":"+INDEX('Monthly Cash Flows'!$B39:$EC39,MATCH('Monthly CF'!DC$6,'Monthly Cash Flows'!$B$13:$EC$13))","v":39458.523243391086},{"$f":"+INDEX('Monthly Cash Flows'!$B39:$EC39,MATCH('Monthly CF'!DD$6,'Monthly Cash Flows'!$B$13:$EC$13))","v":39458.523243391086},{"$f":"+INDEX('Monthly Cash Flows'!$B39:$EC39,MATCH('Monthly CF'!DE$6,'Monthly Cash Flows'!$B$13:$EC$13))","v":39458.523243391086},{"$f":"+INDEX('Monthly Cash Flows'!$B39:$EC39,MATCH('Monthly CF'!DF$6,'Monthly Cash Flows'!$B$13:$EC$13))","v":39458.523243391086},{"$f":"+INDEX('Monthly Cash Flows'!$B39:$EC39,MATCH('Monthly CF'!DG$6,'Monthly Cash Flows'!$B$13:$EC$13))","v":39458.523243391086},{"$f":"+INDEX('Monthly Cash Flows'!$B39:$EC39,MATCH('Monthly CF'!DH$6,'Monthly Cash Flows'!$B$13:$EC$13))","v":39458.523243391086},{"$f":"+INDEX('Monthly Cash Flows'!$B39:$EC39,MATCH('Monthly CF'!DI$6,'Monthly Cash Flows'!$B$13:$EC$13))","v":40546.365050456297},{"$f":"+INDEX('Monthly Cash Flows'!$B39:$EC39,MATCH('Monthly CF'!DJ$6,'Monthly Cash Flows'!$B$13:$EC$13))","v":40546.365050456297},{"$f":"+INDEX('Monthly Cash Flows'!$B39:$EC39,MATCH('Monthly CF'!DK$6,'Monthly Cash Flows'!$B$13:$EC$13))","v":40546.365050456297},{"$f":"+INDEX('Monthly Cash Flows'!$B39:$EC39,MATCH('Monthly CF'!DL$6,'Monthly Cash Flows'!$B$13:$EC$13))","v":40546.365050456297},{"$f":"+INDEX('Monthly Cash Flows'!$B39:$EC39,MATCH('Monthly CF'!DM$6,'Monthly Cash Flows'!$B$13:$EC$13))","v":40546.365050456297},{"$f":"+INDEX('Monthly Cash Flows'!$B39:$EC39,MATCH('Monthly CF'!DN$6,'Monthly Cash Flows'!$B$13:$EC$13))","v":40546.365050456297},{"$f":"+INDEX('Monthly Cash Flows'!$B39:$EC39,MATCH('Monthly CF'!DO$6,'Monthly Cash Flows'!$B$13:$EC$13))","v":40546.365050456297},{"$f":"+INDEX('Monthly Cash Flows'!$B39:$EC39,MATCH('Monthly CF'!DP$6,'Monthly Cash Flows'!$B$13:$EC$13))","v":40546.365050456297},{"$f":"+INDEX('Monthly Cash Flows'!$B39:$EC39,MATCH('Monthly CF'!DQ$6,'Monthly Cash Flows'!$B$13:$EC$13))","v":40546.365050456297},{"$f":"+INDEX('Monthly Cash Flows'!$B39:$EC39,MATCH('Monthly CF'!DR$6,'Monthly Cash Flows'!$B$13:$EC$13))","v":40546.365050456297},{"$f":"+INDEX('Monthly Cash Flows'!$B39:$EC39,MATCH('Monthly CF'!DS$6,'Monthly Cash Flows'!$B$13:$EC$13))","v":40546.365050456297},{"$f":"+INDEX('Monthly Cash Flows'!$B39:$EC39,MATCH('Monthly CF'!DT$6,'Monthly Cash Flows'!$B$13:$EC$13))","v":40546.365050456297},{"$f":"+INDEX('Monthly Cash Flows'!$B39:$EC39,MATCH('Monthly CF'!DU$6,'Monthly Cash Flows'!$B$13:$EC$13))","v":41666.842111733495},{"$f":"+INDEX('Monthly Cash Flows'!$B39:$EC39,MATCH('Monthly CF'!DV$6,'Monthly Cash Flows'!$B$13:$EC$13))","v":41666.842111733495},{"$f":"+INDEX('Monthly Cash Flows'!$B39:$EC39,MATCH('Monthly CF'!DW$6,'Monthly Cash Flows'!$B$13:$EC$13))","v":41666.842111733495},{"$f":"+INDEX('Monthly Cash Flows'!$B39:$EC39,MATCH('Monthly CF'!DX$6,'Monthly Cash Flows'!$B$13:$EC$13))","v":41666.842111733495},{"$f":"+INDEX('Monthly Cash Flows'!$B39:$EC39,MATCH('Monthly CF'!DY$6,'Monthly Cash Flows'!$B$13:$EC$13))","v":41666.842111733495},{"$f":"+INDEX('Monthly Cash Flows'!$B39:$EC39,MATCH('Monthly CF'!DZ$6,'Monthly Cash Flows'!$B$13:$EC$13))","v":41666.842111733495},{"$f":"+INDEX('Monthly Cash Flows'!$B39:$EC39,MATCH('Monthly CF'!EA$6,'Monthly Cash Flows'!$B$13:$EC$13))","v":41666.842111733495},{"$f":"+INDEX('Monthly Cash Flows'!$B39:$EC39,MATCH('Monthly CF'!EB$6,'Monthly Cash Flows'!$B$13:$EC$13))","v":41666.842111733495},{"$f":"+INDEX('Monthly Cash Flows'!$B39:$EC39,MATCH('Monthly CF'!EC$6,'Monthly Cash Flows'!$B$13:$EC$13))","v":41666.842111733495},{"$f":"+INDEX('Monthly Cash Flows'!$B39:$EC39,MATCH('Monthly CF'!ED$6,'Monthly Cash Flows'!$B$13:$EC$13))","v":41666.842111733495},{"$f":"+INDEX('Monthly Cash Flows'!$B39:$EC39,MATCH('Monthly CF'!EE$6,'Monthly Cash Flows'!$B$13:$EC$13))","v":41666.842111733495},{"$f":"+INDEX('Monthly Cash Flows'!$B39:$EC39,MATCH('Monthly CF'!EF$6,'Monthly Cash Flows'!$B$13:$EC$13))","v":41666.842111733495},{"$f":"+INDEX('Monthly Cash Flows'!$B39:$EC39,MATCH('Monthly CF'!EG$6,'Monthly Cash Flows'!$B$13:$EC$13))","v":41666.842111733495}]
[]
[]
[]
[null,"Potential Gross Revenue",null,null,null,{"$f":"+SUM(F13:F16)","v":108924.77497846741},{"$f":"+SUM(G13:G16)","v":108924.77497846741},108924.77497846741,111786.52650112937,111786.52650112937,111786.52650112937,111786.52650112937,113376.38845816378,113376.38845816378,113584.72179149713,114605.55512483047,121486.62705098683,121740.87705098683,121740.87705098683,122164.54371765351,123762.45275636236,129950.18597485519,129950.18597485519,129950.18597485519,131500.18597485521,131500.18597485521,131500.18597485521,131500.18597485521,133398.03424719768,133398.03424719768,133398.03424719768,133398.03424719768,133531.36758053102,133531.36758053102,133531.36758053102,133531.36758053102,133791.70091386436,133791.70091386436,133791.70091386436,133791.70091386436,134702.75130104378,134702.75130104378,134702.75130104378,134702.75130104378,134702.75130104378,134702.75130104378,134702.75130104378,134702.75130104378,134702.75130104378,134702.75130104378,134702.75130104378,134702.75130104378,135641.13319983857,136557.79986650526,136557.79986650526,136557.79986650526,136557.79986650526,136557.79986650526,136557.79986650526,136557.79986650526,136557.79986650526,136557.79986650526,136557.79986650526,136557.79986650526,137524.3332222639,138274.3332222639,138274.3332222639,138274.3332222639,138274.3332222639,138274.3332222639,{"$f":"+SUM(BS13:BS16)","v":138274.3332222639},138274.3332222639,138274.3332222639,138274.3332222639,138565.99988893059,140035.99988893059,141031.52924536201,141364.52924536201,141364.52924536201,141364.52924536201,141364.52924536201,141364.52924536201,141364.52924536201,141364.52924536201,141364.52924536201,141364.52924536201,141364.52924536201,141364.52924536201,142389.92448248636,142389.92448248636,142389.92448248636,142389.92448248636,142389.92448248636,142389.92448248636,142389.92448248636,142389.92448248636,142389.92448248636,142389.92448248636,142389.92448248636,142389.92448248636,143446.08157672442,143446.08157672442,143446.08157672442,143446.08157672442,143446.08157672442,143446.08157672442,143446.08157672442,143446.08157672442,143446.08157672442,143446.08157672442,143446.08157672442,143446.08157672442,144533.92338378966,145450.59005045632,145450.59005045632,145450.59005045632,145450.59005045632,145450.59005045632,145450.59005045632,145450.59005045632,145450.59005045632,145450.59005045632,145450.59005045632,145450.59005045632,146571.06711173352,146571.06711173352,146571.06711173352,146571.06711173352,146571.06711173352,146571.06711173352,146571.06711173352,146571.06711173352,146571.06711173352,146571.06711173352,{"$f":"+SUM(EE13:EE16)","v":146571.06711173352},146571.06711173352,146571.06711173352]
[null,{"$f":"+'Monthly Cash Flows'!A43","v":"  General Vacancy"},null,null,null,{"$f":"+INDEX('Monthly Cash Flows'!$B43:$EC43,MATCH('Monthly CF'!F$6,'Monthly Cash Flows'!$B$13:$EC$13))","v":0},{"$f":"+INDEX('Monthly Cash Flows'!$B43:$EC43,MATCH('Monthly CF'!G$6,'Monthly Cash Flows'!$B$13:$EC$13))","v":0},{"$f":"+INDEX('Monthly Cash Flows'!$B43:$EC43,MATCH('Monthly CF'!H$6,'Monthly Cash Flows'!$B$13:$EC$13))","v":0},{"$f":"+INDEX('Monthly Cash Flows'!$B43:$EC43,MATCH('Monthly CF'!I$6,'Monthly Cash Flows'!$B$13:$EC$13))","v":0},{"$f":"+INDEX('Monthly Cash Flows'!$B43:$EC43,MATCH('Monthly CF'!J$6,'Monthly Cash Flows'!$B$13:$EC$13))","v":0},{"$f":"+INDEX('Monthly Cash Flows'!$B43:$EC43,MATCH('Monthly CF'!K$6,'Monthly Cash Flows'!$B$13:$EC$13))","v":0},{"$f":"+INDEX('Monthly Cash Flows'!$B43:$EC43,MATCH('Monthly CF'!L$6,'Monthly Cash Flows'!$B$13:$EC$13))","v":0},{"$f":"+INDEX('Monthly Cash Flows'!$B43:$EC43,MATCH('Monthly CF'!M$6,'Monthly Cash Flows'!$B$13:$EC$13))","v":0},{"$f":"+INDEX('Monthly Cash Flows'!$B43:$EC43,MATCH('Monthly CF'!N$6,'Monthly Cash Flows'!$B$13:$EC$13))","v":0},{"$f":"+INDEX('Monthly Cash Flows'!$B43:$EC43,MATCH('Monthly CF'!O$6,'Monthly Cash Flows'!$B$13:$EC$13))","v":0},{"$f":"+INDEX('Monthly Cash Flows'!$B43:$EC43,MATCH('Monthly CF'!P$6,'Monthly Cash Flows'!$B$13:$EC$13))","v":0},{"$f":"+INDEX('Monthly Cash Flows'!$B43:$EC43,MATCH('Monthly CF'!Q$6,'Monthly Cash Flows'!$B$13:$EC$13))","v":0},{"$f":"+INDEX('Monthly Cash Flows'!$B43:$EC43,MATCH('Monthly CF'!R$6,'Monthly Cash Flows'!$B$13:$EC$13))","v":0},{"$f":"+INDEX('Monthly Cash Flows'!$B43:$EC43,MATCH('Monthly CF'!S$6,'Monthly Cash Flows'!$B$13:$EC$13))","v":0},{"$f":"+INDEX('Monthly Cash Flows'!$B43:$EC43,MATCH('Monthly CF'!T$6,'Monthly Cash Flows'!$B$13:$EC$13))","v":0},{"$f":"+INDEX('Monthly Cash Flows'!$B43:$EC43,MATCH('Monthly CF'!U$6,'Monthly Cash Flows'!$B$13:$EC$13))","v":0},{"$f":"+INDEX('Monthly Cash Flows'!$B43:$EC43,MATCH('Monthly CF'!V$6,'Monthly Cash Flows'!$B$13:$EC$13))","v":0},{"$f":"+INDEX('Monthly Cash Flows'!$B43:$EC43,MATCH('Monthly CF'!W$6,'Monthly Cash Flows'!$B$13:$EC$13))","v":0},{"$f":"+INDEX('Monthly Cash Flows'!$B43:$EC43,MATCH('Monthly CF'!X$6,'Monthly Cash Flows'!$B$13:$EC$13))","v":0},{"$f":"+INDEX('Monthly Cash Flows'!$B43:$EC43,MATCH('Monthly CF'!Y$6,'Monthly Cash Flows'!$B$13:$EC$13))","v":0},{"$f":"+INDEX('Monthly Cash Flows'!$B43:$EC43,MATCH('Monthly CF'!Z$6,'Monthly Cash Flows'!$B$13:$EC$13))","v":0},{"$f":"+INDEX('Monthly Cash Flows'!$B43:$EC43,MATCH('Monthly CF'!AA$6,'Monthly Cash Flows'!$B$13:$EC$13))","v":0},{"$f":"+INDEX('Monthly Cash Flows'!$B43:$EC43,MATCH('Monthly CF'!AB$6,'Monthly Cash Flows'!$B$13:$EC$13))","v":0},{"$f":"+INDEX('Monthly Cash Flows'!$B43:$EC43,MATCH('Monthly CF'!AC$6,'Monthly Cash Flows'!$B$13:$EC$13))","v":0},{"$f":"+INDEX('Monthly Cash Flows'!$B43:$EC43,MATCH('Monthly CF'!AD$6,'Monthly Cash Flows'!$B$13:$EC$13))","v":0},{"$f":"+INDEX('Monthly Cash Flows'!$B43:$EC43,MATCH('Monthly CF'!AE$6,'Monthly Cash Flows'!$B$13:$EC$13))","v":0},{"$f":"+INDEX('Monthly Cash Flows'!$B43:$EC43,MATCH('Monthly CF'!AF$6,'Monthly Cash Flows'!$B$13:$EC$13))","v":0},{"$f":"+INDEX('Monthly Cash Flows'!$B43:$EC43,MATCH('Monthly CF'!AG$6,'Monthly Cash Flows'!$B$13:$EC$13))","v":0},{"$f":"+INDEX('Monthly Cash Flows'!$B43:$EC43,MATCH('Monthly CF'!AH$6,'Monthly Cash Flows'!$B$13:$EC$13))","v":0},{"$f":"+INDEX('Monthly Cash Flows'!$B43:$EC43,MATCH('Monthly CF'!AI$6,'Monthly Cash Flows'!$B$13:$EC$13))","v":0},{"$f":"+INDEX('Monthly Cash Flows'!$B43:$EC43,MATCH('Monthly CF'!AJ$6,'Monthly Cash Flows'!$B$13:$EC$13))","v":0},{"$f":"+INDEX('Monthly Cash Flows'!$B43:$EC43,MATCH('Monthly CF'!AK$6,'Monthly Cash Flows'!$B$13:$EC$13))","v":0},{"$f":"+INDEX('Monthly Cash Flows'!$B43:$EC43,MATCH('Monthly CF'!AL$6,'Monthly Cash Flows'!$B$13:$EC$13))","v":0},{"$f":"+INDEX('Monthly Cash Flows'!$B43:$EC43,MATCH('Monthly CF'!AM$6,'Monthly Cash Flows'!$B$13:$EC$13))","v":0},{"$f":"+INDEX('Monthly Cash Flows'!$B43:$EC43,MATCH('Monthly CF'!AN$6,'Monthly Cash Flows'!$B$13:$EC$13))","v":0},{"$f":"+INDEX('Monthly Cash Flows'!$B43:$EC43,MATCH('Monthly CF'!AO$6,'Monthly Cash Flows'!$B$13:$EC$13))","v":0},{"$f":"+INDEX('Monthly Cash Flows'!$B43:$EC43,MATCH('Monthly CF'!AP$6,'Monthly Cash Flows'!$B$13:$EC$13))","v":0},{"$f":"+INDEX('Monthly Cash Flows'!$B43:$EC43,MATCH('Monthly CF'!AQ$6,'Monthly Cash Flows'!$B$13:$EC$13))","v":0},{"$f":"+INDEX('Monthly Cash Flows'!$B43:$EC43,MATCH('Monthly CF'!AR$6,'Monthly Cash Flows'!$B$13:$EC$13))","v":0},{"$f":"+INDEX('Monthly Cash Flows'!$B43:$EC43,MATCH('Monthly CF'!AS$6,'Monthly Cash Flows'!$B$13:$EC$13))","v":0},{"$f":"+INDEX('Monthly Cash Flows'!$B43:$EC43,MATCH('Monthly CF'!AT$6,'Monthly Cash Flows'!$B$13:$EC$13))","v":0},{"$f":"+INDEX('Monthly Cash Flows'!$B43:$EC43,MATCH('Monthly CF'!AU$6,'Monthly Cash Flows'!$B$13:$EC$13))","v":0},{"$f":"+INDEX('Monthly Cash Flows'!$B43:$EC43,MATCH('Monthly CF'!AV$6,'Monthly Cash Flows'!$B$13:$EC$13))","v":0},{"$f":"+INDEX('Monthly Cash Flows'!$B43:$EC43,MATCH('Monthly CF'!AW$6,'Monthly Cash Flows'!$B$13:$EC$13))","v":0},{"$f":"+INDEX('Monthly Cash Flows'!$B43:$EC43,MATCH('Monthly CF'!AX$6,'Monthly Cash Flows'!$B$13:$EC$13))","v":0},{"$f":"+INDEX('Monthly Cash Flows'!$B43:$EC43,MATCH('Monthly CF'!AY$6,'Monthly Cash Flows'!$B$13:$EC$13))","v":0},{"$f":"+INDEX('Monthly Cash Flows'!$B43:$EC43,MATCH('Monthly CF'!AZ$6,'Monthly Cash Flows'!$B$13:$EC$13))","v":0},{"$f":"+INDEX('Monthly Cash Flows'!$B43:$EC43,MATCH('Monthly CF'!BA$6,'Monthly Cash Flows'!$B$13:$EC$13))","v":0},{"$f":"+INDEX('Monthly Cash Flows'!$B43:$EC43,MATCH('Monthly CF'!BB$6,'Monthly Cash Flows'!$B$13:$EC$13))","v":0},{"$f":"+INDEX('Monthly Cash Flows'!$B43:$EC43,MATCH('Monthly CF'!BC$6,'Monthly Cash Flows'!$B$13:$EC$13))","v":0},{"$f":"+INDEX('Monthly Cash Flows'!$B43:$EC43,MATCH('Monthly CF'!BD$6,'Monthly Cash Flows'!$B$13:$EC$13))","v":0},{"$f":"+INDEX('Monthly Cash Flows'!$B43:$EC43,MATCH('Monthly CF'!BE$6,'Monthly Cash Flows'!$B$13:$EC$13))","v":0},{"$f":"+INDEX('Monthly Cash Flows'!$B43:$EC43,MATCH('Monthly CF'!BF$6,'Monthly Cash Flows'!$B$13:$EC$13))","v":0},{"$f":"+INDEX('Monthly Cash Flows'!$B43:$EC43,MATCH('Monthly CF'!BG$6,'Monthly Cash Flows'!$B$13:$EC$13))","v":0},{"$f":"+INDEX('Monthly Cash Flows'!$B43:$EC43,MATCH('Monthly CF'!BH$6,'Monthly Cash Flows'!$B$13:$EC$13))","v":0},{"$f":"+INDEX('Monthly Cash Flows'!$B43:$EC43,MATCH('Monthly CF'!BI$6,'Monthly Cash Flows'!$B$13:$EC$13))","v":0},{"$f":"+INDEX('Monthly Cash Flows'!$B43:$EC43,MATCH('Monthly CF'!BJ$6,'Monthly Cash Flows'!$B$13:$EC$13))","v":0},{"$f":"+INDEX('Monthly Cash Flows'!$B43:$EC43,MATCH('Monthly CF'!BK$6,'Monthly Cash Flows'!$B$13:$EC$13))","v":0},{"$f":"+INDEX('Monthly Cash Flows'!$B43:$EC43,MATCH('Monthly CF'!BL$6,'Monthly Cash Flows'!$B$13:$EC$13))","v":0},{"$f":"+INDEX('Monthly Cash Flows'!$B43:$EC43,MATCH('Monthly CF'!BM$6,'Monthly Cash Flows'!$B$13:$EC$13))","v":0},{"$f":"+INDEX('Monthly Cash Flows'!$B43:$EC43,MATCH('Monthly CF'!BN$6,'Monthly Cash Flows'!$B$13:$EC$13))","v":0},{"$f":"+INDEX('Monthly Cash Flows'!$B43:$EC43,MATCH('Monthly CF'!BO$6,'Monthly Cash Flows'!$B$13:$EC$13))","v":0},{"$f":"+INDEX('Monthly Cash Flows'!$B43:$EC43,MATCH('Monthly CF'!BP$6,'Monthly Cash Flows'!$B$13:$EC$13))","v":0},{"$f":"+INDEX('Monthly Cash Flows'!$B43:$EC43,MATCH('Monthly CF'!BQ$6,'Monthly Cash Flows'!$B$13:$EC$13))","v":0},{"$f":"+INDEX('Monthly Cash Flows'!$B43:$EC43,MATCH('Monthly CF'!BR$6,'Monthly Cash Flows'!$B$13:$EC$13))","v":0},{"$f":"+INDEX('Monthly Cash Flows'!$B43:$EC43,MATCH('Monthly CF'!BS$6,'Monthly Cash Flows'!$B$13:$EC$13))","v":0},{"$f":"+INDEX('Monthly Cash Flows'!$B43:$EC43,MATCH('Monthly CF'!BT$6,'Monthly Cash Flows'!$B$13:$EC$13))","v":0},{"$f":"+INDEX('Monthly Cash Flows'!$B43:$EC43,MATCH('Monthly CF'!BU$6,'Monthly Cash Flows'!$B$13:$EC$13))","v":0},{"$f":"+INDEX('Monthly Cash Flows'!$B43:$EC43,MATCH('Monthly CF'!BV$6,'Monthly Cash Flows'!$B$13:$EC$13))","v":0},{"$f":"+INDEX('Monthly Cash Flows'!$B43:$EC43,MATCH('Monthly CF'!BW$6,'Monthly Cash Flows'!$B$13:$EC$13))","v":0},{"$f":"+INDEX('Monthly Cash Flows'!$B43:$EC43,MATCH('Monthly CF'!BX$6,'Monthly Cash Flows'!$B$13:$EC$13))","v":0},{"$f":"+INDEX('Monthly Cash Flows'!$B43:$EC43,MATCH('Monthly CF'!BY$6,'Monthly Cash Flows'!$B$13:$EC$13))","v":0},{"$f":"+INDEX('Monthly Cash Flows'!$B43:$EC43,MATCH('Monthly CF'!BZ$6,'Monthly Cash Flows'!$B$13:$EC$13))","v":0},{"$f":"+INDEX('Monthly Cash Flows'!$B43:$EC43,MATCH('Monthly CF'!CA$6,'Monthly Cash Flows'!$B$13:$EC$13))","v":0},{"$f":"+INDEX('Monthly Cash Flows'!$B43:$EC43,MATCH('Monthly CF'!CB$6,'Monthly Cash Flows'!$B$13:$EC$13))","v":0},{"$f":"+INDEX('Monthly Cash Flows'!$B43:$EC43,MATCH('Monthly CF'!CC$6,'Monthly Cash Flows'!$B$13:$EC$13))","v":0},{"$f":"+INDEX('Monthly Cash Flows'!$B43:$EC43,MATCH('Monthly CF'!CD$6,'Monthly Cash Flows'!$B$13:$EC$13))","v":0},{"$f":"+INDEX('Monthly Cash Flows'!$B43:$EC43,MATCH('Monthly CF'!CE$6,'Monthly Cash Flows'!$B$13:$EC$13))","v":0},{"$f":"+INDEX('Monthly Cash Flows'!$B43:$EC43,MATCH('Monthly CF'!CF$6,'Monthly Cash Flows'!$B$13:$EC$13))","v":0},{"$f":"+INDEX('Monthly Cash Flows'!$B43:$EC43,MATCH('Monthly CF'!CG$6,'Monthly Cash Flows'!$B$13:$EC$13))","v":0},{"$f":"+INDEX('Monthly Cash Flows'!$B43:$EC43,MATCH('Monthly CF'!CH$6,'Monthly Cash Flows'!$B$13:$EC$13))","v":0},{"$f":"+INDEX('Monthly Cash Flows'!$B43:$EC43,MATCH('Monthly CF'!CI$6,'Monthly Cash Flows'!$B$13:$EC$13))","v":0},{"$f":"+INDEX('Monthly Cash Flows'!$B43:$EC43,MATCH('Monthly CF'!CJ$6,'Monthly Cash Flows'!$B$13:$EC$13))","v":0},{"$f":"+INDEX('Monthly Cash Flows'!$B43:$EC43,MATCH('Monthly CF'!CK$6,'Monthly Cash Flows'!$B$13:$EC$13))","v":0},{"$f":"+INDEX('Monthly Cash Flows'!$B43:$EC43,MATCH('Monthly CF'!CL$6,'Monthly Cash Flows'!$B$13:$EC$13))","v":0},{"$f":"+INDEX('Monthly Cash Flows'!$B43:$EC43,MATCH('Monthly CF'!CM$6,'Monthly Cash Flows'!$B$13:$EC$13))","v":0},{"$f":"+INDEX('Monthly Cash Flows'!$B43:$EC43,MATCH('Monthly CF'!CN$6,'Monthly Cash Flows'!$B$13:$EC$13))","v":0},{"$f":"+INDEX('Monthly Cash Flows'!$B43:$EC43,MATCH('Monthly CF'!CO$6,'Monthly Cash Flows'!$B$13:$EC$13))","v":0},{"$f":"+INDEX('Monthly Cash Flows'!$B43:$EC43,MATCH('Monthly CF'!CP$6,'Monthly Cash Flows'!$B$13:$EC$13))","v":0},{"$f":"+INDEX('Monthly Cash Flows'!$B43:$EC43,MATCH('Monthly CF'!CQ$6,'Monthly Cash Flows'!$B$13:$EC$13))","v":0},{"$f":"+INDEX('Monthly Cash Flows'!$B43:$EC43,MATCH('Monthly CF'!CR$6,'Monthly Cash Flows'!$B$13:$EC$13))","v":0},{"$f":"+INDEX('Monthly Cash Flows'!$B43:$EC43,MATCH('Monthly CF'!CS$6,'Monthly Cash Flows'!$B$13:$EC$13))","v":0},{"$f":"+INDEX('Monthly Cash Flows'!$B43:$EC43,MATCH('Monthly CF'!CT$6,'Monthly Cash Flows'!$B$13:$EC$13))","v":0},{"$f":"+INDEX('Monthly Cash Flows'!$B43:$EC43,MATCH('Monthly CF'!CU$6,'Monthly Cash Flows'!$B$13:$EC$13))","v":0},{"$f":"+INDEX('Monthly Cash Flows'!$B43:$EC43,MATCH('Monthly CF'!CV$6,'Monthly Cash Flows'!$B$13:$EC$13))","v":0},{"$f":"+INDEX('Monthly Cash Flows'!$B43:$EC43,MATCH('Monthly CF'!CW$6,'Monthly Cash Flows'!$B$13:$EC$13))","v":0},{"$f":"+INDEX('Monthly Cash Flows'!$B43:$EC43,MATCH('Monthly CF'!CX$6,'Monthly Cash Flows'!$B$13:$EC$13))","v":0},{"$f":"+INDEX('Monthly Cash Flows'!$B43:$EC43,MATCH('Monthly CF'!CY$6,'Monthly Cash Flows'!$B$13:$EC$13))","v":0},{"$f":"+INDEX('Monthly Cash Flows'!$B43:$EC43,MATCH('Monthly CF'!CZ$6,'Monthly Cash Flows'!$B$13:$EC$13))","v":0},{"$f":"+INDEX('Monthly Cash Flows'!$B43:$EC43,MATCH('Monthly CF'!DA$6,'Monthly Cash Flows'!$B$13:$EC$13))","v":0},{"$f":"+INDEX('Monthly Cash Flows'!$B43:$EC43,MATCH('Monthly CF'!DB$6,'Monthly Cash Flows'!$B$13:$EC$13))","v":0},{"$f":"+INDEX('Monthly Cash Flows'!$B43:$EC43,MATCH('Monthly CF'!DC$6,'Monthly Cash Flows'!$B$13:$EC$13))","v":0},{"$f":"+INDEX('Monthly Cash Flows'!$B43:$EC43,MATCH('Monthly CF'!DD$6,'Monthly Cash Flows'!$B$13:$EC$13))","v":0},{"$f":"+INDEX('Monthly Cash Flows'!$B43:$EC43,MATCH('Monthly CF'!DE$6,'Monthly Cash Flows'!$B$13:$EC$13))","v":0},{"$f":"+INDEX('Monthly Cash Flows'!$B43:$EC43,MATCH('Monthly CF'!DF$6,'Monthly Cash Flows'!$B$13:$EC$13))","v":0},{"$f":"+INDEX('Monthly Cash Flows'!$B43:$EC43,MATCH('Monthly CF'!DG$6,'Monthly Cash Flows'!$B$13:$EC$13))","v":0},{"$f":"+INDEX('Monthly Cash Flows'!$B43:$EC43,MATCH('Monthly CF'!DH$6,'Monthly Cash Flows'!$B$13:$EC$13))","v":0},{"$f":"+INDEX('Monthly Cash Flows'!$B43:$EC43,MATCH('Monthly CF'!DI$6,'Monthly Cash Flows'!$B$13:$EC$13))","v":0},{"$f":"+INDEX('Monthly Cash Flows'!$B43:$EC43,MATCH('Monthly CF'!DJ$6,'Monthly Cash Flows'!$B$13:$EC$13))","v":0},{"$f":"+INDEX('Monthly Cash Flows'!$B43:$EC43,MATCH('Monthly CF'!DK$6,'Monthly Cash Flows'!$B$13:$EC$13))","v":0},{"$f":"+INDEX('Monthly Cash Flows'!$B43:$EC43,MATCH('Monthly CF'!DL$6,'Monthly Cash Flows'!$B$13:$EC$13))","v":0},{"$f":"+INDEX('Monthly Cash Flows'!$B43:$EC43,MATCH('Monthly CF'!DM$6,'Monthly Cash Flows'!$B$13:$EC$13))","v":0},{"$f":"+INDEX('Monthly Cash Flows'!$B43:$EC43,MATCH('Monthly CF'!DN$6,'Monthly Cash Flows'!$B$13:$EC$13))","v":0},{"$f":"+INDEX('Monthly Cash Flows'!$B43:$EC43,MATCH('Monthly CF'!DO$6,'Monthly Cash Flows'!$B$13:$EC$13))","v":0},{"$f":"+INDEX('Monthly Cash Flows'!$B43:$EC43,MATCH('Monthly CF'!DP$6,'Monthly Cash Flows'!$B$13:$EC$13))","v":0},{"$f":"+INDEX('Monthly Cash Flows'!$B43:$EC43,MATCH('Monthly CF'!DQ$6,'Monthly Cash Flows'!$B$13:$EC$13))","v":0},{"$f":"+INDEX('Monthly Cash Flows'!$B43:$EC43,MATCH('Monthly CF'!DR$6,'Monthly Cash Flows'!$B$13:$EC$13))","v":0},{"$f":"+INDEX('Monthly Cash Flows'!$B43:$EC43,MATCH('Monthly CF'!DS$6,'Monthly Cash Flows'!$B$13:$EC$13))","v":0},{"$f":"+INDEX('Monthly Cash Flows'!$B43:$EC43,MATCH('Monthly CF'!DT$6,'Monthly Cash Flows'!$B$13:$EC$13))","v":0},{"$f":"+INDEX('Monthly Cash Flows'!$B43:$EC43,MATCH('Monthly CF'!DU$6,'Monthly Cash Flows'!$B$13:$EC$13))","v":0},{"$f":"+INDEX('Monthly Cash Flows'!$B43:$EC43,MATCH('Monthly CF'!DV$6,'Monthly Cash Flows'!$B$13:$EC$13))","v":0},{"$f":"+INDEX('Monthly Cash Flows'!$B43:$EC43,MATCH('Monthly CF'!DW$6,'Monthly Cash Flows'!$B$13:$EC$13))","v":0},{"$f":"+INDEX('Monthly Cash Flows'!$B43:$EC43,MATCH('Monthly CF'!DX$6,'Monthly Cash Flows'!$B$13:$EC$13))","v":0},{"$f":"+INDEX('Monthly Cash Flows'!$B43:$EC43,MATCH('Monthly CF'!DY$6,'Monthly Cash Flows'!$B$13:$EC$13))","v":0},{"$f":"+INDEX('Monthly Cash Flows'!$B43:$EC43,MATCH('Monthly CF'!DZ$6,'Monthly Cash Flows'!$B$13:$EC$13))","v":0},{"$f":"+INDEX('Monthly Cash Flows'!$B43:$EC43,MATCH('Monthly CF'!EA$6,'Monthly Cash Flows'!$B$13:$EC$13))","v":0},{"$f":"+INDEX('Monthly Cash Flows'!$B43:$EC43,MATCH('Monthly CF'!EB$6,'Monthly Cash Flows'!$B$13:$EC$13))","v":0},{"$f":"+INDEX('Monthly Cash Flows'!$B43:$EC43,MATCH('Monthly CF'!EC$6,'Monthly Cash Flows'!$B$13:$EC$13))","v":0},{"$f":"+INDEX('Monthly Cash Flows'!$B43:$EC43,MATCH('Monthly CF'!ED$6,'Monthly Cash Flows'!$B$13:$EC$13))","v":0},{"$f":"+INDEX('Monthly Cash Flows'!$B43:$EC43,MATCH('Monthly CF'!EE$6,'Monthly Cash Flows'!$B$13:$EC$13))","v":0},{"$f":"+INDEX('Monthly Cash Flows'!$B43:$EC43,MATCH('Monthly CF'!EF$6,'Monthly Cash Flows'!$B$13:$EC$13))","v":0},{"$f":"+INDEX('Monthly Cash Flows'!$B43:$EC43,MATCH('Monthly CF'!EG$6,'Monthly Cash Flows'!$B$13:$EC$13))","v":0}]
[null,"Effective Gross Revenue",null,null,null,{"$f":"+F18+F19","v":108924.77497846741},{"$f":"+G18+G19","v":108924.77497846741},108924.77497846741,111786.52650112937,111786.52650112937,111786.52650112937,111786.52650112937,113376.38845816378,113376.38845816378,113584.72179149713,114605.55512483047,121486.62705098683,121740.87705098683,121740.87705098683,122164.54371765351,123762.45275636236,129950.18597485519,129950.18597485519,129950.18597485519,131500.18597485521,131500.18597485521,131500.18597485521,131500.18597485521,133398.03424719768,133398.03424719768,133398.03424719768,133398.03424719768,133531.36758053102,133531.36758053102,133531.36758053102,133531.36758053102,133791.70091386436,133791.70091386436,133791.70091386436,133791.70091386436,134702.75130104378,134702.75130104378,134702.75130104378,134702.75130104378,134702.75130104378,134702.75130104378,134702.75130104378,134702.75130104378,134702.75130104378,134702.75130104378,134702.75130104378,134702.75130104378,135641.13319983857,136557.79986650526,136557.79986650526,136557.79986650526,136557.79986650526,136557.79986650526,136557.79986650526,136557.79986650526,136557.79986650526,136557.79986650526,136557.79986650526,136557.79986650526,137524.3332222639,138274.3332222639,138274.3332222639,138274.3332222639,138274.3332222639,138274.3332222639,{"$f":"+BS18+BS19","v":138274.3332222639},138274.3332222639,138274.3332222639,138274.3332222639,138565.99988893059,140035.99988893059,141031.52924536201,141364.52924536201,141364.52924536201,141364.52924536201,141364.52924536201,141364.52924536201,141364.52924536201,141364.52924536201,141364.52924536201,141364.52924536201,141364.52924536201,141364.52924536201,142389.92448248636,142389.92448248636,142389.92448248636,142389.92448248636,142389.92448248636,142389.92448248636,142389.92448248636,142389.92448248636,142389.92448248636,142389.92448248636,142389.92448248636,142389.92448248636,143446.08157672442,143446.08157672442,143446.08157672442,143446.08157672442,143446.08157672442,143446.08157672442,143446.08157672442,143446.08157672442,143446.08157672442,143446.08157672442,143446.08157672442,143446.08157672442,144533.92338378966,145450.59005045632,145450.59005045632,145450.59005045632,145450.59005045632,145450.59005045632,145450.59005045632,145450.59005045632,145450.59005045632,145450.59005045632,145450.59005045632,145450.59005045632,146571.06711173352,146571.06711173352,146571.06711173352,146571.06711173352,146571.06711173352,146571.06711173352,146571.06711173352,146571.06711173352,146571.06711173352,146571.06711173352,{"$f":"+EE18+EE19","v":146571.06711173352},146571.06711173352,146571.06711173352]
[]
[null,"OPERATING EXPENSES"]
[null,{"$f":"+'Monthly Cash Flows'!A48","v":"Management Fee"},null,null,null,{"$f":"-INDEX('Monthly Cash Flows'!$B48:$EC48,MATCH('Monthly CF'!F$6,'Monthly Cash Flows'!$B$13:$EC$13))","v":-3434.75},{"$f":"-INDEX('Monthly Cash Flows'!$B48:$EC48,MATCH('Monthly CF'!G$6,'Monthly Cash Flows'!$B$13:$EC$13))","v":-3434.75},{"$f":"-INDEX('Monthly Cash Flows'!$B48:$EC48,MATCH('Monthly CF'!H$6,'Monthly Cash Flows'!$B$13:$EC$13))","v":-3434.75},{"$f":"-INDEX('Monthly Cash Flows'!$B48:$EC48,MATCH('Monthly CF'!I$6,'Monthly Cash Flows'!$B$13:$EC$13))","v":-3434.75},{"$f":"-INDEX('Monthly Cash Flows'!$B48:$EC48,MATCH('Monthly CF'!J$6,'Monthly Cash Flows'!$B$13:$EC$13))","v":-3434.75},{"$f":"-INDEX('Monthly Cash Flows'!$B48:$EC48,MATCH('Monthly CF'!K$6,'Monthly Cash Flows'!$B$13:$EC$13))","v":-3434.75},{"$f":"-INDEX('Monthly Cash Flows'!$B48:$EC48,MATCH('Monthly CF'!L$6,'Monthly Cash Flows'!$B$13:$EC$13))","v":-3434.75},{"$f":"-INDEX('Monthly Cash Flows'!$B48:$EC48,MATCH('Monthly CF'!M$6,'Monthly Cash Flows'!$B$13:$EC$13))","v":-3434.75},{"$f":"-INDEX('Monthly Cash Flows'!$B48:$EC48,MATCH('Monthly CF'!N$6,'Monthly Cash Flows'!$B$13:$EC$13))","v":-3434.75},{"$f":"-INDEX('Monthly Cash Flows'!$B48:$EC48,MATCH('Monthly CF'!O$6,'Monthly Cash Flows'!$B$13:$EC$13))","v":-3434.75},{"$f":"-INDEX('Monthly Cash Flows'!$B48:$EC48,MATCH('Monthly CF'!P$6,'Monthly Cash Flows'!$B$13:$EC$13))","v":-3434.75},{"$f":"-INDEX('Monthly Cash Flows'!$B48:$EC48,MATCH('Monthly CF'!Q$6,'Monthly Cash Flows'!$B$13:$EC$13))","v":-3537.7925},{"$f":"-INDEX('Monthly Cash Flows'!$B48:$EC48,MATCH('Monthly CF'!R$6,'Monthly Cash Flows'!$B$13:$EC$13))","v":-3537.7925},{"$f":"-INDEX('Monthly Cash Flows'!$B48:$EC48,MATCH('Monthly CF'!S$6,'Monthly Cash Flows'!$B$13:$EC$13))","v":-3537.7925},{"$f":"-INDEX('Monthly Cash Flows'!$B48:$EC48,MATCH('Monthly CF'!T$6,'Monthly Cash Flows'!$B$13:$EC$13))","v":-3537.7925},{"$f":"-INDEX('Monthly Cash Flows'!$B48:$EC48,MATCH('Monthly CF'!U$6,'Monthly Cash Flows'!$B$13:$EC$13))","v":-3537.7925},{"$f":"-INDEX('Monthly Cash Flows'!$B48:$EC48,MATCH('Monthly CF'!V$6,'Monthly Cash Flows'!$B$13:$EC$13))","v":-3537.7925},{"$f":"-INDEX('Monthly Cash Flows'!$B48:$EC48,MATCH('Monthly CF'!W$6,'Monthly Cash Flows'!$B$13:$EC$13))","v":-3537.7925},{"$f":"-INDEX('Monthly Cash Flows'!$B48:$EC48,MATCH('Monthly CF'!X$6,'Monthly Cash Flows'!$B$13:$EC$13))","v":-3537.7925},{"$f":"-INDEX('Monthly Cash Flows'!$B48:$EC48,MATCH('Monthly CF'!Y$6,'Monthly Cash Flows'!$B$13:$EC$13))","v":-3537.7925},{"$f":"-INDEX('Monthly Cash Flows'!$B48:$EC48,MATCH('Monthly CF'!Z$6,'Monthly Cash Flows'!$B$13:$EC$13))","v":-3537.7925},{"$f":"-INDEX('Monthly Cash Flows'!$B48:$EC48,MATCH('Monthly CF'!AA$6,'Monthly Cash Flows'!$B$13:$EC$13))","v":-3537.7925},{"$f":"-INDEX('Monthly Cash Flows'!$B48:$EC48,MATCH('Monthly CF'!AB$6,'Monthly Cash Flows'!$B$13:$EC$13))","v":-3537.7925},{"$f":"-INDEX('Monthly Cash Flows'!$B48:$EC48,MATCH('Monthly CF'!AC$6,'Monthly Cash Flows'!$B$13:$EC$13))","v":-3643.9262750000003},{"$f":"-INDEX('Monthly Cash Flows'!$B48:$EC48,MATCH('Monthly CF'!AD$6,'Monthly Cash Flows'!$B$13:$EC$13))","v":-3643.9262750000003},{"$f":"-INDEX('Monthly Cash Flows'!$B48:$EC48,MATCH('Monthly CF'!AE$6,'Monthly Cash Flows'!$B$13:$EC$13))","v":-3643.9262750000003},{"$f":"-INDEX('Monthly Cash Flows'!$B48:$EC48,MATCH('Monthly CF'!AF$6,'Monthly Cash Flows'!$B$13:$EC$13))","v":-3643.9262750000003},{"$f":"-INDEX('Monthly Cash Flows'!$B48:$EC48,MATCH('Monthly CF'!AG$6,'Monthly Cash Flows'!$B$13:$EC$13))","v":-3643.9262750000003},{"$f":"-INDEX('Monthly Cash Flows'!$B48:$EC48,MATCH('Monthly CF'!AH$6,'Monthly Cash Flows'!$B$13:$EC$13))","v":-3643.9262750000003},{"$f":"-INDEX('Monthly Cash Flows'!$B48:$EC48,MATCH('Monthly CF'!AI$6,'Monthly Cash Flows'!$B$13:$EC$13))","v":-3643.9262750000003},{"$f":"-INDEX('Monthly Cash Flows'!$B48:$EC48,MATCH('Monthly CF'!AJ$6,'Monthly Cash Flows'!$B$13:$EC$13))","v":-3643.9262750000003},{"$f":"-INDEX('Monthly Cash Flows'!$B48:$EC48,MATCH('Monthly CF'!AK$6,'Monthly Cash Flows'!$B$13:$EC$13))","v":-3643.9262750000003},{"$f":"-INDEX('Monthly Cash Flows'!$B48:$EC48,MATCH('Monthly CF'!AL$6,'Monthly Cash Flows'!$B$13:$EC$13))","v":-3643.9262750000003},{"$f":"-INDEX('Monthly Cash Flows'!$B48:$EC48,MATCH('Monthly CF'!AM$6,'Monthly Cash Flows'!$B$13:$EC$13))","v":-3643.9262750000003},{"$f":"-INDEX('Monthly Cash Flows'!$B48:$EC48,MATCH('Monthly CF'!AN$6,'Monthly Cash Flows'!$B$13:$EC$13))","v":-3643.9262750000003},{"$f":"-INDEX('Monthly Cash Flows'!$B48:$EC48,MATCH('Monthly CF'!AO$6,'Monthly Cash Flows'!$B$13:$EC$13))","v":-3753.2440632500002},{"$f":"-INDEX('Monthly Cash Flows'!$B48:$EC48,MATCH('Monthly CF'!AP$6,'Monthly Cash Flows'!$B$13:$EC$13))","v":-3753.2440632500002},{"$f":"-INDEX('Monthly Cash Flows'!$B48:$EC48,MATCH('Monthly CF'!AQ$6,'Monthly Cash Flows'!$B$13:$EC$13))","v":-3753.2440632500002},{"$f":"-INDEX('Monthly Cash Flows'!$B48:$EC48,MATCH('Monthly CF'!AR$6,'Monthly Cash Flows'!$B$13:$EC$13))","v":-3753.2440632500002},{"$f":"-INDEX('Monthly Cash Flows'!$B48:$EC48,MATCH('Monthly CF'!AS$6,'Monthly Cash Flows'!$B$13:$EC$13))","v":-3753.2440632500002},{"$f":"-INDEX('Monthly Cash Flows'!$B48:$EC48,MATCH('Monthly CF'!AT$6,'Monthly Cash Flows'!$B$13:$EC$13))","v":-3753.2440632500002},{"$f":"-INDEX('Monthly Cash Flows'!$B48:$EC48,MATCH('Monthly CF'!AU$6,'Monthly Cash Flows'!$B$13:$EC$13))","v":-3753.2440632500002},{"$f":"-INDEX('Monthly Cash Flows'!$B48:$EC48,MATCH('Monthly CF'!AV$6,'Monthly Cash Flows'!$B$13:$EC$13))","v":-3753.2440632500002},{"$f":"-INDEX('Monthly Cash Flows'!$B48:$EC48,MATCH('Monthly CF'!AW$6,'Monthly Cash Flows'!$B$13:$EC$13))","v":-3753.2440632500002},{"$f":"-INDEX('Monthly Cash Flows'!$B48:$EC48,MATCH('Monthly CF'!AX$6,'Monthly Cash Flows'!$B$13:$EC$13))","v":-3753.2440632500002},{"$f":"-INDEX('Monthly Cash Flows'!$B48:$EC48,MATCH('Monthly CF'!AY$6,'Monthly Cash Flows'!$B$13:$EC$13))","v":-3753.2440632500002},{"$f":"-INDEX('Monthly Cash Flows'!$B48:$EC48,MATCH('Monthly CF'!AZ$6,'Monthly Cash Flows'!$B$13:$EC$13))","v":-3753.2440632500002},{"$f":"-INDEX('Monthly Cash Flows'!$B48:$EC48,MATCH('Monthly CF'!BA$6,'Monthly Cash Flows'!$B$13:$EC$13))","v":-3865.8413851475002},{"$f":"-INDEX('Monthly Cash Flows'!$B48:$EC48,MATCH('Monthly CF'!BB$6,'Monthly Cash Flows'!$B$13:$EC$13))","v":-3865.8413851475002},{"$f":"-INDEX('Monthly Cash Flows'!$B48:$EC48,MATCH('Monthly CF'!BC$6,'Monthly Cash Flows'!$B$13:$EC$13))","v":-3865.8413851475002},{"$f":"-INDEX('Monthly Cash Flows'!$B48:$EC48,MATCH('Monthly CF'!BD$6,'Monthly Cash Flows'!$B$13:$EC$13))","v":-3865.8413851475002},{"$f":"-INDEX('Monthly Cash Flows'!$B48:$EC48,MATCH('Monthly CF'!BE$6,'Monthly Cash Flows'!$B$13:$EC$13))","v":-3865.8413851475002},{"$f":"-INDEX('Monthly Cash Flows'!$B48:$EC48,MATCH('Monthly CF'!BF$6,'Monthly Cash Flows'!$B$13:$EC$13))","v":-3865.8413851475002},{"$f":"-INDEX('Monthly Cash Flows'!$B48:$EC48,MATCH('Monthly CF'!BG$6,'Monthly Cash Flows'!$B$13:$EC$13))","v":-3865.8413851475002},{"$f":"-INDEX('Monthly Cash Flows'!$B48:$EC48,MATCH('Monthly CF'!BH$6,'Monthly Cash Flows'!$B$13:$EC$13))","v":-3865.8413851475002},{"$f":"-INDEX('Monthly Cash Flows'!$B48:$EC48,MATCH('Monthly CF'!BI$6,'Monthly Cash Flows'!$B$13:$EC$13))","v":-3865.8413851475002},{"$f":"-INDEX('Monthly Cash Flows'!$B48:$EC48,MATCH('Monthly CF'!BJ$6,'Monthly Cash Flows'!$B$13:$EC$13))","v":-3865.8413851475002},{"$f":"-INDEX('Monthly Cash Flows'!$B48:$EC48,MATCH('Monthly CF'!BK$6,'Monthly Cash Flows'!$B$13:$EC$13))","v":-3865.8413851475002},{"$f":"-INDEX('Monthly Cash Flows'!$B48:$EC48,MATCH('Monthly CF'!BL$6,'Monthly Cash Flows'!$B$13:$EC$13))","v":-3865.8413851475002},{"$f":"-INDEX('Monthly Cash Flows'!$B48:$EC48,MATCH('Monthly CF'!BM$6,'Monthly Cash Flows'!$B$13:$EC$13))","v":-3981.8166267019251},{"$f":"-INDEX('Monthly Cash Flows'!$B48:$EC48,MATCH('Monthly CF'!BN$6,'Monthly Cash Flows'!$B$13:$EC$13))","v":-3981.8166267019251},{"$f":"-INDEX('Monthly Cash Flows'!$B48:$EC48,MATCH('Monthly CF'!BO$6,'Monthly Cash Flows'!$B$13:$EC$13))","v":-3981.8166267019251},{"$f":"-INDEX('Monthly Cash Flows'!$B48:$EC48,MATCH('Monthly CF'!BP$6,'Monthly Cash Flows'!$B$13:$EC$13))","v":-3981.8166267019251},{"$f":"-INDEX('Monthly Cash Flows'!$B48:$EC48,MATCH('Monthly CF'!BQ$6,'Monthly Cash Flows'!$B$13:$EC$13))","v":-3981.8166267019251},{"$f":"-INDEX('Monthly Cash Flows'!$B48:$EC48,MATCH('Monthly CF'!BR$6,'Monthly Cash Flows'!$B$13:$EC$13))","v":-3981.8166267019251},{"$f":"-INDEX('Monthly Cash Flows'!$B48:$EC48,MATCH('Monthly CF'!BS$6,'Monthly Cash Flows'!$B$13:$EC$13))","v":-3981.8166267019251},{"$f":"-INDEX('Monthly Cash Flows'!$B48:$EC48,MATCH('Monthly CF'!BT$6,'Monthly Cash Flows'!$B$13:$EC$13))","v":-3981.8166267019251},{"$f":"-INDEX('Monthly Cash Flows'!$B48:$EC48,MATCH('Monthly CF'!BU$6,'Monthly Cash Flows'!$B$13:$EC$13))","v":-3981.8166267019251},{"$f":"-INDEX('Monthly Cash Flows'!$B48:$EC48,MATCH('Monthly CF'!BV$6,'Monthly Cash Flows'!$B$13:$EC$13))","v":-3981.8166267019251},{"$f":"-INDEX('Monthly Cash Flows'!$B48:$EC48,MATCH('Monthly CF'!BW$6,'Monthly Cash Flows'!$B$13:$EC$13))","v":-3981.8166267019251},{"$f":"-INDEX('Monthly Cash Flows'!$B48:$EC48,MATCH('Monthly CF'!BX$6,'Monthly Cash Flows'!$B$13:$EC$13))","v":-3981.8166267019251},{"$f":"-INDEX('Monthly Cash Flows'!$B48:$EC48,MATCH('Monthly CF'!BY$6,'Monthly Cash Flows'!$B$13:$EC$13))","v":-4101.2711255029826},{"$f":"-INDEX('Monthly Cash Flows'!$B48:$EC48,MATCH('Monthly CF'!BZ$6,'Monthly Cash Flows'!$B$13:$EC$13))","v":-4101.2711255029826},{"$f":"-INDEX('Monthly Cash Flows'!$B48:$EC48,MATCH('Monthly CF'!CA$6,'Monthly Cash Flows'!$B$13:$EC$13))","v":-4101.2711255029826},{"$f":"-INDEX('Monthly Cash Flows'!$B48:$EC48,MATCH('Monthly CF'!CB$6,'Monthly Cash Flows'!$B$13:$EC$13))","v":-4101.2711255029826},{"$f":"-INDEX('Monthly Cash Flows'!$B48:$EC48,MATCH('Monthly CF'!CC$6,'Monthly Cash Flows'!$B$13:$EC$13))","v":-4101.2711255029826},{"$f":"-INDEX('Monthly Cash Flows'!$B48:$EC48,MATCH('Monthly CF'!CD$6,'Monthly Cash Flows'!$B$13:$EC$13))","v":-4101.2711255029826},{"$f":"-INDEX('Monthly Cash Flows'!$B48:$EC48,MATCH('Monthly CF'!CE$6,'Monthly Cash Flows'!$B$13:$EC$13))","v":-4101.2711255029826},{"$f":"-INDEX('Monthly Cash Flows'!$B48:$EC48,MATCH('Monthly CF'!CF$6,'Monthly Cash Flows'!$B$13:$EC$13))","v":-4101.2711255029826},{"$f":"-INDEX('Monthly Cash Flows'!$B48:$EC48,MATCH('Monthly CF'!CG$6,'Monthly Cash Flows'!$B$13:$EC$13))","v":-4101.2711255029826},{"$f":"-INDEX('Monthly Cash Flows'!$B48:$EC48,MATCH('Monthly CF'!CH$6,'Monthly Cash Flows'!$B$13:$EC$13))","v":-4101.2711255029826},{"$f":"-INDEX('Monthly Cash Flows'!$B48:$EC48,MATCH('Monthly CF'!CI$6,'Monthly Cash Flows'!$B$13:$EC$13))","v":-4101.2711255029826},{"$f":"-INDEX('Monthly Cash Flows'!$B48:$EC48,MATCH('Monthly CF'!CJ$6,'Monthly Cash Flows'!$B$13:$EC$13))","v":-4101.2711255029826},{"$f":"-INDEX('Monthly Cash Flows'!$B48:$EC48,MATCH('Monthly CF'!CK$6,'Monthly Cash Flows'!$B$13:$EC$13))","v":-4224.3092592680723},{"$f":"-INDEX('Monthly Cash Flows'!$B48:$EC48,MATCH('Monthly CF'!CL$6,'Monthly Cash Flows'!$B$13:$EC$13))","v":-4224.3092592680723},{"$f":"-INDEX('Monthly Cash Flows'!$B48:$EC48,MATCH('Monthly CF'!CM$6,'Monthly Cash Flows'!$B$13:$EC$13))","v":-4224.3092592680723},{"$f":"-INDEX('Monthly Cash Flows'!$B48:$EC48,MATCH('Monthly CF'!CN$6,'Monthly Cash Flows'!$B$13:$EC$13))","v":-4224.3092592680723},{"$f":"-INDEX('Monthly Cash Flows'!$B48:$EC48,MATCH('Monthly CF'!CO$6,'Monthly Cash Flows'!$B$13:$EC$13))","v":-4224.3092592680723},{"$f":"-INDEX('Monthly Cash Flows'!$B48:$EC48,MATCH('Monthly CF'!CP$6,'Monthly Cash Flows'!$B$13:$EC$13))","v":-4224.3092592680723},{"$f":"-INDEX('Monthly Cash Flows'!$B48:$EC48,MATCH('Monthly CF'!CQ$6,'Monthly Cash Flows'!$B$13:$EC$13))","v":-4224.3092592680723},{"$f":"-INDEX('Monthly Cash Flows'!$B48:$EC48,MATCH('Monthly CF'!CR$6,'Monthly Cash Flows'!$B$13:$EC$13))","v":-4224.3092592680723},{"$f":"-INDEX('Monthly Cash Flows'!$B48:$EC48,MATCH('Monthly CF'!CS$6,'Monthly Cash Flows'!$B$13:$EC$13))","v":-4224.3092592680723},{"$f":"-INDEX('Monthly Cash Flows'!$B48:$EC48,MATCH('Monthly CF'!CT$6,'Monthly Cash Flows'!$B$13:$EC$13))","v":-4224.3092592680723},{"$f":"-INDEX('Monthly Cash Flows'!$B48:$EC48,MATCH('Monthly CF'!CU$6,'Monthly Cash Flows'!$B$13:$EC$13))","v":-4224.3092592680723},{"$f":"-INDEX('Monthly Cash Flows'!$B48:$EC48,MATCH('Monthly CF'!CV$6,'Monthly Cash Flows'!$B$13:$EC$13))","v":-4224.3092592680723},{"$f":"-INDEX('Monthly Cash Flows'!$B48:$EC48,MATCH('Monthly CF'!CW$6,'Monthly Cash Flows'!$B$13:$EC$13))","v":-4351.0385370461145},{"$f":"-INDEX('Monthly Cash Flows'!$B48:$EC48,MATCH('Monthly CF'!CX$6,'Monthly Cash Flows'!$B$13:$EC$13))","v":-4351.0385370461145},{"$f":"-INDEX('Monthly Cash Flows'!$B48:$EC48,MATCH('Monthly CF'!CY$6,'Monthly Cash Flows'!$B$13:$EC$13))","v":-4351.0385370461145},{"$f":"-INDEX('Monthly Cash Flows'!$B48:$EC48,MATCH('Monthly CF'!CZ$6,'Monthly Cash Flows'!$B$13:$EC$13))","v":-4351.0385370461145},{"$f":"-INDEX('Monthly Cash Flows'!$B48:$EC48,MATCH('Monthly CF'!DA$6,'Monthly Cash Flows'!$B$13:$EC$13))","v":-4351.0385370461145},{"$f":"-INDEX('Monthly Cash Flows'!$B48:$EC48,MATCH('Monthly CF'!DB$6,'Monthly Cash Flows'!$B$13:$EC$13))","v":-4351.0385370461145},{"$f":"-INDEX('Monthly Cash Flows'!$B48:$EC48,MATCH('Monthly CF'!DC$6,'Monthly Cash Flows'!$B$13:$EC$13))","v":-4351.0385370461145},{"$f":"-INDEX('Monthly Cash Flows'!$B48:$EC48,MATCH('Monthly CF'!DD$6,'Monthly Cash Flows'!$B$13:$EC$13))","v":-4351.0385370461145},{"$f":"-INDEX('Monthly Cash Flows'!$B48:$EC48,MATCH('Monthly CF'!DE$6,'Monthly Cash Flows'!$B$13:$EC$13))","v":-4351.0385370461145},{"$f":"-INDEX('Monthly Cash Flows'!$B48:$EC48,MATCH('Monthly CF'!DF$6,'Monthly Cash Flows'!$B$13:$EC$13))","v":-4351.0385370461145},{"$f":"-INDEX('Monthly Cash Flows'!$B48:$EC48,MATCH('Monthly CF'!DG$6,'Monthly Cash Flows'!$B$13:$EC$13))","v":-4351.0385370461145},{"$f":"-INDEX('Monthly Cash Flows'!$B48:$EC48,MATCH('Monthly CF'!DH$6,'Monthly Cash Flows'!$B$13:$EC$13))","v":-4351.0385370461145},{"$f":"-INDEX('Monthly Cash Flows'!$B48:$EC48,MATCH('Monthly CF'!DI$6,'Monthly Cash Flows'!$B$13:$EC$13))","v":-4481.5696931574976},{"$f":"-INDEX('Monthly Cash Flows'!$B48:$EC48,MATCH('Monthly CF'!DJ$6,'Monthly Cash Flows'!$B$13:$EC$13))","v":-4481.5696931574976},{"$f":"-INDEX('Monthly Cash Flows'!$B48:$EC48,MATCH('Monthly CF'!DK$6,'Monthly Cash Flows'!$B$13:$EC$13))","v":-4481.5696931574976},{"$f":"-INDEX('Monthly Cash Flows'!$B48:$EC48,MATCH('Monthly CF'!DL$6,'Monthly Cash Flows'!$B$13:$EC$13))","v":-4481.5696931574976},{"$f":"-INDEX('Monthly Cash Flows'!$B48:$EC48,MATCH('Monthly CF'!DM$6,'Monthly Cash Flows'!$B$13:$EC$13))","v":-4481.5696931574976},{"$f":"-INDEX('Monthly Cash Flows'!$B48:$EC48,MATCH('Monthly CF'!DN$6,'Monthly Cash Flows'!$B$13:$EC$13))","v":-4481.5696931574976},{"$f":"-INDEX('Monthly Cash Flows'!$B48:$EC48,MATCH('Monthly CF'!DO$6,'Monthly Cash Flows'!$B$13:$EC$13))","v":-4481.5696931574976},{"$f":"-INDEX('Monthly Cash Flows'!$B48:$EC48,MATCH('Monthly CF'!DP$6,'Monthly Cash Flows'!$B$13:$EC$13))","v":-4481.5696931574976},{"$f":"-INDEX('Monthly Cash Flows'!$B48:$EC48,MATCH('Monthly CF'!DQ$6,'Monthly Cash Flows'!$B$13:$EC$13))","v":-4481.5696931574976},{"$f":"-INDEX('Monthly Cash Flows'!$B48:$EC48,MATCH('Monthly CF'!DR$6,'Monthly Cash Flows'!$B$13:$EC$13))","v":-4481.5696931574976},{"$f":"-INDEX('Monthly Cash Flows'!$B48:$EC48,MATCH('Monthly CF'!DS$6,'Monthly Cash Flows'!$B$13:$EC$13))","v":-4481.5696931574976},{"$f":"-INDEX('Monthly Cash Flows'!$B48:$EC48,MATCH('Monthly CF'!DT$6,'Monthly Cash Flows'!$B$13:$EC$13))","v":-4481.5696931574976},{"$f":"-INDEX('Monthly Cash Flows'!$B48:$EC48,MATCH('Monthly CF'!DU$6,'Monthly Cash Flows'!$B$13:$EC$13))","v":-4616.0167839522228},{"$f":"-INDEX('Monthly Cash Flows'!$B48:$EC48,MATCH('Monthly CF'!DV$6,'Monthly Cash Flows'!$B$13:$EC$13))","v":-4616.0167839522228},{"$f":"-INDEX('Monthly Cash Flows'!$B48:$EC48,MATCH('Monthly CF'!DW$6,'Monthly Cash Flows'!$B$13:$EC$13))","v":-4616.0167839522228},{"$f":"-INDEX('Monthly Cash Flows'!$B48:$EC48,MATCH('Monthly CF'!DX$6,'Monthly Cash Flows'!$B$13:$EC$13))","v":-4616.0167839522228},{"$f":"-INDEX('Monthly Cash Flows'!$B48:$EC48,MATCH('Monthly CF'!DY$6,'Monthly Cash Flows'!$B$13:$EC$13))","v":-4616.0167839522228},{"$f":"-INDEX('Monthly Cash Flows'!$B48:$EC48,MATCH('Monthly CF'!DZ$6,'Monthly Cash Flows'!$B$13:$EC$13))","v":-4616.0167839522228},{"$f":"-INDEX('Monthly Cash Flows'!$B48:$EC48,MATCH('Monthly CF'!EA$6,'Monthly Cash Flows'!$B$13:$EC$13))","v":-4616.0167839522228},{"$f":"-INDEX('Monthly Cash Flows'!$B48:$EC48,MATCH('Monthly CF'!EB$6,'Monthly Cash Flows'!$B$13:$EC$13))","v":-4616.0167839522228},{"$f":"-INDEX('Monthly Cash Flows'!$B48:$EC48,MATCH('Monthly CF'!EC$6,'Monthly Cash Flows'!$B$13:$EC$13))","v":-4616.0167839522228},{"$f":"-INDEX('Monthly Cash Flows'!$B48:$EC48,MATCH('Monthly CF'!ED$6,'Monthly Cash Flows'!$B$13:$EC$13))","v":-4616.0167839522228},{"$f":"-INDEX('Monthly Cash Flows'!$B48:$EC48,MATCH('Monthly CF'!EE$6,'Monthly Cash Flows'!$B$13:$EC$13))","v":-4616.0167839522228},{"$f":"-INDEX('Monthly Cash Flows'!$B48:$EC48,MATCH('Monthly CF'!EF$6,'Monthly Cash Flows'!$B$13:$EC$13))","v":-4616.0167839522228},{"$f":"-INDEX('Monthly Cash Flows'!$B48:$EC48,MATCH('Monthly CF'!EG$6,'Monthly Cash Flows'!$B$13:$EC$13))","v":-4616.0167839522228}]
[null,{"$f":"+'Monthly Cash Flows'!A49","v":"Water & Sewer"},null,null,null,{"$f":"-INDEX('Monthly Cash Flows'!$B49:$EC49,MATCH('Monthly CF'!F$6,'Monthly Cash Flows'!$B$13:$EC$13))","v":-532.33333333333337},{"$f":"-INDEX('Monthly Cash Flows'!$B49:$EC49,MATCH('Monthly CF'!G$6,'Monthly Cash Flows'!$B$13:$EC$13))","v":-532.33333333333337},{"$f":"-INDEX('Monthly Cash Flows'!$B49:$EC49,MATCH('Monthly CF'!H$6,'Monthly Cash Flows'!$B$13:$EC$13))","v":-532.33333333333337},{"$f":"-INDEX('Monthly Cash Flows'!$B49:$EC49,MATCH('Monthly CF'!I$6,'Monthly Cash Flows'!$B$13:$EC$13))","v":-532.33333333333337},{"$f":"-INDEX('Monthly Cash Flows'!$B49:$EC49,MATCH('Monthly CF'!J$6,'Monthly Cash Flows'!$B$13:$EC$13))","v":-532.33333333333337},{"$f":"-INDEX('Monthly Cash Flows'!$B49:$EC49,MATCH('Monthly CF'!K$6,'Monthly Cash Flows'!$B$13:$EC$13))","v":-532.33333333333337},{"$f":"-INDEX('Monthly Cash Flows'!$B49:$EC49,MATCH('Monthly CF'!L$6,'Monthly Cash Flows'!$B$13:$EC$13))","v":-532.33333333333337},{"$f":"-INDEX('Monthly Cash Flows'!$B49:$EC49,MATCH('Monthly CF'!M$6,'Monthly Cash Flows'!$B$13:$EC$13))","v":-532.33333333333337},{"$f":"-INDEX('Monthly Cash Flows'!$B49:$EC49,MATCH('Monthly CF'!N$6,'Monthly Cash Flows'!$B$13:$EC$13))","v":-532.33333333333337},{"$f":"-INDEX('Monthly Cash Flows'!$B49:$EC49,MATCH('Monthly CF'!O$6,'Monthly Cash Flows'!$B$13:$EC$13))","v":-532.33333333333337},{"$f":"-INDEX('Monthly Cash Flows'!$B49:$EC49,MATCH('Monthly CF'!P$6,'Monthly Cash Flows'!$B$13:$EC$13))","v":-532.33333333333337},{"$f":"-INDEX('Monthly Cash Flows'!$B49:$EC49,MATCH('Monthly CF'!Q$6,'Monthly Cash Flows'!$B$13:$EC$13))","v":-548.3033333333334},{"$f":"-INDEX('Monthly Cash Flows'!$B49:$EC49,MATCH('Monthly CF'!R$6,'Monthly Cash Flows'!$B$13:$EC$13))","v":-548.3033333333334},{"$f":"-INDEX('Monthly Cash Flows'!$B49:$EC49,MATCH('Monthly CF'!S$6,'Monthly Cash Flows'!$B$13:$EC$13))","v":-548.3033333333334},{"$f":"-INDEX('Monthly Cash Flows'!$B49:$EC49,MATCH('Monthly CF'!T$6,'Monthly Cash Flows'!$B$13:$EC$13))","v":-548.3033333333334},{"$f":"-INDEX('Monthly Cash Flows'!$B49:$EC49,MATCH('Monthly CF'!U$6,'Monthly Cash Flows'!$B$13:$EC$13))","v":-548.3033333333334},{"$f":"-INDEX('Monthly Cash Flows'!$B49:$EC49,MATCH('Monthly CF'!V$6,'Monthly Cash Flows'!$B$13:$EC$13))","v":-548.3033333333334},{"$f":"-INDEX('Monthly Cash Flows'!$B49:$EC49,MATCH('Monthly CF'!W$6,'Monthly Cash Flows'!$B$13:$EC$13))","v":-548.3033333333334},{"$f":"-INDEX('Monthly Cash Flows'!$B49:$EC49,MATCH('Monthly CF'!X$6,'Monthly Cash Flows'!$B$13:$EC$13))","v":-548.3033333333334},{"$f":"-INDEX('Monthly Cash Flows'!$B49:$EC49,MATCH('Monthly CF'!Y$6,'Monthly Cash Flows'!$B$13:$EC$13))","v":-548.3033333333334},{"$f":"-INDEX('Monthly Cash Flows'!$B49:$EC49,MATCH('Monthly CF'!Z$6,'Monthly Cash Flows'!$B$13:$EC$13))","v":-548.3033333333334},{"$f":"-INDEX('Monthly Cash Flows'!$B49:$EC49,MATCH('Monthly CF'!AA$6,'Monthly Cash Flows'!$B$13:$EC$13))","v":-548.3033333333334},{"$f":"-INDEX('Monthly Cash Flows'!$B49:$EC49,MATCH('Monthly CF'!AB$6,'Monthly Cash Flows'!$B$13:$EC$13))","v":-548.3033333333334},{"$f":"-INDEX('Monthly Cash Flows'!$B49:$EC49,MATCH('Monthly CF'!AC$6,'Monthly Cash Flows'!$B$13:$EC$13))","v":-564.75243333333344},{"$f":"-INDEX('Monthly Cash Flows'!$B49:$EC49,MATCH('Monthly CF'!AD$6,'Monthly Cash Flows'!$B$13:$EC$13))","v":-564.75243333333344},{"$f":"-INDEX('Monthly Cash Flows'!$B49:$EC49,MATCH('Monthly CF'!AE$6,'Monthly Cash Flows'!$B$13:$EC$13))","v":-564.75243333333344},{"$f":"-INDEX('Monthly Cash Flows'!$B49:$EC49,MATCH('Monthly CF'!AF$6,'Monthly Cash Flows'!$B$13:$EC$13))","v":-564.75243333333344},{"$f":"-INDEX('Monthly Cash Flows'!$B49:$EC49,MATCH('Monthly CF'!AG$6,'Monthly Cash Flows'!$B$13:$EC$13))","v":-564.75243333333344},{"$f":"-INDEX('Monthly Cash Flows'!$B49:$EC49,MATCH('Monthly CF'!AH$6,'Monthly Cash Flows'!$B$13:$EC$13))","v":-564.75243333333344},{"$f":"-INDEX('Monthly Cash Flows'!$B49:$EC49,MATCH('Monthly CF'!AI$6,'Monthly Cash Flows'!$B$13:$EC$13))","v":-564.75243333333344},{"$f":"-INDEX('Monthly Cash Flows'!$B49:$EC49,MATCH('Monthly CF'!AJ$6,'Monthly Cash Flows'!$B$13:$EC$13))","v":-564.75243333333344},{"$f":"-INDEX('Monthly Cash Flows'!$B49:$EC49,MATCH('Monthly CF'!AK$6,'Monthly Cash Flows'!$B$13:$EC$13))","v":-564.75243333333344},{"$f":"-INDEX('Monthly Cash Flows'!$B49:$EC49,MATCH('Monthly CF'!AL$6,'Monthly Cash Flows'!$B$13:$EC$13))","v":-564.75243333333344},{"$f":"-INDEX('Monthly Cash Flows'!$B49:$EC49,MATCH('Monthly CF'!AM$6,'Monthly Cash Flows'!$B$13:$EC$13))","v":-564.75243333333344},{"$f":"-INDEX('Monthly Cash Flows'!$B49:$EC49,MATCH('Monthly CF'!AN$6,'Monthly Cash Flows'!$B$13:$EC$13))","v":-564.75243333333344},{"$f":"-INDEX('Monthly Cash Flows'!$B49:$EC49,MATCH('Monthly CF'!AO$6,'Monthly Cash Flows'!$B$13:$EC$13))","v":-581.69500633333348},{"$f":"-INDEX('Monthly Cash Flows'!$B49:$EC49,MATCH('Monthly CF'!AP$6,'Monthly Cash Flows'!$B$13:$EC$13))","v":-581.69500633333348},{"$f":"-INDEX('Monthly Cash Flows'!$B49:$EC49,MATCH('Monthly CF'!AQ$6,'Monthly Cash Flows'!$B$13:$EC$13))","v":-581.69500633333348},{"$f":"-INDEX('Monthly Cash Flows'!$B49:$EC49,MATCH('Monthly CF'!AR$6,'Monthly Cash Flows'!$B$13:$EC$13))","v":-581.69500633333348},{"$f":"-INDEX('Monthly Cash Flows'!$B49:$EC49,MATCH('Monthly CF'!AS$6,'Monthly Cash Flows'!$B$13:$EC$13))","v":-581.69500633333348},{"$f":"-INDEX('Monthly Cash Flows'!$B49:$EC49,MATCH('Monthly CF'!AT$6,'Monthly Cash Flows'!$B$13:$EC$13))","v":-581.69500633333348},{"$f":"-INDEX('Monthly Cash Flows'!$B49:$EC49,MATCH('Monthly CF'!AU$6,'Monthly Cash Flows'!$B$13:$EC$13))","v":-581.69500633333348},{"$f":"-INDEX('Monthly Cash Flows'!$B49:$EC49,MATCH('Monthly CF'!AV$6,'Monthly Cash Flows'!$B$13:$EC$13))","v":-581.69500633333348},{"$f":"-INDEX('Monthly Cash Flows'!$B49:$EC49,MATCH('Monthly CF'!AW$6,'Monthly Cash Flows'!$B$13:$EC$13))","v":-581.69500633333348},{"$f":"-INDEX('Monthly Cash Flows'!$B49:$EC49,MATCH('Monthly CF'!AX$6,'Monthly Cash Flows'!$B$13:$EC$13))","v":-581.69500633333348},{"$f":"-INDEX('Monthly Cash Flows'!$B49:$EC49,MATCH('Monthly CF'!AY$6,'Monthly Cash Flows'!$B$13:$EC$13))","v":-581.69500633333348},{"$f":"-INDEX('Monthly Cash Flows'!$B49:$EC49,MATCH('Monthly CF'!AZ$6,'Monthly Cash Flows'!$B$13:$EC$13))","v":-581.69500633333348},{"$f":"-INDEX('Monthly Cash Flows'!$B49:$EC49,MATCH('Monthly CF'!BA$6,'Monthly Cash Flows'!$B$13:$EC$13))","v":-599.14585652333346},{"$f":"-INDEX('Monthly Cash Flows'!$B49:$EC49,MATCH('Monthly CF'!BB$6,'Monthly Cash Flows'!$B$13:$EC$13))","v":-599.14585652333346},{"$f":"-INDEX('Monthly Cash Flows'!$B49:$EC49,MATCH('Monthly CF'!BC$6,'Monthly Cash Flows'!$B$13:$EC$13))","v":-599.14585652333346},{"$f":"-INDEX('Monthly Cash Flows'!$B49:$EC49,MATCH('Monthly CF'!BD$6,'Monthly Cash Flows'!$B$13:$EC$13))","v":-599.14585652333346},{"$f":"-INDEX('Monthly Cash Flows'!$B49:$EC49,MATCH('Monthly CF'!BE$6,'Monthly Cash Flows'!$B$13:$EC$13))","v":-599.14585652333346},{"$f":"-INDEX('Monthly Cash Flows'!$B49:$EC49,MATCH('Monthly CF'!BF$6,'Monthly Cash Flows'!$B$13:$EC$13))","v":-599.14585652333346},{"$f":"-INDEX('Monthly Cash Flows'!$B49:$EC49,MATCH('Monthly CF'!BG$6,'Monthly Cash Flows'!$B$13:$EC$13))","v":-599.14585652333346},{"$f":"-INDEX('Monthly Cash Flows'!$B49:$EC49,MATCH('Monthly CF'!BH$6,'Monthly Cash Flows'!$B$13:$EC$13))","v":-599.14585652333346},{"$f":"-INDEX('Monthly Cash Flows'!$B49:$EC49,MATCH('Monthly CF'!BI$6,'Monthly Cash Flows'!$B$13:$EC$13))","v":-599.14585652333346},{"$f":"-INDEX('Monthly Cash Flows'!$B49:$EC49,MATCH('Monthly CF'!BJ$6,'Monthly Cash Flows'!$B$13:$EC$13))","v":-599.14585652333346},{"$f":"-INDEX('Monthly Cash Flows'!$B49:$EC49,MATCH('Monthly CF'!BK$6,'Monthly Cash Flows'!$B$13:$EC$13))","v":-599.14585652333346},{"$f":"-INDEX('Monthly Cash Flows'!$B49:$EC49,MATCH('Monthly CF'!BL$6,'Monthly Cash Flows'!$B$13:$EC$13))","v":-599.14585652333346},{"$f":"-INDEX('Monthly Cash Flows'!$B49:$EC49,MATCH('Monthly CF'!BM$6,'Monthly Cash Flows'!$B$13:$EC$13))","v":-617.12023221903348},{"$f":"-INDEX('Monthly Cash Flows'!$B49:$EC49,MATCH('Monthly CF'!BN$6,'Monthly Cash Flows'!$B$13:$EC$13))","v":-617.12023221903348},{"$f":"-INDEX('Monthly Cash Flows'!$B49:$EC49,MATCH('Monthly CF'!BO$6,'Monthly Cash Flows'!$B$13:$EC$13))","v":-617.12023221903348},{"$f":"-INDEX('Monthly Cash Flows'!$B49:$EC49,MATCH('Monthly CF'!BP$6,'Monthly Cash Flows'!$B$13:$EC$13))","v":-617.12023221903348},{"$f":"-INDEX('Monthly Cash Flows'!$B49:$EC49,MATCH('Monthly CF'!BQ$6,'Monthly Cash Flows'!$B$13:$EC$13))","v":-617.12023221903348},{"$f":"-INDEX('Monthly Cash Flows'!$B49:$EC49,MATCH('Monthly CF'!BR$6,'Monthly Cash Flows'!$B$13:$EC$13))","v":-617.12023221903348},{"$f":"-INDEX('Monthly Cash Flows'!$B49:$EC49,MATCH('Monthly CF'!BS$6,'Monthly Cash Flows'!$B$13:$EC$13))","v":-617.12023221903348},{"$f":"-INDEX('Monthly Cash Flows'!$B49:$EC49,MATCH('Monthly CF'!BT$6,'Monthly Cash Flows'!$B$13:$EC$13))","v":-617.12023221903348},{"$f":"-INDEX('Monthly Cash Flows'!$B49:$EC49,MATCH('Monthly CF'!BU$6,'Monthly Cash Flows'!$B$13:$EC$13))","v":-617.12023221903348},{"$f":"-INDEX('Monthly Cash Flows'!$B49:$EC49,MATCH('Monthly CF'!BV$6,'Monthly Cash Flows'!$B$13:$EC$13))","v":-617.12023221903348},{"$f":"-INDEX('Monthly Cash Flows'!$B49:$EC49,MATCH('Monthly CF'!BW$6,'Monthly Cash Flows'!$B$13:$EC$13))","v":-617.12023221903348},{"$f":"-INDEX('Monthly Cash Flows'!$B49:$EC49,MATCH('Monthly CF'!BX$6,'Monthly Cash Flows'!$B$13:$EC$13))","v":-617.12023221903348},{"$f":"-INDEX('Monthly Cash Flows'!$B49:$EC49,MATCH('Monthly CF'!BY$6,'Monthly Cash Flows'!$B$13:$EC$13))","v":-635.63383918560453},{"$f":"-INDEX('Monthly Cash Flows'!$B49:$EC49,MATCH('Monthly CF'!BZ$6,'Monthly Cash Flows'!$B$13:$EC$13))","v":-635.63383918560453},{"$f":"-INDEX('Monthly Cash Flows'!$B49:$EC49,MATCH('Monthly CF'!CA$6,'Monthly Cash Flows'!$B$13:$EC$13))","v":-635.63383918560453},{"$f":"-INDEX('Monthly Cash Flows'!$B49:$EC49,MATCH('Monthly CF'!CB$6,'Monthly Cash Flows'!$B$13:$EC$13))","v":-635.63383918560453},{"$f":"-INDEX('Monthly Cash Flows'!$B49:$EC49,MATCH('Monthly CF'!CC$6,'Monthly Cash Flows'!$B$13:$EC$13))","v":-635.63383918560453},{"$f":"-INDEX('Monthly Cash Flows'!$B49:$EC49,MATCH('Monthly CF'!CD$6,'Monthly Cash Flows'!$B$13:$EC$13))","v":-635.63383918560453},{"$f":"-INDEX('Monthly Cash Flows'!$B49:$EC49,MATCH('Monthly CF'!CE$6,'Monthly Cash Flows'!$B$13:$EC$13))","v":-635.63383918560453},{"$f":"-INDEX('Monthly Cash Flows'!$B49:$EC49,MATCH('Monthly CF'!CF$6,'Monthly Cash Flows'!$B$13:$EC$13))","v":-635.63383918560453},{"$f":"-INDEX('Monthly Cash Flows'!$B49:$EC49,MATCH('Monthly CF'!CG$6,'Monthly Cash Flows'!$B$13:$EC$13))","v":-635.63383918560453},{"$f":"-INDEX('Monthly Cash Flows'!$B49:$EC49,MATCH('Monthly CF'!CH$6,'Monthly Cash Flows'!$B$13:$EC$13))","v":-635.63383918560453},{"$f":"-INDEX('Monthly Cash Flows'!$B49:$EC49,MATCH('Monthly CF'!CI$6,'Monthly Cash Flows'!$B$13:$EC$13))","v":-635.63383918560453},{"$f":"-INDEX('Monthly Cash Flows'!$B49:$EC49,MATCH('Monthly CF'!CJ$6,'Monthly Cash Flows'!$B$13:$EC$13))","v":-635.63383918560453},{"$f":"-INDEX('Monthly Cash Flows'!$B49:$EC49,MATCH('Monthly CF'!CK$6,'Monthly Cash Flows'!$B$13:$EC$13))","v":-654.70285436117263},{"$f":"-INDEX('Monthly Cash Flows'!$B49:$EC49,MATCH('Monthly CF'!CL$6,'Monthly Cash Flows'!$B$13:$EC$13))","v":-654.70285436117263},{"$f":"-INDEX('Monthly Cash Flows'!$B49:$EC49,MATCH('Monthly CF'!CM$6,'Monthly Cash Flows'!$B$13:$EC$13))","v":-654.70285436117263},{"$f":"-INDEX('Monthly Cash Flows'!$B49:$EC49,MATCH('Monthly CF'!CN$6,'Monthly Cash Flows'!$B$13:$EC$13))","v":-654.70285436117263},{"$f":"-INDEX('Monthly Cash Flows'!$B49:$EC49,MATCH('Monthly CF'!CO$6,'Monthly Cash Flows'!$B$13:$EC$13))","v":-654.70285436117263},{"$f":"-INDEX('Monthly Cash Flows'!$B49:$EC49,MATCH('Monthly CF'!CP$6,'Monthly Cash Flows'!$B$13:$EC$13))","v":-654.70285436117263},{"$f":"-INDEX('Monthly Cash Flows'!$B49:$EC49,MATCH('Monthly CF'!CQ$6,'Monthly Cash Flows'!$B$13:$EC$13))","v":-654.70285436117263},{"$f":"-INDEX('Monthly Cash Flows'!$B49:$EC49,MATCH('Monthly CF'!CR$6,'Monthly Cash Flows'!$B$13:$EC$13))","v":-654.70285436117263},{"$f":"-INDEX('Monthly Cash Flows'!$B49:$EC49,MATCH('Monthly CF'!CS$6,'Monthly Cash Flows'!$B$13:$EC$13))","v":-654.70285436117263},{"$f":"-INDEX('Monthly Cash Flows'!$B49:$EC49,MATCH('Monthly CF'!CT$6,'Monthly Cash Flows'!$B$13:$EC$13))","v":-654.70285436117263},{"$f":"-INDEX('Monthly Cash Flows'!$B49:$EC49,MATCH('Monthly CF'!CU$6,'Monthly Cash Flows'!$B$13:$EC$13))","v":-654.70285436117263},{"$f":"-INDEX('Monthly Cash Flows'!$B49:$EC49,MATCH('Monthly CF'!CV$6,'Monthly Cash Flows'!$B$13:$EC$13))","v":-654.70285436117263},{"$f":"-INDEX('Monthly Cash Flows'!$B49:$EC49,MATCH('Monthly CF'!CW$6,'Monthly Cash Flows'!$B$13:$EC$13))","v":-674.34393999200779},{"$f":"-INDEX('Monthly Cash Flows'!$B49:$EC49,MATCH('Monthly CF'!CX$6,'Monthly Cash Flows'!$B$13:$EC$13))","v":-674.34393999200779},{"$f":"-INDEX('Monthly Cash Flows'!$B49:$EC49,MATCH('Monthly CF'!CY$6,'Monthly Cash Flows'!$B$13:$EC$13))","v":-674.34393999200779},{"$f":"-INDEX('Monthly Cash Flows'!$B49:$EC49,MATCH('Monthly CF'!CZ$6,'Monthly Cash Flows'!$B$13:$EC$13))","v":-674.34393999200779},{"$f":"-INDEX('Monthly Cash Flows'!$B49:$EC49,MATCH('Monthly CF'!DA$6,'Monthly Cash Flows'!$B$13:$EC$13))","v":-674.34393999200779},{"$f":"-INDEX('Monthly Cash Flows'!$B49:$EC49,MATCH('Monthly CF'!DB$6,'Monthly Cash Flows'!$B$13:$EC$13))","v":-674.34393999200779},{"$f":"-INDEX('Monthly Cash Flows'!$B49:$EC49,MATCH('Monthly CF'!DC$6,'Monthly Cash Flows'!$B$13:$EC$13))","v":-674.34393999200779},{"$f":"-INDEX('Monthly Cash Flows'!$B49:$EC49,MATCH('Monthly CF'!DD$6,'Monthly Cash Flows'!$B$13:$EC$13))","v":-674.34393999200779},{"$f":"-INDEX('Monthly Cash Flows'!$B49:$EC49,MATCH('Monthly CF'!DE$6,'Monthly Cash Flows'!$B$13:$EC$13))","v":-674.34393999200779},{"$f":"-INDEX('Monthly Cash Flows'!$B49:$EC49,MATCH('Monthly CF'!DF$6,'Monthly Cash Flows'!$B$13:$EC$13))","v":-674.34393999200779},{"$f":"-INDEX('Monthly Cash Flows'!$B49:$EC49,MATCH('Monthly CF'!DG$6,'Monthly Cash Flows'!$B$13:$EC$13))","v":-674.34393999200779},{"$f":"-INDEX('Monthly Cash Flows'!$B49:$EC49,MATCH('Monthly CF'!DH$6,'Monthly Cash Flows'!$B$13:$EC$13))","v":-674.34393999200779},{"$f":"-INDEX('Monthly Cash Flows'!$B49:$EC49,MATCH('Monthly CF'!DI$6,'Monthly Cash Flows'!$B$13:$EC$13))","v":-694.57425819176808},{"$f":"-INDEX('Monthly Cash Flows'!$B49:$EC49,MATCH('Monthly CF'!DJ$6,'Monthly Cash Flows'!$B$13:$EC$13))","v":-694.57425819176808},{"$f":"-INDEX('Monthly Cash Flows'!$B49:$EC49,MATCH('Monthly CF'!DK$6,'Monthly Cash Flows'!$B$13:$EC$13))","v":-694.57425819176808},{"$f":"-INDEX('Monthly Cash Flows'!$B49:$EC49,MATCH('Monthly CF'!DL$6,'Monthly Cash Flows'!$B$13:$EC$13))","v":-694.57425819176808},{"$f":"-INDEX('Monthly Cash Flows'!$B49:$EC49,MATCH('Monthly CF'!DM$6,'Monthly Cash Flows'!$B$13:$EC$13))","v":-694.57425819176808},{"$f":"-INDEX('Monthly Cash Flows'!$B49:$EC49,MATCH('Monthly CF'!DN$6,'Monthly Cash Flows'!$B$13:$EC$13))","v":-694.57425819176808},{"$f":"-INDEX('Monthly Cash Flows'!$B49:$EC49,MATCH('Monthly CF'!DO$6,'Monthly Cash Flows'!$B$13:$EC$13))","v":-694.57425819176808},{"$f":"-INDEX('Monthly Cash Flows'!$B49:$EC49,MATCH('Monthly CF'!DP$6,'Monthly Cash Flows'!$B$13:$EC$13))","v":-694.57425819176808},{"$f":"-INDEX('Monthly Cash Flows'!$B49:$EC49,MATCH('Monthly CF'!DQ$6,'Monthly Cash Flows'!$B$13:$EC$13))","v":-694.57425819176808},{"$f":"-INDEX('Monthly Cash Flows'!$B49:$EC49,MATCH('Monthly CF'!DR$6,'Monthly Cash Flows'!$B$13:$EC$13))","v":-694.57425819176808},{"$f":"-INDEX('Monthly Cash Flows'!$B49:$EC49,MATCH('Monthly CF'!DS$6,'Monthly Cash Flows'!$B$13:$EC$13))","v":-694.57425819176808},{"$f":"-INDEX('Monthly Cash Flows'!$B49:$EC49,MATCH('Monthly CF'!DT$6,'Monthly Cash Flows'!$B$13:$EC$13))","v":-694.57425819176808},{"$f":"-INDEX('Monthly Cash Flows'!$B49:$EC49,MATCH('Monthly CF'!DU$6,'Monthly Cash Flows'!$B$13:$EC$13))","v":-715.41148593752109},{"$f":"-INDEX('Monthly Cash Flows'!$B49:$EC49,MATCH('Monthly CF'!DV$6,'Monthly Cash Flows'!$B$13:$EC$13))","v":-715.41148593752109},{"$f":"-INDEX('Monthly Cash Flows'!$B49:$EC49,MATCH('Monthly CF'!DW$6,'Monthly Cash Flows'!$B$13:$EC$13))","v":-715.41148593752109},{"$f":"-INDEX('Monthly Cash Flows'!$B49:$EC49,MATCH('Monthly CF'!DX$6,'Monthly Cash Flows'!$B$13:$EC$13))","v":-715.41148593752109},{"$f":"-INDEX('Monthly Cash Flows'!$B49:$EC49,MATCH('Monthly CF'!DY$6,'Monthly Cash Flows'!$B$13:$EC$13))","v":-715.41148593752109},{"$f":"-INDEX('Monthly Cash Flows'!$B49:$EC49,MATCH('Monthly CF'!DZ$6,'Monthly Cash Flows'!$B$13:$EC$13))","v":-715.41148593752109},{"$f":"-INDEX('Monthly Cash Flows'!$B49:$EC49,MATCH('Monthly CF'!EA$6,'Monthly Cash Flows'!$B$13:$EC$13))","v":-715.41148593752109},{"$f":"-INDEX('Monthly Cash Flows'!$B49:$EC49,MATCH('Monthly CF'!EB$6,'Monthly Cash Flows'!$B$13:$EC$13))","v":-715.41148593752109},{"$f":"-INDEX('Monthly Cash Flows'!$B49:$EC49,MATCH('Monthly CF'!EC$6,'Monthly Cash Flows'!$B$13:$EC$13))","v":-715.41148593752109},{"$f":"-INDEX('Monthly Cash Flows'!$B49:$EC49,MATCH('Monthly CF'!ED$6,'Monthly Cash Flows'!$B$13:$EC$13))","v":-715.41148593752109},{"$f":"-INDEX('Monthly Cash Flows'!$B49:$EC49,MATCH('Monthly CF'!EE$6,'Monthly Cash Flows'!$B$13:$EC$13))","v":-715.41148593752109},{"$f":"-INDEX('Monthly Cash Flows'!$B49:$EC49,MATCH('Monthly CF'!EF$6,'Monthly Cash Flows'!$B$13:$EC$13))","v":-715.41148593752109},{"$f":"-INDEX('Monthly Cash Flows'!$B49:$EC49,MATCH('Monthly CF'!EG$6,'Monthly Cash Flows'!$B$13:$EC$13))","v":-715.41148593752109}]
[null,{"$f":"+'Monthly Cash Flows'!A50","v":"Electricity"},null,null,null,{"$f":"-INDEX('Monthly Cash Flows'!$B50:$EC50,MATCH('Monthly CF'!F$6,'Monthly Cash Flows'!$B$13:$EC$13))","v":-1865.5833333333333},{"$f":"-INDEX('Monthly Cash Flows'!$B50:$EC50,MATCH('Monthly CF'!G$6,'Monthly Cash Flows'!$B$13:$EC$13))","v":-1865.5833333333333},{"$f":"-INDEX('Monthly Cash Flows'!$B50:$EC50,MATCH('Monthly CF'!H$6,'Monthly Cash Flows'!$B$13:$EC$13))","v":-1865.5833333333333},{"$f":"-INDEX('Monthly Cash Flows'!$B50:$EC50,MATCH('Monthly CF'!I$6,'Monthly Cash Flows'!$B$13:$EC$13))","v":-1865.5833333333333},{"$f":"-INDEX('Monthly Cash Flows'!$B50:$EC50,MATCH('Monthly CF'!J$6,'Monthly Cash Flows'!$B$13:$EC$13))","v":-1865.5833333333333},{"$f":"-INDEX('Monthly Cash Flows'!$B50:$EC50,MATCH('Monthly CF'!K$6,'Monthly Cash Flows'!$B$13:$EC$13))","v":-1865.5833333333333},{"$f":"-INDEX('Monthly Cash Flows'!$B50:$EC50,MATCH('Monthly CF'!L$6,'Monthly Cash Flows'!$B$13:$EC$13))","v":-1865.5833333333333},{"$f":"-INDEX('Monthly Cash Flows'!$B50:$EC50,MATCH('Monthly CF'!M$6,'Monthly Cash Flows'!$B$13:$EC$13))","v":-1865.5833333333333},{"$f":"-INDEX('Monthly Cash Flows'!$B50:$EC50,MATCH('Monthly CF'!N$6,'Monthly Cash Flows'!$B$13:$EC$13))","v":-1865.5833333333333},{"$f":"-INDEX('Monthly Cash Flows'!$B50:$EC50,MATCH('Monthly CF'!O$6,'Monthly Cash Flows'!$B$13:$EC$13))","v":-1865.5833333333333},{"$f":"-INDEX('Monthly Cash Flows'!$B50:$EC50,MATCH('Monthly CF'!P$6,'Monthly Cash Flows'!$B$13:$EC$13))","v":-1865.5833333333333},{"$f":"-INDEX('Monthly Cash Flows'!$B50:$EC50,MATCH('Monthly CF'!Q$6,'Monthly Cash Flows'!$B$13:$EC$13))","v":-1921.5508333333332},{"$f":"-INDEX('Monthly Cash Flows'!$B50:$EC50,MATCH('Monthly CF'!R$6,'Monthly Cash Flows'!$B$13:$EC$13))","v":-1921.5508333333332},{"$f":"-INDEX('Monthly Cash Flows'!$B50:$EC50,MATCH('Monthly CF'!S$6,'Monthly Cash Flows'!$B$13:$EC$13))","v":-1921.5508333333332},{"$f":"-INDEX('Monthly Cash Flows'!$B50:$EC50,MATCH('Monthly CF'!T$6,'Monthly Cash Flows'!$B$13:$EC$13))","v":-1921.5508333333332},{"$f":"-INDEX('Monthly Cash Flows'!$B50:$EC50,MATCH('Monthly CF'!U$6,'Monthly Cash Flows'!$B$13:$EC$13))","v":-1921.5508333333332},{"$f":"-INDEX('Monthly Cash Flows'!$B50:$EC50,MATCH('Monthly CF'!V$6,'Monthly Cash Flows'!$B$13:$EC$13))","v":-1921.5508333333332},{"$f":"-INDEX('Monthly Cash Flows'!$B50:$EC50,MATCH('Monthly CF'!W$6,'Monthly Cash Flows'!$B$13:$EC$13))","v":-1921.5508333333332},{"$f":"-INDEX('Monthly Cash Flows'!$B50:$EC50,MATCH('Monthly CF'!X$6,'Monthly Cash Flows'!$B$13:$EC$13))","v":-1921.5508333333332},{"$f":"-INDEX('Monthly Cash Flows'!$B50:$EC50,MATCH('Monthly CF'!Y$6,'Monthly Cash Flows'!$B$13:$EC$13))","v":-1921.5508333333332},{"$f":"-INDEX('Monthly Cash Flows'!$B50:$EC50,MATCH('Monthly CF'!Z$6,'Monthly Cash Flows'!$B$13:$EC$13))","v":-1921.5508333333332},{"$f":"-INDEX('Monthly Cash Flows'!$B50:$EC50,MATCH('Monthly CF'!AA$6,'Monthly Cash Flows'!$B$13:$EC$13))","v":-1921.5508333333332},{"$f":"-INDEX('Monthly Cash Flows'!$B50:$EC50,MATCH('Monthly CF'!AB$6,'Monthly Cash Flows'!$B$13:$EC$13))","v":-1921.5508333333332},{"$f":"-INDEX('Monthly Cash Flows'!$B50:$EC50,MATCH('Monthly CF'!AC$6,'Monthly Cash Flows'!$B$13:$EC$13))","v":-1979.1973583333333},{"$f":"-INDEX('Monthly Cash Flows'!$B50:$EC50,MATCH('Monthly CF'!AD$6,'Monthly Cash Flows'!$B$13:$EC$13))","v":-1979.1973583333333},{"$f":"-INDEX('Monthly Cash Flows'!$B50:$EC50,MATCH('Monthly CF'!AE$6,'Monthly Cash Flows'!$B$13:$EC$13))","v":-1979.1973583333333},{"$f":"-INDEX('Monthly Cash Flows'!$B50:$EC50,MATCH('Monthly CF'!AF$6,'Monthly Cash Flows'!$B$13:$EC$13))","v":-1979.1973583333333},{"$f":"-INDEX('Monthly Cash Flows'!$B50:$EC50,MATCH('Monthly CF'!AG$6,'Monthly Cash Flows'!$B$13:$EC$13))","v":-1979.1973583333333},{"$f":"-INDEX('Monthly Cash Flows'!$B50:$EC50,MATCH('Monthly CF'!AH$6,'Monthly Cash Flows'!$B$13:$EC$13))","v":-1979.1973583333333},{"$f":"-INDEX('Monthly Cash Flows'!$B50:$EC50,MATCH('Monthly CF'!AI$6,'Monthly Cash Flows'!$B$13:$EC$13))","v":-1979.1973583333333},{"$f":"-INDEX('Monthly Cash Flows'!$B50:$EC50,MATCH('Monthly CF'!AJ$6,'Monthly Cash Flows'!$B$13:$EC$13))","v":-1979.1973583333333},{"$f":"-INDEX('Monthly Cash Flows'!$B50:$EC50,MATCH('Monthly CF'!AK$6,'Monthly Cash Flows'!$B$13:$EC$13))","v":-1979.1973583333333},{"$f":"-INDEX('Monthly Cash Flows'!$B50:$EC50,MATCH('Monthly CF'!AL$6,'Monthly Cash Flows'!$B$13:$EC$13))","v":-1979.1973583333333},{"$f":"-INDEX('Monthly Cash Flows'!$B50:$EC50,MATCH('Monthly CF'!AM$6,'Monthly Cash Flows'!$B$13:$EC$13))","v":-1979.1973583333333},{"$f":"-INDEX('Monthly Cash Flows'!$B50:$EC50,MATCH('Monthly CF'!AN$6,'Monthly Cash Flows'!$B$13:$EC$13))","v":-1979.1973583333333},{"$f":"-INDEX('Monthly Cash Flows'!$B50:$EC50,MATCH('Monthly CF'!AO$6,'Monthly Cash Flows'!$B$13:$EC$13))","v":-2038.5732790833333},{"$f":"-INDEX('Monthly Cash Flows'!$B50:$EC50,MATCH('Monthly CF'!AP$6,'Monthly Cash Flows'!$B$13:$EC$13))","v":-2038.5732790833333},{"$f":"-INDEX('Monthly Cash Flows'!$B50:$EC50,MATCH('Monthly CF'!AQ$6,'Monthly Cash Flows'!$B$13:$EC$13))","v":-2038.5732790833333},{"$f":"-INDEX('Monthly Cash Flows'!$B50:$EC50,MATCH('Monthly CF'!AR$6,'Monthly Cash Flows'!$B$13:$EC$13))","v":-2038.5732790833333},{"$f":"-INDEX('Monthly Cash Flows'!$B50:$EC50,MATCH('Monthly CF'!AS$6,'Monthly Cash Flows'!$B$13:$EC$13))","v":-2038.5732790833333},{"$f":"-INDEX('Monthly Cash Flows'!$B50:$EC50,MATCH('Monthly CF'!AT$6,'Monthly Cash Flows'!$B$13:$EC$13))","v":-2038.5732790833333},{"$f":"-INDEX('Monthly Cash Flows'!$B50:$EC50,MATCH('Monthly CF'!AU$6,'Monthly Cash Flows'!$B$13:$EC$13))","v":-2038.5732790833333},{"$f":"-INDEX('Monthly Cash Flows'!$B50:$EC50,MATCH('Monthly CF'!AV$6,'Monthly Cash Flows'!$B$13:$EC$13))","v":-2038.5732790833333},{"$f":"-INDEX('Monthly Cash Flows'!$B50:$EC50,MATCH('Monthly CF'!AW$6,'Monthly Cash Flows'!$B$13:$EC$13))","v":-2038.5732790833333},{"$f":"-INDEX('Monthly Cash Flows'!$B50:$EC50,MATCH('Monthly CF'!AX$6,'Monthly Cash Flows'!$B$13:$EC$13))","v":-2038.5732790833333},{"$f":"-INDEX('Monthly Cash Flows'!$B50:$EC50,MATCH('Monthly CF'!AY$6,'Monthly Cash Flows'!$B$13:$EC$13))","v":-2038.5732790833333},{"$f":"-INDEX('Monthly Cash Flows'!$B50:$EC50,MATCH('Monthly CF'!AZ$6,'Monthly Cash Flows'!$B$13:$EC$13))","v":-2038.5732790833333},{"$f":"-INDEX('Monthly Cash Flows'!$B50:$EC50,MATCH('Monthly CF'!BA$6,'Monthly Cash Flows'!$B$13:$EC$13))","v":-2099.7304774558334},{"$f":"-INDEX('Monthly Cash Flows'!$B50:$EC50,MATCH('Monthly CF'!BB$6,'Monthly Cash Flows'!$B$13:$EC$13))","v":-2099.7304774558334},{"$f":"-INDEX('Monthly Cash Flows'!$B50:$EC50,MATCH('Monthly CF'!BC$6,'Monthly Cash Flows'!$B$13:$EC$13))","v":-2099.7304774558334},{"$f":"-INDEX('Monthly Cash Flows'!$B50:$EC50,MATCH('Monthly CF'!BD$6,'Monthly Cash Flows'!$B$13:$EC$13))","v":-2099.7304774558334},{"$f":"-INDEX('Monthly Cash Flows'!$B50:$EC50,MATCH('Monthly CF'!BE$6,'Monthly Cash Flows'!$B$13:$EC$13))","v":-2099.7304774558334},{"$f":"-INDEX('Monthly Cash Flows'!$B50:$EC50,MATCH('Monthly CF'!BF$6,'Monthly Cash Flows'!$B$13:$EC$13))","v":-2099.7304774558334},{"$f":"-INDEX('Monthly Cash Flows'!$B50:$EC50,MATCH('Monthly CF'!BG$6,'Monthly Cash Flows'!$B$13:$EC$13))","v":-2099.7304774558334},{"$f":"-INDEX('Monthly Cash Flows'!$B50:$EC50,MATCH('Monthly CF'!BH$6,'Monthly Cash Flows'!$B$13:$EC$13))","v":-2099.7304774558334},{"$f":"-INDEX('Monthly Cash Flows'!$B50:$EC50,MATCH('Monthly CF'!BI$6,'Monthly Cash Flows'!$B$13:$EC$13))","v":-2099.7304774558334},{"$f":"-INDEX('Monthly Cash Flows'!$B50:$EC50,MATCH('Monthly CF'!BJ$6,'Monthly Cash Flows'!$B$13:$EC$13))","v":-2099.7304774558334},{"$f":"-INDEX('Monthly Cash Flows'!$B50:$EC50,MATCH('Monthly CF'!BK$6,'Monthly Cash Flows'!$B$13:$EC$13))","v":-2099.7304774558334},{"$f":"-INDEX('Monthly Cash Flows'!$B50:$EC50,MATCH('Monthly CF'!BL$6,'Monthly Cash Flows'!$B$13:$EC$13))","v":-2099.7304774558334},{"$f":"-INDEX('Monthly Cash Flows'!$B50:$EC50,MATCH('Monthly CF'!BM$6,'Monthly Cash Flows'!$B$13:$EC$13))","v":-2162.7223917795086},{"$f":"-INDEX('Monthly Cash Flows'!$B50:$EC50,MATCH('Monthly CF'!BN$6,'Monthly Cash Flows'!$B$13:$EC$13))","v":-2162.7223917795086},{"$f":"-INDEX('Monthly Cash Flows'!$B50:$EC50,MATCH('Monthly CF'!BO$6,'Monthly Cash Flows'!$B$13:$EC$13))","v":-2162.7223917795086},{"$f":"-INDEX('Monthly Cash Flows'!$B50:$EC50,MATCH('Monthly CF'!BP$6,'Monthly Cash Flows'!$B$13:$EC$13))","v":-2162.7223917795086},{"$f":"-INDEX('Monthly Cash Flows'!$B50:$EC50,MATCH('Monthly CF'!BQ$6,'Monthly Cash Flows'!$B$13:$EC$13))","v":-2162.7223917795086},{"$f":"-INDEX('Monthly Cash Flows'!$B50:$EC50,MATCH('Monthly CF'!BR$6,'Monthly Cash Flows'!$B$13:$EC$13))","v":-2162.7223917795086},{"$f":"-INDEX('Monthly Cash Flows'!$B50:$EC50,MATCH('Monthly CF'!BS$6,'Monthly Cash Flows'!$B$13:$EC$13))","v":-2162.7223917795086},{"$f":"-INDEX('Monthly Cash Flows'!$B50:$EC50,MATCH('Monthly CF'!BT$6,'Monthly Cash Flows'!$B$13:$EC$13))","v":-2162.7223917795086},{"$f":"-INDEX('Monthly Cash Flows'!$B50:$EC50,MATCH('Monthly CF'!BU$6,'Monthly Cash Flows'!$B$13:$EC$13))","v":-2162.7223917795086},{"$f":"-INDEX('Monthly Cash Flows'!$B50:$EC50,MATCH('Monthly CF'!BV$6,'Monthly Cash Flows'!$B$13:$EC$13))","v":-2162.7223917795086},{"$f":"-INDEX('Monthly Cash Flows'!$B50:$EC50,MATCH('Monthly CF'!BW$6,'Monthly Cash Flows'!$B$13:$EC$13))","v":-2162.7223917795086},{"$f":"-INDEX('Monthly Cash Flows'!$B50:$EC50,MATCH('Monthly CF'!BX$6,'Monthly Cash Flows'!$B$13:$EC$13))","v":-2162.7223917795086},{"$f":"-INDEX('Monthly Cash Flows'!$B50:$EC50,MATCH('Monthly CF'!BY$6,'Monthly Cash Flows'!$B$13:$EC$13))","v":-2227.6040635328941},{"$f":"-INDEX('Monthly Cash Flows'!$B50:$EC50,MATCH('Monthly CF'!BZ$6,'Monthly Cash Flows'!$B$13:$EC$13))","v":-2227.6040635328941},{"$f":"-INDEX('Monthly Cash Flows'!$B50:$EC50,MATCH('Monthly CF'!CA$6,'Monthly Cash Flows'!$B$13:$EC$13))","v":-2227.6040635328941},{"$f":"-INDEX('Monthly Cash Flows'!$B50:$EC50,MATCH('Monthly CF'!CB$6,'Monthly Cash Flows'!$B$13:$EC$13))","v":-2227.6040635328941},{"$f":"-INDEX('Monthly Cash Flows'!$B50:$EC50,MATCH('Monthly CF'!CC$6,'Monthly Cash Flows'!$B$13:$EC$13))","v":-2227.6040635328941},{"$f":"-INDEX('Monthly Cash Flows'!$B50:$EC50,MATCH('Monthly CF'!CD$6,'Monthly Cash Flows'!$B$13:$EC$13))","v":-2227.6040635328941},{"$f":"-INDEX('Monthly Cash Flows'!$B50:$EC50,MATCH('Monthly CF'!CE$6,'Monthly Cash Flows'!$B$13:$EC$13))","v":-2227.6040635328941},{"$f":"-INDEX('Monthly Cash Flows'!$B50:$EC50,MATCH('Monthly CF'!CF$6,'Monthly Cash Flows'!$B$13:$EC$13))","v":-2227.6040635328941},{"$f":"-INDEX('Monthly Cash Flows'!$B50:$EC50,MATCH('Monthly CF'!CG$6,'Monthly Cash Flows'!$B$13:$EC$13))","v":-2227.6040635328941},{"$f":"-INDEX('Monthly Cash Flows'!$B50:$EC50,MATCH('Monthly CF'!CH$6,'Monthly Cash Flows'!$B$13:$EC$13))","v":-2227.6040635328941},{"$f":"-INDEX('Monthly Cash Flows'!$B50:$EC50,MATCH('Monthly CF'!CI$6,'Monthly Cash Flows'!$B$13:$EC$13))","v":-2227.6040635328941},{"$f":"-INDEX('Monthly Cash Flows'!$B50:$EC50,MATCH('Monthly CF'!CJ$6,'Monthly Cash Flows'!$B$13:$EC$13))","v":-2227.6040635328941},{"$f":"-INDEX('Monthly Cash Flows'!$B50:$EC50,MATCH('Monthly CF'!CK$6,'Monthly Cash Flows'!$B$13:$EC$13))","v":-2294.4321854388809},{"$f":"-INDEX('Monthly Cash Flows'!$B50:$EC50,MATCH('Monthly CF'!CL$6,'Monthly Cash Flows'!$B$13:$EC$13))","v":-2294.4321854388809},{"$f":"-INDEX('Monthly Cash Flows'!$B50:$EC50,MATCH('Monthly CF'!CM$6,'Monthly Cash Flows'!$B$13:$EC$13))","v":-2294.4321854388809},{"$f":"-INDEX('Monthly Cash Flows'!$B50:$EC50,MATCH('Monthly CF'!CN$6,'Monthly Cash Flows'!$B$13:$EC$13))","v":-2294.4321854388809},{"$f":"-INDEX('Monthly Cash Flows'!$B50:$EC50,MATCH('Monthly CF'!CO$6,'Monthly Cash Flows'!$B$13:$EC$13))","v":-2294.4321854388809},{"$f":"-INDEX('Monthly Cash Flows'!$B50:$EC50,MATCH('Monthly CF'!CP$6,'Monthly Cash Flows'!$B$13:$EC$13))","v":-2294.4321854388809},{"$f":"-INDEX('Monthly Cash Flows'!$B50:$EC50,MATCH('Monthly CF'!CQ$6,'Monthly Cash Flows'!$B$13:$EC$13))","v":-2294.4321854388809},{"$f":"-INDEX('Monthly Cash Flows'!$B50:$EC50,MATCH('Monthly CF'!CR$6,'Monthly Cash Flows'!$B$13:$EC$13))","v":-2294.4321854388809},{"$f":"-INDEX('Monthly Cash Flows'!$B50:$EC50,MATCH('Monthly CF'!CS$6,'Monthly Cash Flows'!$B$13:$EC$13))","v":-2294.4321854388809},{"$f":"-INDEX('Monthly Cash Flows'!$B50:$EC50,MATCH('Monthly CF'!CT$6,'Monthly Cash Flows'!$B$13:$EC$13))","v":-2294.4321854388809},{"$f":"-INDEX('Monthly Cash Flows'!$B50:$EC50,MATCH('Monthly CF'!CU$6,'Monthly Cash Flows'!$B$13:$EC$13))","v":-2294.4321854388809},{"$f":"-INDEX('Monthly Cash Flows'!$B50:$EC50,MATCH('Monthly CF'!CV$6,'Monthly Cash Flows'!$B$13:$EC$13))","v":-2294.4321854388809},{"$f":"-INDEX('Monthly Cash Flows'!$B50:$EC50,MATCH('Monthly CF'!CW$6,'Monthly Cash Flows'!$B$13:$EC$13))","v":-2363.2651510020473},{"$f":"-INDEX('Monthly Cash Flows'!$B50:$EC50,MATCH('Monthly CF'!CX$6,'Monthly Cash Flows'!$B$13:$EC$13))","v":-2363.2651510020473},{"$f":"-INDEX('Monthly Cash Flows'!$B50:$EC50,MATCH('Monthly CF'!CY$6,'Monthly Cash Flows'!$B$13:$EC$13))","v":-2363.2651510020473},{"$f":"-INDEX('Monthly Cash Flows'!$B50:$EC50,MATCH('Monthly CF'!CZ$6,'Monthly Cash Flows'!$B$13:$EC$13))","v":-2363.2651510020473},{"$f":"-INDEX('Monthly Cash Flows'!$B50:$EC50,MATCH('Monthly CF'!DA$6,'Monthly Cash Flows'!$B$13:$EC$13))","v":-2363.2651510020473},{"$f":"-INDEX('Monthly Cash Flows'!$B50:$EC50,MATCH('Monthly CF'!DB$6,'Monthly Cash Flows'!$B$13:$EC$13))","v":-2363.2651510020473},{"$f":"-INDEX('Monthly Cash Flows'!$B50:$EC50,MATCH('Monthly CF'!DC$6,'Monthly Cash Flows'!$B$13:$EC$13))","v":-2363.2651510020473},{"$f":"-INDEX('Monthly Cash Flows'!$B50:$EC50,MATCH('Monthly CF'!DD$6,'Monthly Cash Flows'!$B$13:$EC$13))","v":-2363.2651510020473},{"$f":"-INDEX('Monthly Cash Flows'!$B50:$EC50,MATCH('Monthly CF'!DE$6,'Monthly Cash Flows'!$B$13:$EC$13))","v":-2363.2651510020473},{"$f":"-INDEX('Monthly Cash Flows'!$B50:$EC50,MATCH('Monthly CF'!DF$6,'Monthly Cash Flows'!$B$13:$EC$13))","v":-2363.2651510020473},{"$f":"-INDEX('Monthly Cash Flows'!$B50:$EC50,MATCH('Monthly CF'!DG$6,'Monthly Cash Flows'!$B$13:$EC$13))","v":-2363.2651510020473},{"$f":"-INDEX('Monthly Cash Flows'!$B50:$EC50,MATCH('Monthly CF'!DH$6,'Monthly Cash Flows'!$B$13:$EC$13))","v":-2363.2651510020473},{"$f":"-INDEX('Monthly Cash Flows'!$B50:$EC50,MATCH('Monthly CF'!DI$6,'Monthly Cash Flows'!$B$13:$EC$13))","v":-2434.1631055321086},{"$f":"-INDEX('Monthly Cash Flows'!$B50:$EC50,MATCH('Monthly CF'!DJ$6,'Monthly Cash Flows'!$B$13:$EC$13))","v":-2434.1631055321086},{"$f":"-INDEX('Monthly Cash Flows'!$B50:$EC50,MATCH('Monthly CF'!DK$6,'Monthly Cash Flows'!$B$13:$EC$13))","v":-2434.1631055321086},{"$f":"-INDEX('Monthly Cash Flows'!$B50:$EC50,MATCH('Monthly CF'!DL$6,'Monthly Cash Flows'!$B$13:$EC$13))","v":-2434.1631055321086},{"$f":"-INDEX('Monthly Cash Flows'!$B50:$EC50,MATCH('Monthly CF'!DM$6,'Monthly Cash Flows'!$B$13:$EC$13))","v":-2434.1631055321086},{"$f":"-INDEX('Monthly Cash Flows'!$B50:$EC50,MATCH('Monthly CF'!DN$6,'Monthly Cash Flows'!$B$13:$EC$13))","v":-2434.1631055321086},{"$f":"-INDEX('Monthly Cash Flows'!$B50:$EC50,MATCH('Monthly CF'!DO$6,'Monthly Cash Flows'!$B$13:$EC$13))","v":-2434.1631055321086},{"$f":"-INDEX('Monthly Cash Flows'!$B50:$EC50,MATCH('Monthly CF'!DP$6,'Monthly Cash Flows'!$B$13:$EC$13))","v":-2434.1631055321086},{"$f":"-INDEX('Monthly Cash Flows'!$B50:$EC50,MATCH('Monthly CF'!DQ$6,'Monthly Cash Flows'!$B$13:$EC$13))","v":-2434.1631055321086},{"$f":"-INDEX('Monthly Cash Flows'!$B50:$EC50,MATCH('Monthly CF'!DR$6,'Monthly Cash Flows'!$B$13:$EC$13))","v":-2434.1631055321086},{"$f":"-INDEX('Monthly Cash Flows'!$B50:$EC50,MATCH('Monthly CF'!DS$6,'Monthly Cash Flows'!$B$13:$EC$13))","v":-2434.1631055321086},{"$f":"-INDEX('Monthly Cash Flows'!$B50:$EC50,MATCH('Monthly CF'!DT$6,'Monthly Cash Flows'!$B$13:$EC$13))","v":-2434.1631055321086},{"$f":"-INDEX('Monthly Cash Flows'!$B50:$EC50,MATCH('Monthly CF'!DU$6,'Monthly Cash Flows'!$B$13:$EC$13))","v":-2507.1879986980721},{"$f":"-INDEX('Monthly Cash Flows'!$B50:$EC50,MATCH('Monthly CF'!DV$6,'Monthly Cash Flows'!$B$13:$EC$13))","v":-2507.1879986980721},{"$f":"-INDEX('Monthly Cash Flows'!$B50:$EC50,MATCH('Monthly CF'!DW$6,'Monthly Cash Flows'!$B$13:$EC$13))","v":-2507.1879986980721},{"$f":"-INDEX('Monthly Cash Flows'!$B50:$EC50,MATCH('Monthly CF'!DX$6,'Monthly Cash Flows'!$B$13:$EC$13))","v":-2507.1879986980721},{"$f":"-INDEX('Monthly Cash Flows'!$B50:$EC50,MATCH('Monthly CF'!DY$6,'Monthly Cash Flows'!$B$13:$EC$13))","v":-2507.1879986980721},{"$f":"-INDEX('Monthly Cash Flows'!$B50:$EC50,MATCH('Monthly CF'!DZ$6,'Monthly Cash Flows'!$B$13:$EC$13))","v":-2507.1879986980721},{"$f":"-INDEX('Monthly Cash Flows'!$B50:$EC50,MATCH('Monthly CF'!EA$6,'Monthly Cash Flows'!$B$13:$EC$13))","v":-2507.1879986980721},{"$f":"-INDEX('Monthly Cash Flows'!$B50:$EC50,MATCH('Monthly CF'!EB$6,'Monthly Cash Flows'!$B$13:$EC$13))","v":-2507.1879986980721},{"$f":"-INDEX('Monthly Cash Flows'!$B50:$EC50,MATCH('Monthly CF'!EC$6,'Monthly Cash Flows'!$B$13:$EC$13))","v":-2507.1879986980721},{"$f":"-INDEX('Monthly Cash Flows'!$B50:$EC50,MATCH('Monthly CF'!ED$6,'Monthly Cash Flows'!$B$13:$EC$13))","v":-2507.1879986980721},{"$f":"-INDEX('Monthly Cash Flows'!$B50:$EC50,MATCH('Monthly CF'!EE$6,'Monthly Cash Flows'!$B$13:$EC$13))","v":-2507.1879986980721},{"$f":"-INDEX('Monthly Cash Flows'!$B50:$EC50,MATCH('Monthly CF'!EF$6,'Monthly Cash Flows'!$B$13:$EC$13))","v":-2507.1879986980721},{"$f":"-INDEX('Monthly Cash Flows'!$B50:$EC50,MATCH('Monthly CF'!EG$6,'Monthly Cash Flows'!$B$13:$EC$13))","v":-2507.1879986980721}]
[null,{"$f":"+'Monthly Cash Flows'!A51","v":"Landscaping"},null,null,null,{"$f":"-INDEX('Monthly Cash Flows'!$B51:$EC51,MATCH('Monthly CF'!F$6,'Monthly Cash Flows'!$B$13:$EC$13))","v":-895.41666666666663},{"$f":"-INDEX('Monthly Cash Flows'!$B51:$EC51,MATCH('Monthly CF'!G$6,'Monthly Cash Flows'!$B$13:$EC$13))","v":-895.41666666666663},{"$f":"-INDEX('Monthly Cash Flows'!$B51:$EC51,MATCH('Monthly CF'!H$6,'Monthly Cash Flows'!$B$13:$EC$13))","v":-895.41666666666663},{"$f":"-INDEX('Monthly Cash Flows'!$B51:$EC51,MATCH('Monthly CF'!I$6,'Monthly Cash Flows'!$B$13:$EC$13))","v":-895.41666666666663},{"$f":"-INDEX('Monthly Cash Flows'!$B51:$EC51,MATCH('Monthly CF'!J$6,'Monthly Cash Flows'!$B$13:$EC$13))","v":-895.41666666666663},{"$f":"-INDEX('Monthly Cash Flows'!$B51:$EC51,MATCH('Monthly CF'!K$6,'Monthly Cash Flows'!$B$13:$EC$13))","v":-895.41666666666663},{"$f":"-INDEX('Monthly Cash Flows'!$B51:$EC51,MATCH('Monthly CF'!L$6,'Monthly Cash Flows'!$B$13:$EC$13))","v":-895.41666666666663},{"$f":"-INDEX('Monthly Cash Flows'!$B51:$EC51,MATCH('Monthly CF'!M$6,'Monthly Cash Flows'!$B$13:$EC$13))","v":-895.41666666666663},{"$f":"-INDEX('Monthly Cash Flows'!$B51:$EC51,MATCH('Monthly CF'!N$6,'Monthly Cash Flows'!$B$13:$EC$13))","v":-895.41666666666663},{"$f":"-INDEX('Monthly Cash Flows'!$B51:$EC51,MATCH('Monthly CF'!O$6,'Monthly Cash Flows'!$B$13:$EC$13))","v":-895.41666666666663},{"$f":"-INDEX('Monthly Cash Flows'!$B51:$EC51,MATCH('Monthly CF'!P$6,'Monthly Cash Flows'!$B$13:$EC$13))","v":-895.41666666666663},{"$f":"-INDEX('Monthly Cash Flows'!$B51:$EC51,MATCH('Monthly CF'!Q$6,'Monthly Cash Flows'!$B$13:$EC$13))","v":-922.2791666666667},{"$f":"-INDEX('Monthly Cash Flows'!$B51:$EC51,MATCH('Monthly CF'!R$6,'Monthly Cash Flows'!$B$13:$EC$13))","v":-922.2791666666667},{"$f":"-INDEX('Monthly Cash Flows'!$B51:$EC51,MATCH('Monthly CF'!S$6,'Monthly Cash Flows'!$B$13:$EC$13))","v":-922.2791666666667},{"$f":"-INDEX('Monthly Cash Flows'!$B51:$EC51,MATCH('Monthly CF'!T$6,'Monthly Cash Flows'!$B$13:$EC$13))","v":-922.2791666666667},{"$f":"-INDEX('Monthly Cash Flows'!$B51:$EC51,MATCH('Monthly CF'!U$6,'Monthly Cash Flows'!$B$13:$EC$13))","v":-922.2791666666667},{"$f":"-INDEX('Monthly Cash Flows'!$B51:$EC51,MATCH('Monthly CF'!V$6,'Monthly Cash Flows'!$B$13:$EC$13))","v":-922.2791666666667},{"$f":"-INDEX('Monthly Cash Flows'!$B51:$EC51,MATCH('Monthly CF'!W$6,'Monthly Cash Flows'!$B$13:$EC$13))","v":-922.2791666666667},{"$f":"-INDEX('Monthly Cash Flows'!$B51:$EC51,MATCH('Monthly CF'!X$6,'Monthly Cash Flows'!$B$13:$EC$13))","v":-922.2791666666667},{"$f":"-INDEX('Monthly Cash Flows'!$B51:$EC51,MATCH('Monthly CF'!Y$6,'Monthly Cash Flows'!$B$13:$EC$13))","v":-922.2791666666667},{"$f":"-INDEX('Monthly Cash Flows'!$B51:$EC51,MATCH('Monthly CF'!Z$6,'Monthly Cash Flows'!$B$13:$EC$13))","v":-922.2791666666667},{"$f":"-INDEX('Monthly Cash Flows'!$B51:$EC51,MATCH('Monthly CF'!AA$6,'Monthly Cash Flows'!$B$13:$EC$13))","v":-922.2791666666667},{"$f":"-INDEX('Monthly Cash Flows'!$B51:$EC51,MATCH('Monthly CF'!AB$6,'Monthly Cash Flows'!$B$13:$EC$13))","v":-922.2791666666667},{"$f":"-INDEX('Monthly Cash Flows'!$B51:$EC51,MATCH('Monthly CF'!AC$6,'Monthly Cash Flows'!$B$13:$EC$13))","v":-949.94754166666667},{"$f":"-INDEX('Monthly Cash Flows'!$B51:$EC51,MATCH('Monthly CF'!AD$6,'Monthly Cash Flows'!$B$13:$EC$13))","v":-949.94754166666667},{"$f":"-INDEX('Monthly Cash Flows'!$B51:$EC51,MATCH('Monthly CF'!AE$6,'Monthly Cash Flows'!$B$13:$EC$13))","v":-949.94754166666667},{"$f":"-INDEX('Monthly Cash Flows'!$B51:$EC51,MATCH('Monthly CF'!AF$6,'Monthly Cash Flows'!$B$13:$EC$13))","v":-949.94754166666667},{"$f":"-INDEX('Monthly Cash Flows'!$B51:$EC51,MATCH('Monthly CF'!AG$6,'Monthly Cash Flows'!$B$13:$EC$13))","v":-949.94754166666667},{"$f":"-INDEX('Monthly Cash Flows'!$B51:$EC51,MATCH('Monthly CF'!AH$6,'Monthly Cash Flows'!$B$13:$EC$13))","v":-949.94754166666667},{"$f":"-INDEX('Monthly Cash Flows'!$B51:$EC51,MATCH('Monthly CF'!AI$6,'Monthly Cash Flows'!$B$13:$EC$13))","v":-949.94754166666667},{"$f":"-INDEX('Monthly Cash Flows'!$B51:$EC51,MATCH('Monthly CF'!AJ$6,'Monthly Cash Flows'!$B$13:$EC$13))","v":-949.94754166666667},{"$f":"-INDEX('Monthly Cash Flows'!$B51:$EC51,MATCH('Monthly CF'!AK$6,'Monthly Cash Flows'!$B$13:$EC$13))","v":-949.94754166666667},{"$f":"-INDEX('Monthly Cash Flows'!$B51:$EC51,MATCH('Monthly CF'!AL$6,'Monthly Cash Flows'!$B$13:$EC$13))","v":-949.94754166666667},{"$f":"-INDEX('Monthly Cash Flows'!$B51:$EC51,MATCH('Monthly CF'!AM$6,'Monthly Cash Flows'!$B$13:$EC$13))","v":-949.94754166666667},{"$f":"-INDEX('Monthly Cash Flows'!$B51:$EC51,MATCH('Monthly CF'!AN$6,'Monthly Cash Flows'!$B$13:$EC$13))","v":-949.94754166666667},{"$f":"-INDEX('Monthly Cash Flows'!$B51:$EC51,MATCH('Monthly CF'!AO$6,'Monthly Cash Flows'!$B$13:$EC$13))","v":-978.44596791666675},{"$f":"-INDEX('Monthly Cash Flows'!$B51:$EC51,MATCH('Monthly CF'!AP$6,'Monthly Cash Flows'!$B$13:$EC$13))","v":-978.44596791666675},{"$f":"-INDEX('Monthly Cash Flows'!$B51:$EC51,MATCH('Monthly CF'!AQ$6,'Monthly Cash Flows'!$B$13:$EC$13))","v":-978.44596791666675},{"$f":"-INDEX('Monthly Cash Flows'!$B51:$EC51,MATCH('Monthly CF'!AR$6,'Monthly Cash Flows'!$B$13:$EC$13))","v":-978.44596791666675},{"$f":"-INDEX('Monthly Cash Flows'!$B51:$EC51,MATCH('Monthly CF'!AS$6,'Monthly Cash Flows'!$B$13:$EC$13))","v":-978.44596791666675},{"$f":"-INDEX('Monthly Cash Flows'!$B51:$EC51,MATCH('Monthly CF'!AT$6,'Monthly Cash Flows'!$B$13:$EC$13))","v":-978.44596791666675},{"$f":"-INDEX('Monthly Cash Flows'!$B51:$EC51,MATCH('Monthly CF'!AU$6,'Monthly Cash Flows'!$B$13:$EC$13))","v":-978.44596791666675},{"$f":"-INDEX('Monthly Cash Flows'!$B51:$EC51,MATCH('Monthly CF'!AV$6,'Monthly Cash Flows'!$B$13:$EC$13))","v":-978.44596791666675},{"$f":"-INDEX('Monthly Cash Flows'!$B51:$EC51,MATCH('Monthly CF'!AW$6,'Monthly Cash Flows'!$B$13:$EC$13))","v":-978.44596791666675},{"$f":"-INDEX('Monthly Cash Flows'!$B51:$EC51,MATCH('Monthly CF'!AX$6,'Monthly Cash Flows'!$B$13:$EC$13))","v":-978.44596791666675},{"$f":"-INDEX('Monthly Cash Flows'!$B51:$EC51,MATCH('Monthly CF'!AY$6,'Monthly Cash Flows'!$B$13:$EC$13))","v":-978.44596791666675},{"$f":"-INDEX('Monthly Cash Flows'!$B51:$EC51,MATCH('Monthly CF'!AZ$6,'Monthly Cash Flows'!$B$13:$EC$13))","v":-978.44596791666675},{"$f":"-INDEX('Monthly Cash Flows'!$B51:$EC51,MATCH('Monthly CF'!BA$6,'Monthly Cash Flows'!$B$13:$EC$13))","v":-1007.7993469541668},{"$f":"-INDEX('Monthly Cash Flows'!$B51:$EC51,MATCH('Monthly CF'!BB$6,'Monthly Cash Flows'!$B$13:$EC$13))","v":-1007.7993469541668},{"$f":"-INDEX('Monthly Cash Flows'!$B51:$EC51,MATCH('Monthly CF'!BC$6,'Monthly Cash Flows'!$B$13:$EC$13))","v":-1007.7993469541668},{"$f":"-INDEX('Monthly Cash Flows'!$B51:$EC51,MATCH('Monthly CF'!BD$6,'Monthly Cash Flows'!$B$13:$EC$13))","v":-1007.7993469541668},{"$f":"-INDEX('Monthly Cash Flows'!$B51:$EC51,MATCH('Monthly CF'!BE$6,'Monthly Cash Flows'!$B$13:$EC$13))","v":-1007.7993469541668},{"$f":"-INDEX('Monthly Cash Flows'!$B51:$EC51,MATCH('Monthly CF'!BF$6,'Monthly Cash Flows'!$B$13:$EC$13))","v":-1007.7993469541668},{"$f":"-INDEX('Monthly Cash Flows'!$B51:$EC51,MATCH('Monthly CF'!BG$6,'Monthly Cash Flows'!$B$13:$EC$13))","v":-1007.7993469541668},{"$f":"-INDEX('Monthly Cash Flows'!$B51:$EC51,MATCH('Monthly CF'!BH$6,'Monthly Cash Flows'!$B$13:$EC$13))","v":-1007.7993469541668},{"$f":"-INDEX('Monthly Cash Flows'!$B51:$EC51,MATCH('Monthly CF'!BI$6,'Monthly Cash Flows'!$B$13:$EC$13))","v":-1007.7993469541668},{"$f":"-INDEX('Monthly Cash Flows'!$B51:$EC51,MATCH('Monthly CF'!BJ$6,'Monthly Cash Flows'!$B$13:$EC$13))","v":-1007.7993469541668},{"$f":"-INDEX('Monthly Cash Flows'!$B51:$EC51,MATCH('Monthly CF'!BK$6,'Monthly Cash Flows'!$B$13:$EC$13))","v":-1007.7993469541668},{"$f":"-INDEX('Monthly Cash Flows'!$B51:$EC51,MATCH('Monthly CF'!BL$6,'Monthly Cash Flows'!$B$13:$EC$13))","v":-1007.7993469541668},{"$f":"-INDEX('Monthly Cash Flows'!$B51:$EC51,MATCH('Monthly CF'!BM$6,'Monthly Cash Flows'!$B$13:$EC$13))","v":-1038.0333273627919},{"$f":"-INDEX('Monthly Cash Flows'!$B51:$EC51,MATCH('Monthly CF'!BN$6,'Monthly Cash Flows'!$B$13:$EC$13))","v":-1038.0333273627919},{"$f":"-INDEX('Monthly Cash Flows'!$B51:$EC51,MATCH('Monthly CF'!BO$6,'Monthly Cash Flows'!$B$13:$EC$13))","v":-1038.0333273627919},{"$f":"-INDEX('Monthly Cash Flows'!$B51:$EC51,MATCH('Monthly CF'!BP$6,'Monthly Cash Flows'!$B$13:$EC$13))","v":-1038.0333273627919},{"$f":"-INDEX('Monthly Cash Flows'!$B51:$EC51,MATCH('Monthly CF'!BQ$6,'Monthly Cash Flows'!$B$13:$EC$13))","v":-1038.0333273627919},{"$f":"-INDEX('Monthly Cash Flows'!$B51:$EC51,MATCH('Monthly CF'!BR$6,'Monthly Cash Flows'!$B$13:$EC$13))","v":-1038.0333273627919},{"$f":"-INDEX('Monthly Cash Flows'!$B51:$EC51,MATCH('Monthly CF'!BS$6,'Monthly Cash Flows'!$B$13:$EC$13))","v":-1038.0333273627919},{"$f":"-INDEX('Monthly Cash Flows'!$B51:$EC51,MATCH('Monthly CF'!BT$6,'Monthly Cash Flows'!$B$13:$EC$13))","v":-1038.0333273627919},{"$f":"-INDEX('Monthly Cash Flows'!$B51:$EC51,MATCH('Monthly CF'!BU$6,'Monthly Cash Flows'!$B$13:$EC$13))","v":-1038.0333273627919},{"$f":"-INDEX('Monthly Cash Flows'!$B51:$EC51,MATCH('Monthly CF'!BV$6,'Monthly Cash Flows'!$B$13:$EC$13))","v":-1038.0333273627919},{"$f":"-INDEX('Monthly Cash Flows'!$B51:$EC51,MATCH('Monthly CF'!BW$6,'Monthly Cash Flows'!$B$13:$EC$13))","v":-1038.0333273627919},{"$f":"-INDEX('Monthly Cash Flows'!$B51:$EC51,MATCH('Monthly CF'!BX$6,'Monthly Cash Flows'!$B$13:$EC$13))","v":-1038.0333273627919},{"$f":"-INDEX('Monthly Cash Flows'!$B51:$EC51,MATCH('Monthly CF'!BY$6,'Monthly Cash Flows'!$B$13:$EC$13))","v":-1069.1743271836756},{"$f":"-INDEX('Monthly Cash Flows'!$B51:$EC51,MATCH('Monthly CF'!BZ$6,'Monthly Cash Flows'!$B$13:$EC$13))","v":-1069.1743271836756},{"$f":"-INDEX('Monthly Cash Flows'!$B51:$EC51,MATCH('Monthly CF'!CA$6,'Monthly Cash Flows'!$B$13:$EC$13))","v":-1069.1743271836756},{"$f":"-INDEX('Monthly Cash Flows'!$B51:$EC51,MATCH('Monthly CF'!CB$6,'Monthly Cash Flows'!$B$13:$EC$13))","v":-1069.1743271836756},{"$f":"-INDEX('Monthly Cash Flows'!$B51:$EC51,MATCH('Monthly CF'!CC$6,'Monthly Cash Flows'!$B$13:$EC$13))","v":-1069.1743271836756},{"$f":"-INDEX('Monthly Cash Flows'!$B51:$EC51,MATCH('Monthly CF'!CD$6,'Monthly Cash Flows'!$B$13:$EC$13))","v":-1069.1743271836756},{"$f":"-INDEX('Monthly Cash Flows'!$B51:$EC51,MATCH('Monthly CF'!CE$6,'Monthly Cash Flows'!$B$13:$EC$13))","v":-1069.1743271836756},{"$f":"-INDEX('Monthly Cash Flows'!$B51:$EC51,MATCH('Monthly CF'!CF$6,'Monthly Cash Flows'!$B$13:$EC$13))","v":-1069.1743271836756},{"$f":"-INDEX('Monthly Cash Flows'!$B51:$EC51,MATCH('Monthly CF'!CG$6,'Monthly Cash Flows'!$B$13:$EC$13))","v":-1069.1743271836756},{"$f":"-INDEX('Monthly Cash Flows'!$B51:$EC51,MATCH('Monthly CF'!CH$6,'Monthly Cash Flows'!$B$13:$EC$13))","v":-1069.1743271836756},{"$f":"-INDEX('Monthly Cash Flows'!$B51:$EC51,MATCH('Monthly CF'!CI$6,'Monthly Cash Flows'!$B$13:$EC$13))","v":-1069.1743271836756},{"$f":"-INDEX('Monthly Cash Flows'!$B51:$EC51,MATCH('Monthly CF'!CJ$6,'Monthly Cash Flows'!$B$13:$EC$13))","v":-1069.1743271836756},{"$f":"-INDEX('Monthly Cash Flows'!$B51:$EC51,MATCH('Monthly CF'!CK$6,'Monthly Cash Flows'!$B$13:$EC$13))","v":-1101.2495569991859},{"$f":"-INDEX('Monthly Cash Flows'!$B51:$EC51,MATCH('Monthly CF'!CL$6,'Monthly Cash Flows'!$B$13:$EC$13))","v":-1101.2495569991859},{"$f":"-INDEX('Monthly Cash Flows'!$B51:$EC51,MATCH('Monthly CF'!CM$6,'Monthly Cash Flows'!$B$13:$EC$13))","v":-1101.2495569991859},{"$f":"-INDEX('Monthly Cash Flows'!$B51:$EC51,MATCH('Monthly CF'!CN$6,'Monthly Cash Flows'!$B$13:$EC$13))","v":-1101.2495569991859},{"$f":"-INDEX('Monthly Cash Flows'!$B51:$EC51,MATCH('Monthly CF'!CO$6,'Monthly Cash Flows'!$B$13:$EC$13))","v":-1101.2495569991859},{"$f":"-INDEX('Monthly Cash Flows'!$B51:$EC51,MATCH('Monthly CF'!CP$6,'Monthly Cash Flows'!$B$13:$EC$13))","v":-1101.2495569991859},{"$f":"-INDEX('Monthly Cash Flows'!$B51:$EC51,MATCH('Monthly CF'!CQ$6,'Monthly Cash Flows'!$B$13:$EC$13))","v":-1101.2495569991859},{"$f":"-INDEX('Monthly Cash Flows'!$B51:$EC51,MATCH('Monthly CF'!CR$6,'Monthly Cash Flows'!$B$13:$EC$13))","v":-1101.2495569991859},{"$f":"-INDEX('Monthly Cash Flows'!$B51:$EC51,MATCH('Monthly CF'!CS$6,'Monthly Cash Flows'!$B$13:$EC$13))","v":-1101.2495569991859},{"$f":"-INDEX('Monthly Cash Flows'!$B51:$EC51,MATCH('Monthly CF'!CT$6,'Monthly Cash Flows'!$B$13:$EC$13))","v":-1101.2495569991859},{"$f":"-INDEX('Monthly Cash Flows'!$B51:$EC51,MATCH('Monthly CF'!CU$6,'Monthly Cash Flows'!$B$13:$EC$13))","v":-1101.2495569991859},{"$f":"-INDEX('Monthly Cash Flows'!$B51:$EC51,MATCH('Monthly CF'!CV$6,'Monthly Cash Flows'!$B$13:$EC$13))","v":-1101.2495569991859},{"$f":"-INDEX('Monthly Cash Flows'!$B51:$EC51,MATCH('Monthly CF'!CW$6,'Monthly Cash Flows'!$B$13:$EC$13))","v":-1134.2870437091615},{"$f":"-INDEX('Monthly Cash Flows'!$B51:$EC51,MATCH('Monthly CF'!CX$6,'Monthly Cash Flows'!$B$13:$EC$13))","v":-1134.2870437091615},{"$f":"-INDEX('Monthly Cash Flows'!$B51:$EC51,MATCH('Monthly CF'!CY$6,'Monthly Cash Flows'!$B$13:$EC$13))","v":-1134.2870437091615},{"$f":"-INDEX('Monthly Cash Flows'!$B51:$EC51,MATCH('Monthly CF'!CZ$6,'Monthly Cash Flows'!$B$13:$EC$13))","v":-1134.2870437091615},{"$f":"-INDEX('Monthly Cash Flows'!$B51:$EC51,MATCH('Monthly CF'!DA$6,'Monthly Cash Flows'!$B$13:$EC$13))","v":-1134.2870437091615},{"$f":"-INDEX('Monthly Cash Flows'!$B51:$EC51,MATCH('Monthly CF'!DB$6,'Monthly Cash Flows'!$B$13:$EC$13))","v":-1134.2870437091615},{"$f":"-INDEX('Monthly Cash Flows'!$B51:$EC51,MATCH('Monthly CF'!DC$6,'Monthly Cash Flows'!$B$13:$EC$13))","v":-1134.2870437091615},{"$f":"-INDEX('Monthly Cash Flows'!$B51:$EC51,MATCH('Monthly CF'!DD$6,'Monthly Cash Flows'!$B$13:$EC$13))","v":-1134.2870437091615},{"$f":"-INDEX('Monthly Cash Flows'!$B51:$EC51,MATCH('Monthly CF'!DE$6,'Monthly Cash Flows'!$B$13:$EC$13))","v":-1134.2870437091615},{"$f":"-INDEX('Monthly Cash Flows'!$B51:$EC51,MATCH('Monthly CF'!DF$6,'Monthly Cash Flows'!$B$13:$EC$13))","v":-1134.2870437091615},{"$f":"-INDEX('Monthly Cash Flows'!$B51:$EC51,MATCH('Monthly CF'!DG$6,'Monthly Cash Flows'!$B$13:$EC$13))","v":-1134.2870437091615},{"$f":"-INDEX('Monthly Cash Flows'!$B51:$EC51,MATCH('Monthly CF'!DH$6,'Monthly Cash Flows'!$B$13:$EC$13))","v":-1134.2870437091615},{"$f":"-INDEX('Monthly Cash Flows'!$B51:$EC51,MATCH('Monthly CF'!DI$6,'Monthly Cash Flows'!$B$13:$EC$13))","v":-1168.3156550204365},{"$f":"-INDEX('Monthly Cash Flows'!$B51:$EC51,MATCH('Monthly CF'!DJ$6,'Monthly Cash Flows'!$B$13:$EC$13))","v":-1168.3156550204365},{"$f":"-INDEX('Monthly Cash Flows'!$B51:$EC51,MATCH('Monthly CF'!DK$6,'Monthly Cash Flows'!$B$13:$EC$13))","v":-1168.3156550204365},{"$f":"-INDEX('Monthly Cash Flows'!$B51:$EC51,MATCH('Monthly CF'!DL$6,'Monthly Cash Flows'!$B$13:$EC$13))","v":-1168.3156550204365},{"$f":"-INDEX('Monthly Cash Flows'!$B51:$EC51,MATCH('Monthly CF'!DM$6,'Monthly Cash Flows'!$B$13:$EC$13))","v":-1168.3156550204365},{"$f":"-INDEX('Monthly Cash Flows'!$B51:$EC51,MATCH('Monthly CF'!DN$6,'Monthly Cash Flows'!$B$13:$EC$13))","v":-1168.3156550204365},{"$f":"-INDEX('Monthly Cash Flows'!$B51:$EC51,MATCH('Monthly CF'!DO$6,'Monthly Cash Flows'!$B$13:$EC$13))","v":-1168.3156550204365},{"$f":"-INDEX('Monthly Cash Flows'!$B51:$EC51,MATCH('Monthly CF'!DP$6,'Monthly Cash Flows'!$B$13:$EC$13))","v":-1168.3156550204365},{"$f":"-INDEX('Monthly Cash Flows'!$B51:$EC51,MATCH('Monthly CF'!DQ$6,'Monthly Cash Flows'!$B$13:$EC$13))","v":-1168.3156550204365},{"$f":"-INDEX('Monthly Cash Flows'!$B51:$EC51,MATCH('Monthly CF'!DR$6,'Monthly Cash Flows'!$B$13:$EC$13))","v":-1168.3156550204365},{"$f":"-INDEX('Monthly Cash Flows'!$B51:$EC51,MATCH('Monthly CF'!DS$6,'Monthly Cash Flows'!$B$13:$EC$13))","v":-1168.3156550204365},{"$f":"-INDEX('Monthly Cash Flows'!$B51:$EC51,MATCH('Monthly CF'!DT$6,'Monthly Cash Flows'!$B$13:$EC$13))","v":-1168.3156550204365},{"$f":"-INDEX('Monthly Cash Flows'!$B51:$EC51,MATCH('Monthly CF'!DU$6,'Monthly Cash Flows'!$B$13:$EC$13))","v":-1203.3651246710497},{"$f":"-INDEX('Monthly Cash Flows'!$B51:$EC51,MATCH('Monthly CF'!DV$6,'Monthly Cash Flows'!$B$13:$EC$13))","v":-1203.3651246710497},{"$f":"-INDEX('Monthly Cash Flows'!$B51:$EC51,MATCH('Monthly CF'!DW$6,'Monthly Cash Flows'!$B$13:$EC$13))","v":-1203.3651246710497},{"$f":"-INDEX('Monthly Cash Flows'!$B51:$EC51,MATCH('Monthly CF'!DX$6,'Monthly Cash Flows'!$B$13:$EC$13))","v":-1203.3651246710497},{"$f":"-INDEX('Monthly Cash Flows'!$B51:$EC51,MATCH('Monthly CF'!DY$6,'Monthly Cash Flows'!$B$13:$EC$13))","v":-1203.3651246710497},{"$f":"-INDEX('Monthly Cash Flows'!$B51:$EC51,MATCH('Monthly CF'!DZ$6,'Monthly Cash Flows'!$B$13:$EC$13))","v":-1203.3651246710497},{"$f":"-INDEX('Monthly Cash Flows'!$B51:$EC51,MATCH('Monthly CF'!EA$6,'Monthly Cash Flows'!$B$13:$EC$13))","v":-1203.3651246710497},{"$f":"-INDEX('Monthly Cash Flows'!$B51:$EC51,MATCH('Monthly CF'!EB$6,'Monthly Cash Flows'!$B$13:$EC$13))","v":-1203.3651246710497},{"$f":"-INDEX('Monthly Cash Flows'!$B51:$EC51,MATCH('Monthly CF'!EC$6,'Monthly Cash Flows'!$B$13:$EC$13))","v":-1203.3651246710497},{"$f":"-INDEX('Monthly Cash Flows'!$B51:$EC51,MATCH('Monthly CF'!ED$6,'Monthly Cash Flows'!$B$13:$EC$13))","v":-1203.3651246710497},{"$f":"-INDEX('Monthly Cash Flows'!$B51:$EC51,MATCH('Monthly CF'!EE$6,'Monthly Cash Flows'!$B$13:$EC$13))","v":-1203.3651246710497},{"$f":"-INDEX('Monthly Cash Flows'!$B51:$EC51,MATCH('Monthly CF'!EF$6,'Monthly Cash Flows'!$B$13:$EC$13))","v":-1203.3651246710497},{"$f":"-INDEX('Monthly Cash Flows'!$B51:$EC51,MATCH('Monthly CF'!EG$6,'Monthly Cash Flows'!$B$13:$EC$13))","v":-1203.3651246710497}]
[null,{"$f":"+'Monthly Cash Flows'!A52","v":"Garbage and Trash Removal"},null,null,null,{"$f":"-INDEX('Monthly Cash Flows'!$B52:$EC52,MATCH('Monthly CF'!F$6,'Monthly Cash Flows'!$B$13:$EC$13))","v":-94.75},{"$f":"-INDEX('Monthly Cash Flows'!$B52:$EC52,MATCH('Monthly CF'!G$6,'Monthly Cash Flows'!$B$13:$EC$13))","v":-94.75},{"$f":"-INDEX('Monthly Cash Flows'!$B52:$EC52,MATCH('Monthly CF'!H$6,'Monthly Cash Flows'!$B$13:$EC$13))","v":-94.75},{"$f":"-INDEX('Monthly Cash Flows'!$B52:$EC52,MATCH('Monthly CF'!I$6,'Monthly Cash Flows'!$B$13:$EC$13))","v":-94.75},{"$f":"-INDEX('Monthly Cash Flows'!$B52:$EC52,MATCH('Monthly CF'!J$6,'Monthly Cash Flows'!$B$13:$EC$13))","v":-94.75},{"$f":"-INDEX('Monthly Cash Flows'!$B52:$EC52,MATCH('Monthly CF'!K$6,'Monthly Cash Flows'!$B$13:$EC$13))","v":-94.75},{"$f":"-INDEX('Monthly Cash Flows'!$B52:$EC52,MATCH('Monthly CF'!L$6,'Monthly Cash Flows'!$B$13:$EC$13))","v":-94.75},{"$f":"-INDEX('Monthly Cash Flows'!$B52:$EC52,MATCH('Monthly CF'!M$6,'Monthly Cash Flows'!$B$13:$EC$13))","v":-94.75},{"$f":"-INDEX('Monthly Cash Flows'!$B52:$EC52,MATCH('Monthly CF'!N$6,'Monthly Cash Flows'!$B$13:$EC$13))","v":-94.75},{"$f":"-INDEX('Monthly Cash Flows'!$B52:$EC52,MATCH('Monthly CF'!O$6,'Monthly Cash Flows'!$B$13:$EC$13))","v":-94.75},{"$f":"-INDEX('Monthly Cash Flows'!$B52:$EC52,MATCH('Monthly CF'!P$6,'Monthly Cash Flows'!$B$13:$EC$13))","v":-94.75},{"$f":"-INDEX('Monthly Cash Flows'!$B52:$EC52,MATCH('Monthly CF'!Q$6,'Monthly Cash Flows'!$B$13:$EC$13))","v":-97.592500000000001},{"$f":"-INDEX('Monthly Cash Flows'!$B52:$EC52,MATCH('Monthly CF'!R$6,'Monthly Cash Flows'!$B$13:$EC$13))","v":-97.592500000000001},{"$f":"-INDEX('Monthly Cash Flows'!$B52:$EC52,MATCH('Monthly CF'!S$6,'Monthly Cash Flows'!$B$13:$EC$13))","v":-97.592500000000001},{"$f":"-INDEX('Monthly Cash Flows'!$B52:$EC52,MATCH('Monthly CF'!T$6,'Monthly Cash Flows'!$B$13:$EC$13))","v":-97.592500000000001},{"$f":"-INDEX('Monthly Cash Flows'!$B52:$EC52,MATCH('Monthly CF'!U$6,'Monthly Cash Flows'!$B$13:$EC$13))","v":-97.592500000000001},{"$f":"-INDEX('Monthly Cash Flows'!$B52:$EC52,MATCH('Monthly CF'!V$6,'Monthly Cash Flows'!$B$13:$EC$13))","v":-97.592500000000001},{"$f":"-INDEX('Monthly Cash Flows'!$B52:$EC52,MATCH('Monthly CF'!W$6,'Monthly Cash Flows'!$B$13:$EC$13))","v":-97.592500000000001},{"$f":"-INDEX('Monthly Cash Flows'!$B52:$EC52,MATCH('Monthly CF'!X$6,'Monthly Cash Flows'!$B$13:$EC$13))","v":-97.592500000000001},{"$f":"-INDEX('Monthly Cash Flows'!$B52:$EC52,MATCH('Monthly CF'!Y$6,'Monthly Cash Flows'!$B$13:$EC$13))","v":-97.592500000000001},{"$f":"-INDEX('Monthly Cash Flows'!$B52:$EC52,MATCH('Monthly CF'!Z$6,'Monthly Cash Flows'!$B$13:$EC$13))","v":-97.592500000000001},{"$f":"-INDEX('Monthly Cash Flows'!$B52:$EC52,MATCH('Monthly CF'!AA$6,'Monthly Cash Flows'!$B$13:$EC$13))","v":-97.592500000000001},{"$f":"-INDEX('Monthly Cash Flows'!$B52:$EC52,MATCH('Monthly CF'!AB$6,'Monthly Cash Flows'!$B$13:$EC$13))","v":-97.592500000000001},{"$f":"-INDEX('Monthly Cash Flows'!$B52:$EC52,MATCH('Monthly CF'!AC$6,'Monthly Cash Flows'!$B$13:$EC$13))","v":-100.520275},{"$f":"-INDEX('Monthly Cash Flows'!$B52:$EC52,MATCH('Monthly CF'!AD$6,'Monthly Cash Flows'!$B$13:$EC$13))","v":-100.520275},{"$f":"-INDEX('Monthly Cash Flows'!$B52:$EC52,MATCH('Monthly CF'!AE$6,'Monthly Cash Flows'!$B$13:$EC$13))","v":-100.520275},{"$f":"-INDEX('Monthly Cash Flows'!$B52:$EC52,MATCH('Monthly CF'!AF$6,'Monthly Cash Flows'!$B$13:$EC$13))","v":-100.520275},{"$f":"-INDEX('Monthly Cash Flows'!$B52:$EC52,MATCH('Monthly CF'!AG$6,'Monthly Cash Flows'!$B$13:$EC$13))","v":-100.520275},{"$f":"-INDEX('Monthly Cash Flows'!$B52:$EC52,MATCH('Monthly CF'!AH$6,'Monthly Cash Flows'!$B$13:$EC$13))","v":-100.520275},{"$f":"-INDEX('Monthly Cash Flows'!$B52:$EC52,MATCH('Monthly CF'!AI$6,'Monthly Cash Flows'!$B$13:$EC$13))","v":-100.520275},{"$f":"-INDEX('Monthly Cash Flows'!$B52:$EC52,MATCH('Monthly CF'!AJ$6,'Monthly Cash Flows'!$B$13:$EC$13))","v":-100.520275},{"$f":"-INDEX('Monthly Cash Flows'!$B52:$EC52,MATCH('Monthly CF'!AK$6,'Monthly Cash Flows'!$B$13:$EC$13))","v":-100.520275},{"$f":"-INDEX('Monthly Cash Flows'!$B52:$EC52,MATCH('Monthly CF'!AL$6,'Monthly Cash Flows'!$B$13:$EC$13))","v":-100.520275},{"$f":"-INDEX('Monthly Cash Flows'!$B52:$EC52,MATCH('Monthly CF'!AM$6,'Monthly Cash Flows'!$B$13:$EC$13))","v":-100.520275},{"$f":"-INDEX('Monthly Cash Flows'!$B52:$EC52,MATCH('Monthly CF'!AN$6,'Monthly Cash Flows'!$B$13:$EC$13))","v":-100.520275},{"$f":"-INDEX('Monthly Cash Flows'!$B52:$EC52,MATCH('Monthly CF'!AO$6,'Monthly Cash Flows'!$B$13:$EC$13))","v":-103.53588325},{"$f":"-INDEX('Monthly Cash Flows'!$B52:$EC52,MATCH('Monthly CF'!AP$6,'Monthly Cash Flows'!$B$13:$EC$13))","v":-103.53588325},{"$f":"-INDEX('Monthly Cash Flows'!$B52:$EC52,MATCH('Monthly CF'!AQ$6,'Monthly Cash Flows'!$B$13:$EC$13))","v":-103.53588325},{"$f":"-INDEX('Monthly Cash Flows'!$B52:$EC52,MATCH('Monthly CF'!AR$6,'Monthly Cash Flows'!$B$13:$EC$13))","v":-103.53588325},{"$f":"-INDEX('Monthly Cash Flows'!$B52:$EC52,MATCH('Monthly CF'!AS$6,'Monthly Cash Flows'!$B$13:$EC$13))","v":-103.53588325},{"$f":"-INDEX('Monthly Cash Flows'!$B52:$EC52,MATCH('Monthly CF'!AT$6,'Monthly Cash Flows'!$B$13:$EC$13))","v":-103.53588325},{"$f":"-INDEX('Monthly Cash Flows'!$B52:$EC52,MATCH('Monthly CF'!AU$6,'Monthly Cash Flows'!$B$13:$EC$13))","v":-103.53588325},{"$f":"-INDEX('Monthly Cash Flows'!$B52:$EC52,MATCH('Monthly CF'!AV$6,'Monthly Cash Flows'!$B$13:$EC$13))","v":-103.53588325},{"$f":"-INDEX('Monthly Cash Flows'!$B52:$EC52,MATCH('Monthly CF'!AW$6,'Monthly Cash Flows'!$B$13:$EC$13))","v":-103.53588325},{"$f":"-INDEX('Monthly Cash Flows'!$B52:$EC52,MATCH('Monthly CF'!AX$6,'Monthly Cash Flows'!$B$13:$EC$13))","v":-103.53588325},{"$f":"-INDEX('Monthly Cash Flows'!$B52:$EC52,MATCH('Monthly CF'!AY$6,'Monthly Cash Flows'!$B$13:$EC$13))","v":-103.53588325},{"$f":"-INDEX('Monthly Cash Flows'!$B52:$EC52,MATCH('Monthly CF'!AZ$6,'Monthly Cash Flows'!$B$13:$EC$13))","v":-103.53588325},{"$f":"-INDEX('Monthly Cash Flows'!$B52:$EC52,MATCH('Monthly CF'!BA$6,'Monthly Cash Flows'!$B$13:$EC$13))","v":-106.6419597475},{"$f":"-INDEX('Monthly Cash Flows'!$B52:$EC52,MATCH('Monthly CF'!BB$6,'Monthly Cash Flows'!$B$13:$EC$13))","v":-106.6419597475},{"$f":"-INDEX('Monthly Cash Flows'!$B52:$EC52,MATCH('Monthly CF'!BC$6,'Monthly Cash Flows'!$B$13:$EC$13))","v":-106.6419597475},{"$f":"-INDEX('Monthly Cash Flows'!$B52:$EC52,MATCH('Monthly CF'!BD$6,'Monthly Cash Flows'!$B$13:$EC$13))","v":-106.6419597475},{"$f":"-INDEX('Monthly Cash Flows'!$B52:$EC52,MATCH('Monthly CF'!BE$6,'Monthly Cash Flows'!$B$13:$EC$13))","v":-106.6419597475},{"$f":"-INDEX('Monthly Cash Flows'!$B52:$EC52,MATCH('Monthly CF'!BF$6,'Monthly Cash Flows'!$B$13:$EC$13))","v":-106.6419597475},{"$f":"-INDEX('Monthly Cash Flows'!$B52:$EC52,MATCH('Monthly CF'!BG$6,'Monthly Cash Flows'!$B$13:$EC$13))","v":-106.6419597475},{"$f":"-INDEX('Monthly Cash Flows'!$B52:$EC52,MATCH('Monthly CF'!BH$6,'Monthly Cash Flows'!$B$13:$EC$13))","v":-106.6419597475},{"$f":"-INDEX('Monthly Cash Flows'!$B52:$EC52,MATCH('Monthly CF'!BI$6,'Monthly Cash Flows'!$B$13:$EC$13))","v":-106.6419597475},{"$f":"-INDEX('Monthly Cash Flows'!$B52:$EC52,MATCH('Monthly CF'!BJ$6,'Monthly Cash Flows'!$B$13:$EC$13))","v":-106.6419597475},{"$f":"-INDEX('Monthly Cash Flows'!$B52:$EC52,MATCH('Monthly CF'!BK$6,'Monthly Cash Flows'!$B$13:$EC$13))","v":-106.6419597475},{"$f":"-INDEX('Monthly Cash Flows'!$B52:$EC52,MATCH('Monthly CF'!BL$6,'Monthly Cash Flows'!$B$13:$EC$13))","v":-106.6419597475},{"$f":"-INDEX('Monthly Cash Flows'!$B52:$EC52,MATCH('Monthly CF'!BM$6,'Monthly Cash Flows'!$B$13:$EC$13))","v":-109.84121853992499},{"$f":"-INDEX('Monthly Cash Flows'!$B52:$EC52,MATCH('Monthly CF'!BN$6,'Monthly Cash Flows'!$B$13:$EC$13))","v":-109.84121853992499},{"$f":"-INDEX('Monthly Cash Flows'!$B52:$EC52,MATCH('Monthly CF'!BO$6,'Monthly Cash Flows'!$B$13:$EC$13))","v":-109.84121853992499},{"$f":"-INDEX('Monthly Cash Flows'!$B52:$EC52,MATCH('Monthly CF'!BP$6,'Monthly Cash Flows'!$B$13:$EC$13))","v":-109.84121853992499},{"$f":"-INDEX('Monthly Cash Flows'!$B52:$EC52,MATCH('Monthly CF'!BQ$6,'Monthly Cash Flows'!$B$13:$EC$13))","v":-109.84121853992499},{"$f":"-INDEX('Monthly Cash Flows'!$B52:$EC52,MATCH('Monthly CF'!BR$6,'Monthly Cash Flows'!$B$13:$EC$13))","v":-109.84121853992499},{"$f":"-INDEX('Monthly Cash Flows'!$B52:$EC52,MATCH('Monthly CF'!BS$6,'Monthly Cash Flows'!$B$13:$EC$13))","v":-109.84121853992499},{"$f":"-INDEX('Monthly Cash Flows'!$B52:$EC52,MATCH('Monthly CF'!BT$6,'Monthly Cash Flows'!$B$13:$EC$13))","v":-109.84121853992499},{"$f":"-INDEX('Monthly Cash Flows'!$B52:$EC52,MATCH('Monthly CF'!BU$6,'Monthly Cash Flows'!$B$13:$EC$13))","v":-109.84121853992499},{"$f":"-INDEX('Monthly Cash Flows'!$B52:$EC52,MATCH('Monthly CF'!BV$6,'Monthly Cash Flows'!$B$13:$EC$13))","v":-109.84121853992499},{"$f":"-INDEX('Monthly Cash Flows'!$B52:$EC52,MATCH('Monthly CF'!BW$6,'Monthly Cash Flows'!$B$13:$EC$13))","v":-109.84121853992499},{"$f":"-INDEX('Monthly Cash Flows'!$B52:$EC52,MATCH('Monthly CF'!BX$6,'Monthly Cash Flows'!$B$13:$EC$13))","v":-109.84121853992499},{"$f":"-INDEX('Monthly Cash Flows'!$B52:$EC52,MATCH('Monthly CF'!BY$6,'Monthly Cash Flows'!$B$13:$EC$13))","v":-113.13645509612275},{"$f":"-INDEX('Monthly Cash Flows'!$B52:$EC52,MATCH('Monthly CF'!BZ$6,'Monthly Cash Flows'!$B$13:$EC$13))","v":-113.13645509612275},{"$f":"-INDEX('Monthly Cash Flows'!$B52:$EC52,MATCH('Monthly CF'!CA$6,'Monthly Cash Flows'!$B$13:$EC$13))","v":-113.13645509612275},{"$f":"-INDEX('Monthly Cash Flows'!$B52:$EC52,MATCH('Monthly CF'!CB$6,'Monthly Cash Flows'!$B$13:$EC$13))","v":-113.13645509612275},{"$f":"-INDEX('Monthly Cash Flows'!$B52:$EC52,MATCH('Monthly CF'!CC$6,'Monthly Cash Flows'!$B$13:$EC$13))","v":-113.13645509612275},{"$f":"-INDEX('Monthly Cash Flows'!$B52:$EC52,MATCH('Monthly CF'!CD$6,'Monthly Cash Flows'!$B$13:$EC$13))","v":-113.13645509612275},{"$f":"-INDEX('Monthly Cash Flows'!$B52:$EC52,MATCH('Monthly CF'!CE$6,'Monthly Cash Flows'!$B$13:$EC$13))","v":-113.13645509612275},{"$f":"-INDEX('Monthly Cash Flows'!$B52:$EC52,MATCH('Monthly CF'!CF$6,'Monthly Cash Flows'!$B$13:$EC$13))","v":-113.13645509612275},{"$f":"-INDEX('Monthly Cash Flows'!$B52:$EC52,MATCH('Monthly CF'!CG$6,'Monthly Cash Flows'!$B$13:$EC$13))","v":-113.13645509612275},{"$f":"-INDEX('Monthly Cash Flows'!$B52:$EC52,MATCH('Monthly CF'!CH$6,'Monthly Cash Flows'!$B$13:$EC$13))","v":-113.13645509612275},{"$f":"-INDEX('Monthly Cash Flows'!$B52:$EC52,MATCH('Monthly CF'!CI$6,'Monthly Cash Flows'!$B$13:$EC$13))","v":-113.13645509612275},{"$f":"-INDEX('Monthly Cash Flows'!$B52:$EC52,MATCH('Monthly CF'!CJ$6,'Monthly Cash Flows'!$B$13:$EC$13))","v":-113.13645509612275},{"$f":"-INDEX('Monthly Cash Flows'!$B52:$EC52,MATCH('Monthly CF'!CK$6,'Monthly Cash Flows'!$B$13:$EC$13))","v":-116.53054874900643},{"$f":"-INDEX('Monthly Cash Flows'!$B52:$EC52,MATCH('Monthly CF'!CL$6,'Monthly Cash Flows'!$B$13:$EC$13))","v":-116.53054874900643},{"$f":"-INDEX('Monthly Cash Flows'!$B52:$EC52,MATCH('Monthly CF'!CM$6,'Monthly Cash Flows'!$B$13:$EC$13))","v":-116.53054874900643},{"$f":"-INDEX('Monthly Cash Flows'!$B52:$EC52,MATCH('Monthly CF'!CN$6,'Monthly Cash Flows'!$B$13:$EC$13))","v":-116.53054874900643},{"$f":"-INDEX('Monthly Cash Flows'!$B52:$EC52,MATCH('Monthly CF'!CO$6,'Monthly Cash Flows'!$B$13:$EC$13))","v":-116.53054874900643},{"$f":"-INDEX('Monthly Cash Flows'!$B52:$EC52,MATCH('Monthly CF'!CP$6,'Monthly Cash Flows'!$B$13:$EC$13))","v":-116.53054874900643},{"$f":"-INDEX('Monthly Cash Flows'!$B52:$EC52,MATCH('Monthly CF'!CQ$6,'Monthly Cash Flows'!$B$13:$EC$13))","v":-116.53054874900643},{"$f":"-INDEX('Monthly Cash Flows'!$B52:$EC52,MATCH('Monthly CF'!CR$6,'Monthly Cash Flows'!$B$13:$EC$13))","v":-116.53054874900643},{"$f":"-INDEX('Monthly Cash Flows'!$B52:$EC52,MATCH('Monthly CF'!CS$6,'Monthly Cash Flows'!$B$13:$EC$13))","v":-116.53054874900643},{"$f":"-INDEX('Monthly Cash Flows'!$B52:$EC52,MATCH('Monthly CF'!CT$6,'Monthly Cash Flows'!$B$13:$EC$13))","v":-116.53054874900643},{"$f":"-INDEX('Monthly Cash Flows'!$B52:$EC52,MATCH('Monthly CF'!CU$6,'Monthly Cash Flows'!$B$13:$EC$13))","v":-116.53054874900643},{"$f":"-INDEX('Monthly Cash Flows'!$B52:$EC52,MATCH('Monthly CF'!CV$6,'Monthly Cash Flows'!$B$13:$EC$13))","v":-116.53054874900643},{"$f":"-INDEX('Monthly Cash Flows'!$B52:$EC52,MATCH('Monthly CF'!CW$6,'Monthly Cash Flows'!$B$13:$EC$13))","v":-120.02646521147662},{"$f":"-INDEX('Monthly Cash Flows'!$B52:$EC52,MATCH('Monthly CF'!CX$6,'Monthly Cash Flows'!$B$13:$EC$13))","v":-120.02646521147662},{"$f":"-INDEX('Monthly Cash Flows'!$B52:$EC52,MATCH('Monthly CF'!CY$6,'Monthly Cash Flows'!$B$13:$EC$13))","v":-120.02646521147662},{"$f":"-INDEX('Monthly Cash Flows'!$B52:$EC52,MATCH('Monthly CF'!CZ$6,'Monthly Cash Flows'!$B$13:$EC$13))","v":-120.02646521147662},{"$f":"-INDEX('Monthly Cash Flows'!$B52:$EC52,MATCH('Monthly CF'!DA$6,'Monthly Cash Flows'!$B$13:$EC$13))","v":-120.02646521147662},{"$f":"-INDEX('Monthly Cash Flows'!$B52:$EC52,MATCH('Monthly CF'!DB$6,'Monthly Cash Flows'!$B$13:$EC$13))","v":-120.02646521147662},{"$f":"-INDEX('Monthly Cash Flows'!$B52:$EC52,MATCH('Monthly CF'!DC$6,'Monthly Cash Flows'!$B$13:$EC$13))","v":-120.02646521147662},{"$f":"-INDEX('Monthly Cash Flows'!$B52:$EC52,MATCH('Monthly CF'!DD$6,'Monthly Cash Flows'!$B$13:$EC$13))","v":-120.02646521147662},{"$f":"-INDEX('Monthly Cash Flows'!$B52:$EC52,MATCH('Monthly CF'!DE$6,'Monthly Cash Flows'!$B$13:$EC$13))","v":-120.02646521147662},{"$f":"-INDEX('Monthly Cash Flows'!$B52:$EC52,MATCH('Monthly CF'!DF$6,'Monthly Cash Flows'!$B$13:$EC$13))","v":-120.02646521147662},{"$f":"-INDEX('Monthly Cash Flows'!$B52:$EC52,MATCH('Monthly CF'!DG$6,'Monthly Cash Flows'!$B$13:$EC$13))","v":-120.02646521147662},{"$f":"-INDEX('Monthly Cash Flows'!$B52:$EC52,MATCH('Monthly CF'!DH$6,'Monthly Cash Flows'!$B$13:$EC$13))","v":-120.02646521147662},{"$f":"-INDEX('Monthly Cash Flows'!$B52:$EC52,MATCH('Monthly CF'!DI$6,'Monthly Cash Flows'!$B$13:$EC$13))","v":-123.62725916782092},{"$f":"-INDEX('Monthly Cash Flows'!$B52:$EC52,MATCH('Monthly CF'!DJ$6,'Monthly Cash Flows'!$B$13:$EC$13))","v":-123.62725916782092},{"$f":"-INDEX('Monthly Cash Flows'!$B52:$EC52,MATCH('Monthly CF'!DK$6,'Monthly Cash Flows'!$B$13:$EC$13))","v":-123.62725916782092},{"$f":"-INDEX('Monthly Cash Flows'!$B52:$EC52,MATCH('Monthly CF'!DL$6,'Monthly Cash Flows'!$B$13:$EC$13))","v":-123.62725916782092},{"$f":"-INDEX('Monthly Cash Flows'!$B52:$EC52,MATCH('Monthly CF'!DM$6,'Monthly Cash Flows'!$B$13:$EC$13))","v":-123.62725916782092},{"$f":"-INDEX('Monthly Cash Flows'!$B52:$EC52,MATCH('Monthly CF'!DN$6,'Monthly Cash Flows'!$B$13:$EC$13))","v":-123.62725916782092},{"$f":"-INDEX('Monthly Cash Flows'!$B52:$EC52,MATCH('Monthly CF'!DO$6,'Monthly Cash Flows'!$B$13:$EC$13))","v":-123.62725916782092},{"$f":"-INDEX('Monthly Cash Flows'!$B52:$EC52,MATCH('Monthly CF'!DP$6,'Monthly Cash Flows'!$B$13:$EC$13))","v":-123.62725916782092},{"$f":"-INDEX('Monthly Cash Flows'!$B52:$EC52,MATCH('Monthly CF'!DQ$6,'Monthly Cash Flows'!$B$13:$EC$13))","v":-123.62725916782092},{"$f":"-INDEX('Monthly Cash Flows'!$B52:$EC52,MATCH('Monthly CF'!DR$6,'Monthly Cash Flows'!$B$13:$EC$13))","v":-123.62725916782092},{"$f":"-INDEX('Monthly Cash Flows'!$B52:$EC52,MATCH('Monthly CF'!DS$6,'Monthly Cash Flows'!$B$13:$EC$13))","v":-123.62725916782092},{"$f":"-INDEX('Monthly Cash Flows'!$B52:$EC52,MATCH('Monthly CF'!DT$6,'Monthly Cash Flows'!$B$13:$EC$13))","v":-123.62725916782092},{"$f":"-INDEX('Monthly Cash Flows'!$B52:$EC52,MATCH('Monthly CF'!DU$6,'Monthly Cash Flows'!$B$13:$EC$13))","v":-127.33607694285556},{"$f":"-INDEX('Monthly Cash Flows'!$B52:$EC52,MATCH('Monthly CF'!DV$6,'Monthly Cash Flows'!$B$13:$EC$13))","v":-127.33607694285556},{"$f":"-INDEX('Monthly Cash Flows'!$B52:$EC52,MATCH('Monthly CF'!DW$6,'Monthly Cash Flows'!$B$13:$EC$13))","v":-127.33607694285556},{"$f":"-INDEX('Monthly Cash Flows'!$B52:$EC52,MATCH('Monthly CF'!DX$6,'Monthly Cash Flows'!$B$13:$EC$13))","v":-127.33607694285556},{"$f":"-INDEX('Monthly Cash Flows'!$B52:$EC52,MATCH('Monthly CF'!DY$6,'Monthly Cash Flows'!$B$13:$EC$13))","v":-127.33607694285556},{"$f":"-INDEX('Monthly Cash Flows'!$B52:$EC52,MATCH('Monthly CF'!DZ$6,'Monthly Cash Flows'!$B$13:$EC$13))","v":-127.33607694285556},{"$f":"-INDEX('Monthly Cash Flows'!$B52:$EC52,MATCH('Monthly CF'!EA$6,'Monthly Cash Flows'!$B$13:$EC$13))","v":-127.33607694285556},{"$f":"-INDEX('Monthly Cash Flows'!$B52:$EC52,MATCH('Monthly CF'!EB$6,'Monthly Cash Flows'!$B$13:$EC$13))","v":-127.33607694285556},{"$f":"-INDEX('Monthly Cash Flows'!$B52:$EC52,MATCH('Monthly CF'!EC$6,'Monthly Cash Flows'!$B$13:$EC$13))","v":-127.33607694285556},{"$f":"-INDEX('Monthly Cash Flows'!$B52:$EC52,MATCH('Monthly CF'!ED$6,'Monthly Cash Flows'!$B$13:$EC$13))","v":-127.33607694285556},{"$f":"-INDEX('Monthly Cash Flows'!$B52:$EC52,MATCH('Monthly CF'!EE$6,'Monthly Cash Flows'!$B$13:$EC$13))","v":-127.33607694285556},{"$f":"-INDEX('Monthly Cash Flows'!$B52:$EC52,MATCH('Monthly CF'!EF$6,'Monthly Cash Flows'!$B$13:$EC$13))","v":-127.33607694285556},{"$f":"-INDEX('Monthly Cash Flows'!$B52:$EC52,MATCH('Monthly CF'!EG$6,'Monthly Cash Flows'!$B$13:$EC$13))","v":-127.33607694285556}]
[null,{"$f":"+'Monthly Cash Flows'!A53","v":"Security"},null,null,null,{"$f":"-INDEX('Monthly Cash Flows'!$B53:$EC53,MATCH('Monthly CF'!F$6,'Monthly Cash Flows'!$B$13:$EC$13))","v":-3408.7916666666652},{"$f":"-INDEX('Monthly Cash Flows'!$B53:$EC53,MATCH('Monthly CF'!G$6,'Monthly Cash Flows'!$B$13:$EC$13))","v":-3408.7916666666652},{"$f":"-INDEX('Monthly Cash Flows'!$B53:$EC53,MATCH('Monthly CF'!H$6,'Monthly Cash Flows'!$B$13:$EC$13))","v":-3408.7916666666652},{"$f":"-INDEX('Monthly Cash Flows'!$B53:$EC53,MATCH('Monthly CF'!I$6,'Monthly Cash Flows'!$B$13:$EC$13))","v":-3408.7916666666652},{"$f":"-INDEX('Monthly Cash Flows'!$B53:$EC53,MATCH('Monthly CF'!J$6,'Monthly Cash Flows'!$B$13:$EC$13))","v":-3408.7916666666652},{"$f":"-INDEX('Monthly Cash Flows'!$B53:$EC53,MATCH('Monthly CF'!K$6,'Monthly Cash Flows'!$B$13:$EC$13))","v":-3408.7916666666652},{"$f":"-INDEX('Monthly Cash Flows'!$B53:$EC53,MATCH('Monthly CF'!L$6,'Monthly Cash Flows'!$B$13:$EC$13))","v":-3408.7916666666652},{"$f":"-INDEX('Monthly Cash Flows'!$B53:$EC53,MATCH('Monthly CF'!M$6,'Monthly Cash Flows'!$B$13:$EC$13))","v":-3408.7916666666652},{"$f":"-INDEX('Monthly Cash Flows'!$B53:$EC53,MATCH('Monthly CF'!N$6,'Monthly Cash Flows'!$B$13:$EC$13))","v":-3408.7916666666652},{"$f":"-INDEX('Monthly Cash Flows'!$B53:$EC53,MATCH('Monthly CF'!O$6,'Monthly Cash Flows'!$B$13:$EC$13))","v":-3408.7916666666652},{"$f":"-INDEX('Monthly Cash Flows'!$B53:$EC53,MATCH('Monthly CF'!P$6,'Monthly Cash Flows'!$B$13:$EC$13))","v":-3408.7916666666652},{"$f":"-INDEX('Monthly Cash Flows'!$B53:$EC53,MATCH('Monthly CF'!Q$6,'Monthly Cash Flows'!$B$13:$EC$13))","v":-3408.7916666666652},{"$f":"-INDEX('Monthly Cash Flows'!$B53:$EC53,MATCH('Monthly CF'!R$6,'Monthly Cash Flows'!$B$13:$EC$13))","v":-3408.7916666666652},{"$f":"-INDEX('Monthly Cash Flows'!$B53:$EC53,MATCH('Monthly CF'!S$6,'Monthly Cash Flows'!$B$13:$EC$13))","v":-3408.7916666666652},{"$f":"-INDEX('Monthly Cash Flows'!$B53:$EC53,MATCH('Monthly CF'!T$6,'Monthly Cash Flows'!$B$13:$EC$13))","v":-3408.7916666666652},{"$f":"-INDEX('Monthly Cash Flows'!$B53:$EC53,MATCH('Monthly CF'!U$6,'Monthly Cash Flows'!$B$13:$EC$13))","v":-3408.7916666666652},{"$f":"-INDEX('Monthly Cash Flows'!$B53:$EC53,MATCH('Monthly CF'!V$6,'Monthly Cash Flows'!$B$13:$EC$13))","v":-3408.7916666666652},{"$f":"-INDEX('Monthly Cash Flows'!$B53:$EC53,MATCH('Monthly CF'!W$6,'Monthly Cash Flows'!$B$13:$EC$13))","v":-3408.7916666666652},{"$f":"-INDEX('Monthly Cash Flows'!$B53:$EC53,MATCH('Monthly CF'!X$6,'Monthly Cash Flows'!$B$13:$EC$13))","v":-3408.7916666666652},{"$f":"-INDEX('Monthly Cash Flows'!$B53:$EC53,MATCH('Monthly CF'!Y$6,'Monthly Cash Flows'!$B$13:$EC$13))","v":-3408.7916666666652},{"$f":"-INDEX('Monthly Cash Flows'!$B53:$EC53,MATCH('Monthly CF'!Z$6,'Monthly Cash Flows'!$B$13:$EC$13))","v":-3408.7916666666652},{"$f":"-INDEX('Monthly Cash Flows'!$B53:$EC53,MATCH('Monthly CF'!AA$6,'Monthly Cash Flows'!$B$13:$EC$13))","v":-3408.7916666666652},{"$f":"-INDEX('Monthly Cash Flows'!$B53:$EC53,MATCH('Monthly CF'!AB$6,'Monthly Cash Flows'!$B$13:$EC$13))","v":-3408.7916666666652},{"$f":"-INDEX('Monthly Cash Flows'!$B53:$EC53,MATCH('Monthly CF'!AC$6,'Monthly Cash Flows'!$B$13:$EC$13))","v":-3408.7916666666652},{"$f":"-INDEX('Monthly Cash Flows'!$B53:$EC53,MATCH('Monthly CF'!AD$6,'Monthly Cash Flows'!$B$13:$EC$13))","v":-3408.7916666666652},{"$f":"-INDEX('Monthly Cash Flows'!$B53:$EC53,MATCH('Monthly CF'!AE$6,'Monthly Cash Flows'!$B$13:$EC$13))","v":-3408.7916666666652},{"$f":"-INDEX('Monthly Cash Flows'!$B53:$EC53,MATCH('Monthly CF'!AF$6,'Monthly Cash Flows'!$B$13:$EC$13))","v":-3408.7916666666652},{"$f":"-INDEX('Monthly Cash Flows'!$B53:$EC53,MATCH('Monthly CF'!AG$6,'Monthly Cash Flows'!$B$13:$EC$13))","v":-3408.7916666666652},{"$f":"-INDEX('Monthly Cash Flows'!$B53:$EC53,MATCH('Monthly CF'!AH$6,'Monthly Cash Flows'!$B$13:$EC$13))","v":-3408.7916666666652},{"$f":"-INDEX('Monthly Cash Flows'!$B53:$EC53,MATCH('Monthly CF'!AI$6,'Monthly Cash Flows'!$B$13:$EC$13))","v":-3408.7916666666652},{"$f":"-INDEX('Monthly Cash Flows'!$B53:$EC53,MATCH('Monthly CF'!AJ$6,'Monthly Cash Flows'!$B$13:$EC$13))","v":-3408.7916666666652},{"$f":"-INDEX('Monthly Cash Flows'!$B53:$EC53,MATCH('Monthly CF'!AK$6,'Monthly Cash Flows'!$B$13:$EC$13))","v":-3408.7916666666652},{"$f":"-INDEX('Monthly Cash Flows'!$B53:$EC53,MATCH('Monthly CF'!AL$6,'Monthly Cash Flows'!$B$13:$EC$13))","v":-3408.7916666666652},{"$f":"-INDEX('Monthly Cash Flows'!$B53:$EC53,MATCH('Monthly CF'!AM$6,'Monthly Cash Flows'!$B$13:$EC$13))","v":-3408.7916666666652},{"$f":"-INDEX('Monthly Cash Flows'!$B53:$EC53,MATCH('Monthly CF'!AN$6,'Monthly Cash Flows'!$B$13:$EC$13))","v":-3408.7916666666652},{"$f":"-INDEX('Monthly Cash Flows'!$B53:$EC53,MATCH('Monthly CF'!AO$6,'Monthly Cash Flows'!$B$13:$EC$13))","v":-3408.7916666666652},{"$f":"-INDEX('Monthly Cash Flows'!$B53:$EC53,MATCH('Monthly CF'!AP$6,'Monthly Cash Flows'!$B$13:$EC$13))","v":-3408.7916666666652},{"$f":"-INDEX('Monthly Cash Flows'!$B53:$EC53,MATCH('Monthly CF'!AQ$6,'Monthly Cash Flows'!$B$13:$EC$13))","v":-3408.7916666666652},{"$f":"-INDEX('Monthly Cash Flows'!$B53:$EC53,MATCH('Monthly CF'!AR$6,'Monthly Cash Flows'!$B$13:$EC$13))","v":-3408.7916666666652},{"$f":"-INDEX('Monthly Cash Flows'!$B53:$EC53,MATCH('Monthly CF'!AS$6,'Monthly Cash Flows'!$B$13:$EC$13))","v":-3408.7916666666652},{"$f":"-INDEX('Monthly Cash Flows'!$B53:$EC53,MATCH('Monthly CF'!AT$6,'Monthly Cash Flows'!$B$13:$EC$13))","v":-3408.7916666666652},{"$f":"-INDEX('Monthly Cash Flows'!$B53:$EC53,MATCH('Monthly CF'!AU$6,'Monthly Cash Flows'!$B$13:$EC$13))","v":-3408.7916666666652},{"$f":"-INDEX('Monthly Cash Flows'!$B53:$EC53,MATCH('Monthly CF'!AV$6,'Monthly Cash Flows'!$B$13:$EC$13))","v":-3408.7916666666652},{"$f":"-INDEX('Monthly Cash Flows'!$B53:$EC53,MATCH('Monthly CF'!AW$6,'Monthly Cash Flows'!$B$13:$EC$13))","v":-3408.7916666666652},{"$f":"-INDEX('Monthly Cash Flows'!$B53:$EC53,MATCH('Monthly CF'!AX$6,'Monthly Cash Flows'!$B$13:$EC$13))","v":-3408.7916666666652},{"$f":"-INDEX('Monthly Cash Flows'!$B53:$EC53,MATCH('Monthly CF'!AY$6,'Monthly Cash Flows'!$B$13:$EC$13))","v":-3408.7916666666652},{"$f":"-INDEX('Monthly Cash Flows'!$B53:$EC53,MATCH('Monthly CF'!AZ$6,'Monthly Cash Flows'!$B$13:$EC$13))","v":-3408.7916666666652},{"$f":"-INDEX('Monthly Cash Flows'!$B53:$EC53,MATCH('Monthly CF'!BA$6,'Monthly Cash Flows'!$B$13:$EC$13))","v":-3408.7916666666652},{"$f":"-INDEX('Monthly Cash Flows'!$B53:$EC53,MATCH('Monthly CF'!BB$6,'Monthly Cash Flows'!$B$13:$EC$13))","v":-3408.7916666666652},{"$f":"-INDEX('Monthly Cash Flows'!$B53:$EC53,MATCH('Monthly CF'!BC$6,'Monthly Cash Flows'!$B$13:$EC$13))","v":-3408.7916666666652},{"$f":"-INDEX('Monthly Cash Flows'!$B53:$EC53,MATCH('Monthly CF'!BD$6,'Monthly Cash Flows'!$B$13:$EC$13))","v":-3408.7916666666652},{"$f":"-INDEX('Monthly Cash Flows'!$B53:$EC53,MATCH('Monthly CF'!BE$6,'Monthly Cash Flows'!$B$13:$EC$13))","v":-3408.7916666666652},{"$f":"-INDEX('Monthly Cash Flows'!$B53:$EC53,MATCH('Monthly CF'!BF$6,'Monthly Cash Flows'!$B$13:$EC$13))","v":-3408.7916666666652},{"$f":"-INDEX('Monthly Cash Flows'!$B53:$EC53,MATCH('Monthly CF'!BG$6,'Monthly Cash Flows'!$B$13:$EC$13))","v":-3408.7916666666652},{"$f":"-INDEX('Monthly Cash Flows'!$B53:$EC53,MATCH('Monthly CF'!BH$6,'Monthly Cash Flows'!$B$13:$EC$13))","v":-3408.7916666666652},{"$f":"-INDEX('Monthly Cash Flows'!$B53:$EC53,MATCH('Monthly CF'!BI$6,'Monthly Cash Flows'!$B$13:$EC$13))","v":-3408.7916666666652},{"$f":"-INDEX('Monthly Cash Flows'!$B53:$EC53,MATCH('Monthly CF'!BJ$6,'Monthly Cash Flows'!$B$13:$EC$13))","v":-3408.7916666666652},{"$f":"-INDEX('Monthly Cash Flows'!$B53:$EC53,MATCH('Monthly CF'!BK$6,'Monthly Cash Flows'!$B$13:$EC$13))","v":-3408.7916666666652},{"$f":"-INDEX('Monthly Cash Flows'!$B53:$EC53,MATCH('Monthly CF'!BL$6,'Monthly Cash Flows'!$B$13:$EC$13))","v":-3408.7916666666652},{"$f":"-INDEX('Monthly Cash Flows'!$B53:$EC53,MATCH('Monthly CF'!BM$6,'Monthly Cash Flows'!$B$13:$EC$13))","v":-3408.7916666666652},{"$f":"-INDEX('Monthly Cash Flows'!$B53:$EC53,MATCH('Monthly CF'!BN$6,'Monthly Cash Flows'!$B$13:$EC$13))","v":-3408.7916666666652},{"$f":"-INDEX('Monthly Cash Flows'!$B53:$EC53,MATCH('Monthly CF'!BO$6,'Monthly Cash Flows'!$B$13:$EC$13))","v":-3408.7916666666652},{"$f":"-INDEX('Monthly Cash Flows'!$B53:$EC53,MATCH('Monthly CF'!BP$6,'Monthly Cash Flows'!$B$13:$EC$13))","v":-3408.7916666666652},{"$f":"-INDEX('Monthly Cash Flows'!$B53:$EC53,MATCH('Monthly CF'!BQ$6,'Monthly Cash Flows'!$B$13:$EC$13))","v":-3408.7916666666652},{"$f":"-INDEX('Monthly Cash Flows'!$B53:$EC53,MATCH('Monthly CF'!BR$6,'Monthly Cash Flows'!$B$13:$EC$13))","v":-3408.7916666666652},{"$f":"-INDEX('Monthly Cash Flows'!$B53:$EC53,MATCH('Monthly CF'!BS$6,'Monthly Cash Flows'!$B$13:$EC$13))","v":-3408.7916666666652},{"$f":"-INDEX('Monthly Cash Flows'!$B53:$EC53,MATCH('Monthly CF'!BT$6,'Monthly Cash Flows'!$B$13:$EC$13))","v":-3408.7916666666652},{"$f":"-INDEX('Monthly Cash Flows'!$B53:$EC53,MATCH('Monthly CF'!BU$6,'Monthly Cash Flows'!$B$13:$EC$13))","v":-3408.7916666666652},{"$f":"-INDEX('Monthly Cash Flows'!$B53:$EC53,MATCH('Monthly CF'!BV$6,'Monthly Cash Flows'!$B$13:$EC$13))","v":-3408.7916666666652},{"$f":"-INDEX('Monthly Cash Flows'!$B53:$EC53,MATCH('Monthly CF'!BW$6,'Monthly Cash Flows'!$B$13:$EC$13))","v":-3408.7916666666652},{"$f":"-INDEX('Monthly Cash Flows'!$B53:$EC53,MATCH('Monthly CF'!BX$6,'Monthly Cash Flows'!$B$13:$EC$13))","v":-3408.7916666666652},{"$f":"-INDEX('Monthly Cash Flows'!$B53:$EC53,MATCH('Monthly CF'!BY$6,'Monthly Cash Flows'!$B$13:$EC$13))","v":-3408.7916666666652},{"$f":"-INDEX('Monthly Cash Flows'!$B53:$EC53,MATCH('Monthly CF'!BZ$6,'Monthly Cash Flows'!$B$13:$EC$13))","v":-3408.7916666666652},{"$f":"-INDEX('Monthly Cash Flows'!$B53:$EC53,MATCH('Monthly CF'!CA$6,'Monthly Cash Flows'!$B$13:$EC$13))","v":-3408.7916666666652},{"$f":"-INDEX('Monthly Cash Flows'!$B53:$EC53,MATCH('Monthly CF'!CB$6,'Monthly Cash Flows'!$B$13:$EC$13))","v":-3408.7916666666652},{"$f":"-INDEX('Monthly Cash Flows'!$B53:$EC53,MATCH('Monthly CF'!CC$6,'Monthly Cash Flows'!$B$13:$EC$13))","v":-3408.7916666666652},{"$f":"-INDEX('Monthly Cash Flows'!$B53:$EC53,MATCH('Monthly CF'!CD$6,'Monthly Cash Flows'!$B$13:$EC$13))","v":-3408.7916666666652},{"$f":"-INDEX('Monthly Cash Flows'!$B53:$EC53,MATCH('Monthly CF'!CE$6,'Monthly Cash Flows'!$B$13:$EC$13))","v":-3408.7916666666652},{"$f":"-INDEX('Monthly Cash Flows'!$B53:$EC53,MATCH('Monthly CF'!CF$6,'Monthly Cash Flows'!$B$13:$EC$13))","v":-3408.7916666666652},{"$f":"-INDEX('Monthly Cash Flows'!$B53:$EC53,MATCH('Monthly CF'!CG$6,'Monthly Cash Flows'!$B$13:$EC$13))","v":-3408.7916666666652},{"$f":"-INDEX('Monthly Cash Flows'!$B53:$EC53,MATCH('Monthly CF'!CH$6,'Monthly Cash Flows'!$B$13:$EC$13))","v":-3408.7916666666652},{"$f":"-INDEX('Monthly Cash Flows'!$B53:$EC53,MATCH('Monthly CF'!CI$6,'Monthly Cash Flows'!$B$13:$EC$13))","v":-3408.7916666666652},{"$f":"-INDEX('Monthly Cash Flows'!$B53:$EC53,MATCH('Monthly CF'!CJ$6,'Monthly Cash Flows'!$B$13:$EC$13))","v":-3408.7916666666652},{"$f":"-INDEX('Monthly Cash Flows'!$B53:$EC53,MATCH('Monthly CF'!CK$6,'Monthly Cash Flows'!$B$13:$EC$13))","v":-3408.7916666666652},{"$f":"-INDEX('Monthly Cash Flows'!$B53:$EC53,MATCH('Monthly CF'!CL$6,'Monthly Cash Flows'!$B$13:$EC$13))","v":-3408.7916666666652},{"$f":"-INDEX('Monthly Cash Flows'!$B53:$EC53,MATCH('Monthly CF'!CM$6,'Monthly Cash Flows'!$B$13:$EC$13))","v":-3408.7916666666652},{"$f":"-INDEX('Monthly Cash Flows'!$B53:$EC53,MATCH('Monthly CF'!CN$6,'Monthly Cash Flows'!$B$13:$EC$13))","v":-3408.7916666666652},{"$f":"-INDEX('Monthly Cash Flows'!$B53:$EC53,MATCH('Monthly CF'!CO$6,'Monthly Cash Flows'!$B$13:$EC$13))","v":-3408.7916666666652},{"$f":"-INDEX('Monthly Cash Flows'!$B53:$EC53,MATCH('Monthly CF'!CP$6,'Monthly Cash Flows'!$B$13:$EC$13))","v":-3408.7916666666652},{"$f":"-INDEX('Monthly Cash Flows'!$B53:$EC53,MATCH('Monthly CF'!CQ$6,'Monthly Cash Flows'!$B$13:$EC$13))","v":-3408.7916666666652},{"$f":"-INDEX('Monthly Cash Flows'!$B53:$EC53,MATCH('Monthly CF'!CR$6,'Monthly Cash Flows'!$B$13:$EC$13))","v":-3408.7916666666652},{"$f":"-INDEX('Monthly Cash Flows'!$B53:$EC53,MATCH('Monthly CF'!CS$6,'Monthly Cash Flows'!$B$13:$EC$13))","v":-3408.7916666666652},{"$f":"-INDEX('Monthly Cash Flows'!$B53:$EC53,MATCH('Monthly CF'!CT$6,'Monthly Cash Flows'!$B$13:$EC$13))","v":-3408.7916666666652},{"$f":"-INDEX('Monthly Cash Flows'!$B53:$EC53,MATCH('Monthly CF'!CU$6,'Monthly Cash Flows'!$B$13:$EC$13))","v":-3408.7916666666652},{"$f":"-INDEX('Monthly Cash Flows'!$B53:$EC53,MATCH('Monthly CF'!CV$6,'Monthly Cash Flows'!$B$13:$EC$13))","v":-3408.7916666666652},{"$f":"-INDEX('Monthly Cash Flows'!$B53:$EC53,MATCH('Monthly CF'!CW$6,'Monthly Cash Flows'!$B$13:$EC$13))","v":-3408.7916666666652},{"$f":"-INDEX('Monthly Cash Flows'!$B53:$EC53,MATCH('Monthly CF'!CX$6,'Monthly Cash Flows'!$B$13:$EC$13))","v":-3408.7916666666652},{"$f":"-INDEX('Monthly Cash Flows'!$B53:$EC53,MATCH('Monthly CF'!CY$6,'Monthly Cash Flows'!$B$13:$EC$13))","v":-3408.7916666666652},{"$f":"-INDEX('Monthly Cash Flows'!$B53:$EC53,MATCH('Monthly CF'!CZ$6,'Monthly Cash Flows'!$B$13:$EC$13))","v":-3408.7916666666652},{"$f":"-INDEX('Monthly Cash Flows'!$B53:$EC53,MATCH('Monthly CF'!DA$6,'Monthly Cash Flows'!$B$13:$EC$13))","v":-3408.7916666666652},{"$f":"-INDEX('Monthly Cash Flows'!$B53:$EC53,MATCH('Monthly CF'!DB$6,'Monthly Cash Flows'!$B$13:$EC$13))","v":-3408.7916666666652},{"$f":"-INDEX('Monthly Cash Flows'!$B53:$EC53,MATCH('Monthly CF'!DC$6,'Monthly Cash Flows'!$B$13:$EC$13))","v":-3408.7916666666652},{"$f":"-INDEX('Monthly Cash Flows'!$B53:$EC53,MATCH('Monthly CF'!DD$6,'Monthly Cash Flows'!$B$13:$EC$13))","v":-3408.7916666666652},{"$f":"-INDEX('Monthly Cash Flows'!$B53:$EC53,MATCH('Monthly CF'!DE$6,'Monthly Cash Flows'!$B$13:$EC$13))","v":-3408.7916666666652},{"$f":"-INDEX('Monthly Cash Flows'!$B53:$EC53,MATCH('Monthly CF'!DF$6,'Monthly Cash Flows'!$B$13:$EC$13))","v":-3408.7916666666652},{"$f":"-INDEX('Monthly Cash Flows'!$B53:$EC53,MATCH('Monthly CF'!DG$6,'Monthly Cash Flows'!$B$13:$EC$13))","v":-3408.7916666666652},{"$f":"-INDEX('Monthly Cash Flows'!$B53:$EC53,MATCH('Monthly CF'!DH$6,'Monthly Cash Flows'!$B$13:$EC$13))","v":-3408.7916666666652},{"$f":"-INDEX('Monthly Cash Flows'!$B53:$EC53,MATCH('Monthly CF'!DI$6,'Monthly Cash Flows'!$B$13:$EC$13))","v":-3408.7916666666652},{"$f":"-INDEX('Monthly Cash Flows'!$B53:$EC53,MATCH('Monthly CF'!DJ$6,'Monthly Cash Flows'!$B$13:$EC$13))","v":-3408.7916666666652},{"$f":"-INDEX('Monthly Cash Flows'!$B53:$EC53,MATCH('Monthly CF'!DK$6,'Monthly Cash Flows'!$B$13:$EC$13))","v":-3408.7916666666652},{"$f":"-INDEX('Monthly Cash Flows'!$B53:$EC53,MATCH('Monthly CF'!DL$6,'Monthly Cash Flows'!$B$13:$EC$13))","v":-3408.7916666666652},{"$f":"-INDEX('Monthly Cash Flows'!$B53:$EC53,MATCH('Monthly CF'!DM$6,'Monthly Cash Flows'!$B$13:$EC$13))","v":-3408.7916666666652},{"$f":"-INDEX('Monthly Cash Flows'!$B53:$EC53,MATCH('Monthly CF'!DN$6,'Monthly Cash Flows'!$B$13:$EC$13))","v":-3408.7916666666652},{"$f":"-INDEX('Monthly Cash Flows'!$B53:$EC53,MATCH('Monthly CF'!DO$6,'Monthly Cash Flows'!$B$13:$EC$13))","v":-3408.7916666666652},{"$f":"-INDEX('Monthly Cash Flows'!$B53:$EC53,MATCH('Monthly CF'!DP$6,'Monthly Cash Flows'!$B$13:$EC$13))","v":-3408.7916666666652},{"$f":"-INDEX('Monthly Cash Flows'!$B53:$EC53,MATCH('Monthly CF'!DQ$6,'Monthly Cash Flows'!$B$13:$EC$13))","v":-3408.7916666666652},{"$f":"-INDEX('Monthly Cash Flows'!$B53:$EC53,MATCH('Monthly CF'!DR$6,'Monthly Cash Flows'!$B$13:$EC$13))","v":-3408.7916666666652},{"$f":"-INDEX('Monthly Cash Flows'!$B53:$EC53,MATCH('Monthly CF'!DS$6,'Monthly Cash Flows'!$B$13:$EC$13))","v":-3408.7916666666652},{"$f":"-INDEX('Monthly Cash Flows'!$B53:$EC53,MATCH('Monthly CF'!DT$6,'Monthly Cash Flows'!$B$13:$EC$13))","v":-3408.7916666666652},{"$f":"-INDEX('Monthly Cash Flows'!$B53:$EC53,MATCH('Monthly CF'!DU$6,'Monthly Cash Flows'!$B$13:$EC$13))","v":-3408.7916666666652},{"$f":"-INDEX('Monthly Cash Flows'!$B53:$EC53,MATCH('Monthly CF'!DV$6,'Monthly Cash Flows'!$B$13:$EC$13))","v":-3408.7916666666652},{"$f":"-INDEX('Monthly Cash Flows'!$B53:$EC53,MATCH('Monthly CF'!DW$6,'Monthly Cash Flows'!$B$13:$EC$13))","v":-3408.7916666666652},{"$f":"-INDEX('Monthly Cash Flows'!$B53:$EC53,MATCH('Monthly CF'!DX$6,'Monthly Cash Flows'!$B$13:$EC$13))","v":-3408.7916666666652},{"$f":"-INDEX('Monthly Cash Flows'!$B53:$EC53,MATCH('Monthly CF'!DY$6,'Monthly Cash Flows'!$B$13:$EC$13))","v":-3408.7916666666652},{"$f":"-INDEX('Monthly Cash Flows'!$B53:$EC53,MATCH('Monthly CF'!DZ$6,'Monthly Cash Flows'!$B$13:$EC$13))","v":-3408.7916666666652},{"$f":"-INDEX('Monthly Cash Flows'!$B53:$EC53,MATCH('Monthly CF'!EA$6,'Monthly Cash Flows'!$B$13:$EC$13))","v":-3408.7916666666652},{"$f":"-INDEX('Monthly Cash Flows'!$B53:$EC53,MATCH('Monthly CF'!EB$6,'Monthly Cash Flows'!$B$13:$EC$13))","v":-3408.7916666666652},{"$f":"-INDEX('Monthly Cash Flows'!$B53:$EC53,MATCH('Monthly CF'!EC$6,'Monthly Cash Flows'!$B$13:$EC$13))","v":-3408.7916666666652},{"$f":"-INDEX('Monthly Cash Flows'!$B53:$EC53,MATCH('Monthly CF'!ED$6,'Monthly Cash Flows'!$B$13:$EC$13))","v":-3408.7916666666652},{"$f":"-INDEX('Monthly Cash Flows'!$B53:$EC53,MATCH('Monthly CF'!EE$6,'Monthly Cash Flows'!$B$13:$EC$13))","v":-3408.7916666666652},{"$f":"-INDEX('Monthly Cash Flows'!$B53:$EC53,MATCH('Monthly CF'!EF$6,'Monthly Cash Flows'!$B$13:$EC$13))","v":-3408.7916666666652},{"$f":"-INDEX('Monthly Cash Flows'!$B53:$EC53,MATCH('Monthly CF'!EG$6,'Monthly Cash Flows'!$B$13:$EC$13))","v":-3408.7916666666652}]
[null,{"$f":"+'Monthly Cash Flows'!A54","v":"Power Washing"},null,null,null,{"$f":"-INDEX('Monthly Cash Flows'!$B54:$EC54,MATCH('Monthly CF'!F$6,'Monthly Cash Flows'!$B$13:$EC$13))","v":-685.66666666666663},{"$f":"-INDEX('Monthly Cash Flows'!$B54:$EC54,MATCH('Monthly CF'!G$6,'Monthly Cash Flows'!$B$13:$EC$13))","v":-685.66666666666663},{"$f":"-INDEX('Monthly Cash Flows'!$B54:$EC54,MATCH('Monthly CF'!H$6,'Monthly Cash Flows'!$B$13:$EC$13))","v":-685.66666666666663},{"$f":"-INDEX('Monthly Cash Flows'!$B54:$EC54,MATCH('Monthly CF'!I$6,'Monthly Cash Flows'!$B$13:$EC$13))","v":-685.66666666666663},{"$f":"-INDEX('Monthly Cash Flows'!$B54:$EC54,MATCH('Monthly CF'!J$6,'Monthly Cash Flows'!$B$13:$EC$13))","v":-685.66666666666663},{"$f":"-INDEX('Monthly Cash Flows'!$B54:$EC54,MATCH('Monthly CF'!K$6,'Monthly Cash Flows'!$B$13:$EC$13))","v":-685.66666666666663},{"$f":"-INDEX('Monthly Cash Flows'!$B54:$EC54,MATCH('Monthly CF'!L$6,'Monthly Cash Flows'!$B$13:$EC$13))","v":-685.66666666666663},{"$f":"-INDEX('Monthly Cash Flows'!$B54:$EC54,MATCH('Monthly CF'!M$6,'Monthly Cash Flows'!$B$13:$EC$13))","v":-685.66666666666663},{"$f":"-INDEX('Monthly Cash Flows'!$B54:$EC54,MATCH('Monthly CF'!N$6,'Monthly Cash Flows'!$B$13:$EC$13))","v":-685.66666666666663},{"$f":"-INDEX('Monthly Cash Flows'!$B54:$EC54,MATCH('Monthly CF'!O$6,'Monthly Cash Flows'!$B$13:$EC$13))","v":-685.66666666666663},{"$f":"-INDEX('Monthly Cash Flows'!$B54:$EC54,MATCH('Monthly CF'!P$6,'Monthly Cash Flows'!$B$13:$EC$13))","v":-685.66666666666663},{"$f":"-INDEX('Monthly Cash Flows'!$B54:$EC54,MATCH('Monthly CF'!Q$6,'Monthly Cash Flows'!$B$13:$EC$13))","v":-706.23666666666668},{"$f":"-INDEX('Monthly Cash Flows'!$B54:$EC54,MATCH('Monthly CF'!R$6,'Monthly Cash Flows'!$B$13:$EC$13))","v":-706.23666666666668},{"$f":"-INDEX('Monthly Cash Flows'!$B54:$EC54,MATCH('Monthly CF'!S$6,'Monthly Cash Flows'!$B$13:$EC$13))","v":-706.23666666666668},{"$f":"-INDEX('Monthly Cash Flows'!$B54:$EC54,MATCH('Monthly CF'!T$6,'Monthly Cash Flows'!$B$13:$EC$13))","v":-706.23666666666668},{"$f":"-INDEX('Monthly Cash Flows'!$B54:$EC54,MATCH('Monthly CF'!U$6,'Monthly Cash Flows'!$B$13:$EC$13))","v":-706.23666666666668},{"$f":"-INDEX('Monthly Cash Flows'!$B54:$EC54,MATCH('Monthly CF'!V$6,'Monthly Cash Flows'!$B$13:$EC$13))","v":-706.23666666666668},{"$f":"-INDEX('Monthly Cash Flows'!$B54:$EC54,MATCH('Monthly CF'!W$6,'Monthly Cash Flows'!$B$13:$EC$13))","v":-706.23666666666668},{"$f":"-INDEX('Monthly Cash Flows'!$B54:$EC54,MATCH('Monthly CF'!X$6,'Monthly Cash Flows'!$B$13:$EC$13))","v":-706.23666666666668},{"$f":"-INDEX('Monthly Cash Flows'!$B54:$EC54,MATCH('Monthly CF'!Y$6,'Monthly Cash Flows'!$B$13:$EC$13))","v":-706.23666666666668},{"$f":"-INDEX('Monthly Cash Flows'!$B54:$EC54,MATCH('Monthly CF'!Z$6,'Monthly Cash Flows'!$B$13:$EC$13))","v":-706.23666666666668},{"$f":"-INDEX('Monthly Cash Flows'!$B54:$EC54,MATCH('Monthly CF'!AA$6,'Monthly Cash Flows'!$B$13:$EC$13))","v":-706.23666666666668},{"$f":"-INDEX('Monthly Cash Flows'!$B54:$EC54,MATCH('Monthly CF'!AB$6,'Monthly Cash Flows'!$B$13:$EC$13))","v":-706.23666666666668},{"$f":"-INDEX('Monthly Cash Flows'!$B54:$EC54,MATCH('Monthly CF'!AC$6,'Monthly Cash Flows'!$B$13:$EC$13))","v":-727.42376666666667},{"$f":"-INDEX('Monthly Cash Flows'!$B54:$EC54,MATCH('Monthly CF'!AD$6,'Monthly Cash Flows'!$B$13:$EC$13))","v":-727.42376666666667},{"$f":"-INDEX('Monthly Cash Flows'!$B54:$EC54,MATCH('Monthly CF'!AE$6,'Monthly Cash Flows'!$B$13:$EC$13))","v":-727.42376666666667},{"$f":"-INDEX('Monthly Cash Flows'!$B54:$EC54,MATCH('Monthly CF'!AF$6,'Monthly Cash Flows'!$B$13:$EC$13))","v":-727.42376666666667},{"$f":"-INDEX('Monthly Cash Flows'!$B54:$EC54,MATCH('Monthly CF'!AG$6,'Monthly Cash Flows'!$B$13:$EC$13))","v":-727.42376666666667},{"$f":"-INDEX('Monthly Cash Flows'!$B54:$EC54,MATCH('Monthly CF'!AH$6,'Monthly Cash Flows'!$B$13:$EC$13))","v":-727.42376666666667},{"$f":"-INDEX('Monthly Cash Flows'!$B54:$EC54,MATCH('Monthly CF'!AI$6,'Monthly Cash Flows'!$B$13:$EC$13))","v":-727.42376666666667},{"$f":"-INDEX('Monthly Cash Flows'!$B54:$EC54,MATCH('Monthly CF'!AJ$6,'Monthly Cash Flows'!$B$13:$EC$13))","v":-727.42376666666667},{"$f":"-INDEX('Monthly Cash Flows'!$B54:$EC54,MATCH('Monthly CF'!AK$6,'Monthly Cash Flows'!$B$13:$EC$13))","v":-727.42376666666667},{"$f":"-INDEX('Monthly Cash Flows'!$B54:$EC54,MATCH('Monthly CF'!AL$6,'Monthly Cash Flows'!$B$13:$EC$13))","v":-727.42376666666667},{"$f":"-INDEX('Monthly Cash Flows'!$B54:$EC54,MATCH('Monthly CF'!AM$6,'Monthly Cash Flows'!$B$13:$EC$13))","v":-727.42376666666667},{"$f":"-INDEX('Monthly Cash Flows'!$B54:$EC54,MATCH('Monthly CF'!AN$6,'Monthly Cash Flows'!$B$13:$EC$13))","v":-727.42376666666667},{"$f":"-INDEX('Monthly Cash Flows'!$B54:$EC54,MATCH('Monthly CF'!AO$6,'Monthly Cash Flows'!$B$13:$EC$13))","v":-749.24647966666669},{"$f":"-INDEX('Monthly Cash Flows'!$B54:$EC54,MATCH('Monthly CF'!AP$6,'Monthly Cash Flows'!$B$13:$EC$13))","v":-749.24647966666669},{"$f":"-INDEX('Monthly Cash Flows'!$B54:$EC54,MATCH('Monthly CF'!AQ$6,'Monthly Cash Flows'!$B$13:$EC$13))","v":-749.24647966666669},{"$f":"-INDEX('Monthly Cash Flows'!$B54:$EC54,MATCH('Monthly CF'!AR$6,'Monthly Cash Flows'!$B$13:$EC$13))","v":-749.24647966666669},{"$f":"-INDEX('Monthly Cash Flows'!$B54:$EC54,MATCH('Monthly CF'!AS$6,'Monthly Cash Flows'!$B$13:$EC$13))","v":-749.24647966666669},{"$f":"-INDEX('Monthly Cash Flows'!$B54:$EC54,MATCH('Monthly CF'!AT$6,'Monthly Cash Flows'!$B$13:$EC$13))","v":-749.24647966666669},{"$f":"-INDEX('Monthly Cash Flows'!$B54:$EC54,MATCH('Monthly CF'!AU$6,'Monthly Cash Flows'!$B$13:$EC$13))","v":-749.24647966666669},{"$f":"-INDEX('Monthly Cash Flows'!$B54:$EC54,MATCH('Monthly CF'!AV$6,'Monthly Cash Flows'!$B$13:$EC$13))","v":-749.24647966666669},{"$f":"-INDEX('Monthly Cash Flows'!$B54:$EC54,MATCH('Monthly CF'!AW$6,'Monthly Cash Flows'!$B$13:$EC$13))","v":-749.24647966666669},{"$f":"-INDEX('Monthly Cash Flows'!$B54:$EC54,MATCH('Monthly CF'!AX$6,'Monthly Cash Flows'!$B$13:$EC$13))","v":-749.24647966666669},{"$f":"-INDEX('Monthly Cash Flows'!$B54:$EC54,MATCH('Monthly CF'!AY$6,'Monthly Cash Flows'!$B$13:$EC$13))","v":-749.24647966666669},{"$f":"-INDEX('Monthly Cash Flows'!$B54:$EC54,MATCH('Monthly CF'!AZ$6,'Monthly Cash Flows'!$B$13:$EC$13))","v":-749.24647966666669},{"$f":"-INDEX('Monthly Cash Flows'!$B54:$EC54,MATCH('Monthly CF'!BA$6,'Monthly Cash Flows'!$B$13:$EC$13))","v":-771.72387405666666},{"$f":"-INDEX('Monthly Cash Flows'!$B54:$EC54,MATCH('Monthly CF'!BB$6,'Monthly Cash Flows'!$B$13:$EC$13))","v":-771.72387405666666},{"$f":"-INDEX('Monthly Cash Flows'!$B54:$EC54,MATCH('Monthly CF'!BC$6,'Monthly Cash Flows'!$B$13:$EC$13))","v":-771.72387405666666},{"$f":"-INDEX('Monthly Cash Flows'!$B54:$EC54,MATCH('Monthly CF'!BD$6,'Monthly Cash Flows'!$B$13:$EC$13))","v":-771.72387405666666},{"$f":"-INDEX('Monthly Cash Flows'!$B54:$EC54,MATCH('Monthly CF'!BE$6,'Monthly Cash Flows'!$B$13:$EC$13))","v":-771.72387405666666},{"$f":"-INDEX('Monthly Cash Flows'!$B54:$EC54,MATCH('Monthly CF'!BF$6,'Monthly Cash Flows'!$B$13:$EC$13))","v":-771.72387405666666},{"$f":"-INDEX('Monthly Cash Flows'!$B54:$EC54,MATCH('Monthly CF'!BG$6,'Monthly Cash Flows'!$B$13:$EC$13))","v":-771.72387405666666},{"$f":"-INDEX('Monthly Cash Flows'!$B54:$EC54,MATCH('Monthly CF'!BH$6,'Monthly Cash Flows'!$B$13:$EC$13))","v":-771.72387405666666},{"$f":"-INDEX('Monthly Cash Flows'!$B54:$EC54,MATCH('Monthly CF'!BI$6,'Monthly Cash Flows'!$B$13:$EC$13))","v":-771.72387405666666},{"$f":"-INDEX('Monthly Cash Flows'!$B54:$EC54,MATCH('Monthly CF'!BJ$6,'Monthly Cash Flows'!$B$13:$EC$13))","v":-771.72387405666666},{"$f":"-INDEX('Monthly Cash Flows'!$B54:$EC54,MATCH('Monthly CF'!BK$6,'Monthly Cash Flows'!$B$13:$EC$13))","v":-771.72387405666666},{"$f":"-INDEX('Monthly Cash Flows'!$B54:$EC54,MATCH('Monthly CF'!BL$6,'Monthly Cash Flows'!$B$13:$EC$13))","v":-771.72387405666666},{"$f":"-INDEX('Monthly Cash Flows'!$B54:$EC54,MATCH('Monthly CF'!BM$6,'Monthly Cash Flows'!$B$13:$EC$13))","v":-794.87559027836664},{"$f":"-INDEX('Monthly Cash Flows'!$B54:$EC54,MATCH('Monthly CF'!BN$6,'Monthly Cash Flows'!$B$13:$EC$13))","v":-794.87559027836664},{"$f":"-INDEX('Monthly Cash Flows'!$B54:$EC54,MATCH('Monthly CF'!BO$6,'Monthly Cash Flows'!$B$13:$EC$13))","v":-794.87559027836664},{"$f":"-INDEX('Monthly Cash Flows'!$B54:$EC54,MATCH('Monthly CF'!BP$6,'Monthly Cash Flows'!$B$13:$EC$13))","v":-794.87559027836664},{"$f":"-INDEX('Monthly Cash Flows'!$B54:$EC54,MATCH('Monthly CF'!BQ$6,'Monthly Cash Flows'!$B$13:$EC$13))","v":-794.87559027836664},{"$f":"-INDEX('Monthly Cash Flows'!$B54:$EC54,MATCH('Monthly CF'!BR$6,'Monthly Cash Flows'!$B$13:$EC$13))","v":-794.87559027836664},{"$f":"-INDEX('Monthly Cash Flows'!$B54:$EC54,MATCH('Monthly CF'!BS$6,'Monthly Cash Flows'!$B$13:$EC$13))","v":-794.87559027836664},{"$f":"-INDEX('Monthly Cash Flows'!$B54:$EC54,MATCH('Monthly CF'!BT$6,'Monthly Cash Flows'!$B$13:$EC$13))","v":-794.87559027836664},{"$f":"-INDEX('Monthly Cash Flows'!$B54:$EC54,MATCH('Monthly CF'!BU$6,'Monthly Cash Flows'!$B$13:$EC$13))","v":-794.87559027836664},{"$f":"-INDEX('Monthly Cash Flows'!$B54:$EC54,MATCH('Monthly CF'!BV$6,'Monthly Cash Flows'!$B$13:$EC$13))","v":-794.87559027836664},{"$f":"-INDEX('Monthly Cash Flows'!$B54:$EC54,MATCH('Monthly CF'!BW$6,'Monthly Cash Flows'!$B$13:$EC$13))","v":-794.87559027836664},{"$f":"-INDEX('Monthly Cash Flows'!$B54:$EC54,MATCH('Monthly CF'!BX$6,'Monthly Cash Flows'!$B$13:$EC$13))","v":-794.87559027836664},{"$f":"-INDEX('Monthly Cash Flows'!$B54:$EC54,MATCH('Monthly CF'!BY$6,'Monthly Cash Flows'!$B$13:$EC$13))","v":-818.72185798671762},{"$f":"-INDEX('Monthly Cash Flows'!$B54:$EC54,MATCH('Monthly CF'!BZ$6,'Monthly Cash Flows'!$B$13:$EC$13))","v":-818.72185798671762},{"$f":"-INDEX('Monthly Cash Flows'!$B54:$EC54,MATCH('Monthly CF'!CA$6,'Monthly Cash Flows'!$B$13:$EC$13))","v":-818.72185798671762},{"$f":"-INDEX('Monthly Cash Flows'!$B54:$EC54,MATCH('Monthly CF'!CB$6,'Monthly Cash Flows'!$B$13:$EC$13))","v":-818.72185798671762},{"$f":"-INDEX('Monthly Cash Flows'!$B54:$EC54,MATCH('Monthly CF'!CC$6,'Monthly Cash Flows'!$B$13:$EC$13))","v":-818.72185798671762},{"$f":"-INDEX('Monthly Cash Flows'!$B54:$EC54,MATCH('Monthly CF'!CD$6,'Monthly Cash Flows'!$B$13:$EC$13))","v":-818.72185798671762},{"$f":"-INDEX('Monthly Cash Flows'!$B54:$EC54,MATCH('Monthly CF'!CE$6,'Monthly Cash Flows'!$B$13:$EC$13))","v":-818.72185798671762},{"$f":"-INDEX('Monthly Cash Flows'!$B54:$EC54,MATCH('Monthly CF'!CF$6,'Monthly Cash Flows'!$B$13:$EC$13))","v":-818.72185798671762},{"$f":"-INDEX('Monthly Cash Flows'!$B54:$EC54,MATCH('Monthly CF'!CG$6,'Monthly Cash Flows'!$B$13:$EC$13))","v":-818.72185798671762},{"$f":"-INDEX('Monthly Cash Flows'!$B54:$EC54,MATCH('Monthly CF'!CH$6,'Monthly Cash Flows'!$B$13:$EC$13))","v":-818.72185798671762},{"$f":"-INDEX('Monthly Cash Flows'!$B54:$EC54,MATCH('Monthly CF'!CI$6,'Monthly Cash Flows'!$B$13:$EC$13))","v":-818.72185798671762},{"$f":"-INDEX('Monthly Cash Flows'!$B54:$EC54,MATCH('Monthly CF'!CJ$6,'Monthly Cash Flows'!$B$13:$EC$13))","v":-818.72185798671762},{"$f":"-INDEX('Monthly Cash Flows'!$B54:$EC54,MATCH('Monthly CF'!CK$6,'Monthly Cash Flows'!$B$13:$EC$13))","v":-843.28351372631914},{"$f":"-INDEX('Monthly Cash Flows'!$B54:$EC54,MATCH('Monthly CF'!CL$6,'Monthly Cash Flows'!$B$13:$EC$13))","v":-843.28351372631914},{"$f":"-INDEX('Monthly Cash Flows'!$B54:$EC54,MATCH('Monthly CF'!CM$6,'Monthly Cash Flows'!$B$13:$EC$13))","v":-843.28351372631914},{"$f":"-INDEX('Monthly Cash Flows'!$B54:$EC54,MATCH('Monthly CF'!CN$6,'Monthly Cash Flows'!$B$13:$EC$13))","v":-843.28351372631914},{"$f":"-INDEX('Monthly Cash Flows'!$B54:$EC54,MATCH('Monthly CF'!CO$6,'Monthly Cash Flows'!$B$13:$EC$13))","v":-843.28351372631914},{"$f":"-INDEX('Monthly Cash Flows'!$B54:$EC54,MATCH('Monthly CF'!CP$6,'Monthly Cash Flows'!$B$13:$EC$13))","v":-843.28351372631914},{"$f":"-INDEX('Monthly Cash Flows'!$B54:$EC54,MATCH('Monthly CF'!CQ$6,'Monthly Cash Flows'!$B$13:$EC$13))","v":-843.28351372631914},{"$f":"-INDEX('Monthly Cash Flows'!$B54:$EC54,MATCH('Monthly CF'!CR$6,'Monthly Cash Flows'!$B$13:$EC$13))","v":-843.28351372631914},{"$f":"-INDEX('Monthly Cash Flows'!$B54:$EC54,MATCH('Monthly CF'!CS$6,'Monthly Cash Flows'!$B$13:$EC$13))","v":-843.28351372631914},{"$f":"-INDEX('Monthly Cash Flows'!$B54:$EC54,MATCH('Monthly CF'!CT$6,'Monthly Cash Flows'!$B$13:$EC$13))","v":-843.28351372631914},{"$f":"-INDEX('Monthly Cash Flows'!$B54:$EC54,MATCH('Monthly CF'!CU$6,'Monthly Cash Flows'!$B$13:$EC$13))","v":-843.28351372631914},{"$f":"-INDEX('Monthly Cash Flows'!$B54:$EC54,MATCH('Monthly CF'!CV$6,'Monthly Cash Flows'!$B$13:$EC$13))","v":-843.28351372631914},{"$f":"-INDEX('Monthly Cash Flows'!$B54:$EC54,MATCH('Monthly CF'!CW$6,'Monthly Cash Flows'!$B$13:$EC$13))","v":-868.58201913810876},{"$f":"-INDEX('Monthly Cash Flows'!$B54:$EC54,MATCH('Monthly CF'!CX$6,'Monthly Cash Flows'!$B$13:$EC$13))","v":-868.58201913810876},{"$f":"-INDEX('Monthly Cash Flows'!$B54:$EC54,MATCH('Monthly CF'!CY$6,'Monthly Cash Flows'!$B$13:$EC$13))","v":-868.58201913810876},{"$f":"-INDEX('Monthly Cash Flows'!$B54:$EC54,MATCH('Monthly CF'!CZ$6,'Monthly Cash Flows'!$B$13:$EC$13))","v":-868.58201913810876},{"$f":"-INDEX('Monthly Cash Flows'!$B54:$EC54,MATCH('Monthly CF'!DA$6,'Monthly Cash Flows'!$B$13:$EC$13))","v":-868.58201913810876},{"$f":"-INDEX('Monthly Cash Flows'!$B54:$EC54,MATCH('Monthly CF'!DB$6,'Monthly Cash Flows'!$B$13:$EC$13))","v":-868.58201913810876},{"$f":"-INDEX('Monthly Cash Flows'!$B54:$EC54,MATCH('Monthly CF'!DC$6,'Monthly Cash Flows'!$B$13:$EC$13))","v":-868.58201913810876},{"$f":"-INDEX('Monthly Cash Flows'!$B54:$EC54,MATCH('Monthly CF'!DD$6,'Monthly Cash Flows'!$B$13:$EC$13))","v":-868.58201913810876},{"$f":"-INDEX('Monthly Cash Flows'!$B54:$EC54,MATCH('Monthly CF'!DE$6,'Monthly Cash Flows'!$B$13:$EC$13))","v":-868.58201913810876},{"$f":"-INDEX('Monthly Cash Flows'!$B54:$EC54,MATCH('Monthly CF'!DF$6,'Monthly Cash Flows'!$B$13:$EC$13))","v":-868.58201913810876},{"$f":"-INDEX('Monthly Cash Flows'!$B54:$EC54,MATCH('Monthly CF'!DG$6,'Monthly Cash Flows'!$B$13:$EC$13))","v":-868.58201913810876},{"$f":"-INDEX('Monthly Cash Flows'!$B54:$EC54,MATCH('Monthly CF'!DH$6,'Monthly Cash Flows'!$B$13:$EC$13))","v":-868.58201913810876},{"$f":"-INDEX('Monthly Cash Flows'!$B54:$EC54,MATCH('Monthly CF'!DI$6,'Monthly Cash Flows'!$B$13:$EC$13))","v":-894.63947971225207},{"$f":"-INDEX('Monthly Cash Flows'!$B54:$EC54,MATCH('Monthly CF'!DJ$6,'Monthly Cash Flows'!$B$13:$EC$13))","v":-894.63947971225207},{"$f":"-INDEX('Monthly Cash Flows'!$B54:$EC54,MATCH('Monthly CF'!DK$6,'Monthly Cash Flows'!$B$13:$EC$13))","v":-894.63947971225207},{"$f":"-INDEX('Monthly Cash Flows'!$B54:$EC54,MATCH('Monthly CF'!DL$6,'Monthly Cash Flows'!$B$13:$EC$13))","v":-894.63947971225207},{"$f":"-INDEX('Monthly Cash Flows'!$B54:$EC54,MATCH('Monthly CF'!DM$6,'Monthly Cash Flows'!$B$13:$EC$13))","v":-894.63947971225207},{"$f":"-INDEX('Monthly Cash Flows'!$B54:$EC54,MATCH('Monthly CF'!DN$6,'Monthly Cash Flows'!$B$13:$EC$13))","v":-894.63947971225207},{"$f":"-INDEX('Monthly Cash Flows'!$B54:$EC54,MATCH('Monthly CF'!DO$6,'Monthly Cash Flows'!$B$13:$EC$13))","v":-894.63947971225207},{"$f":"-INDEX('Monthly Cash Flows'!$B54:$EC54,MATCH('Monthly CF'!DP$6,'Monthly Cash Flows'!$B$13:$EC$13))","v":-894.63947971225207},{"$f":"-INDEX('Monthly Cash Flows'!$B54:$EC54,MATCH('Monthly CF'!DQ$6,'Monthly Cash Flows'!$B$13:$EC$13))","v":-894.63947971225207},{"$f":"-INDEX('Monthly Cash Flows'!$B54:$EC54,MATCH('Monthly CF'!DR$6,'Monthly Cash Flows'!$B$13:$EC$13))","v":-894.63947971225207},{"$f":"-INDEX('Monthly Cash Flows'!$B54:$EC54,MATCH('Monthly CF'!DS$6,'Monthly Cash Flows'!$B$13:$EC$13))","v":-894.63947971225207},{"$f":"-INDEX('Monthly Cash Flows'!$B54:$EC54,MATCH('Monthly CF'!DT$6,'Monthly Cash Flows'!$B$13:$EC$13))","v":-894.63947971225207},{"$f":"-INDEX('Monthly Cash Flows'!$B54:$EC54,MATCH('Monthly CF'!DU$6,'Monthly Cash Flows'!$B$13:$EC$13))","v":-921.47866410361962},{"$f":"-INDEX('Monthly Cash Flows'!$B54:$EC54,MATCH('Monthly CF'!DV$6,'Monthly Cash Flows'!$B$13:$EC$13))","v":-921.47866410361962},{"$f":"-INDEX('Monthly Cash Flows'!$B54:$EC54,MATCH('Monthly CF'!DW$6,'Monthly Cash Flows'!$B$13:$EC$13))","v":-921.47866410361962},{"$f":"-INDEX('Monthly Cash Flows'!$B54:$EC54,MATCH('Monthly CF'!DX$6,'Monthly Cash Flows'!$B$13:$EC$13))","v":-921.47866410361962},{"$f":"-INDEX('Monthly Cash Flows'!$B54:$EC54,MATCH('Monthly CF'!DY$6,'Monthly Cash Flows'!$B$13:$EC$13))","v":-921.47866410361962},{"$f":"-INDEX('Monthly Cash Flows'!$B54:$EC54,MATCH('Monthly CF'!DZ$6,'Monthly Cash Flows'!$B$13:$EC$13))","v":-921.47866410361962},{"$f":"-INDEX('Monthly Cash Flows'!$B54:$EC54,MATCH('Monthly CF'!EA$6,'Monthly Cash Flows'!$B$13:$EC$13))","v":-921.47866410361962},{"$f":"-INDEX('Monthly Cash Flows'!$B54:$EC54,MATCH('Monthly CF'!EB$6,'Monthly Cash Flows'!$B$13:$EC$13))","v":-921.47866410361962},{"$f":"-INDEX('Monthly Cash Flows'!$B54:$EC54,MATCH('Monthly CF'!EC$6,'Monthly Cash Flows'!$B$13:$EC$13))","v":-921.47866410361962},{"$f":"-INDEX('Monthly Cash Flows'!$B54:$EC54,MATCH('Monthly CF'!ED$6,'Monthly Cash Flows'!$B$13:$EC$13))","v":-921.47866410361962},{"$f":"-INDEX('Monthly Cash Flows'!$B54:$EC54,MATCH('Monthly CF'!EE$6,'Monthly Cash Flows'!$B$13:$EC$13))","v":-921.47866410361962},{"$f":"-INDEX('Monthly Cash Flows'!$B54:$EC54,MATCH('Monthly CF'!EF$6,'Monthly Cash Flows'!$B$13:$EC$13))","v":-921.47866410361962},{"$f":"-INDEX('Monthly Cash Flows'!$B54:$EC54,MATCH('Monthly CF'!EG$6,'Monthly Cash Flows'!$B$13:$EC$13))","v":-921.47866410361962}]
[null,{"$f":"+'Monthly Cash Flows'!A55","v":"Roof Repairs"},null,null,null,{"$f":"-INDEX('Monthly Cash Flows'!$B55:$EC55,MATCH('Monthly CF'!F$6,'Monthly Cash Flows'!$B$13:$EC$13))","v":-107.25},{"$f":"-INDEX('Monthly Cash Flows'!$B55:$EC55,MATCH('Monthly CF'!G$6,'Monthly Cash Flows'!$B$13:$EC$13))","v":-107.25},{"$f":"-INDEX('Monthly Cash Flows'!$B55:$EC55,MATCH('Monthly CF'!H$6,'Monthly Cash Flows'!$B$13:$EC$13))","v":-107.25},{"$f":"-INDEX('Monthly Cash Flows'!$B55:$EC55,MATCH('Monthly CF'!I$6,'Monthly Cash Flows'!$B$13:$EC$13))","v":-107.25},{"$f":"-INDEX('Monthly Cash Flows'!$B55:$EC55,MATCH('Monthly CF'!J$6,'Monthly Cash Flows'!$B$13:$EC$13))","v":-107.25},{"$f":"-INDEX('Monthly Cash Flows'!$B55:$EC55,MATCH('Monthly CF'!K$6,'Monthly Cash Flows'!$B$13:$EC$13))","v":-107.25},{"$f":"-INDEX('Monthly Cash Flows'!$B55:$EC55,MATCH('Monthly CF'!L$6,'Monthly Cash Flows'!$B$13:$EC$13))","v":-107.25},{"$f":"-INDEX('Monthly Cash Flows'!$B55:$EC55,MATCH('Monthly CF'!M$6,'Monthly Cash Flows'!$B$13:$EC$13))","v":-107.25},{"$f":"-INDEX('Monthly Cash Flows'!$B55:$EC55,MATCH('Monthly CF'!N$6,'Monthly Cash Flows'!$B$13:$EC$13))","v":-107.25},{"$f":"-INDEX('Monthly Cash Flows'!$B55:$EC55,MATCH('Monthly CF'!O$6,'Monthly Cash Flows'!$B$13:$EC$13))","v":-107.25},{"$f":"-INDEX('Monthly Cash Flows'!$B55:$EC55,MATCH('Monthly CF'!P$6,'Monthly Cash Flows'!$B$13:$EC$13))","v":-107.25},{"$f":"-INDEX('Monthly Cash Flows'!$B55:$EC55,MATCH('Monthly CF'!Q$6,'Monthly Cash Flows'!$B$13:$EC$13))","v":-110.4675},{"$f":"-INDEX('Monthly Cash Flows'!$B55:$EC55,MATCH('Monthly CF'!R$6,'Monthly Cash Flows'!$B$13:$EC$13))","v":-110.4675},{"$f":"-INDEX('Monthly Cash Flows'!$B55:$EC55,MATCH('Monthly CF'!S$6,'Monthly Cash Flows'!$B$13:$EC$13))","v":-110.4675},{"$f":"-INDEX('Monthly Cash Flows'!$B55:$EC55,MATCH('Monthly CF'!T$6,'Monthly Cash Flows'!$B$13:$EC$13))","v":-110.4675},{"$f":"-INDEX('Monthly Cash Flows'!$B55:$EC55,MATCH('Monthly CF'!U$6,'Monthly Cash Flows'!$B$13:$EC$13))","v":-110.4675},{"$f":"-INDEX('Monthly Cash Flows'!$B55:$EC55,MATCH('Monthly CF'!V$6,'Monthly Cash Flows'!$B$13:$EC$13))","v":-110.4675},{"$f":"-INDEX('Monthly Cash Flows'!$B55:$EC55,MATCH('Monthly CF'!W$6,'Monthly Cash Flows'!$B$13:$EC$13))","v":-110.4675},{"$f":"-INDEX('Monthly Cash Flows'!$B55:$EC55,MATCH('Monthly CF'!X$6,'Monthly Cash Flows'!$B$13:$EC$13))","v":-110.4675},{"$f":"-INDEX('Monthly Cash Flows'!$B55:$EC55,MATCH('Monthly CF'!Y$6,'Monthly Cash Flows'!$B$13:$EC$13))","v":-110.4675},{"$f":"-INDEX('Monthly Cash Flows'!$B55:$EC55,MATCH('Monthly CF'!Z$6,'Monthly Cash Flows'!$B$13:$EC$13))","v":-110.4675},{"$f":"-INDEX('Monthly Cash Flows'!$B55:$EC55,MATCH('Monthly CF'!AA$6,'Monthly Cash Flows'!$B$13:$EC$13))","v":-110.4675},{"$f":"-INDEX('Monthly Cash Flows'!$B55:$EC55,MATCH('Monthly CF'!AB$6,'Monthly Cash Flows'!$B$13:$EC$13))","v":-110.4675},{"$f":"-INDEX('Monthly Cash Flows'!$B55:$EC55,MATCH('Monthly CF'!AC$6,'Monthly Cash Flows'!$B$13:$EC$13))","v":-113.781525},{"$f":"-INDEX('Monthly Cash Flows'!$B55:$EC55,MATCH('Monthly CF'!AD$6,'Monthly Cash Flows'!$B$13:$EC$13))","v":-113.781525},{"$f":"-INDEX('Monthly Cash Flows'!$B55:$EC55,MATCH('Monthly CF'!AE$6,'Monthly Cash Flows'!$B$13:$EC$13))","v":-113.781525},{"$f":"-INDEX('Monthly Cash Flows'!$B55:$EC55,MATCH('Monthly CF'!AF$6,'Monthly Cash Flows'!$B$13:$EC$13))","v":-113.781525},{"$f":"-INDEX('Monthly Cash Flows'!$B55:$EC55,MATCH('Monthly CF'!AG$6,'Monthly Cash Flows'!$B$13:$EC$13))","v":-113.781525},{"$f":"-INDEX('Monthly Cash Flows'!$B55:$EC55,MATCH('Monthly CF'!AH$6,'Monthly Cash Flows'!$B$13:$EC$13))","v":-113.781525},{"$f":"-INDEX('Monthly Cash Flows'!$B55:$EC55,MATCH('Monthly CF'!AI$6,'Monthly Cash Flows'!$B$13:$EC$13))","v":-113.781525},{"$f":"-INDEX('Monthly Cash Flows'!$B55:$EC55,MATCH('Monthly CF'!AJ$6,'Monthly Cash Flows'!$B$13:$EC$13))","v":-113.781525},{"$f":"-INDEX('Monthly Cash Flows'!$B55:$EC55,MATCH('Monthly CF'!AK$6,'Monthly Cash Flows'!$B$13:$EC$13))","v":-113.781525},{"$f":"-INDEX('Monthly Cash Flows'!$B55:$EC55,MATCH('Monthly CF'!AL$6,'Monthly Cash Flows'!$B$13:$EC$13))","v":-113.781525},{"$f":"-INDEX('Monthly Cash Flows'!$B55:$EC55,MATCH('Monthly CF'!AM$6,'Monthly Cash Flows'!$B$13:$EC$13))","v":-113.781525},{"$f":"-INDEX('Monthly Cash Flows'!$B55:$EC55,MATCH('Monthly CF'!AN$6,'Monthly Cash Flows'!$B$13:$EC$13))","v":-113.781525},{"$f":"-INDEX('Monthly Cash Flows'!$B55:$EC55,MATCH('Monthly CF'!AO$6,'Monthly Cash Flows'!$B$13:$EC$13))","v":-117.19497075000001},{"$f":"-INDEX('Monthly Cash Flows'!$B55:$EC55,MATCH('Monthly CF'!AP$6,'Monthly Cash Flows'!$B$13:$EC$13))","v":-117.19497075000001},{"$f":"-INDEX('Monthly Cash Flows'!$B55:$EC55,MATCH('Monthly CF'!AQ$6,'Monthly Cash Flows'!$B$13:$EC$13))","v":-117.19497075000001},{"$f":"-INDEX('Monthly Cash Flows'!$B55:$EC55,MATCH('Monthly CF'!AR$6,'Monthly Cash Flows'!$B$13:$EC$13))","v":-117.19497075000001},{"$f":"-INDEX('Monthly Cash Flows'!$B55:$EC55,MATCH('Monthly CF'!AS$6,'Monthly Cash Flows'!$B$13:$EC$13))","v":-117.19497075000001},{"$f":"-INDEX('Monthly Cash Flows'!$B55:$EC55,MATCH('Monthly CF'!AT$6,'Monthly Cash Flows'!$B$13:$EC$13))","v":-117.19497075000001},{"$f":"-INDEX('Monthly Cash Flows'!$B55:$EC55,MATCH('Monthly CF'!AU$6,'Monthly Cash Flows'!$B$13:$EC$13))","v":-117.19497075000001},{"$f":"-INDEX('Monthly Cash Flows'!$B55:$EC55,MATCH('Monthly CF'!AV$6,'Monthly Cash Flows'!$B$13:$EC$13))","v":-117.19497075000001},{"$f":"-INDEX('Monthly Cash Flows'!$B55:$EC55,MATCH('Monthly CF'!AW$6,'Monthly Cash Flows'!$B$13:$EC$13))","v":-117.19497075000001},{"$f":"-INDEX('Monthly Cash Flows'!$B55:$EC55,MATCH('Monthly CF'!AX$6,'Monthly Cash Flows'!$B$13:$EC$13))","v":-117.19497075000001},{"$f":"-INDEX('Monthly Cash Flows'!$B55:$EC55,MATCH('Monthly CF'!AY$6,'Monthly Cash Flows'!$B$13:$EC$13))","v":-117.19497075000001},{"$f":"-INDEX('Monthly Cash Flows'!$B55:$EC55,MATCH('Monthly CF'!AZ$6,'Monthly Cash Flows'!$B$13:$EC$13))","v":-117.19497075000001},{"$f":"-INDEX('Monthly Cash Flows'!$B55:$EC55,MATCH('Monthly CF'!BA$6,'Monthly Cash Flows'!$B$13:$EC$13))","v":-120.71081987250001},{"$f":"-INDEX('Monthly Cash Flows'!$B55:$EC55,MATCH('Monthly CF'!BB$6,'Monthly Cash Flows'!$B$13:$EC$13))","v":-120.71081987250001},{"$f":"-INDEX('Monthly Cash Flows'!$B55:$EC55,MATCH('Monthly CF'!BC$6,'Monthly Cash Flows'!$B$13:$EC$13))","v":-120.71081987250001},{"$f":"-INDEX('Monthly Cash Flows'!$B55:$EC55,MATCH('Monthly CF'!BD$6,'Monthly Cash Flows'!$B$13:$EC$13))","v":-120.71081987250001},{"$f":"-INDEX('Monthly Cash Flows'!$B55:$EC55,MATCH('Monthly CF'!BE$6,'Monthly Cash Flows'!$B$13:$EC$13))","v":-120.71081987250001},{"$f":"-INDEX('Monthly Cash Flows'!$B55:$EC55,MATCH('Monthly CF'!BF$6,'Monthly Cash Flows'!$B$13:$EC$13))","v":-120.71081987250001},{"$f":"-INDEX('Monthly Cash Flows'!$B55:$EC55,MATCH('Monthly CF'!BG$6,'Monthly Cash Flows'!$B$13:$EC$13))","v":-120.71081987250001},{"$f":"-INDEX('Monthly Cash Flows'!$B55:$EC55,MATCH('Monthly CF'!BH$6,'Monthly Cash Flows'!$B$13:$EC$13))","v":-120.71081987250001},{"$f":"-INDEX('Monthly Cash Flows'!$B55:$EC55,MATCH('Monthly CF'!BI$6,'Monthly Cash Flows'!$B$13:$EC$13))","v":-120.71081987250001},{"$f":"-INDEX('Monthly Cash Flows'!$B55:$EC55,MATCH('Monthly CF'!BJ$6,'Monthly Cash Flows'!$B$13:$EC$13))","v":-120.71081987250001},{"$f":"-INDEX('Monthly Cash Flows'!$B55:$EC55,MATCH('Monthly CF'!BK$6,'Monthly Cash Flows'!$B$13:$EC$13))","v":-120.71081987250001},{"$f":"-INDEX('Monthly Cash Flows'!$B55:$EC55,MATCH('Monthly CF'!BL$6,'Monthly Cash Flows'!$B$13:$EC$13))","v":-120.71081987250001},{"$f":"-INDEX('Monthly Cash Flows'!$B55:$EC55,MATCH('Monthly CF'!BM$6,'Monthly Cash Flows'!$B$13:$EC$13))","v":-124.33214446867501},{"$f":"-INDEX('Monthly Cash Flows'!$B55:$EC55,MATCH('Monthly CF'!BN$6,'Monthly Cash Flows'!$B$13:$EC$13))","v":-124.33214446867501},{"$f":"-INDEX('Monthly Cash Flows'!$B55:$EC55,MATCH('Monthly CF'!BO$6,'Monthly Cash Flows'!$B$13:$EC$13))","v":-124.33214446867501},{"$f":"-INDEX('Monthly Cash Flows'!$B55:$EC55,MATCH('Monthly CF'!BP$6,'Monthly Cash Flows'!$B$13:$EC$13))","v":-124.33214446867501},{"$f":"-INDEX('Monthly Cash Flows'!$B55:$EC55,MATCH('Monthly CF'!BQ$6,'Monthly Cash Flows'!$B$13:$EC$13))","v":-124.33214446867501},{"$f":"-INDEX('Monthly Cash Flows'!$B55:$EC55,MATCH('Monthly CF'!BR$6,'Monthly Cash Flows'!$B$13:$EC$13))","v":-124.33214446867501},{"$f":"-INDEX('Monthly Cash Flows'!$B55:$EC55,MATCH('Monthly CF'!BS$6,'Monthly Cash Flows'!$B$13:$EC$13))","v":-124.33214446867501},{"$f":"-INDEX('Monthly Cash Flows'!$B55:$EC55,MATCH('Monthly CF'!BT$6,'Monthly Cash Flows'!$B$13:$EC$13))","v":-124.33214446867501},{"$f":"-INDEX('Monthly Cash Flows'!$B55:$EC55,MATCH('Monthly CF'!BU$6,'Monthly Cash Flows'!$B$13:$EC$13))","v":-124.33214446867501},{"$f":"-INDEX('Monthly Cash Flows'!$B55:$EC55,MATCH('Monthly CF'!BV$6,'Monthly Cash Flows'!$B$13:$EC$13))","v":-124.33214446867501},{"$f":"-INDEX('Monthly Cash Flows'!$B55:$EC55,MATCH('Monthly CF'!BW$6,'Monthly Cash Flows'!$B$13:$EC$13))","v":-124.33214446867501},{"$f":"-INDEX('Monthly Cash Flows'!$B55:$EC55,MATCH('Monthly CF'!BX$6,'Monthly Cash Flows'!$B$13:$EC$13))","v":-124.33214446867501},{"$f":"-INDEX('Monthly Cash Flows'!$B55:$EC55,MATCH('Monthly CF'!BY$6,'Monthly Cash Flows'!$B$13:$EC$13))","v":-128.06210880273525},{"$f":"-INDEX('Monthly Cash Flows'!$B55:$EC55,MATCH('Monthly CF'!BZ$6,'Monthly Cash Flows'!$B$13:$EC$13))","v":-128.06210880273525},{"$f":"-INDEX('Monthly Cash Flows'!$B55:$EC55,MATCH('Monthly CF'!CA$6,'Monthly Cash Flows'!$B$13:$EC$13))","v":-128.06210880273525},{"$f":"-INDEX('Monthly Cash Flows'!$B55:$EC55,MATCH('Monthly CF'!CB$6,'Monthly Cash Flows'!$B$13:$EC$13))","v":-128.06210880273525},{"$f":"-INDEX('Monthly Cash Flows'!$B55:$EC55,MATCH('Monthly CF'!CC$6,'Monthly Cash Flows'!$B$13:$EC$13))","v":-128.06210880273525},{"$f":"-INDEX('Monthly Cash Flows'!$B55:$EC55,MATCH('Monthly CF'!CD$6,'Monthly Cash Flows'!$B$13:$EC$13))","v":-128.06210880273525},{"$f":"-INDEX('Monthly Cash Flows'!$B55:$EC55,MATCH('Monthly CF'!CE$6,'Monthly Cash Flows'!$B$13:$EC$13))","v":-128.06210880273525},{"$f":"-INDEX('Monthly Cash Flows'!$B55:$EC55,MATCH('Monthly CF'!CF$6,'Monthly Cash Flows'!$B$13:$EC$13))","v":-128.06210880273525},{"$f":"-INDEX('Monthly Cash Flows'!$B55:$EC55,MATCH('Monthly CF'!CG$6,'Monthly Cash Flows'!$B$13:$EC$13))","v":-128.06210880273525},{"$f":"-INDEX('Monthly Cash Flows'!$B55:$EC55,MATCH('Monthly CF'!CH$6,'Monthly Cash Flows'!$B$13:$EC$13))","v":-128.06210880273525},{"$f":"-INDEX('Monthly Cash Flows'!$B55:$EC55,MATCH('Monthly CF'!CI$6,'Monthly Cash Flows'!$B$13:$EC$13))","v":-128.06210880273525},{"$f":"-INDEX('Monthly Cash Flows'!$B55:$EC55,MATCH('Monthly CF'!CJ$6,'Monthly Cash Flows'!$B$13:$EC$13))","v":-128.06210880273525},{"$f":"-INDEX('Monthly Cash Flows'!$B55:$EC55,MATCH('Monthly CF'!CK$6,'Monthly Cash Flows'!$B$13:$EC$13))","v":-131.90397206681732},{"$f":"-INDEX('Monthly Cash Flows'!$B55:$EC55,MATCH('Monthly CF'!CL$6,'Monthly Cash Flows'!$B$13:$EC$13))","v":-131.90397206681732},{"$f":"-INDEX('Monthly Cash Flows'!$B55:$EC55,MATCH('Monthly CF'!CM$6,'Monthly Cash Flows'!$B$13:$EC$13))","v":-131.90397206681732},{"$f":"-INDEX('Monthly Cash Flows'!$B55:$EC55,MATCH('Monthly CF'!CN$6,'Monthly Cash Flows'!$B$13:$EC$13))","v":-131.90397206681732},{"$f":"-INDEX('Monthly Cash Flows'!$B55:$EC55,MATCH('Monthly CF'!CO$6,'Monthly Cash Flows'!$B$13:$EC$13))","v":-131.90397206681732},{"$f":"-INDEX('Monthly Cash Flows'!$B55:$EC55,MATCH('Monthly CF'!CP$6,'Monthly Cash Flows'!$B$13:$EC$13))","v":-131.90397206681732},{"$f":"-INDEX('Monthly Cash Flows'!$B55:$EC55,MATCH('Monthly CF'!CQ$6,'Monthly Cash Flows'!$B$13:$EC$13))","v":-131.90397206681732},{"$f":"-INDEX('Monthly Cash Flows'!$B55:$EC55,MATCH('Monthly CF'!CR$6,'Monthly Cash Flows'!$B$13:$EC$13))","v":-131.90397206681732},{"$f":"-INDEX('Monthly Cash Flows'!$B55:$EC55,MATCH('Monthly CF'!CS$6,'Monthly Cash Flows'!$B$13:$EC$13))","v":-131.90397206681732},{"$f":"-INDEX('Monthly Cash Flows'!$B55:$EC55,MATCH('Monthly CF'!CT$6,'Monthly Cash Flows'!$B$13:$EC$13))","v":-131.90397206681732},{"$f":"-INDEX('Monthly Cash Flows'!$B55:$EC55,MATCH('Monthly CF'!CU$6,'Monthly Cash Flows'!$B$13:$EC$13))","v":-131.90397206681732},{"$f":"-INDEX('Monthly Cash Flows'!$B55:$EC55,MATCH('Monthly CF'!CV$6,'Monthly Cash Flows'!$B$13:$EC$13))","v":-131.90397206681732},{"$f":"-INDEX('Monthly Cash Flows'!$B55:$EC55,MATCH('Monthly CF'!CW$6,'Monthly Cash Flows'!$B$13:$EC$13))","v":-135.86109122882183},{"$f":"-INDEX('Monthly Cash Flows'!$B55:$EC55,MATCH('Monthly CF'!CX$6,'Monthly Cash Flows'!$B$13:$EC$13))","v":-135.86109122882183},{"$f":"-INDEX('Monthly Cash Flows'!$B55:$EC55,MATCH('Monthly CF'!CY$6,'Monthly Cash Flows'!$B$13:$EC$13))","v":-135.86109122882183},{"$f":"-INDEX('Monthly Cash Flows'!$B55:$EC55,MATCH('Monthly CF'!CZ$6,'Monthly Cash Flows'!$B$13:$EC$13))","v":-135.86109122882183},{"$f":"-INDEX('Monthly Cash Flows'!$B55:$EC55,MATCH('Monthly CF'!DA$6,'Monthly Cash Flows'!$B$13:$EC$13))","v":-135.86109122882183},{"$f":"-INDEX('Monthly Cash Flows'!$B55:$EC55,MATCH('Monthly CF'!DB$6,'Monthly Cash Flows'!$B$13:$EC$13))","v":-135.86109122882183},{"$f":"-INDEX('Monthly Cash Flows'!$B55:$EC55,MATCH('Monthly CF'!DC$6,'Monthly Cash Flows'!$B$13:$EC$13))","v":-135.86109122882183},{"$f":"-INDEX('Monthly Cash Flows'!$B55:$EC55,MATCH('Monthly CF'!DD$6,'Monthly Cash Flows'!$B$13:$EC$13))","v":-135.86109122882183},{"$f":"-INDEX('Monthly Cash Flows'!$B55:$EC55,MATCH('Monthly CF'!DE$6,'Monthly Cash Flows'!$B$13:$EC$13))","v":-135.86109122882183},{"$f":"-INDEX('Monthly Cash Flows'!$B55:$EC55,MATCH('Monthly CF'!DF$6,'Monthly Cash Flows'!$B$13:$EC$13))","v":-135.86109122882183},{"$f":"-INDEX('Monthly Cash Flows'!$B55:$EC55,MATCH('Monthly CF'!DG$6,'Monthly Cash Flows'!$B$13:$EC$13))","v":-135.86109122882183},{"$f":"-INDEX('Monthly Cash Flows'!$B55:$EC55,MATCH('Monthly CF'!DH$6,'Monthly Cash Flows'!$B$13:$EC$13))","v":-135.86109122882183},{"$f":"-INDEX('Monthly Cash Flows'!$B55:$EC55,MATCH('Monthly CF'!DI$6,'Monthly Cash Flows'!$B$13:$EC$13))","v":-139.9369239656865},{"$f":"-INDEX('Monthly Cash Flows'!$B55:$EC55,MATCH('Monthly CF'!DJ$6,'Monthly Cash Flows'!$B$13:$EC$13))","v":-139.9369239656865},{"$f":"-INDEX('Monthly Cash Flows'!$B55:$EC55,MATCH('Monthly CF'!DK$6,'Monthly Cash Flows'!$B$13:$EC$13))","v":-139.9369239656865},{"$f":"-INDEX('Monthly Cash Flows'!$B55:$EC55,MATCH('Monthly CF'!DL$6,'Monthly Cash Flows'!$B$13:$EC$13))","v":-139.9369239656865},{"$f":"-INDEX('Monthly Cash Flows'!$B55:$EC55,MATCH('Monthly CF'!DM$6,'Monthly Cash Flows'!$B$13:$EC$13))","v":-139.9369239656865},{"$f":"-INDEX('Monthly Cash Flows'!$B55:$EC55,MATCH('Monthly CF'!DN$6,'Monthly Cash Flows'!$B$13:$EC$13))","v":-139.9369239656865},{"$f":"-INDEX('Monthly Cash Flows'!$B55:$EC55,MATCH('Monthly CF'!DO$6,'Monthly Cash Flows'!$B$13:$EC$13))","v":-139.9369239656865},{"$f":"-INDEX('Monthly Cash Flows'!$B55:$EC55,MATCH('Monthly CF'!DP$6,'Monthly Cash Flows'!$B$13:$EC$13))","v":-139.9369239656865},{"$f":"-INDEX('Monthly Cash Flows'!$B55:$EC55,MATCH('Monthly CF'!DQ$6,'Monthly Cash Flows'!$B$13:$EC$13))","v":-139.9369239656865},{"$f":"-INDEX('Monthly Cash Flows'!$B55:$EC55,MATCH('Monthly CF'!DR$6,'Monthly Cash Flows'!$B$13:$EC$13))","v":-139.9369239656865},{"$f":"-INDEX('Monthly Cash Flows'!$B55:$EC55,MATCH('Monthly CF'!DS$6,'Monthly Cash Flows'!$B$13:$EC$13))","v":-139.9369239656865},{"$f":"-INDEX('Monthly Cash Flows'!$B55:$EC55,MATCH('Monthly CF'!DT$6,'Monthly Cash Flows'!$B$13:$EC$13))","v":-139.9369239656865},{"$f":"-INDEX('Monthly Cash Flows'!$B55:$EC55,MATCH('Monthly CF'!DU$6,'Monthly Cash Flows'!$B$13:$EC$13))","v":-144.13503168465709},{"$f":"-INDEX('Monthly Cash Flows'!$B55:$EC55,MATCH('Monthly CF'!DV$6,'Monthly Cash Flows'!$B$13:$EC$13))","v":-144.13503168465709},{"$f":"-INDEX('Monthly Cash Flows'!$B55:$EC55,MATCH('Monthly CF'!DW$6,'Monthly Cash Flows'!$B$13:$EC$13))","v":-144.13503168465709},{"$f":"-INDEX('Monthly Cash Flows'!$B55:$EC55,MATCH('Monthly CF'!DX$6,'Monthly Cash Flows'!$B$13:$EC$13))","v":-144.13503168465709},{"$f":"-INDEX('Monthly Cash Flows'!$B55:$EC55,MATCH('Monthly CF'!DY$6,'Monthly Cash Flows'!$B$13:$EC$13))","v":-144.13503168465709},{"$f":"-INDEX('Monthly Cash Flows'!$B55:$EC55,MATCH('Monthly CF'!DZ$6,'Monthly Cash Flows'!$B$13:$EC$13))","v":-144.13503168465709},{"$f":"-INDEX('Monthly Cash Flows'!$B55:$EC55,MATCH('Monthly CF'!EA$6,'Monthly Cash Flows'!$B$13:$EC$13))","v":-144.13503168465709},{"$f":"-INDEX('Monthly Cash Flows'!$B55:$EC55,MATCH('Monthly CF'!EB$6,'Monthly Cash Flows'!$B$13:$EC$13))","v":-144.13503168465709},{"$f":"-INDEX('Monthly Cash Flows'!$B55:$EC55,MATCH('Monthly CF'!EC$6,'Monthly Cash Flows'!$B$13:$EC$13))","v":-144.13503168465709},{"$f":"-INDEX('Monthly Cash Flows'!$B55:$EC55,MATCH('Monthly CF'!ED$6,'Monthly Cash Flows'!$B$13:$EC$13))","v":-144.13503168465709},{"$f":"-INDEX('Monthly Cash Flows'!$B55:$EC55,MATCH('Monthly CF'!EE$6,'Monthly Cash Flows'!$B$13:$EC$13))","v":-144.13503168465709},{"$f":"-INDEX('Monthly Cash Flows'!$B55:$EC55,MATCH('Monthly CF'!EF$6,'Monthly Cash Flows'!$B$13:$EC$13))","v":-144.13503168465709},{"$f":"-INDEX('Monthly Cash Flows'!$B55:$EC55,MATCH('Monthly CF'!EG$6,'Monthly Cash Flows'!$B$13:$EC$13))","v":-144.13503168465709}]
[null,{"$f":"+'Monthly Cash Flows'!A56","v":"Parking and Sidewalks"},null,null,null,{"$f":"-INDEX('Monthly Cash Flows'!$B56:$EC56,MATCH('Monthly CF'!F$6,'Monthly Cash Flows'!$B$13:$EC$13))","v":-2979.4166666666665},{"$f":"-INDEX('Monthly Cash Flows'!$B56:$EC56,MATCH('Monthly CF'!G$6,'Monthly Cash Flows'!$B$13:$EC$13))","v":-2979.4166666666665},{"$f":"-INDEX('Monthly Cash Flows'!$B56:$EC56,MATCH('Monthly CF'!H$6,'Monthly Cash Flows'!$B$13:$EC$13))","v":-2979.4166666666665},{"$f":"-INDEX('Monthly Cash Flows'!$B56:$EC56,MATCH('Monthly CF'!I$6,'Monthly Cash Flows'!$B$13:$EC$13))","v":-2979.4166666666665},{"$f":"-INDEX('Monthly Cash Flows'!$B56:$EC56,MATCH('Monthly CF'!J$6,'Monthly Cash Flows'!$B$13:$EC$13))","v":-2979.4166666666665},{"$f":"-INDEX('Monthly Cash Flows'!$B56:$EC56,MATCH('Monthly CF'!K$6,'Monthly Cash Flows'!$B$13:$EC$13))","v":-2979.4166666666665},{"$f":"-INDEX('Monthly Cash Flows'!$B56:$EC56,MATCH('Monthly CF'!L$6,'Monthly Cash Flows'!$B$13:$EC$13))","v":-2979.4166666666665},{"$f":"-INDEX('Monthly Cash Flows'!$B56:$EC56,MATCH('Monthly CF'!M$6,'Monthly Cash Flows'!$B$13:$EC$13))","v":-2979.4166666666665},{"$f":"-INDEX('Monthly Cash Flows'!$B56:$EC56,MATCH('Monthly CF'!N$6,'Monthly Cash Flows'!$B$13:$EC$13))","v":-2979.4166666666665},{"$f":"-INDEX('Monthly Cash Flows'!$B56:$EC56,MATCH('Monthly CF'!O$6,'Monthly Cash Flows'!$B$13:$EC$13))","v":-2979.4166666666665},{"$f":"-INDEX('Monthly Cash Flows'!$B56:$EC56,MATCH('Monthly CF'!P$6,'Monthly Cash Flows'!$B$13:$EC$13))","v":-2979.4166666666665},{"$f":"-INDEX('Monthly Cash Flows'!$B56:$EC56,MATCH('Monthly CF'!Q$6,'Monthly Cash Flows'!$B$13:$EC$13))","v":-3068.7991666666667},{"$f":"-INDEX('Monthly Cash Flows'!$B56:$EC56,MATCH('Monthly CF'!R$6,'Monthly Cash Flows'!$B$13:$EC$13))","v":-3068.7991666666667},{"$f":"-INDEX('Monthly Cash Flows'!$B56:$EC56,MATCH('Monthly CF'!S$6,'Monthly Cash Flows'!$B$13:$EC$13))","v":-3068.7991666666667},{"$f":"-INDEX('Monthly Cash Flows'!$B56:$EC56,MATCH('Monthly CF'!T$6,'Monthly Cash Flows'!$B$13:$EC$13))","v":-3068.7991666666667},{"$f":"-INDEX('Monthly Cash Flows'!$B56:$EC56,MATCH('Monthly CF'!U$6,'Monthly Cash Flows'!$B$13:$EC$13))","v":-3068.7991666666667},{"$f":"-INDEX('Monthly Cash Flows'!$B56:$EC56,MATCH('Monthly CF'!V$6,'Monthly Cash Flows'!$B$13:$EC$13))","v":-3068.7991666666667},{"$f":"-INDEX('Monthly Cash Flows'!$B56:$EC56,MATCH('Monthly CF'!W$6,'Monthly Cash Flows'!$B$13:$EC$13))","v":-3068.7991666666667},{"$f":"-INDEX('Monthly Cash Flows'!$B56:$EC56,MATCH('Monthly CF'!X$6,'Monthly Cash Flows'!$B$13:$EC$13))","v":-3068.7991666666667},{"$f":"-INDEX('Monthly Cash Flows'!$B56:$EC56,MATCH('Monthly CF'!Y$6,'Monthly Cash Flows'!$B$13:$EC$13))","v":-3068.7991666666667},{"$f":"-INDEX('Monthly Cash Flows'!$B56:$EC56,MATCH('Monthly CF'!Z$6,'Monthly Cash Flows'!$B$13:$EC$13))","v":-3068.7991666666667},{"$f":"-INDEX('Monthly Cash Flows'!$B56:$EC56,MATCH('Monthly CF'!AA$6,'Monthly Cash Flows'!$B$13:$EC$13))","v":-3068.7991666666667},{"$f":"-INDEX('Monthly Cash Flows'!$B56:$EC56,MATCH('Monthly CF'!AB$6,'Monthly Cash Flows'!$B$13:$EC$13))","v":-3068.7991666666667},{"$f":"-INDEX('Monthly Cash Flows'!$B56:$EC56,MATCH('Monthly CF'!AC$6,'Monthly Cash Flows'!$B$13:$EC$13))","v":-3160.8631416666667},{"$f":"-INDEX('Monthly Cash Flows'!$B56:$EC56,MATCH('Monthly CF'!AD$6,'Monthly Cash Flows'!$B$13:$EC$13))","v":-3160.8631416666667},{"$f":"-INDEX('Monthly Cash Flows'!$B56:$EC56,MATCH('Monthly CF'!AE$6,'Monthly Cash Flows'!$B$13:$EC$13))","v":-3160.8631416666667},{"$f":"-INDEX('Monthly Cash Flows'!$B56:$EC56,MATCH('Monthly CF'!AF$6,'Monthly Cash Flows'!$B$13:$EC$13))","v":-3160.8631416666667},{"$f":"-INDEX('Monthly Cash Flows'!$B56:$EC56,MATCH('Monthly CF'!AG$6,'Monthly Cash Flows'!$B$13:$EC$13))","v":-3160.8631416666667},{"$f":"-INDEX('Monthly Cash Flows'!$B56:$EC56,MATCH('Monthly CF'!AH$6,'Monthly Cash Flows'!$B$13:$EC$13))","v":-3160.8631416666667},{"$f":"-INDEX('Monthly Cash Flows'!$B56:$EC56,MATCH('Monthly CF'!AI$6,'Monthly Cash Flows'!$B$13:$EC$13))","v":-3160.8631416666667},{"$f":"-INDEX('Monthly Cash Flows'!$B56:$EC56,MATCH('Monthly CF'!AJ$6,'Monthly Cash Flows'!$B$13:$EC$13))","v":-3160.8631416666667},{"$f":"-INDEX('Monthly Cash Flows'!$B56:$EC56,MATCH('Monthly CF'!AK$6,'Monthly Cash Flows'!$B$13:$EC$13))","v":-3160.8631416666667},{"$f":"-INDEX('Monthly Cash Flows'!$B56:$EC56,MATCH('Monthly CF'!AL$6,'Monthly Cash Flows'!$B$13:$EC$13))","v":-3160.8631416666667},{"$f":"-INDEX('Monthly Cash Flows'!$B56:$EC56,MATCH('Monthly CF'!AM$6,'Monthly Cash Flows'!$B$13:$EC$13))","v":-3160.8631416666667},{"$f":"-INDEX('Monthly Cash Flows'!$B56:$EC56,MATCH('Monthly CF'!AN$6,'Monthly Cash Flows'!$B$13:$EC$13))","v":-3160.8631416666667},{"$f":"-INDEX('Monthly Cash Flows'!$B56:$EC56,MATCH('Monthly CF'!AO$6,'Monthly Cash Flows'!$B$13:$EC$13))","v":-3255.6890359166669},{"$f":"-INDEX('Monthly Cash Flows'!$B56:$EC56,MATCH('Monthly CF'!AP$6,'Monthly Cash Flows'!$B$13:$EC$13))","v":-3255.6890359166669},{"$f":"-INDEX('Monthly Cash Flows'!$B56:$EC56,MATCH('Monthly CF'!AQ$6,'Monthly Cash Flows'!$B$13:$EC$13))","v":-3255.6890359166669},{"$f":"-INDEX('Monthly Cash Flows'!$B56:$EC56,MATCH('Monthly CF'!AR$6,'Monthly Cash Flows'!$B$13:$EC$13))","v":-3255.6890359166669},{"$f":"-INDEX('Monthly Cash Flows'!$B56:$EC56,MATCH('Monthly CF'!AS$6,'Monthly Cash Flows'!$B$13:$EC$13))","v":-3255.6890359166669},{"$f":"-INDEX('Monthly Cash Flows'!$B56:$EC56,MATCH('Monthly CF'!AT$6,'Monthly Cash Flows'!$B$13:$EC$13))","v":-3255.6890359166669},{"$f":"-INDEX('Monthly Cash Flows'!$B56:$EC56,MATCH('Monthly CF'!AU$6,'Monthly Cash Flows'!$B$13:$EC$13))","v":-3255.6890359166669},{"$f":"-INDEX('Monthly Cash Flows'!$B56:$EC56,MATCH('Monthly CF'!AV$6,'Monthly Cash Flows'!$B$13:$EC$13))","v":-3255.6890359166669},{"$f":"-INDEX('Monthly Cash Flows'!$B56:$EC56,MATCH('Monthly CF'!AW$6,'Monthly Cash Flows'!$B$13:$EC$13))","v":-3255.6890359166669},{"$f":"-INDEX('Monthly Cash Flows'!$B56:$EC56,MATCH('Monthly CF'!AX$6,'Monthly Cash Flows'!$B$13:$EC$13))","v":-3255.6890359166669},{"$f":"-INDEX('Monthly Cash Flows'!$B56:$EC56,MATCH('Monthly CF'!AY$6,'Monthly Cash Flows'!$B$13:$EC$13))","v":-3255.6890359166669},{"$f":"-INDEX('Monthly Cash Flows'!$B56:$EC56,MATCH('Monthly CF'!AZ$6,'Monthly Cash Flows'!$B$13:$EC$13))","v":-3255.6890359166669},{"$f":"-INDEX('Monthly Cash Flows'!$B56:$EC56,MATCH('Monthly CF'!BA$6,'Monthly Cash Flows'!$B$13:$EC$13))","v":-3353.359706994167},{"$f":"-INDEX('Monthly Cash Flows'!$B56:$EC56,MATCH('Monthly CF'!BB$6,'Monthly Cash Flows'!$B$13:$EC$13))","v":-3353.359706994167},{"$f":"-INDEX('Monthly Cash Flows'!$B56:$EC56,MATCH('Monthly CF'!BC$6,'Monthly Cash Flows'!$B$13:$EC$13))","v":-3353.359706994167},{"$f":"-INDEX('Monthly Cash Flows'!$B56:$EC56,MATCH('Monthly CF'!BD$6,'Monthly Cash Flows'!$B$13:$EC$13))","v":-3353.359706994167},{"$f":"-INDEX('Monthly Cash Flows'!$B56:$EC56,MATCH('Monthly CF'!BE$6,'Monthly Cash Flows'!$B$13:$EC$13))","v":-3353.359706994167},{"$f":"-INDEX('Monthly Cash Flows'!$B56:$EC56,MATCH('Monthly CF'!BF$6,'Monthly Cash Flows'!$B$13:$EC$13))","v":-3353.359706994167},{"$f":"-INDEX('Monthly Cash Flows'!$B56:$EC56,MATCH('Monthly CF'!BG$6,'Monthly Cash Flows'!$B$13:$EC$13))","v":-3353.359706994167},{"$f":"-INDEX('Monthly Cash Flows'!$B56:$EC56,MATCH('Monthly CF'!BH$6,'Monthly Cash Flows'!$B$13:$EC$13))","v":-3353.359706994167},{"$f":"-INDEX('Monthly Cash Flows'!$B56:$EC56,MATCH('Monthly CF'!BI$6,'Monthly Cash Flows'!$B$13:$EC$13))","v":-3353.359706994167},{"$f":"-INDEX('Monthly Cash Flows'!$B56:$EC56,MATCH('Monthly CF'!BJ$6,'Monthly Cash Flows'!$B$13:$EC$13))","v":-3353.359706994167},{"$f":"-INDEX('Monthly Cash Flows'!$B56:$EC56,MATCH('Monthly CF'!BK$6,'Monthly Cash Flows'!$B$13:$EC$13))","v":-3353.359706994167},{"$f":"-INDEX('Monthly Cash Flows'!$B56:$EC56,MATCH('Monthly CF'!BL$6,'Monthly Cash Flows'!$B$13:$EC$13))","v":-3353.359706994167},{"$f":"-INDEX('Monthly Cash Flows'!$B56:$EC56,MATCH('Monthly CF'!BM$6,'Monthly Cash Flows'!$B$13:$EC$13))","v":-3453.9604982039923},{"$f":"-INDEX('Monthly Cash Flows'!$B56:$EC56,MATCH('Monthly CF'!BN$6,'Monthly Cash Flows'!$B$13:$EC$13))","v":-3453.9604982039923},{"$f":"-INDEX('Monthly Cash Flows'!$B56:$EC56,MATCH('Monthly CF'!BO$6,'Monthly Cash Flows'!$B$13:$EC$13))","v":-3453.9604982039923},{"$f":"-INDEX('Monthly Cash Flows'!$B56:$EC56,MATCH('Monthly CF'!BP$6,'Monthly Cash Flows'!$B$13:$EC$13))","v":-3453.9604982039923},{"$f":"-INDEX('Monthly Cash Flows'!$B56:$EC56,MATCH('Monthly CF'!BQ$6,'Monthly Cash Flows'!$B$13:$EC$13))","v":-3453.9604982039923},{"$f":"-INDEX('Monthly Cash Flows'!$B56:$EC56,MATCH('Monthly CF'!BR$6,'Monthly Cash Flows'!$B$13:$EC$13))","v":-3453.9604982039923},{"$f":"-INDEX('Monthly Cash Flows'!$B56:$EC56,MATCH('Monthly CF'!BS$6,'Monthly Cash Flows'!$B$13:$EC$13))","v":-3453.9604982039923},{"$f":"-INDEX('Monthly Cash Flows'!$B56:$EC56,MATCH('Monthly CF'!BT$6,'Monthly Cash Flows'!$B$13:$EC$13))","v":-3453.9604982039923},{"$f":"-INDEX('Monthly Cash Flows'!$B56:$EC56,MATCH('Monthly CF'!BU$6,'Monthly Cash Flows'!$B$13:$EC$13))","v":-3453.9604982039923},{"$f":"-INDEX('Monthly Cash Flows'!$B56:$EC56,MATCH('Monthly CF'!BV$6,'Monthly Cash Flows'!$B$13:$EC$13))","v":-3453.9604982039923},{"$f":"-INDEX('Monthly Cash Flows'!$B56:$EC56,MATCH('Monthly CF'!BW$6,'Monthly Cash Flows'!$B$13:$EC$13))","v":-3453.9604982039923},{"$f":"-INDEX('Monthly Cash Flows'!$B56:$EC56,MATCH('Monthly CF'!BX$6,'Monthly Cash Flows'!$B$13:$EC$13))","v":-3453.9604982039923},{"$f":"-INDEX('Monthly Cash Flows'!$B56:$EC56,MATCH('Monthly CF'!BY$6,'Monthly Cash Flows'!$B$13:$EC$13))","v":-3557.5793131501123},{"$f":"-INDEX('Monthly Cash Flows'!$B56:$EC56,MATCH('Monthly CF'!BZ$6,'Monthly Cash Flows'!$B$13:$EC$13))","v":-3557.5793131501123},{"$f":"-INDEX('Monthly Cash Flows'!$B56:$EC56,MATCH('Monthly CF'!CA$6,'Monthly Cash Flows'!$B$13:$EC$13))","v":-3557.5793131501123},{"$f":"-INDEX('Monthly Cash Flows'!$B56:$EC56,MATCH('Monthly CF'!CB$6,'Monthly Cash Flows'!$B$13:$EC$13))","v":-3557.5793131501123},{"$f":"-INDEX('Monthly Cash Flows'!$B56:$EC56,MATCH('Monthly CF'!CC$6,'Monthly Cash Flows'!$B$13:$EC$13))","v":-3557.5793131501123},{"$f":"-INDEX('Monthly Cash Flows'!$B56:$EC56,MATCH('Monthly CF'!CD$6,'Monthly Cash Flows'!$B$13:$EC$13))","v":-3557.5793131501123},{"$f":"-INDEX('Monthly Cash Flows'!$B56:$EC56,MATCH('Monthly CF'!CE$6,'Monthly Cash Flows'!$B$13:$EC$13))","v":-3557.5793131501123},{"$f":"-INDEX('Monthly Cash Flows'!$B56:$EC56,MATCH('Monthly CF'!CF$6,'Monthly Cash Flows'!$B$13:$EC$13))","v":-3557.5793131501123},{"$f":"-INDEX('Monthly Cash Flows'!$B56:$EC56,MATCH('Monthly CF'!CG$6,'Monthly Cash Flows'!$B$13:$EC$13))","v":-3557.5793131501123},{"$f":"-INDEX('Monthly Cash Flows'!$B56:$EC56,MATCH('Monthly CF'!CH$6,'Monthly Cash Flows'!$B$13:$EC$13))","v":-3557.5793131501123},{"$f":"-INDEX('Monthly Cash Flows'!$B56:$EC56,MATCH('Monthly CF'!CI$6,'Monthly Cash Flows'!$B$13:$EC$13))","v":-3557.5793131501123},{"$f":"-INDEX('Monthly Cash Flows'!$B56:$EC56,MATCH('Monthly CF'!CJ$6,'Monthly Cash Flows'!$B$13:$EC$13))","v":-3557.5793131501123},{"$f":"-INDEX('Monthly Cash Flows'!$B56:$EC56,MATCH('Monthly CF'!CK$6,'Monthly Cash Flows'!$B$13:$EC$13))","v":-3664.3066925446155},{"$f":"-INDEX('Monthly Cash Flows'!$B56:$EC56,MATCH('Monthly CF'!CL$6,'Monthly Cash Flows'!$B$13:$EC$13))","v":-3664.3066925446155},{"$f":"-INDEX('Monthly Cash Flows'!$B56:$EC56,MATCH('Monthly CF'!CM$6,'Monthly Cash Flows'!$B$13:$EC$13))","v":-3664.3066925446155},{"$f":"-INDEX('Monthly Cash Flows'!$B56:$EC56,MATCH('Monthly CF'!CN$6,'Monthly Cash Flows'!$B$13:$EC$13))","v":-3664.3066925446155},{"$f":"-INDEX('Monthly Cash Flows'!$B56:$EC56,MATCH('Monthly CF'!CO$6,'Monthly Cash Flows'!$B$13:$EC$13))","v":-3664.3066925446155},{"$f":"-INDEX('Monthly Cash Flows'!$B56:$EC56,MATCH('Monthly CF'!CP$6,'Monthly Cash Flows'!$B$13:$EC$13))","v":-3664.3066925446155},{"$f":"-INDEX('Monthly Cash Flows'!$B56:$EC56,MATCH('Monthly CF'!CQ$6,'Monthly Cash Flows'!$B$13:$EC$13))","v":-3664.3066925446155},{"$f":"-INDEX('Monthly Cash Flows'!$B56:$EC56,MATCH('Monthly CF'!CR$6,'Monthly Cash Flows'!$B$13:$EC$13))","v":-3664.3066925446155},{"$f":"-INDEX('Monthly Cash Flows'!$B56:$EC56,MATCH('Monthly CF'!CS$6,'Monthly Cash Flows'!$B$13:$EC$13))","v":-3664.3066925446155},{"$f":"-INDEX('Monthly Cash Flows'!$B56:$EC56,MATCH('Monthly CF'!CT$6,'Monthly Cash Flows'!$B$13:$EC$13))","v":-3664.3066925446155},{"$f":"-INDEX('Monthly Cash Flows'!$B56:$EC56,MATCH('Monthly CF'!CU$6,'Monthly Cash Flows'!$B$13:$EC$13))","v":-3664.3066925446155},{"$f":"-INDEX('Monthly Cash Flows'!$B56:$EC56,MATCH('Monthly CF'!CV$6,'Monthly Cash Flows'!$B$13:$EC$13))","v":-3664.3066925446155},{"$f":"-INDEX('Monthly Cash Flows'!$B56:$EC56,MATCH('Monthly CF'!CW$6,'Monthly Cash Flows'!$B$13:$EC$13))","v":-3774.2358933209539},{"$f":"-INDEX('Monthly Cash Flows'!$B56:$EC56,MATCH('Monthly CF'!CX$6,'Monthly Cash Flows'!$B$13:$EC$13))","v":-3774.2358933209539},{"$f":"-INDEX('Monthly Cash Flows'!$B56:$EC56,MATCH('Monthly CF'!CY$6,'Monthly Cash Flows'!$B$13:$EC$13))","v":-3774.2358933209539},{"$f":"-INDEX('Monthly Cash Flows'!$B56:$EC56,MATCH('Monthly CF'!CZ$6,'Monthly Cash Flows'!$B$13:$EC$13))","v":-3774.2358933209539},{"$f":"-INDEX('Monthly Cash Flows'!$B56:$EC56,MATCH('Monthly CF'!DA$6,'Monthly Cash Flows'!$B$13:$EC$13))","v":-3774.2358933209539},{"$f":"-INDEX('Monthly Cash Flows'!$B56:$EC56,MATCH('Monthly CF'!DB$6,'Monthly Cash Flows'!$B$13:$EC$13))","v":-3774.2358933209539},{"$f":"-INDEX('Monthly Cash Flows'!$B56:$EC56,MATCH('Monthly CF'!DC$6,'Monthly Cash Flows'!$B$13:$EC$13))","v":-3774.2358933209539},{"$f":"-INDEX('Monthly Cash Flows'!$B56:$EC56,MATCH('Monthly CF'!DD$6,'Monthly Cash Flows'!$B$13:$EC$13))","v":-3774.2358933209539},{"$f":"-INDEX('Monthly Cash Flows'!$B56:$EC56,MATCH('Monthly CF'!DE$6,'Monthly Cash Flows'!$B$13:$EC$13))","v":-3774.2358933209539},{"$f":"-INDEX('Monthly Cash Flows'!$B56:$EC56,MATCH('Monthly CF'!DF$6,'Monthly Cash Flows'!$B$13:$EC$13))","v":-3774.2358933209539},{"$f":"-INDEX('Monthly Cash Flows'!$B56:$EC56,MATCH('Monthly CF'!DG$6,'Monthly Cash Flows'!$B$13:$EC$13))","v":-3774.2358933209539},{"$f":"-INDEX('Monthly Cash Flows'!$B56:$EC56,MATCH('Monthly CF'!DH$6,'Monthly Cash Flows'!$B$13:$EC$13))","v":-3774.2358933209539},{"$f":"-INDEX('Monthly Cash Flows'!$B56:$EC56,MATCH('Monthly CF'!DI$6,'Monthly Cash Flows'!$B$13:$EC$13))","v":-3887.4629701205827},{"$f":"-INDEX('Monthly Cash Flows'!$B56:$EC56,MATCH('Monthly CF'!DJ$6,'Monthly Cash Flows'!$B$13:$EC$13))","v":-3887.4629701205827},{"$f":"-INDEX('Monthly Cash Flows'!$B56:$EC56,MATCH('Monthly CF'!DK$6,'Monthly Cash Flows'!$B$13:$EC$13))","v":-3887.4629701205827},{"$f":"-INDEX('Monthly Cash Flows'!$B56:$EC56,MATCH('Monthly CF'!DL$6,'Monthly Cash Flows'!$B$13:$EC$13))","v":-3887.4629701205827},{"$f":"-INDEX('Monthly Cash Flows'!$B56:$EC56,MATCH('Monthly CF'!DM$6,'Monthly Cash Flows'!$B$13:$EC$13))","v":-3887.4629701205827},{"$f":"-INDEX('Monthly Cash Flows'!$B56:$EC56,MATCH('Monthly CF'!DN$6,'Monthly Cash Flows'!$B$13:$EC$13))","v":-3887.4629701205827},{"$f":"-INDEX('Monthly Cash Flows'!$B56:$EC56,MATCH('Monthly CF'!DO$6,'Monthly Cash Flows'!$B$13:$EC$13))","v":-3887.4629701205827},{"$f":"-INDEX('Monthly Cash Flows'!$B56:$EC56,MATCH('Monthly CF'!DP$6,'Monthly Cash Flows'!$B$13:$EC$13))","v":-3887.4629701205827},{"$f":"-INDEX('Monthly Cash Flows'!$B56:$EC56,MATCH('Monthly CF'!DQ$6,'Monthly Cash Flows'!$B$13:$EC$13))","v":-3887.4629701205827},{"$f":"-INDEX('Monthly Cash Flows'!$B56:$EC56,MATCH('Monthly CF'!DR$6,'Monthly Cash Flows'!$B$13:$EC$13))","v":-3887.4629701205827},{"$f":"-INDEX('Monthly Cash Flows'!$B56:$EC56,MATCH('Monthly CF'!DS$6,'Monthly Cash Flows'!$B$13:$EC$13))","v":-3887.4629701205827},{"$f":"-INDEX('Monthly Cash Flows'!$B56:$EC56,MATCH('Monthly CF'!DT$6,'Monthly Cash Flows'!$B$13:$EC$13))","v":-3887.4629701205827},{"$f":"-INDEX('Monthly Cash Flows'!$B56:$EC56,MATCH('Monthly CF'!DU$6,'Monthly Cash Flows'!$B$13:$EC$13))","v":-4004.0868592242005},{"$f":"-INDEX('Monthly Cash Flows'!$B56:$EC56,MATCH('Monthly CF'!DV$6,'Monthly Cash Flows'!$B$13:$EC$13))","v":-4004.0868592242005},{"$f":"-INDEX('Monthly Cash Flows'!$B56:$EC56,MATCH('Monthly CF'!DW$6,'Monthly Cash Flows'!$B$13:$EC$13))","v":-4004.0868592242005},{"$f":"-INDEX('Monthly Cash Flows'!$B56:$EC56,MATCH('Monthly CF'!DX$6,'Monthly Cash Flows'!$B$13:$EC$13))","v":-4004.0868592242005},{"$f":"-INDEX('Monthly Cash Flows'!$B56:$EC56,MATCH('Monthly CF'!DY$6,'Monthly Cash Flows'!$B$13:$EC$13))","v":-4004.0868592242005},{"$f":"-INDEX('Monthly Cash Flows'!$B56:$EC56,MATCH('Monthly CF'!DZ$6,'Monthly Cash Flows'!$B$13:$EC$13))","v":-4004.0868592242005},{"$f":"-INDEX('Monthly Cash Flows'!$B56:$EC56,MATCH('Monthly CF'!EA$6,'Monthly Cash Flows'!$B$13:$EC$13))","v":-4004.0868592242005},{"$f":"-INDEX('Monthly Cash Flows'!$B56:$EC56,MATCH('Monthly CF'!EB$6,'Monthly Cash Flows'!$B$13:$EC$13))","v":-4004.0868592242005},{"$f":"-INDEX('Monthly Cash Flows'!$B56:$EC56,MATCH('Monthly CF'!EC$6,'Monthly Cash Flows'!$B$13:$EC$13))","v":-4004.0868592242005},{"$f":"-INDEX('Monthly Cash Flows'!$B56:$EC56,MATCH('Monthly CF'!ED$6,'Monthly Cash Flows'!$B$13:$EC$13))","v":-4004.0868592242005},{"$f":"-INDEX('Monthly Cash Flows'!$B56:$EC56,MATCH('Monthly CF'!EE$6,'Monthly Cash Flows'!$B$13:$EC$13))","v":-4004.0868592242005},{"$f":"-INDEX('Monthly Cash Flows'!$B56:$EC56,MATCH('Monthly CF'!EF$6,'Monthly Cash Flows'!$B$13:$EC$13))","v":-4004.0868592242005},{"$f":"-INDEX('Monthly Cash Flows'!$B56:$EC56,MATCH('Monthly CF'!EG$6,'Monthly Cash Flows'!$B$13:$EC$13))","v":-4004.0868592242005}]
[null,{"$f":"+'Monthly Cash Flows'!A57","v":"Plumbing Repairs"},null,null,null,{"$f":"-INDEX('Monthly Cash Flows'!$B57:$EC57,MATCH('Monthly CF'!F$6,'Monthly Cash Flows'!$B$13:$EC$13))","v":-8.5833333333333339},{"$f":"-INDEX('Monthly Cash Flows'!$B57:$EC57,MATCH('Monthly CF'!G$6,'Monthly Cash Flows'!$B$13:$EC$13))","v":-8.5833333333333339},{"$f":"-INDEX('Monthly Cash Flows'!$B57:$EC57,MATCH('Monthly CF'!H$6,'Monthly Cash Flows'!$B$13:$EC$13))","v":-8.5833333333333339},{"$f":"-INDEX('Monthly Cash Flows'!$B57:$EC57,MATCH('Monthly CF'!I$6,'Monthly Cash Flows'!$B$13:$EC$13))","v":-8.5833333333333339},{"$f":"-INDEX('Monthly Cash Flows'!$B57:$EC57,MATCH('Monthly CF'!J$6,'Monthly Cash Flows'!$B$13:$EC$13))","v":-8.5833333333333339},{"$f":"-INDEX('Monthly Cash Flows'!$B57:$EC57,MATCH('Monthly CF'!K$6,'Monthly Cash Flows'!$B$13:$EC$13))","v":-8.5833333333333339},{"$f":"-INDEX('Monthly Cash Flows'!$B57:$EC57,MATCH('Monthly CF'!L$6,'Monthly Cash Flows'!$B$13:$EC$13))","v":-8.5833333333333339},{"$f":"-INDEX('Monthly Cash Flows'!$B57:$EC57,MATCH('Monthly CF'!M$6,'Monthly Cash Flows'!$B$13:$EC$13))","v":-8.5833333333333339},{"$f":"-INDEX('Monthly Cash Flows'!$B57:$EC57,MATCH('Monthly CF'!N$6,'Monthly Cash Flows'!$B$13:$EC$13))","v":-8.5833333333333339},{"$f":"-INDEX('Monthly Cash Flows'!$B57:$EC57,MATCH('Monthly CF'!O$6,'Monthly Cash Flows'!$B$13:$EC$13))","v":-8.5833333333333339},{"$f":"-INDEX('Monthly Cash Flows'!$B57:$EC57,MATCH('Monthly CF'!P$6,'Monthly Cash Flows'!$B$13:$EC$13))","v":-8.5833333333333339},{"$f":"-INDEX('Monthly Cash Flows'!$B57:$EC57,MATCH('Monthly CF'!Q$6,'Monthly Cash Flows'!$B$13:$EC$13))","v":-8.8408333333333342},{"$f":"-INDEX('Monthly Cash Flows'!$B57:$EC57,MATCH('Monthly CF'!R$6,'Monthly Cash Flows'!$B$13:$EC$13))","v":-8.8408333333333342},{"$f":"-INDEX('Monthly Cash Flows'!$B57:$EC57,MATCH('Monthly CF'!S$6,'Monthly Cash Flows'!$B$13:$EC$13))","v":-8.8408333333333342},{"$f":"-INDEX('Monthly Cash Flows'!$B57:$EC57,MATCH('Monthly CF'!T$6,'Monthly Cash Flows'!$B$13:$EC$13))","v":-8.8408333333333342},{"$f":"-INDEX('Monthly Cash Flows'!$B57:$EC57,MATCH('Monthly CF'!U$6,'Monthly Cash Flows'!$B$13:$EC$13))","v":-8.8408333333333342},{"$f":"-INDEX('Monthly Cash Flows'!$B57:$EC57,MATCH('Monthly CF'!V$6,'Monthly Cash Flows'!$B$13:$EC$13))","v":-8.8408333333333342},{"$f":"-INDEX('Monthly Cash Flows'!$B57:$EC57,MATCH('Monthly CF'!W$6,'Monthly Cash Flows'!$B$13:$EC$13))","v":-8.8408333333333342},{"$f":"-INDEX('Monthly Cash Flows'!$B57:$EC57,MATCH('Monthly CF'!X$6,'Monthly Cash Flows'!$B$13:$EC$13))","v":-8.8408333333333342},{"$f":"-INDEX('Monthly Cash Flows'!$B57:$EC57,MATCH('Monthly CF'!Y$6,'Monthly Cash Flows'!$B$13:$EC$13))","v":-8.8408333333333342},{"$f":"-INDEX('Monthly Cash Flows'!$B57:$EC57,MATCH('Monthly CF'!Z$6,'Monthly Cash Flows'!$B$13:$EC$13))","v":-8.8408333333333342},{"$f":"-INDEX('Monthly Cash Flows'!$B57:$EC57,MATCH('Monthly CF'!AA$6,'Monthly Cash Flows'!$B$13:$EC$13))","v":-8.8408333333333342},{"$f":"-INDEX('Monthly Cash Flows'!$B57:$EC57,MATCH('Monthly CF'!AB$6,'Monthly Cash Flows'!$B$13:$EC$13))","v":-8.8408333333333342},{"$f":"-INDEX('Monthly Cash Flows'!$B57:$EC57,MATCH('Monthly CF'!AC$6,'Monthly Cash Flows'!$B$13:$EC$13))","v":-9.1060583333333351},{"$f":"-INDEX('Monthly Cash Flows'!$B57:$EC57,MATCH('Monthly CF'!AD$6,'Monthly Cash Flows'!$B$13:$EC$13))","v":-9.1060583333333351},{"$f":"-INDEX('Monthly Cash Flows'!$B57:$EC57,MATCH('Monthly CF'!AE$6,'Monthly Cash Flows'!$B$13:$EC$13))","v":-9.1060583333333351},{"$f":"-INDEX('Monthly Cash Flows'!$B57:$EC57,MATCH('Monthly CF'!AF$6,'Monthly Cash Flows'!$B$13:$EC$13))","v":-9.1060583333333351},{"$f":"-INDEX('Monthly Cash Flows'!$B57:$EC57,MATCH('Monthly CF'!AG$6,'Monthly Cash Flows'!$B$13:$EC$13))","v":-9.1060583333333351},{"$f":"-INDEX('Monthly Cash Flows'!$B57:$EC57,MATCH('Monthly CF'!AH$6,'Monthly Cash Flows'!$B$13:$EC$13))","v":-9.1060583333333351},{"$f":"-INDEX('Monthly Cash Flows'!$B57:$EC57,MATCH('Monthly CF'!AI$6,'Monthly Cash Flows'!$B$13:$EC$13))","v":-9.1060583333333351},{"$f":"-INDEX('Monthly Cash Flows'!$B57:$EC57,MATCH('Monthly CF'!AJ$6,'Monthly Cash Flows'!$B$13:$EC$13))","v":-9.1060583333333351},{"$f":"-INDEX('Monthly Cash Flows'!$B57:$EC57,MATCH('Monthly CF'!AK$6,'Monthly Cash Flows'!$B$13:$EC$13))","v":-9.1060583333333351},{"$f":"-INDEX('Monthly Cash Flows'!$B57:$EC57,MATCH('Monthly CF'!AL$6,'Monthly Cash Flows'!$B$13:$EC$13))","v":-9.1060583333333351},{"$f":"-INDEX('Monthly Cash Flows'!$B57:$EC57,MATCH('Monthly CF'!AM$6,'Monthly Cash Flows'!$B$13:$EC$13))","v":-9.1060583333333351},{"$f":"-INDEX('Monthly Cash Flows'!$B57:$EC57,MATCH('Monthly CF'!AN$6,'Monthly Cash Flows'!$B$13:$EC$13))","v":-9.1060583333333351},{"$f":"-INDEX('Monthly Cash Flows'!$B57:$EC57,MATCH('Monthly CF'!AO$6,'Monthly Cash Flows'!$B$13:$EC$13))","v":-9.379240083333336},{"$f":"-INDEX('Monthly Cash Flows'!$B57:$EC57,MATCH('Monthly CF'!AP$6,'Monthly Cash Flows'!$B$13:$EC$13))","v":-9.379240083333336},{"$f":"-INDEX('Monthly Cash Flows'!$B57:$EC57,MATCH('Monthly CF'!AQ$6,'Monthly Cash Flows'!$B$13:$EC$13))","v":-9.379240083333336},{"$f":"-INDEX('Monthly Cash Flows'!$B57:$EC57,MATCH('Monthly CF'!AR$6,'Monthly Cash Flows'!$B$13:$EC$13))","v":-9.379240083333336},{"$f":"-INDEX('Monthly Cash Flows'!$B57:$EC57,MATCH('Monthly CF'!AS$6,'Monthly Cash Flows'!$B$13:$EC$13))","v":-9.379240083333336},{"$f":"-INDEX('Monthly Cash Flows'!$B57:$EC57,MATCH('Monthly CF'!AT$6,'Monthly Cash Flows'!$B$13:$EC$13))","v":-9.379240083333336},{"$f":"-INDEX('Monthly Cash Flows'!$B57:$EC57,MATCH('Monthly CF'!AU$6,'Monthly Cash Flows'!$B$13:$EC$13))","v":-9.379240083333336},{"$f":"-INDEX('Monthly Cash Flows'!$B57:$EC57,MATCH('Monthly CF'!AV$6,'Monthly Cash Flows'!$B$13:$EC$13))","v":-9.379240083333336},{"$f":"-INDEX('Monthly Cash Flows'!$B57:$EC57,MATCH('Monthly CF'!AW$6,'Monthly Cash Flows'!$B$13:$EC$13))","v":-9.379240083333336},{"$f":"-INDEX('Monthly Cash Flows'!$B57:$EC57,MATCH('Monthly CF'!AX$6,'Monthly Cash Flows'!$B$13:$EC$13))","v":-9.379240083333336},{"$f":"-INDEX('Monthly Cash Flows'!$B57:$EC57,MATCH('Monthly CF'!AY$6,'Monthly Cash Flows'!$B$13:$EC$13))","v":-9.379240083333336},{"$f":"-INDEX('Monthly Cash Flows'!$B57:$EC57,MATCH('Monthly CF'!AZ$6,'Monthly Cash Flows'!$B$13:$EC$13))","v":-9.379240083333336},{"$f":"-INDEX('Monthly Cash Flows'!$B57:$EC57,MATCH('Monthly CF'!BA$6,'Monthly Cash Flows'!$B$13:$EC$13))","v":-9.6606172858333359},{"$f":"-INDEX('Monthly Cash Flows'!$B57:$EC57,MATCH('Monthly CF'!BB$6,'Monthly Cash Flows'!$B$13:$EC$13))","v":-9.6606172858333359},{"$f":"-INDEX('Monthly Cash Flows'!$B57:$EC57,MATCH('Monthly CF'!BC$6,'Monthly Cash Flows'!$B$13:$EC$13))","v":-9.6606172858333359},{"$f":"-INDEX('Monthly Cash Flows'!$B57:$EC57,MATCH('Monthly CF'!BD$6,'Monthly Cash Flows'!$B$13:$EC$13))","v":-9.6606172858333359},{"$f":"-INDEX('Monthly Cash Flows'!$B57:$EC57,MATCH('Monthly CF'!BE$6,'Monthly Cash Flows'!$B$13:$EC$13))","v":-9.6606172858333359},{"$f":"-INDEX('Monthly Cash Flows'!$B57:$EC57,MATCH('Monthly CF'!BF$6,'Monthly Cash Flows'!$B$13:$EC$13))","v":-9.6606172858333359},{"$f":"-INDEX('Monthly Cash Flows'!$B57:$EC57,MATCH('Monthly CF'!BG$6,'Monthly Cash Flows'!$B$13:$EC$13))","v":-9.6606172858333359},{"$f":"-INDEX('Monthly Cash Flows'!$B57:$EC57,MATCH('Monthly CF'!BH$6,'Monthly Cash Flows'!$B$13:$EC$13))","v":-9.6606172858333359},{"$f":"-INDEX('Monthly Cash Flows'!$B57:$EC57,MATCH('Monthly CF'!BI$6,'Monthly Cash Flows'!$B$13:$EC$13))","v":-9.6606172858333359},{"$f":"-INDEX('Monthly Cash Flows'!$B57:$EC57,MATCH('Monthly CF'!BJ$6,'Monthly Cash Flows'!$B$13:$EC$13))","v":-9.6606172858333359},{"$f":"-INDEX('Monthly Cash Flows'!$B57:$EC57,MATCH('Monthly CF'!BK$6,'Monthly Cash Flows'!$B$13:$EC$13))","v":-9.6606172858333359},{"$f":"-INDEX('Monthly Cash Flows'!$B57:$EC57,MATCH('Monthly CF'!BL$6,'Monthly Cash Flows'!$B$13:$EC$13))","v":-9.6606172858333359},{"$f":"-INDEX('Monthly Cash Flows'!$B57:$EC57,MATCH('Monthly CF'!BM$6,'Monthly Cash Flows'!$B$13:$EC$13))","v":-9.9504358044083361},{"$f":"-INDEX('Monthly Cash Flows'!$B57:$EC57,MATCH('Monthly CF'!BN$6,'Monthly Cash Flows'!$B$13:$EC$13))","v":-9.9504358044083361},{"$f":"-INDEX('Monthly Cash Flows'!$B57:$EC57,MATCH('Monthly CF'!BO$6,'Monthly Cash Flows'!$B$13:$EC$13))","v":-9.9504358044083361},{"$f":"-INDEX('Monthly Cash Flows'!$B57:$EC57,MATCH('Monthly CF'!BP$6,'Monthly Cash Flows'!$B$13:$EC$13))","v":-9.9504358044083361},{"$f":"-INDEX('Monthly Cash Flows'!$B57:$EC57,MATCH('Monthly CF'!BQ$6,'Monthly Cash Flows'!$B$13:$EC$13))","v":-9.9504358044083361},{"$f":"-INDEX('Monthly Cash Flows'!$B57:$EC57,MATCH('Monthly CF'!BR$6,'Monthly Cash Flows'!$B$13:$EC$13))","v":-9.9504358044083361},{"$f":"-INDEX('Monthly Cash Flows'!$B57:$EC57,MATCH('Monthly CF'!BS$6,'Monthly Cash Flows'!$B$13:$EC$13))","v":-9.9504358044083361},{"$f":"-INDEX('Monthly Cash Flows'!$B57:$EC57,MATCH('Monthly CF'!BT$6,'Monthly Cash Flows'!$B$13:$EC$13))","v":-9.9504358044083361},{"$f":"-INDEX('Monthly Cash Flows'!$B57:$EC57,MATCH('Monthly CF'!BU$6,'Monthly Cash Flows'!$B$13:$EC$13))","v":-9.9504358044083361},{"$f":"-INDEX('Monthly Cash Flows'!$B57:$EC57,MATCH('Monthly CF'!BV$6,'Monthly Cash Flows'!$B$13:$EC$13))","v":-9.9504358044083361},{"$f":"-INDEX('Monthly Cash Flows'!$B57:$EC57,MATCH('Monthly CF'!BW$6,'Monthly Cash Flows'!$B$13:$EC$13))","v":-9.9504358044083361},{"$f":"-INDEX('Monthly Cash Flows'!$B57:$EC57,MATCH('Monthly CF'!BX$6,'Monthly Cash Flows'!$B$13:$EC$13))","v":-9.9504358044083361},{"$f":"-INDEX('Monthly Cash Flows'!$B57:$EC57,MATCH('Monthly CF'!BY$6,'Monthly Cash Flows'!$B$13:$EC$13))","v":-10.248948878540586},{"$f":"-INDEX('Monthly Cash Flows'!$B57:$EC57,MATCH('Monthly CF'!BZ$6,'Monthly Cash Flows'!$B$13:$EC$13))","v":-10.248948878540586},{"$f":"-INDEX('Monthly Cash Flows'!$B57:$EC57,MATCH('Monthly CF'!CA$6,'Monthly Cash Flows'!$B$13:$EC$13))","v":-10.248948878540586},{"$f":"-INDEX('Monthly Cash Flows'!$B57:$EC57,MATCH('Monthly CF'!CB$6,'Monthly Cash Flows'!$B$13:$EC$13))","v":-10.248948878540586},{"$f":"-INDEX('Monthly Cash Flows'!$B57:$EC57,MATCH('Monthly CF'!CC$6,'Monthly Cash Flows'!$B$13:$EC$13))","v":-10.248948878540586},{"$f":"-INDEX('Monthly Cash Flows'!$B57:$EC57,MATCH('Monthly CF'!CD$6,'Monthly Cash Flows'!$B$13:$EC$13))","v":-10.248948878540586},{"$f":"-INDEX('Monthly Cash Flows'!$B57:$EC57,MATCH('Monthly CF'!CE$6,'Monthly Cash Flows'!$B$13:$EC$13))","v":-10.248948878540586},{"$f":"-INDEX('Monthly Cash Flows'!$B57:$EC57,MATCH('Monthly CF'!CF$6,'Monthly Cash Flows'!$B$13:$EC$13))","v":-10.248948878540586},{"$f":"-INDEX('Monthly Cash Flows'!$B57:$EC57,MATCH('Monthly CF'!CG$6,'Monthly Cash Flows'!$B$13:$EC$13))","v":-10.248948878540586},{"$f":"-INDEX('Monthly Cash Flows'!$B57:$EC57,MATCH('Monthly CF'!CH$6,'Monthly Cash Flows'!$B$13:$EC$13))","v":-10.248948878540586},{"$f":"-INDEX('Monthly Cash Flows'!$B57:$EC57,MATCH('Monthly CF'!CI$6,'Monthly Cash Flows'!$B$13:$EC$13))","v":-10.248948878540586},{"$f":"-INDEX('Monthly Cash Flows'!$B57:$EC57,MATCH('Monthly CF'!CJ$6,'Monthly Cash Flows'!$B$13:$EC$13))","v":-10.248948878540586},{"$f":"-INDEX('Monthly Cash Flows'!$B57:$EC57,MATCH('Monthly CF'!CK$6,'Monthly Cash Flows'!$B$13:$EC$13))","v":-10.556417344896804},{"$f":"-INDEX('Monthly Cash Flows'!$B57:$EC57,MATCH('Monthly CF'!CL$6,'Monthly Cash Flows'!$B$13:$EC$13))","v":-10.556417344896804},{"$f":"-INDEX('Monthly Cash Flows'!$B57:$EC57,MATCH('Monthly CF'!CM$6,'Monthly Cash Flows'!$B$13:$EC$13))","v":-10.556417344896804},{"$f":"-INDEX('Monthly Cash Flows'!$B57:$EC57,MATCH('Monthly CF'!CN$6,'Monthly Cash Flows'!$B$13:$EC$13))","v":-10.556417344896804},{"$f":"-INDEX('Monthly Cash Flows'!$B57:$EC57,MATCH('Monthly CF'!CO$6,'Monthly Cash Flows'!$B$13:$EC$13))","v":-10.556417344896804},{"$f":"-INDEX('Monthly Cash Flows'!$B57:$EC57,MATCH('Monthly CF'!CP$6,'Monthly Cash Flows'!$B$13:$EC$13))","v":-10.556417344896804},{"$f":"-INDEX('Monthly Cash Flows'!$B57:$EC57,MATCH('Monthly CF'!CQ$6,'Monthly Cash Flows'!$B$13:$EC$13))","v":-10.556417344896804},{"$f":"-INDEX('Monthly Cash Flows'!$B57:$EC57,MATCH('Monthly CF'!CR$6,'Monthly Cash Flows'!$B$13:$EC$13))","v":-10.556417344896804},{"$f":"-INDEX('Monthly Cash Flows'!$B57:$EC57,MATCH('Monthly CF'!CS$6,'Monthly Cash Flows'!$B$13:$EC$13))","v":-10.556417344896804},{"$f":"-INDEX('Monthly Cash Flows'!$B57:$EC57,MATCH('Monthly CF'!CT$6,'Monthly Cash Flows'!$B$13:$EC$13))","v":-10.556417344896804},{"$f":"-INDEX('Monthly Cash Flows'!$B57:$EC57,MATCH('Monthly CF'!CU$6,'Monthly Cash Flows'!$B$13:$EC$13))","v":-10.556417344896804},{"$f":"-INDEX('Monthly Cash Flows'!$B57:$EC57,MATCH('Monthly CF'!CV$6,'Monthly Cash Flows'!$B$13:$EC$13))","v":-10.556417344896804},{"$f":"-INDEX('Monthly Cash Flows'!$B57:$EC57,MATCH('Monthly CF'!CW$6,'Monthly Cash Flows'!$B$13:$EC$13))","v":-10.873109865243709},{"$f":"-INDEX('Monthly Cash Flows'!$B57:$EC57,MATCH('Monthly CF'!CX$6,'Monthly Cash Flows'!$B$13:$EC$13))","v":-10.873109865243709},{"$f":"-INDEX('Monthly Cash Flows'!$B57:$EC57,MATCH('Monthly CF'!CY$6,'Monthly Cash Flows'!$B$13:$EC$13))","v":-10.873109865243709},{"$f":"-INDEX('Monthly Cash Flows'!$B57:$EC57,MATCH('Monthly CF'!CZ$6,'Monthly Cash Flows'!$B$13:$EC$13))","v":-10.873109865243709},{"$f":"-INDEX('Monthly Cash Flows'!$B57:$EC57,MATCH('Monthly CF'!DA$6,'Monthly Cash Flows'!$B$13:$EC$13))","v":-10.873109865243709},{"$f":"-INDEX('Monthly Cash Flows'!$B57:$EC57,MATCH('Monthly CF'!DB$6,'Monthly Cash Flows'!$B$13:$EC$13))","v":-10.873109865243709},{"$f":"-INDEX('Monthly Cash Flows'!$B57:$EC57,MATCH('Monthly CF'!DC$6,'Monthly Cash Flows'!$B$13:$EC$13))","v":-10.873109865243709},{"$f":"-INDEX('Monthly Cash Flows'!$B57:$EC57,MATCH('Monthly CF'!DD$6,'Monthly Cash Flows'!$B$13:$EC$13))","v":-10.873109865243709},{"$f":"-INDEX('Monthly Cash Flows'!$B57:$EC57,MATCH('Monthly CF'!DE$6,'Monthly Cash Flows'!$B$13:$EC$13))","v":-10.873109865243709},{"$f":"-INDEX('Monthly Cash Flows'!$B57:$EC57,MATCH('Monthly CF'!DF$6,'Monthly Cash Flows'!$B$13:$EC$13))","v":-10.873109865243709},{"$f":"-INDEX('Monthly Cash Flows'!$B57:$EC57,MATCH('Monthly CF'!DG$6,'Monthly Cash Flows'!$B$13:$EC$13))","v":-10.873109865243709},{"$f":"-INDEX('Monthly Cash Flows'!$B57:$EC57,MATCH('Monthly CF'!DH$6,'Monthly Cash Flows'!$B$13:$EC$13))","v":-10.873109865243709},{"$f":"-INDEX('Monthly Cash Flows'!$B57:$EC57,MATCH('Monthly CF'!DI$6,'Monthly Cash Flows'!$B$13:$EC$13))","v":-11.199303161201021},{"$f":"-INDEX('Monthly Cash Flows'!$B57:$EC57,MATCH('Monthly CF'!DJ$6,'Monthly Cash Flows'!$B$13:$EC$13))","v":-11.199303161201021},{"$f":"-INDEX('Monthly Cash Flows'!$B57:$EC57,MATCH('Monthly CF'!DK$6,'Monthly Cash Flows'!$B$13:$EC$13))","v":-11.199303161201021},{"$f":"-INDEX('Monthly Cash Flows'!$B57:$EC57,MATCH('Monthly CF'!DL$6,'Monthly Cash Flows'!$B$13:$EC$13))","v":-11.199303161201021},{"$f":"-INDEX('Monthly Cash Flows'!$B57:$EC57,MATCH('Monthly CF'!DM$6,'Monthly Cash Flows'!$B$13:$EC$13))","v":-11.199303161201021},{"$f":"-INDEX('Monthly Cash Flows'!$B57:$EC57,MATCH('Monthly CF'!DN$6,'Monthly Cash Flows'!$B$13:$EC$13))","v":-11.199303161201021},{"$f":"-INDEX('Monthly Cash Flows'!$B57:$EC57,MATCH('Monthly CF'!DO$6,'Monthly Cash Flows'!$B$13:$EC$13))","v":-11.199303161201021},{"$f":"-INDEX('Monthly Cash Flows'!$B57:$EC57,MATCH('Monthly CF'!DP$6,'Monthly Cash Flows'!$B$13:$EC$13))","v":-11.199303161201021},{"$f":"-INDEX('Monthly Cash Flows'!$B57:$EC57,MATCH('Monthly CF'!DQ$6,'Monthly Cash Flows'!$B$13:$EC$13))","v":-11.199303161201021},{"$f":"-INDEX('Monthly Cash Flows'!$B57:$EC57,MATCH('Monthly CF'!DR$6,'Monthly Cash Flows'!$B$13:$EC$13))","v":-11.199303161201021},{"$f":"-INDEX('Monthly Cash Flows'!$B57:$EC57,MATCH('Monthly CF'!DS$6,'Monthly Cash Flows'!$B$13:$EC$13))","v":-11.199303161201021},{"$f":"-INDEX('Monthly Cash Flows'!$B57:$EC57,MATCH('Monthly CF'!DT$6,'Monthly Cash Flows'!$B$13:$EC$13))","v":-11.199303161201021},{"$f":"-INDEX('Monthly Cash Flows'!$B57:$EC57,MATCH('Monthly CF'!DU$6,'Monthly Cash Flows'!$B$13:$EC$13))","v":-11.535282256037052},{"$f":"-INDEX('Monthly Cash Flows'!$B57:$EC57,MATCH('Monthly CF'!DV$6,'Monthly Cash Flows'!$B$13:$EC$13))","v":-11.535282256037052},{"$f":"-INDEX('Monthly Cash Flows'!$B57:$EC57,MATCH('Monthly CF'!DW$6,'Monthly Cash Flows'!$B$13:$EC$13))","v":-11.535282256037052},{"$f":"-INDEX('Monthly Cash Flows'!$B57:$EC57,MATCH('Monthly CF'!DX$6,'Monthly Cash Flows'!$B$13:$EC$13))","v":-11.535282256037052},{"$f":"-INDEX('Monthly Cash Flows'!$B57:$EC57,MATCH('Monthly CF'!DY$6,'Monthly Cash Flows'!$B$13:$EC$13))","v":-11.535282256037052},{"$f":"-INDEX('Monthly Cash Flows'!$B57:$EC57,MATCH('Monthly CF'!DZ$6,'Monthly Cash Flows'!$B$13:$EC$13))","v":-11.535282256037052},{"$f":"-INDEX('Monthly Cash Flows'!$B57:$EC57,MATCH('Monthly CF'!EA$6,'Monthly Cash Flows'!$B$13:$EC$13))","v":-11.535282256037052},{"$f":"-INDEX('Monthly Cash Flows'!$B57:$EC57,MATCH('Monthly CF'!EB$6,'Monthly Cash Flows'!$B$13:$EC$13))","v":-11.535282256037052},{"$f":"-INDEX('Monthly Cash Flows'!$B57:$EC57,MATCH('Monthly CF'!EC$6,'Monthly Cash Flows'!$B$13:$EC$13))","v":-11.535282256037052},{"$f":"-INDEX('Monthly Cash Flows'!$B57:$EC57,MATCH('Monthly CF'!ED$6,'Monthly Cash Flows'!$B$13:$EC$13))","v":-11.535282256037052},{"$f":"-INDEX('Monthly Cash Flows'!$B57:$EC57,MATCH('Monthly CF'!EE$6,'Monthly Cash Flows'!$B$13:$EC$13))","v":-11.535282256037052},{"$f":"-INDEX('Monthly Cash Flows'!$B57:$EC57,MATCH('Monthly CF'!EF$6,'Monthly Cash Flows'!$B$13:$EC$13))","v":-11.535282256037052},{"$f":"-INDEX('Monthly Cash Flows'!$B57:$EC57,MATCH('Monthly CF'!EG$6,'Monthly Cash Flows'!$B$13:$EC$13))","v":-11.535282256037052}]
[null,{"$f":"+'Monthly Cash Flows'!A58","v":"Light Bulbs and Fixtures"},null,null,null,{"$f":"-INDEX('Monthly Cash Flows'!$B58:$EC58,MATCH('Monthly CF'!F$6,'Monthly Cash Flows'!$B$13:$EC$13))","v":-614.66666666666663},{"$f":"-INDEX('Monthly Cash Flows'!$B58:$EC58,MATCH('Monthly CF'!G$6,'Monthly Cash Flows'!$B$13:$EC$13))","v":-614.66666666666663},{"$f":"-INDEX('Monthly Cash Flows'!$B58:$EC58,MATCH('Monthly CF'!H$6,'Monthly Cash Flows'!$B$13:$EC$13))","v":-614.66666666666663},{"$f":"-INDEX('Monthly Cash Flows'!$B58:$EC58,MATCH('Monthly CF'!I$6,'Monthly Cash Flows'!$B$13:$EC$13))","v":-614.66666666666663},{"$f":"-INDEX('Monthly Cash Flows'!$B58:$EC58,MATCH('Monthly CF'!J$6,'Monthly Cash Flows'!$B$13:$EC$13))","v":-614.66666666666663},{"$f":"-INDEX('Monthly Cash Flows'!$B58:$EC58,MATCH('Monthly CF'!K$6,'Monthly Cash Flows'!$B$13:$EC$13))","v":-614.66666666666663},{"$f":"-INDEX('Monthly Cash Flows'!$B58:$EC58,MATCH('Monthly CF'!L$6,'Monthly Cash Flows'!$B$13:$EC$13))","v":-614.66666666666663},{"$f":"-INDEX('Monthly Cash Flows'!$B58:$EC58,MATCH('Monthly CF'!M$6,'Monthly Cash Flows'!$B$13:$EC$13))","v":-614.66666666666663},{"$f":"-INDEX('Monthly Cash Flows'!$B58:$EC58,MATCH('Monthly CF'!N$6,'Monthly Cash Flows'!$B$13:$EC$13))","v":-614.66666666666663},{"$f":"-INDEX('Monthly Cash Flows'!$B58:$EC58,MATCH('Monthly CF'!O$6,'Monthly Cash Flows'!$B$13:$EC$13))","v":-614.66666666666663},{"$f":"-INDEX('Monthly Cash Flows'!$B58:$EC58,MATCH('Monthly CF'!P$6,'Monthly Cash Flows'!$B$13:$EC$13))","v":-614.66666666666663},{"$f":"-INDEX('Monthly Cash Flows'!$B58:$EC58,MATCH('Monthly CF'!Q$6,'Monthly Cash Flows'!$B$13:$EC$13))","v":-633.10666666666668},{"$f":"-INDEX('Monthly Cash Flows'!$B58:$EC58,MATCH('Monthly CF'!R$6,'Monthly Cash Flows'!$B$13:$EC$13))","v":-633.10666666666668},{"$f":"-INDEX('Monthly Cash Flows'!$B58:$EC58,MATCH('Monthly CF'!S$6,'Monthly Cash Flows'!$B$13:$EC$13))","v":-633.10666666666668},{"$f":"-INDEX('Monthly Cash Flows'!$B58:$EC58,MATCH('Monthly CF'!T$6,'Monthly Cash Flows'!$B$13:$EC$13))","v":-633.10666666666668},{"$f":"-INDEX('Monthly Cash Flows'!$B58:$EC58,MATCH('Monthly CF'!U$6,'Monthly Cash Flows'!$B$13:$EC$13))","v":-633.10666666666668},{"$f":"-INDEX('Monthly Cash Flows'!$B58:$EC58,MATCH('Monthly CF'!V$6,'Monthly Cash Flows'!$B$13:$EC$13))","v":-633.10666666666668},{"$f":"-INDEX('Monthly Cash Flows'!$B58:$EC58,MATCH('Monthly CF'!W$6,'Monthly Cash Flows'!$B$13:$EC$13))","v":-633.10666666666668},{"$f":"-INDEX('Monthly Cash Flows'!$B58:$EC58,MATCH('Monthly CF'!X$6,'Monthly Cash Flows'!$B$13:$EC$13))","v":-633.10666666666668},{"$f":"-INDEX('Monthly Cash Flows'!$B58:$EC58,MATCH('Monthly CF'!Y$6,'Monthly Cash Flows'!$B$13:$EC$13))","v":-633.10666666666668},{"$f":"-INDEX('Monthly Cash Flows'!$B58:$EC58,MATCH('Monthly CF'!Z$6,'Monthly Cash Flows'!$B$13:$EC$13))","v":-633.10666666666668},{"$f":"-INDEX('Monthly Cash Flows'!$B58:$EC58,MATCH('Monthly CF'!AA$6,'Monthly Cash Flows'!$B$13:$EC$13))","v":-633.10666666666668},{"$f":"-INDEX('Monthly Cash Flows'!$B58:$EC58,MATCH('Monthly CF'!AB$6,'Monthly Cash Flows'!$B$13:$EC$13))","v":-633.10666666666668},{"$f":"-INDEX('Monthly Cash Flows'!$B58:$EC58,MATCH('Monthly CF'!AC$6,'Monthly Cash Flows'!$B$13:$EC$13))","v":-652.09986666666668},{"$f":"-INDEX('Monthly Cash Flows'!$B58:$EC58,MATCH('Monthly CF'!AD$6,'Monthly Cash Flows'!$B$13:$EC$13))","v":-652.09986666666668},{"$f":"-INDEX('Monthly Cash Flows'!$B58:$EC58,MATCH('Monthly CF'!AE$6,'Monthly Cash Flows'!$B$13:$EC$13))","v":-652.09986666666668},{"$f":"-INDEX('Monthly Cash Flows'!$B58:$EC58,MATCH('Monthly CF'!AF$6,'Monthly Cash Flows'!$B$13:$EC$13))","v":-652.09986666666668},{"$f":"-INDEX('Monthly Cash Flows'!$B58:$EC58,MATCH('Monthly CF'!AG$6,'Monthly Cash Flows'!$B$13:$EC$13))","v":-652.09986666666668},{"$f":"-INDEX('Monthly Cash Flows'!$B58:$EC58,MATCH('Monthly CF'!AH$6,'Monthly Cash Flows'!$B$13:$EC$13))","v":-652.09986666666668},{"$f":"-INDEX('Monthly Cash Flows'!$B58:$EC58,MATCH('Monthly CF'!AI$6,'Monthly Cash Flows'!$B$13:$EC$13))","v":-652.09986666666668},{"$f":"-INDEX('Monthly Cash Flows'!$B58:$EC58,MATCH('Monthly CF'!AJ$6,'Monthly Cash Flows'!$B$13:$EC$13))","v":-652.09986666666668},{"$f":"-INDEX('Monthly Cash Flows'!$B58:$EC58,MATCH('Monthly CF'!AK$6,'Monthly Cash Flows'!$B$13:$EC$13))","v":-652.09986666666668},{"$f":"-INDEX('Monthly Cash Flows'!$B58:$EC58,MATCH('Monthly CF'!AL$6,'Monthly Cash Flows'!$B$13:$EC$13))","v":-652.09986666666668},{"$f":"-INDEX('Monthly Cash Flows'!$B58:$EC58,MATCH('Monthly CF'!AM$6,'Monthly Cash Flows'!$B$13:$EC$13))","v":-652.09986666666668},{"$f":"-INDEX('Monthly Cash Flows'!$B58:$EC58,MATCH('Monthly CF'!AN$6,'Monthly Cash Flows'!$B$13:$EC$13))","v":-652.09986666666668},{"$f":"-INDEX('Monthly Cash Flows'!$B58:$EC58,MATCH('Monthly CF'!AO$6,'Monthly Cash Flows'!$B$13:$EC$13))","v":-671.66286266666668},{"$f":"-INDEX('Monthly Cash Flows'!$B58:$EC58,MATCH('Monthly CF'!AP$6,'Monthly Cash Flows'!$B$13:$EC$13))","v":-671.66286266666668},{"$f":"-INDEX('Monthly Cash Flows'!$B58:$EC58,MATCH('Monthly CF'!AQ$6,'Monthly Cash Flows'!$B$13:$EC$13))","v":-671.66286266666668},{"$f":"-INDEX('Monthly Cash Flows'!$B58:$EC58,MATCH('Monthly CF'!AR$6,'Monthly Cash Flows'!$B$13:$EC$13))","v":-671.66286266666668},{"$f":"-INDEX('Monthly Cash Flows'!$B58:$EC58,MATCH('Monthly CF'!AS$6,'Monthly Cash Flows'!$B$13:$EC$13))","v":-671.66286266666668},{"$f":"-INDEX('Monthly Cash Flows'!$B58:$EC58,MATCH('Monthly CF'!AT$6,'Monthly Cash Flows'!$B$13:$EC$13))","v":-671.66286266666668},{"$f":"-INDEX('Monthly Cash Flows'!$B58:$EC58,MATCH('Monthly CF'!AU$6,'Monthly Cash Flows'!$B$13:$EC$13))","v":-671.66286266666668},{"$f":"-INDEX('Monthly Cash Flows'!$B58:$EC58,MATCH('Monthly CF'!AV$6,'Monthly Cash Flows'!$B$13:$EC$13))","v":-671.66286266666668},{"$f":"-INDEX('Monthly Cash Flows'!$B58:$EC58,MATCH('Monthly CF'!AW$6,'Monthly Cash Flows'!$B$13:$EC$13))","v":-671.66286266666668},{"$f":"-INDEX('Monthly Cash Flows'!$B58:$EC58,MATCH('Monthly CF'!AX$6,'Monthly Cash Flows'!$B$13:$EC$13))","v":-671.66286266666668},{"$f":"-INDEX('Monthly Cash Flows'!$B58:$EC58,MATCH('Monthly CF'!AY$6,'Monthly Cash Flows'!$B$13:$EC$13))","v":-671.66286266666668},{"$f":"-INDEX('Monthly Cash Flows'!$B58:$EC58,MATCH('Monthly CF'!AZ$6,'Monthly Cash Flows'!$B$13:$EC$13))","v":-671.66286266666668},{"$f":"-INDEX('Monthly Cash Flows'!$B58:$EC58,MATCH('Monthly CF'!BA$6,'Monthly Cash Flows'!$B$13:$EC$13))","v":-691.81274854666674},{"$f":"-INDEX('Monthly Cash Flows'!$B58:$EC58,MATCH('Monthly CF'!BB$6,'Monthly Cash Flows'!$B$13:$EC$13))","v":-691.81274854666674},{"$f":"-INDEX('Monthly Cash Flows'!$B58:$EC58,MATCH('Monthly CF'!BC$6,'Monthly Cash Flows'!$B$13:$EC$13))","v":-691.81274854666674},{"$f":"-INDEX('Monthly Cash Flows'!$B58:$EC58,MATCH('Monthly CF'!BD$6,'Monthly Cash Flows'!$B$13:$EC$13))","v":-691.81274854666674},{"$f":"-INDEX('Monthly Cash Flows'!$B58:$EC58,MATCH('Monthly CF'!BE$6,'Monthly Cash Flows'!$B$13:$EC$13))","v":-691.81274854666674},{"$f":"-INDEX('Monthly Cash Flows'!$B58:$EC58,MATCH('Monthly CF'!BF$6,'Monthly Cash Flows'!$B$13:$EC$13))","v":-691.81274854666674},{"$f":"-INDEX('Monthly Cash Flows'!$B58:$EC58,MATCH('Monthly CF'!BG$6,'Monthly Cash Flows'!$B$13:$EC$13))","v":-691.81274854666674},{"$f":"-INDEX('Monthly Cash Flows'!$B58:$EC58,MATCH('Monthly CF'!BH$6,'Monthly Cash Flows'!$B$13:$EC$13))","v":-691.81274854666674},{"$f":"-INDEX('Monthly Cash Flows'!$B58:$EC58,MATCH('Monthly CF'!BI$6,'Monthly Cash Flows'!$B$13:$EC$13))","v":-691.81274854666674},{"$f":"-INDEX('Monthly Cash Flows'!$B58:$EC58,MATCH('Monthly CF'!BJ$6,'Monthly Cash Flows'!$B$13:$EC$13))","v":-691.81274854666674},{"$f":"-INDEX('Monthly Cash Flows'!$B58:$EC58,MATCH('Monthly CF'!BK$6,'Monthly Cash Flows'!$B$13:$EC$13))","v":-691.81274854666674},{"$f":"-INDEX('Monthly Cash Flows'!$B58:$EC58,MATCH('Monthly CF'!BL$6,'Monthly Cash Flows'!$B$13:$EC$13))","v":-691.81274854666674},{"$f":"-INDEX('Monthly Cash Flows'!$B58:$EC58,MATCH('Monthly CF'!BM$6,'Monthly Cash Flows'!$B$13:$EC$13))","v":-712.56713100306672},{"$f":"-INDEX('Monthly Cash Flows'!$B58:$EC58,MATCH('Monthly CF'!BN$6,'Monthly Cash Flows'!$B$13:$EC$13))","v":-712.56713100306672},{"$f":"-INDEX('Monthly Cash Flows'!$B58:$EC58,MATCH('Monthly CF'!BO$6,'Monthly Cash Flows'!$B$13:$EC$13))","v":-712.56713100306672},{"$f":"-INDEX('Monthly Cash Flows'!$B58:$EC58,MATCH('Monthly CF'!BP$6,'Monthly Cash Flows'!$B$13:$EC$13))","v":-712.56713100306672},{"$f":"-INDEX('Monthly Cash Flows'!$B58:$EC58,MATCH('Monthly CF'!BQ$6,'Monthly Cash Flows'!$B$13:$EC$13))","v":-712.56713100306672},{"$f":"-INDEX('Monthly Cash Flows'!$B58:$EC58,MATCH('Monthly CF'!BR$6,'Monthly Cash Flows'!$B$13:$EC$13))","v":-712.56713100306672},{"$f":"-INDEX('Monthly Cash Flows'!$B58:$EC58,MATCH('Monthly CF'!BS$6,'Monthly Cash Flows'!$B$13:$EC$13))","v":-712.56713100306672},{"$f":"-INDEX('Monthly Cash Flows'!$B58:$EC58,MATCH('Monthly CF'!BT$6,'Monthly Cash Flows'!$B$13:$EC$13))","v":-712.56713100306672},{"$f":"-INDEX('Monthly Cash Flows'!$B58:$EC58,MATCH('Monthly CF'!BU$6,'Monthly Cash Flows'!$B$13:$EC$13))","v":-712.56713100306672},{"$f":"-INDEX('Monthly Cash Flows'!$B58:$EC58,MATCH('Monthly CF'!BV$6,'Monthly Cash Flows'!$B$13:$EC$13))","v":-712.56713100306672},{"$f":"-INDEX('Monthly Cash Flows'!$B58:$EC58,MATCH('Monthly CF'!BW$6,'Monthly Cash Flows'!$B$13:$EC$13))","v":-712.56713100306672},{"$f":"-INDEX('Monthly Cash Flows'!$B58:$EC58,MATCH('Monthly CF'!BX$6,'Monthly Cash Flows'!$B$13:$EC$13))","v":-712.56713100306672},{"$f":"-INDEX('Monthly Cash Flows'!$B58:$EC58,MATCH('Monthly CF'!BY$6,'Monthly Cash Flows'!$B$13:$EC$13))","v":-733.94414493315878},{"$f":"-INDEX('Monthly Cash Flows'!$B58:$EC58,MATCH('Monthly CF'!BZ$6,'Monthly Cash Flows'!$B$13:$EC$13))","v":-733.94414493315878},{"$f":"-INDEX('Monthly Cash Flows'!$B58:$EC58,MATCH('Monthly CF'!CA$6,'Monthly Cash Flows'!$B$13:$EC$13))","v":-733.94414493315878},{"$f":"-INDEX('Monthly Cash Flows'!$B58:$EC58,MATCH('Monthly CF'!CB$6,'Monthly Cash Flows'!$B$13:$EC$13))","v":-733.94414493315878},{"$f":"-INDEX('Monthly Cash Flows'!$B58:$EC58,MATCH('Monthly CF'!CC$6,'Monthly Cash Flows'!$B$13:$EC$13))","v":-733.94414493315878},{"$f":"-INDEX('Monthly Cash Flows'!$B58:$EC58,MATCH('Monthly CF'!CD$6,'Monthly Cash Flows'!$B$13:$EC$13))","v":-733.94414493315878},{"$f":"-INDEX('Monthly Cash Flows'!$B58:$EC58,MATCH('Monthly CF'!CE$6,'Monthly Cash Flows'!$B$13:$EC$13))","v":-733.94414493315878},{"$f":"-INDEX('Monthly Cash Flows'!$B58:$EC58,MATCH('Monthly CF'!CF$6,'Monthly Cash Flows'!$B$13:$EC$13))","v":-733.94414493315878},{"$f":"-INDEX('Monthly Cash Flows'!$B58:$EC58,MATCH('Monthly CF'!CG$6,'Monthly Cash Flows'!$B$13:$EC$13))","v":-733.94414493315878},{"$f":"-INDEX('Monthly Cash Flows'!$B58:$EC58,MATCH('Monthly CF'!CH$6,'Monthly Cash Flows'!$B$13:$EC$13))","v":-733.94414493315878},{"$f":"-INDEX('Monthly Cash Flows'!$B58:$EC58,MATCH('Monthly CF'!CI$6,'Monthly Cash Flows'!$B$13:$EC$13))","v":-733.94414493315878},{"$f":"-INDEX('Monthly Cash Flows'!$B58:$EC58,MATCH('Monthly CF'!CJ$6,'Monthly Cash Flows'!$B$13:$EC$13))","v":-733.94414493315878},{"$f":"-INDEX('Monthly Cash Flows'!$B58:$EC58,MATCH('Monthly CF'!CK$6,'Monthly Cash Flows'!$B$13:$EC$13))","v":-755.96246928115352},{"$f":"-INDEX('Monthly Cash Flows'!$B58:$EC58,MATCH('Monthly CF'!CL$6,'Monthly Cash Flows'!$B$13:$EC$13))","v":-755.96246928115352},{"$f":"-INDEX('Monthly Cash Flows'!$B58:$EC58,MATCH('Monthly CF'!CM$6,'Monthly Cash Flows'!$B$13:$EC$13))","v":-755.96246928115352},{"$f":"-INDEX('Monthly Cash Flows'!$B58:$EC58,MATCH('Monthly CF'!CN$6,'Monthly Cash Flows'!$B$13:$EC$13))","v":-755.96246928115352},{"$f":"-INDEX('Monthly Cash Flows'!$B58:$EC58,MATCH('Monthly CF'!CO$6,'Monthly Cash Flows'!$B$13:$EC$13))","v":-755.96246928115352},{"$f":"-INDEX('Monthly Cash Flows'!$B58:$EC58,MATCH('Monthly CF'!CP$6,'Monthly Cash Flows'!$B$13:$EC$13))","v":-755.96246928115352},{"$f":"-INDEX('Monthly Cash Flows'!$B58:$EC58,MATCH('Monthly CF'!CQ$6,'Monthly Cash Flows'!$B$13:$EC$13))","v":-755.96246928115352},{"$f":"-INDEX('Monthly Cash Flows'!$B58:$EC58,MATCH('Monthly CF'!CR$6,'Monthly Cash Flows'!$B$13:$EC$13))","v":-755.96246928115352},{"$f":"-INDEX('Monthly Cash Flows'!$B58:$EC58,MATCH('Monthly CF'!CS$6,'Monthly Cash Flows'!$B$13:$EC$13))","v":-755.96246928115352},{"$f":"-INDEX('Monthly Cash Flows'!$B58:$EC58,MATCH('Monthly CF'!CT$6,'Monthly Cash Flows'!$B$13:$EC$13))","v":-755.96246928115352},{"$f":"-INDEX('Monthly Cash Flows'!$B58:$EC58,MATCH('Monthly CF'!CU$6,'Monthly Cash Flows'!$B$13:$EC$13))","v":-755.96246928115352},{"$f":"-INDEX('Monthly Cash Flows'!$B58:$EC58,MATCH('Monthly CF'!CV$6,'Monthly Cash Flows'!$B$13:$EC$13))","v":-755.96246928115352},{"$f":"-INDEX('Monthly Cash Flows'!$B58:$EC58,MATCH('Monthly CF'!CW$6,'Monthly Cash Flows'!$B$13:$EC$13))","v":-778.64134335958818},{"$f":"-INDEX('Monthly Cash Flows'!$B58:$EC58,MATCH('Monthly CF'!CX$6,'Monthly Cash Flows'!$B$13:$EC$13))","v":-778.64134335958818},{"$f":"-INDEX('Monthly Cash Flows'!$B58:$EC58,MATCH('Monthly CF'!CY$6,'Monthly Cash Flows'!$B$13:$EC$13))","v":-778.64134335958818},{"$f":"-INDEX('Monthly Cash Flows'!$B58:$EC58,MATCH('Monthly CF'!CZ$6,'Monthly Cash Flows'!$B$13:$EC$13))","v":-778.64134335958818},{"$f":"-INDEX('Monthly Cash Flows'!$B58:$EC58,MATCH('Monthly CF'!DA$6,'Monthly Cash Flows'!$B$13:$EC$13))","v":-778.64134335958818},{"$f":"-INDEX('Monthly Cash Flows'!$B58:$EC58,MATCH('Monthly CF'!DB$6,'Monthly Cash Flows'!$B$13:$EC$13))","v":-778.64134335958818},{"$f":"-INDEX('Monthly Cash Flows'!$B58:$EC58,MATCH('Monthly CF'!DC$6,'Monthly Cash Flows'!$B$13:$EC$13))","v":-778.64134335958818},{"$f":"-INDEX('Monthly Cash Flows'!$B58:$EC58,MATCH('Monthly CF'!DD$6,'Monthly Cash Flows'!$B$13:$EC$13))","v":-778.64134335958818},{"$f":"-INDEX('Monthly Cash Flows'!$B58:$EC58,MATCH('Monthly CF'!DE$6,'Monthly Cash Flows'!$B$13:$EC$13))","v":-778.64134335958818},{"$f":"-INDEX('Monthly Cash Flows'!$B58:$EC58,MATCH('Monthly CF'!DF$6,'Monthly Cash Flows'!$B$13:$EC$13))","v":-778.64134335958818},{"$f":"-INDEX('Monthly Cash Flows'!$B58:$EC58,MATCH('Monthly CF'!DG$6,'Monthly Cash Flows'!$B$13:$EC$13))","v":-778.64134335958818},{"$f":"-INDEX('Monthly Cash Flows'!$B58:$EC58,MATCH('Monthly CF'!DH$6,'Monthly Cash Flows'!$B$13:$EC$13))","v":-778.64134335958818},{"$f":"-INDEX('Monthly Cash Flows'!$B58:$EC58,MATCH('Monthly CF'!DI$6,'Monthly Cash Flows'!$B$13:$EC$13))","v":-802.00058366037581},{"$f":"-INDEX('Monthly Cash Flows'!$B58:$EC58,MATCH('Monthly CF'!DJ$6,'Monthly Cash Flows'!$B$13:$EC$13))","v":-802.00058366037581},{"$f":"-INDEX('Monthly Cash Flows'!$B58:$EC58,MATCH('Monthly CF'!DK$6,'Monthly Cash Flows'!$B$13:$EC$13))","v":-802.00058366037581},{"$f":"-INDEX('Monthly Cash Flows'!$B58:$EC58,MATCH('Monthly CF'!DL$6,'Monthly Cash Flows'!$B$13:$EC$13))","v":-802.00058366037581},{"$f":"-INDEX('Monthly Cash Flows'!$B58:$EC58,MATCH('Monthly CF'!DM$6,'Monthly Cash Flows'!$B$13:$EC$13))","v":-802.00058366037581},{"$f":"-INDEX('Monthly Cash Flows'!$B58:$EC58,MATCH('Monthly CF'!DN$6,'Monthly Cash Flows'!$B$13:$EC$13))","v":-802.00058366037581},{"$f":"-INDEX('Monthly Cash Flows'!$B58:$EC58,MATCH('Monthly CF'!DO$6,'Monthly Cash Flows'!$B$13:$EC$13))","v":-802.00058366037581},{"$f":"-INDEX('Monthly Cash Flows'!$B58:$EC58,MATCH('Monthly CF'!DP$6,'Monthly Cash Flows'!$B$13:$EC$13))","v":-802.00058366037581},{"$f":"-INDEX('Monthly Cash Flows'!$B58:$EC58,MATCH('Monthly CF'!DQ$6,'Monthly Cash Flows'!$B$13:$EC$13))","v":-802.00058366037581},{"$f":"-INDEX('Monthly Cash Flows'!$B58:$EC58,MATCH('Monthly CF'!DR$6,'Monthly Cash Flows'!$B$13:$EC$13))","v":-802.00058366037581},{"$f":"-INDEX('Monthly Cash Flows'!$B58:$EC58,MATCH('Monthly CF'!DS$6,'Monthly Cash Flows'!$B$13:$EC$13))","v":-802.00058366037581},{"$f":"-INDEX('Monthly Cash Flows'!$B58:$EC58,MATCH('Monthly CF'!DT$6,'Monthly Cash Flows'!$B$13:$EC$13))","v":-802.00058366037581},{"$f":"-INDEX('Monthly Cash Flows'!$B58:$EC58,MATCH('Monthly CF'!DU$6,'Monthly Cash Flows'!$B$13:$EC$13))","v":-826.06060117018706},{"$f":"-INDEX('Monthly Cash Flows'!$B58:$EC58,MATCH('Monthly CF'!DV$6,'Monthly Cash Flows'!$B$13:$EC$13))","v":-826.06060117018706},{"$f":"-INDEX('Monthly Cash Flows'!$B58:$EC58,MATCH('Monthly CF'!DW$6,'Monthly Cash Flows'!$B$13:$EC$13))","v":-826.06060117018706},{"$f":"-INDEX('Monthly Cash Flows'!$B58:$EC58,MATCH('Monthly CF'!DX$6,'Monthly Cash Flows'!$B$13:$EC$13))","v":-826.06060117018706},{"$f":"-INDEX('Monthly Cash Flows'!$B58:$EC58,MATCH('Monthly CF'!DY$6,'Monthly Cash Flows'!$B$13:$EC$13))","v":-826.06060117018706},{"$f":"-INDEX('Monthly Cash Flows'!$B58:$EC58,MATCH('Monthly CF'!DZ$6,'Monthly Cash Flows'!$B$13:$EC$13))","v":-826.06060117018706},{"$f":"-INDEX('Monthly Cash Flows'!$B58:$EC58,MATCH('Monthly CF'!EA$6,'Monthly Cash Flows'!$B$13:$EC$13))","v":-826.06060117018706},{"$f":"-INDEX('Monthly Cash Flows'!$B58:$EC58,MATCH('Monthly CF'!EB$6,'Monthly Cash Flows'!$B$13:$EC$13))","v":-826.06060117018706},{"$f":"-INDEX('Monthly Cash Flows'!$B58:$EC58,MATCH('Monthly CF'!EC$6,'Monthly Cash Flows'!$B$13:$EC$13))","v":-826.06060117018706},{"$f":"-INDEX('Monthly Cash Flows'!$B58:$EC58,MATCH('Monthly CF'!ED$6,'Monthly Cash Flows'!$B$13:$EC$13))","v":-826.06060117018706},{"$f":"-INDEX('Monthly Cash Flows'!$B58:$EC58,MATCH('Monthly CF'!EE$6,'Monthly Cash Flows'!$B$13:$EC$13))","v":-826.06060117018706},{"$f":"-INDEX('Monthly Cash Flows'!$B58:$EC58,MATCH('Monthly CF'!EF$6,'Monthly Cash Flows'!$B$13:$EC$13))","v":-826.06060117018706},{"$f":"-INDEX('Monthly Cash Flows'!$B58:$EC58,MATCH('Monthly CF'!EG$6,'Monthly Cash Flows'!$B$13:$EC$13))","v":-826.06060117018706}]
[null,{"$f":"+'Monthly Cash Flows'!A59","v":"Smoke Alarm / Fire Protection"},null,null,null,{"$f":"-INDEX('Monthly Cash Flows'!$B59:$EC59,MATCH('Monthly CF'!F$6,'Monthly Cash Flows'!$B$13:$EC$13))","v":-16.666666666666668},{"$f":"-INDEX('Monthly Cash Flows'!$B59:$EC59,MATCH('Monthly CF'!G$6,'Monthly Cash Flows'!$B$13:$EC$13))","v":-16.666666666666668},{"$f":"-INDEX('Monthly Cash Flows'!$B59:$EC59,MATCH('Monthly CF'!H$6,'Monthly Cash Flows'!$B$13:$EC$13))","v":-16.666666666666668},{"$f":"-INDEX('Monthly Cash Flows'!$B59:$EC59,MATCH('Monthly CF'!I$6,'Monthly Cash Flows'!$B$13:$EC$13))","v":-16.666666666666668},{"$f":"-INDEX('Monthly Cash Flows'!$B59:$EC59,MATCH('Monthly CF'!J$6,'Monthly Cash Flows'!$B$13:$EC$13))","v":-16.666666666666668},{"$f":"-INDEX('Monthly Cash Flows'!$B59:$EC59,MATCH('Monthly CF'!K$6,'Monthly Cash Flows'!$B$13:$EC$13))","v":-16.666666666666668},{"$f":"-INDEX('Monthly Cash Flows'!$B59:$EC59,MATCH('Monthly CF'!L$6,'Monthly Cash Flows'!$B$13:$EC$13))","v":-16.666666666666668},{"$f":"-INDEX('Monthly Cash Flows'!$B59:$EC59,MATCH('Monthly CF'!M$6,'Monthly Cash Flows'!$B$13:$EC$13))","v":-16.666666666666668},{"$f":"-INDEX('Monthly Cash Flows'!$B59:$EC59,MATCH('Monthly CF'!N$6,'Monthly Cash Flows'!$B$13:$EC$13))","v":-16.666666666666668},{"$f":"-INDEX('Monthly Cash Flows'!$B59:$EC59,MATCH('Monthly CF'!O$6,'Monthly Cash Flows'!$B$13:$EC$13))","v":-16.666666666666668},{"$f":"-INDEX('Monthly Cash Flows'!$B59:$EC59,MATCH('Monthly CF'!P$6,'Monthly Cash Flows'!$B$13:$EC$13))","v":-16.666666666666668},{"$f":"-INDEX('Monthly Cash Flows'!$B59:$EC59,MATCH('Monthly CF'!Q$6,'Monthly Cash Flows'!$B$13:$EC$13))","v":-17.166666666666668},{"$f":"-INDEX('Monthly Cash Flows'!$B59:$EC59,MATCH('Monthly CF'!R$6,'Monthly Cash Flows'!$B$13:$EC$13))","v":-17.166666666666668},{"$f":"-INDEX('Monthly Cash Flows'!$B59:$EC59,MATCH('Monthly CF'!S$6,'Monthly Cash Flows'!$B$13:$EC$13))","v":-17.166666666666668},{"$f":"-INDEX('Monthly Cash Flows'!$B59:$EC59,MATCH('Monthly CF'!T$6,'Monthly Cash Flows'!$B$13:$EC$13))","v":-17.166666666666668},{"$f":"-INDEX('Monthly Cash Flows'!$B59:$EC59,MATCH('Monthly CF'!U$6,'Monthly Cash Flows'!$B$13:$EC$13))","v":-17.166666666666668},{"$f":"-INDEX('Monthly Cash Flows'!$B59:$EC59,MATCH('Monthly CF'!V$6,'Monthly Cash Flows'!$B$13:$EC$13))","v":-17.166666666666668},{"$f":"-INDEX('Monthly Cash Flows'!$B59:$EC59,MATCH('Monthly CF'!W$6,'Monthly Cash Flows'!$B$13:$EC$13))","v":-17.166666666666668},{"$f":"-INDEX('Monthly Cash Flows'!$B59:$EC59,MATCH('Monthly CF'!X$6,'Monthly Cash Flows'!$B$13:$EC$13))","v":-17.166666666666668},{"$f":"-INDEX('Monthly Cash Flows'!$B59:$EC59,MATCH('Monthly CF'!Y$6,'Monthly Cash Flows'!$B$13:$EC$13))","v":-17.166666666666668},{"$f":"-INDEX('Monthly Cash Flows'!$B59:$EC59,MATCH('Monthly CF'!Z$6,'Monthly Cash Flows'!$B$13:$EC$13))","v":-17.166666666666668},{"$f":"-INDEX('Monthly Cash Flows'!$B59:$EC59,MATCH('Monthly CF'!AA$6,'Monthly Cash Flows'!$B$13:$EC$13))","v":-17.166666666666668},{"$f":"-INDEX('Monthly Cash Flows'!$B59:$EC59,MATCH('Monthly CF'!AB$6,'Monthly Cash Flows'!$B$13:$EC$13))","v":-17.166666666666668},{"$f":"-INDEX('Monthly Cash Flows'!$B59:$EC59,MATCH('Monthly CF'!AC$6,'Monthly Cash Flows'!$B$13:$EC$13))","v":-17.681666666666668},{"$f":"-INDEX('Monthly Cash Flows'!$B59:$EC59,MATCH('Monthly CF'!AD$6,'Monthly Cash Flows'!$B$13:$EC$13))","v":-17.681666666666668},{"$f":"-INDEX('Monthly Cash Flows'!$B59:$EC59,MATCH('Monthly CF'!AE$6,'Monthly Cash Flows'!$B$13:$EC$13))","v":-17.681666666666668},{"$f":"-INDEX('Monthly Cash Flows'!$B59:$EC59,MATCH('Monthly CF'!AF$6,'Monthly Cash Flows'!$B$13:$EC$13))","v":-17.681666666666668},{"$f":"-INDEX('Monthly Cash Flows'!$B59:$EC59,MATCH('Monthly CF'!AG$6,'Monthly Cash Flows'!$B$13:$EC$13))","v":-17.681666666666668},{"$f":"-INDEX('Monthly Cash Flows'!$B59:$EC59,MATCH('Monthly CF'!AH$6,'Monthly Cash Flows'!$B$13:$EC$13))","v":-17.681666666666668},{"$f":"-INDEX('Monthly Cash Flows'!$B59:$EC59,MATCH('Monthly CF'!AI$6,'Monthly Cash Flows'!$B$13:$EC$13))","v":-17.681666666666668},{"$f":"-INDEX('Monthly Cash Flows'!$B59:$EC59,MATCH('Monthly CF'!AJ$6,'Monthly Cash Flows'!$B$13:$EC$13))","v":-17.681666666666668},{"$f":"-INDEX('Monthly Cash Flows'!$B59:$EC59,MATCH('Monthly CF'!AK$6,'Monthly Cash Flows'!$B$13:$EC$13))","v":-17.681666666666668},{"$f":"-INDEX('Monthly Cash Flows'!$B59:$EC59,MATCH('Monthly CF'!AL$6,'Monthly Cash Flows'!$B$13:$EC$13))","v":-17.681666666666668},{"$f":"-INDEX('Monthly Cash Flows'!$B59:$EC59,MATCH('Monthly CF'!AM$6,'Monthly Cash Flows'!$B$13:$EC$13))","v":-17.681666666666668},{"$f":"-INDEX('Monthly Cash Flows'!$B59:$EC59,MATCH('Monthly CF'!AN$6,'Monthly Cash Flows'!$B$13:$EC$13))","v":-17.681666666666668},{"$f":"-INDEX('Monthly Cash Flows'!$B59:$EC59,MATCH('Monthly CF'!AO$6,'Monthly Cash Flows'!$B$13:$EC$13))","v":-18.21211666666667},{"$f":"-INDEX('Monthly Cash Flows'!$B59:$EC59,MATCH('Monthly CF'!AP$6,'Monthly Cash Flows'!$B$13:$EC$13))","v":-18.21211666666667},{"$f":"-INDEX('Monthly Cash Flows'!$B59:$EC59,MATCH('Monthly CF'!AQ$6,'Monthly Cash Flows'!$B$13:$EC$13))","v":-18.21211666666667},{"$f":"-INDEX('Monthly Cash Flows'!$B59:$EC59,MATCH('Monthly CF'!AR$6,'Monthly Cash Flows'!$B$13:$EC$13))","v":-18.21211666666667},{"$f":"-INDEX('Monthly Cash Flows'!$B59:$EC59,MATCH('Monthly CF'!AS$6,'Monthly Cash Flows'!$B$13:$EC$13))","v":-18.21211666666667},{"$f":"-INDEX('Monthly Cash Flows'!$B59:$EC59,MATCH('Monthly CF'!AT$6,'Monthly Cash Flows'!$B$13:$EC$13))","v":-18.21211666666667},{"$f":"-INDEX('Monthly Cash Flows'!$B59:$EC59,MATCH('Monthly CF'!AU$6,'Monthly Cash Flows'!$B$13:$EC$13))","v":-18.21211666666667},{"$f":"-INDEX('Monthly Cash Flows'!$B59:$EC59,MATCH('Monthly CF'!AV$6,'Monthly Cash Flows'!$B$13:$EC$13))","v":-18.21211666666667},{"$f":"-INDEX('Monthly Cash Flows'!$B59:$EC59,MATCH('Monthly CF'!AW$6,'Monthly Cash Flows'!$B$13:$EC$13))","v":-18.21211666666667},{"$f":"-INDEX('Monthly Cash Flows'!$B59:$EC59,MATCH('Monthly CF'!AX$6,'Monthly Cash Flows'!$B$13:$EC$13))","v":-18.21211666666667},{"$f":"-INDEX('Monthly Cash Flows'!$B59:$EC59,MATCH('Monthly CF'!AY$6,'Monthly Cash Flows'!$B$13:$EC$13))","v":-18.21211666666667},{"$f":"-INDEX('Monthly Cash Flows'!$B59:$EC59,MATCH('Monthly CF'!AZ$6,'Monthly Cash Flows'!$B$13:$EC$13))","v":-18.21211666666667},{"$f":"-INDEX('Monthly Cash Flows'!$B59:$EC59,MATCH('Monthly CF'!BA$6,'Monthly Cash Flows'!$B$13:$EC$13))","v":-18.758480166666672},{"$f":"-INDEX('Monthly Cash Flows'!$B59:$EC59,MATCH('Monthly CF'!BB$6,'Monthly Cash Flows'!$B$13:$EC$13))","v":-18.758480166666672},{"$f":"-INDEX('Monthly Cash Flows'!$B59:$EC59,MATCH('Monthly CF'!BC$6,'Monthly Cash Flows'!$B$13:$EC$13))","v":-18.758480166666672},{"$f":"-INDEX('Monthly Cash Flows'!$B59:$EC59,MATCH('Monthly CF'!BD$6,'Monthly Cash Flows'!$B$13:$EC$13))","v":-18.758480166666672},{"$f":"-INDEX('Monthly Cash Flows'!$B59:$EC59,MATCH('Monthly CF'!BE$6,'Monthly Cash Flows'!$B$13:$EC$13))","v":-18.758480166666672},{"$f":"-INDEX('Monthly Cash Flows'!$B59:$EC59,MATCH('Monthly CF'!BF$6,'Monthly Cash Flows'!$B$13:$EC$13))","v":-18.758480166666672},{"$f":"-INDEX('Monthly Cash Flows'!$B59:$EC59,MATCH('Monthly CF'!BG$6,'Monthly Cash Flows'!$B$13:$EC$13))","v":-18.758480166666672},{"$f":"-INDEX('Monthly Cash Flows'!$B59:$EC59,MATCH('Monthly CF'!BH$6,'Monthly Cash Flows'!$B$13:$EC$13))","v":-18.758480166666672},{"$f":"-INDEX('Monthly Cash Flows'!$B59:$EC59,MATCH('Monthly CF'!BI$6,'Monthly Cash Flows'!$B$13:$EC$13))","v":-18.758480166666672},{"$f":"-INDEX('Monthly Cash Flows'!$B59:$EC59,MATCH('Monthly CF'!BJ$6,'Monthly Cash Flows'!$B$13:$EC$13))","v":-18.758480166666672},{"$f":"-INDEX('Monthly Cash Flows'!$B59:$EC59,MATCH('Monthly CF'!BK$6,'Monthly Cash Flows'!$B$13:$EC$13))","v":-18.758480166666672},{"$f":"-INDEX('Monthly Cash Flows'!$B59:$EC59,MATCH('Monthly CF'!BL$6,'Monthly Cash Flows'!$B$13:$EC$13))","v":-18.758480166666672},{"$f":"-INDEX('Monthly Cash Flows'!$B59:$EC59,MATCH('Monthly CF'!BM$6,'Monthly Cash Flows'!$B$13:$EC$13))","v":-19.321234571666672},{"$f":"-INDEX('Monthly Cash Flows'!$B59:$EC59,MATCH('Monthly CF'!BN$6,'Monthly Cash Flows'!$B$13:$EC$13))","v":-19.321234571666672},{"$f":"-INDEX('Monthly Cash Flows'!$B59:$EC59,MATCH('Monthly CF'!BO$6,'Monthly Cash Flows'!$B$13:$EC$13))","v":-19.321234571666672},{"$f":"-INDEX('Monthly Cash Flows'!$B59:$EC59,MATCH('Monthly CF'!BP$6,'Monthly Cash Flows'!$B$13:$EC$13))","v":-19.321234571666672},{"$f":"-INDEX('Monthly Cash Flows'!$B59:$EC59,MATCH('Monthly CF'!BQ$6,'Monthly Cash Flows'!$B$13:$EC$13))","v":-19.321234571666672},{"$f":"-INDEX('Monthly Cash Flows'!$B59:$EC59,MATCH('Monthly CF'!BR$6,'Monthly Cash Flows'!$B$13:$EC$13))","v":-19.321234571666672},{"$f":"-INDEX('Monthly Cash Flows'!$B59:$EC59,MATCH('Monthly CF'!BS$6,'Monthly Cash Flows'!$B$13:$EC$13))","v":-19.321234571666672},{"$f":"-INDEX('Monthly Cash Flows'!$B59:$EC59,MATCH('Monthly CF'!BT$6,'Monthly Cash Flows'!$B$13:$EC$13))","v":-19.321234571666672},{"$f":"-INDEX('Monthly Cash Flows'!$B59:$EC59,MATCH('Monthly CF'!BU$6,'Monthly Cash Flows'!$B$13:$EC$13))","v":-19.321234571666672},{"$f":"-INDEX('Monthly Cash Flows'!$B59:$EC59,MATCH('Monthly CF'!BV$6,'Monthly Cash Flows'!$B$13:$EC$13))","v":-19.321234571666672},{"$f":"-INDEX('Monthly Cash Flows'!$B59:$EC59,MATCH('Monthly CF'!BW$6,'Monthly Cash Flows'!$B$13:$EC$13))","v":-19.321234571666672},{"$f":"-INDEX('Monthly Cash Flows'!$B59:$EC59,MATCH('Monthly CF'!BX$6,'Monthly Cash Flows'!$B$13:$EC$13))","v":-19.321234571666672},{"$f":"-INDEX('Monthly Cash Flows'!$B59:$EC59,MATCH('Monthly CF'!BY$6,'Monthly Cash Flows'!$B$13:$EC$13))","v":-19.900871608816672},{"$f":"-INDEX('Monthly Cash Flows'!$B59:$EC59,MATCH('Monthly CF'!BZ$6,'Monthly Cash Flows'!$B$13:$EC$13))","v":-19.900871608816672},{"$f":"-INDEX('Monthly Cash Flows'!$B59:$EC59,MATCH('Monthly CF'!CA$6,'Monthly Cash Flows'!$B$13:$EC$13))","v":-19.900871608816672},{"$f":"-INDEX('Monthly Cash Flows'!$B59:$EC59,MATCH('Monthly CF'!CB$6,'Monthly Cash Flows'!$B$13:$EC$13))","v":-19.900871608816672},{"$f":"-INDEX('Monthly Cash Flows'!$B59:$EC59,MATCH('Monthly CF'!CC$6,'Monthly Cash Flows'!$B$13:$EC$13))","v":-19.900871608816672},{"$f":"-INDEX('Monthly Cash Flows'!$B59:$EC59,MATCH('Monthly CF'!CD$6,'Monthly Cash Flows'!$B$13:$EC$13))","v":-19.900871608816672},{"$f":"-INDEX('Monthly Cash Flows'!$B59:$EC59,MATCH('Monthly CF'!CE$6,'Monthly Cash Flows'!$B$13:$EC$13))","v":-19.900871608816672},{"$f":"-INDEX('Monthly Cash Flows'!$B59:$EC59,MATCH('Monthly CF'!CF$6,'Monthly Cash Flows'!$B$13:$EC$13))","v":-19.900871608816672},{"$f":"-INDEX('Monthly Cash Flows'!$B59:$EC59,MATCH('Monthly CF'!CG$6,'Monthly Cash Flows'!$B$13:$EC$13))","v":-19.900871608816672},{"$f":"-INDEX('Monthly Cash Flows'!$B59:$EC59,MATCH('Monthly CF'!CH$6,'Monthly Cash Flows'!$B$13:$EC$13))","v":-19.900871608816672},{"$f":"-INDEX('Monthly Cash Flows'!$B59:$EC59,MATCH('Monthly CF'!CI$6,'Monthly Cash Flows'!$B$13:$EC$13))","v":-19.900871608816672},{"$f":"-INDEX('Monthly Cash Flows'!$B59:$EC59,MATCH('Monthly CF'!CJ$6,'Monthly Cash Flows'!$B$13:$EC$13))","v":-19.900871608816672},{"$f":"-INDEX('Monthly Cash Flows'!$B59:$EC59,MATCH('Monthly CF'!CK$6,'Monthly Cash Flows'!$B$13:$EC$13))","v":-20.497897757081173},{"$f":"-INDEX('Monthly Cash Flows'!$B59:$EC59,MATCH('Monthly CF'!CL$6,'Monthly Cash Flows'!$B$13:$EC$13))","v":-20.497897757081173},{"$f":"-INDEX('Monthly Cash Flows'!$B59:$EC59,MATCH('Monthly CF'!CM$6,'Monthly Cash Flows'!$B$13:$EC$13))","v":-20.497897757081173},{"$f":"-INDEX('Monthly Cash Flows'!$B59:$EC59,MATCH('Monthly CF'!CN$6,'Monthly Cash Flows'!$B$13:$EC$13))","v":-20.497897757081173},{"$f":"-INDEX('Monthly Cash Flows'!$B59:$EC59,MATCH('Monthly CF'!CO$6,'Monthly Cash Flows'!$B$13:$EC$13))","v":-20.497897757081173},{"$f":"-INDEX('Monthly Cash Flows'!$B59:$EC59,MATCH('Monthly CF'!CP$6,'Monthly Cash Flows'!$B$13:$EC$13))","v":-20.497897757081173},{"$f":"-INDEX('Monthly Cash Flows'!$B59:$EC59,MATCH('Monthly CF'!CQ$6,'Monthly Cash Flows'!$B$13:$EC$13))","v":-20.497897757081173},{"$f":"-INDEX('Monthly Cash Flows'!$B59:$EC59,MATCH('Monthly CF'!CR$6,'Monthly Cash Flows'!$B$13:$EC$13))","v":-20.497897757081173},{"$f":"-INDEX('Monthly Cash Flows'!$B59:$EC59,MATCH('Monthly CF'!CS$6,'Monthly Cash Flows'!$B$13:$EC$13))","v":-20.497897757081173},{"$f":"-INDEX('Monthly Cash Flows'!$B59:$EC59,MATCH('Monthly CF'!CT$6,'Monthly Cash Flows'!$B$13:$EC$13))","v":-20.497897757081173},{"$f":"-INDEX('Monthly Cash Flows'!$B59:$EC59,MATCH('Monthly CF'!CU$6,'Monthly Cash Flows'!$B$13:$EC$13))","v":-20.497897757081173},{"$f":"-INDEX('Monthly Cash Flows'!$B59:$EC59,MATCH('Monthly CF'!CV$6,'Monthly Cash Flows'!$B$13:$EC$13))","v":-20.497897757081173},{"$f":"-INDEX('Monthly Cash Flows'!$B59:$EC59,MATCH('Monthly CF'!CW$6,'Monthly Cash Flows'!$B$13:$EC$13))","v":-21.112834689793608},{"$f":"-INDEX('Monthly Cash Flows'!$B59:$EC59,MATCH('Monthly CF'!CX$6,'Monthly Cash Flows'!$B$13:$EC$13))","v":-21.112834689793608},{"$f":"-INDEX('Monthly Cash Flows'!$B59:$EC59,MATCH('Monthly CF'!CY$6,'Monthly Cash Flows'!$B$13:$EC$13))","v":-21.112834689793608},{"$f":"-INDEX('Monthly Cash Flows'!$B59:$EC59,MATCH('Monthly CF'!CZ$6,'Monthly Cash Flows'!$B$13:$EC$13))","v":-21.112834689793608},{"$f":"-INDEX('Monthly Cash Flows'!$B59:$EC59,MATCH('Monthly CF'!DA$6,'Monthly Cash Flows'!$B$13:$EC$13))","v":-21.112834689793608},{"$f":"-INDEX('Monthly Cash Flows'!$B59:$EC59,MATCH('Monthly CF'!DB$6,'Monthly Cash Flows'!$B$13:$EC$13))","v":-21.112834689793608},{"$f":"-INDEX('Monthly Cash Flows'!$B59:$EC59,MATCH('Monthly CF'!DC$6,'Monthly Cash Flows'!$B$13:$EC$13))","v":-21.112834689793608},{"$f":"-INDEX('Monthly Cash Flows'!$B59:$EC59,MATCH('Monthly CF'!DD$6,'Monthly Cash Flows'!$B$13:$EC$13))","v":-21.112834689793608},{"$f":"-INDEX('Monthly Cash Flows'!$B59:$EC59,MATCH('Monthly CF'!DE$6,'Monthly Cash Flows'!$B$13:$EC$13))","v":-21.112834689793608},{"$f":"-INDEX('Monthly Cash Flows'!$B59:$EC59,MATCH('Monthly CF'!DF$6,'Monthly Cash Flows'!$B$13:$EC$13))","v":-21.112834689793608},{"$f":"-INDEX('Monthly Cash Flows'!$B59:$EC59,MATCH('Monthly CF'!DG$6,'Monthly Cash Flows'!$B$13:$EC$13))","v":-21.112834689793608},{"$f":"-INDEX('Monthly Cash Flows'!$B59:$EC59,MATCH('Monthly CF'!DH$6,'Monthly Cash Flows'!$B$13:$EC$13))","v":-21.112834689793608},{"$f":"-INDEX('Monthly Cash Flows'!$B59:$EC59,MATCH('Monthly CF'!DI$6,'Monthly Cash Flows'!$B$13:$EC$13))","v":-21.746219730487418},{"$f":"-INDEX('Monthly Cash Flows'!$B59:$EC59,MATCH('Monthly CF'!DJ$6,'Monthly Cash Flows'!$B$13:$EC$13))","v":-21.746219730487418},{"$f":"-INDEX('Monthly Cash Flows'!$B59:$EC59,MATCH('Monthly CF'!DK$6,'Monthly Cash Flows'!$B$13:$EC$13))","v":-21.746219730487418},{"$f":"-INDEX('Monthly Cash Flows'!$B59:$EC59,MATCH('Monthly CF'!DL$6,'Monthly Cash Flows'!$B$13:$EC$13))","v":-21.746219730487418},{"$f":"-INDEX('Monthly Cash Flows'!$B59:$EC59,MATCH('Monthly CF'!DM$6,'Monthly Cash Flows'!$B$13:$EC$13))","v":-21.746219730487418},{"$f":"-INDEX('Monthly Cash Flows'!$B59:$EC59,MATCH('Monthly CF'!DN$6,'Monthly Cash Flows'!$B$13:$EC$13))","v":-21.746219730487418},{"$f":"-INDEX('Monthly Cash Flows'!$B59:$EC59,MATCH('Monthly CF'!DO$6,'Monthly Cash Flows'!$B$13:$EC$13))","v":-21.746219730487418},{"$f":"-INDEX('Monthly Cash Flows'!$B59:$EC59,MATCH('Monthly CF'!DP$6,'Monthly Cash Flows'!$B$13:$EC$13))","v":-21.746219730487418},{"$f":"-INDEX('Monthly Cash Flows'!$B59:$EC59,MATCH('Monthly CF'!DQ$6,'Monthly Cash Flows'!$B$13:$EC$13))","v":-21.746219730487418},{"$f":"-INDEX('Monthly Cash Flows'!$B59:$EC59,MATCH('Monthly CF'!DR$6,'Monthly Cash Flows'!$B$13:$EC$13))","v":-21.746219730487418},{"$f":"-INDEX('Monthly Cash Flows'!$B59:$EC59,MATCH('Monthly CF'!DS$6,'Monthly Cash Flows'!$B$13:$EC$13))","v":-21.746219730487418},{"$f":"-INDEX('Monthly Cash Flows'!$B59:$EC59,MATCH('Monthly CF'!DT$6,'Monthly Cash Flows'!$B$13:$EC$13))","v":-21.746219730487418},{"$f":"-INDEX('Monthly Cash Flows'!$B59:$EC59,MATCH('Monthly CF'!DU$6,'Monthly Cash Flows'!$B$13:$EC$13))","v":-22.398606322402042},{"$f":"-INDEX('Monthly Cash Flows'!$B59:$EC59,MATCH('Monthly CF'!DV$6,'Monthly Cash Flows'!$B$13:$EC$13))","v":-22.398606322402042},{"$f":"-INDEX('Monthly Cash Flows'!$B59:$EC59,MATCH('Monthly CF'!DW$6,'Monthly Cash Flows'!$B$13:$EC$13))","v":-22.398606322402042},{"$f":"-INDEX('Monthly Cash Flows'!$B59:$EC59,MATCH('Monthly CF'!DX$6,'Monthly Cash Flows'!$B$13:$EC$13))","v":-22.398606322402042},{"$f":"-INDEX('Monthly Cash Flows'!$B59:$EC59,MATCH('Monthly CF'!DY$6,'Monthly Cash Flows'!$B$13:$EC$13))","v":-22.398606322402042},{"$f":"-INDEX('Monthly Cash Flows'!$B59:$EC59,MATCH('Monthly CF'!DZ$6,'Monthly Cash Flows'!$B$13:$EC$13))","v":-22.398606322402042},{"$f":"-INDEX('Monthly Cash Flows'!$B59:$EC59,MATCH('Monthly CF'!EA$6,'Monthly Cash Flows'!$B$13:$EC$13))","v":-22.398606322402042},{"$f":"-INDEX('Monthly Cash Flows'!$B59:$EC59,MATCH('Monthly CF'!EB$6,'Monthly Cash Flows'!$B$13:$EC$13))","v":-22.398606322402042},{"$f":"-INDEX('Monthly Cash Flows'!$B59:$EC59,MATCH('Monthly CF'!EC$6,'Monthly Cash Flows'!$B$13:$EC$13))","v":-22.398606322402042},{"$f":"-INDEX('Monthly Cash Flows'!$B59:$EC59,MATCH('Monthly CF'!ED$6,'Monthly Cash Flows'!$B$13:$EC$13))","v":-22.398606322402042},{"$f":"-INDEX('Monthly Cash Flows'!$B59:$EC59,MATCH('Monthly CF'!EE$6,'Monthly Cash Flows'!$B$13:$EC$13))","v":-22.398606322402042},{"$f":"-INDEX('Monthly Cash Flows'!$B59:$EC59,MATCH('Monthly CF'!EF$6,'Monthly Cash Flows'!$B$13:$EC$13))","v":-22.398606322402042},{"$f":"-INDEX('Monthly Cash Flows'!$B59:$EC59,MATCH('Monthly CF'!EG$6,'Monthly Cash Flows'!$B$13:$EC$13))","v":-22.398606322402042}]
[null,{"$f":"+'Monthly Cash Flows'!A60","v":"General Maintenance"},null,null,null,{"$f":"-INDEX('Monthly Cash Flows'!$B60:$EC60,MATCH('Monthly CF'!F$6,'Monthly Cash Flows'!$B$13:$EC$13))","v":-151.08333333333334},{"$f":"-INDEX('Monthly Cash Flows'!$B60:$EC60,MATCH('Monthly CF'!G$6,'Monthly Cash Flows'!$B$13:$EC$13))","v":-151.08333333333334},{"$f":"-INDEX('Monthly Cash Flows'!$B60:$EC60,MATCH('Monthly CF'!H$6,'Monthly Cash Flows'!$B$13:$EC$13))","v":-151.08333333333334},{"$f":"-INDEX('Monthly Cash Flows'!$B60:$EC60,MATCH('Monthly CF'!I$6,'Monthly Cash Flows'!$B$13:$EC$13))","v":-151.08333333333334},{"$f":"-INDEX('Monthly Cash Flows'!$B60:$EC60,MATCH('Monthly CF'!J$6,'Monthly Cash Flows'!$B$13:$EC$13))","v":-151.08333333333334},{"$f":"-INDEX('Monthly Cash Flows'!$B60:$EC60,MATCH('Monthly CF'!K$6,'Monthly Cash Flows'!$B$13:$EC$13))","v":-151.08333333333334},{"$f":"-INDEX('Monthly Cash Flows'!$B60:$EC60,MATCH('Monthly CF'!L$6,'Monthly Cash Flows'!$B$13:$EC$13))","v":-151.08333333333334},{"$f":"-INDEX('Monthly Cash Flows'!$B60:$EC60,MATCH('Monthly CF'!M$6,'Monthly Cash Flows'!$B$13:$EC$13))","v":-151.08333333333334},{"$f":"-INDEX('Monthly Cash Flows'!$B60:$EC60,MATCH('Monthly CF'!N$6,'Monthly Cash Flows'!$B$13:$EC$13))","v":-151.08333333333334},{"$f":"-INDEX('Monthly Cash Flows'!$B60:$EC60,MATCH('Monthly CF'!O$6,'Monthly Cash Flows'!$B$13:$EC$13))","v":-151.08333333333334},{"$f":"-INDEX('Monthly Cash Flows'!$B60:$EC60,MATCH('Monthly CF'!P$6,'Monthly Cash Flows'!$B$13:$EC$13))","v":-151.08333333333334},{"$f":"-INDEX('Monthly Cash Flows'!$B60:$EC60,MATCH('Monthly CF'!Q$6,'Monthly Cash Flows'!$B$13:$EC$13))","v":-155.61583333333334},{"$f":"-INDEX('Monthly Cash Flows'!$B60:$EC60,MATCH('Monthly CF'!R$6,'Monthly Cash Flows'!$B$13:$EC$13))","v":-155.61583333333334},{"$f":"-INDEX('Monthly Cash Flows'!$B60:$EC60,MATCH('Monthly CF'!S$6,'Monthly Cash Flows'!$B$13:$EC$13))","v":-155.61583333333334},{"$f":"-INDEX('Monthly Cash Flows'!$B60:$EC60,MATCH('Monthly CF'!T$6,'Monthly Cash Flows'!$B$13:$EC$13))","v":-155.61583333333334},{"$f":"-INDEX('Monthly Cash Flows'!$B60:$EC60,MATCH('Monthly CF'!U$6,'Monthly Cash Flows'!$B$13:$EC$13))","v":-155.61583333333334},{"$f":"-INDEX('Monthly Cash Flows'!$B60:$EC60,MATCH('Monthly CF'!V$6,'Monthly Cash Flows'!$B$13:$EC$13))","v":-155.61583333333334},{"$f":"-INDEX('Monthly Cash Flows'!$B60:$EC60,MATCH('Monthly CF'!W$6,'Monthly Cash Flows'!$B$13:$EC$13))","v":-155.61583333333334},{"$f":"-INDEX('Monthly Cash Flows'!$B60:$EC60,MATCH('Monthly CF'!X$6,'Monthly Cash Flows'!$B$13:$EC$13))","v":-155.61583333333334},{"$f":"-INDEX('Monthly Cash Flows'!$B60:$EC60,MATCH('Monthly CF'!Y$6,'Monthly Cash Flows'!$B$13:$EC$13))","v":-155.61583333333334},{"$f":"-INDEX('Monthly Cash Flows'!$B60:$EC60,MATCH('Monthly CF'!Z$6,'Monthly Cash Flows'!$B$13:$EC$13))","v":-155.61583333333334},{"$f":"-INDEX('Monthly Cash Flows'!$B60:$EC60,MATCH('Monthly CF'!AA$6,'Monthly Cash Flows'!$B$13:$EC$13))","v":-155.61583333333334},{"$f":"-INDEX('Monthly Cash Flows'!$B60:$EC60,MATCH('Monthly CF'!AB$6,'Monthly Cash Flows'!$B$13:$EC$13))","v":-155.61583333333334},{"$f":"-INDEX('Monthly Cash Flows'!$B60:$EC60,MATCH('Monthly CF'!AC$6,'Monthly Cash Flows'!$B$13:$EC$13))","v":-160.28430833333334},{"$f":"-INDEX('Monthly Cash Flows'!$B60:$EC60,MATCH('Monthly CF'!AD$6,'Monthly Cash Flows'!$B$13:$EC$13))","v":-160.28430833333334},{"$f":"-INDEX('Monthly Cash Flows'!$B60:$EC60,MATCH('Monthly CF'!AE$6,'Monthly Cash Flows'!$B$13:$EC$13))","v":-160.28430833333334},{"$f":"-INDEX('Monthly Cash Flows'!$B60:$EC60,MATCH('Monthly CF'!AF$6,'Monthly Cash Flows'!$B$13:$EC$13))","v":-160.28430833333334},{"$f":"-INDEX('Monthly Cash Flows'!$B60:$EC60,MATCH('Monthly CF'!AG$6,'Monthly Cash Flows'!$B$13:$EC$13))","v":-160.28430833333334},{"$f":"-INDEX('Monthly Cash Flows'!$B60:$EC60,MATCH('Monthly CF'!AH$6,'Monthly Cash Flows'!$B$13:$EC$13))","v":-160.28430833333334},{"$f":"-INDEX('Monthly Cash Flows'!$B60:$EC60,MATCH('Monthly CF'!AI$6,'Monthly Cash Flows'!$B$13:$EC$13))","v":-160.28430833333334},{"$f":"-INDEX('Monthly Cash Flows'!$B60:$EC60,MATCH('Monthly CF'!AJ$6,'Monthly Cash Flows'!$B$13:$EC$13))","v":-160.28430833333334},{"$f":"-INDEX('Monthly Cash Flows'!$B60:$EC60,MATCH('Monthly CF'!AK$6,'Monthly Cash Flows'!$B$13:$EC$13))","v":-160.28430833333334},{"$f":"-INDEX('Monthly Cash Flows'!$B60:$EC60,MATCH('Monthly CF'!AL$6,'Monthly Cash Flows'!$B$13:$EC$13))","v":-160.28430833333334},{"$f":"-INDEX('Monthly Cash Flows'!$B60:$EC60,MATCH('Monthly CF'!AM$6,'Monthly Cash Flows'!$B$13:$EC$13))","v":-160.28430833333334},{"$f":"-INDEX('Monthly Cash Flows'!$B60:$EC60,MATCH('Monthly CF'!AN$6,'Monthly Cash Flows'!$B$13:$EC$13))","v":-160.28430833333334},{"$f":"-INDEX('Monthly Cash Flows'!$B60:$EC60,MATCH('Monthly CF'!AO$6,'Monthly Cash Flows'!$B$13:$EC$13))","v":-165.09283758333333},{"$f":"-INDEX('Monthly Cash Flows'!$B60:$EC60,MATCH('Monthly CF'!AP$6,'Monthly Cash Flows'!$B$13:$EC$13))","v":-165.09283758333333},{"$f":"-INDEX('Monthly Cash Flows'!$B60:$EC60,MATCH('Monthly CF'!AQ$6,'Monthly Cash Flows'!$B$13:$EC$13))","v":-165.09283758333333},{"$f":"-INDEX('Monthly Cash Flows'!$B60:$EC60,MATCH('Monthly CF'!AR$6,'Monthly Cash Flows'!$B$13:$EC$13))","v":-165.09283758333333},{"$f":"-INDEX('Monthly Cash Flows'!$B60:$EC60,MATCH('Monthly CF'!AS$6,'Monthly Cash Flows'!$B$13:$EC$13))","v":-165.09283758333333},{"$f":"-INDEX('Monthly Cash Flows'!$B60:$EC60,MATCH('Monthly CF'!AT$6,'Monthly Cash Flows'!$B$13:$EC$13))","v":-165.09283758333333},{"$f":"-INDEX('Monthly Cash Flows'!$B60:$EC60,MATCH('Monthly CF'!AU$6,'Monthly Cash Flows'!$B$13:$EC$13))","v":-165.09283758333333},{"$f":"-INDEX('Monthly Cash Flows'!$B60:$EC60,MATCH('Monthly CF'!AV$6,'Monthly Cash Flows'!$B$13:$EC$13))","v":-165.09283758333333},{"$f":"-INDEX('Monthly Cash Flows'!$B60:$EC60,MATCH('Monthly CF'!AW$6,'Monthly Cash Flows'!$B$13:$EC$13))","v":-165.09283758333333},{"$f":"-INDEX('Monthly Cash Flows'!$B60:$EC60,MATCH('Monthly CF'!AX$6,'Monthly Cash Flows'!$B$13:$EC$13))","v":-165.09283758333333},{"$f":"-INDEX('Monthly Cash Flows'!$B60:$EC60,MATCH('Monthly CF'!AY$6,'Monthly Cash Flows'!$B$13:$EC$13))","v":-165.09283758333333},{"$f":"-INDEX('Monthly Cash Flows'!$B60:$EC60,MATCH('Monthly CF'!AZ$6,'Monthly Cash Flows'!$B$13:$EC$13))","v":-165.09283758333333},{"$f":"-INDEX('Monthly Cash Flows'!$B60:$EC60,MATCH('Monthly CF'!BA$6,'Monthly Cash Flows'!$B$13:$EC$13))","v":-170.04562271083333},{"$f":"-INDEX('Monthly Cash Flows'!$B60:$EC60,MATCH('Monthly CF'!BB$6,'Monthly Cash Flows'!$B$13:$EC$13))","v":-170.04562271083333},{"$f":"-INDEX('Monthly Cash Flows'!$B60:$EC60,MATCH('Monthly CF'!BC$6,'Monthly Cash Flows'!$B$13:$EC$13))","v":-170.04562271083333},{"$f":"-INDEX('Monthly Cash Flows'!$B60:$EC60,MATCH('Monthly CF'!BD$6,'Monthly Cash Flows'!$B$13:$EC$13))","v":-170.04562271083333},{"$f":"-INDEX('Monthly Cash Flows'!$B60:$EC60,MATCH('Monthly CF'!BE$6,'Monthly Cash Flows'!$B$13:$EC$13))","v":-170.04562271083333},{"$f":"-INDEX('Monthly Cash Flows'!$B60:$EC60,MATCH('Monthly CF'!BF$6,'Monthly Cash Flows'!$B$13:$EC$13))","v":-170.04562271083333},{"$f":"-INDEX('Monthly Cash Flows'!$B60:$EC60,MATCH('Monthly CF'!BG$6,'Monthly Cash Flows'!$B$13:$EC$13))","v":-170.04562271083333},{"$f":"-INDEX('Monthly Cash Flows'!$B60:$EC60,MATCH('Monthly CF'!BH$6,'Monthly Cash Flows'!$B$13:$EC$13))","v":-170.04562271083333},{"$f":"-INDEX('Monthly Cash Flows'!$B60:$EC60,MATCH('Monthly CF'!BI$6,'Monthly Cash Flows'!$B$13:$EC$13))","v":-170.04562271083333},{"$f":"-INDEX('Monthly Cash Flows'!$B60:$EC60,MATCH('Monthly CF'!BJ$6,'Monthly Cash Flows'!$B$13:$EC$13))","v":-170.04562271083333},{"$f":"-INDEX('Monthly Cash Flows'!$B60:$EC60,MATCH('Monthly CF'!BK$6,'Monthly Cash Flows'!$B$13:$EC$13))","v":-170.04562271083333},{"$f":"-INDEX('Monthly Cash Flows'!$B60:$EC60,MATCH('Monthly CF'!BL$6,'Monthly Cash Flows'!$B$13:$EC$13))","v":-170.04562271083333},{"$f":"-INDEX('Monthly Cash Flows'!$B60:$EC60,MATCH('Monthly CF'!BM$6,'Monthly Cash Flows'!$B$13:$EC$13))","v":-175.14699139215833},{"$f":"-INDEX('Monthly Cash Flows'!$B60:$EC60,MATCH('Monthly CF'!BN$6,'Monthly Cash Flows'!$B$13:$EC$13))","v":-175.14699139215833},{"$f":"-INDEX('Monthly Cash Flows'!$B60:$EC60,MATCH('Monthly CF'!BO$6,'Monthly Cash Flows'!$B$13:$EC$13))","v":-175.14699139215833},{"$f":"-INDEX('Monthly Cash Flows'!$B60:$EC60,MATCH('Monthly CF'!BP$6,'Monthly Cash Flows'!$B$13:$EC$13))","v":-175.14699139215833},{"$f":"-INDEX('Monthly Cash Flows'!$B60:$EC60,MATCH('Monthly CF'!BQ$6,'Monthly Cash Flows'!$B$13:$EC$13))","v":-175.14699139215833},{"$f":"-INDEX('Monthly Cash Flows'!$B60:$EC60,MATCH('Monthly CF'!BR$6,'Monthly Cash Flows'!$B$13:$EC$13))","v":-175.14699139215833},{"$f":"-INDEX('Monthly Cash Flows'!$B60:$EC60,MATCH('Monthly CF'!BS$6,'Monthly Cash Flows'!$B$13:$EC$13))","v":-175.14699139215833},{"$f":"-INDEX('Monthly Cash Flows'!$B60:$EC60,MATCH('Monthly CF'!BT$6,'Monthly Cash Flows'!$B$13:$EC$13))","v":-175.14699139215833},{"$f":"-INDEX('Monthly Cash Flows'!$B60:$EC60,MATCH('Monthly CF'!BU$6,'Monthly Cash Flows'!$B$13:$EC$13))","v":-175.14699139215833},{"$f":"-INDEX('Monthly Cash Flows'!$B60:$EC60,MATCH('Monthly CF'!BV$6,'Monthly Cash Flows'!$B$13:$EC$13))","v":-175.14699139215833},{"$f":"-INDEX('Monthly Cash Flows'!$B60:$EC60,MATCH('Monthly CF'!BW$6,'Monthly Cash Flows'!$B$13:$EC$13))","v":-175.14699139215833},{"$f":"-INDEX('Monthly Cash Flows'!$B60:$EC60,MATCH('Monthly CF'!BX$6,'Monthly Cash Flows'!$B$13:$EC$13))","v":-175.14699139215833},{"$f":"-INDEX('Monthly Cash Flows'!$B60:$EC60,MATCH('Monthly CF'!BY$6,'Monthly Cash Flows'!$B$13:$EC$13))","v":-180.40140113392309},{"$f":"-INDEX('Monthly Cash Flows'!$B60:$EC60,MATCH('Monthly CF'!BZ$6,'Monthly Cash Flows'!$B$13:$EC$13))","v":-180.40140113392309},{"$f":"-INDEX('Monthly Cash Flows'!$B60:$EC60,MATCH('Monthly CF'!CA$6,'Monthly Cash Flows'!$B$13:$EC$13))","v":-180.40140113392309},{"$f":"-INDEX('Monthly Cash Flows'!$B60:$EC60,MATCH('Monthly CF'!CB$6,'Monthly Cash Flows'!$B$13:$EC$13))","v":-180.40140113392309},{"$f":"-INDEX('Monthly Cash Flows'!$B60:$EC60,MATCH('Monthly CF'!CC$6,'Monthly Cash Flows'!$B$13:$EC$13))","v":-180.40140113392309},{"$f":"-INDEX('Monthly Cash Flows'!$B60:$EC60,MATCH('Monthly CF'!CD$6,'Monthly Cash Flows'!$B$13:$EC$13))","v":-180.40140113392309},{"$f":"-INDEX('Monthly Cash Flows'!$B60:$EC60,MATCH('Monthly CF'!CE$6,'Monthly Cash Flows'!$B$13:$EC$13))","v":-180.40140113392309},{"$f":"-INDEX('Monthly Cash Flows'!$B60:$EC60,MATCH('Monthly CF'!CF$6,'Monthly Cash Flows'!$B$13:$EC$13))","v":-180.40140113392309},{"$f":"-INDEX('Monthly Cash Flows'!$B60:$EC60,MATCH('Monthly CF'!CG$6,'Monthly Cash Flows'!$B$13:$EC$13))","v":-180.40140113392309},{"$f":"-INDEX('Monthly Cash Flows'!$B60:$EC60,MATCH('Monthly CF'!CH$6,'Monthly Cash Flows'!$B$13:$EC$13))","v":-180.40140113392309},{"$f":"-INDEX('Monthly Cash Flows'!$B60:$EC60,MATCH('Monthly CF'!CI$6,'Monthly Cash Flows'!$B$13:$EC$13))","v":-180.40140113392309},{"$f":"-INDEX('Monthly Cash Flows'!$B60:$EC60,MATCH('Monthly CF'!CJ$6,'Monthly Cash Flows'!$B$13:$EC$13))","v":-180.40140113392309},{"$f":"-INDEX('Monthly Cash Flows'!$B60:$EC60,MATCH('Monthly CF'!CK$6,'Monthly Cash Flows'!$B$13:$EC$13))","v":-185.81344316794079},{"$f":"-INDEX('Monthly Cash Flows'!$B60:$EC60,MATCH('Monthly CF'!CL$6,'Monthly Cash Flows'!$B$13:$EC$13))","v":-185.81344316794079},{"$f":"-INDEX('Monthly Cash Flows'!$B60:$EC60,MATCH('Monthly CF'!CM$6,'Monthly Cash Flows'!$B$13:$EC$13))","v":-185.81344316794079},{"$f":"-INDEX('Monthly Cash Flows'!$B60:$EC60,MATCH('Monthly CF'!CN$6,'Monthly Cash Flows'!$B$13:$EC$13))","v":-185.81344316794079},{"$f":"-INDEX('Monthly Cash Flows'!$B60:$EC60,MATCH('Monthly CF'!CO$6,'Monthly Cash Flows'!$B$13:$EC$13))","v":-185.81344316794079},{"$f":"-INDEX('Monthly Cash Flows'!$B60:$EC60,MATCH('Monthly CF'!CP$6,'Monthly Cash Flows'!$B$13:$EC$13))","v":-185.81344316794079},{"$f":"-INDEX('Monthly Cash Flows'!$B60:$EC60,MATCH('Monthly CF'!CQ$6,'Monthly Cash Flows'!$B$13:$EC$13))","v":-185.81344316794079},{"$f":"-INDEX('Monthly Cash Flows'!$B60:$EC60,MATCH('Monthly CF'!CR$6,'Monthly Cash Flows'!$B$13:$EC$13))","v":-185.81344316794079},{"$f":"-INDEX('Monthly Cash Flows'!$B60:$EC60,MATCH('Monthly CF'!CS$6,'Monthly Cash Flows'!$B$13:$EC$13))","v":-185.81344316794079},{"$f":"-INDEX('Monthly Cash Flows'!$B60:$EC60,MATCH('Monthly CF'!CT$6,'Monthly Cash Flows'!$B$13:$EC$13))","v":-185.81344316794079},{"$f":"-INDEX('Monthly Cash Flows'!$B60:$EC60,MATCH('Monthly CF'!CU$6,'Monthly Cash Flows'!$B$13:$EC$13))","v":-185.81344316794079},{"$f":"-INDEX('Monthly Cash Flows'!$B60:$EC60,MATCH('Monthly CF'!CV$6,'Monthly Cash Flows'!$B$13:$EC$13))","v":-185.81344316794079},{"$f":"-INDEX('Monthly Cash Flows'!$B60:$EC60,MATCH('Monthly CF'!CW$6,'Monthly Cash Flows'!$B$13:$EC$13))","v":-191.38784646297901},{"$f":"-INDEX('Monthly Cash Flows'!$B60:$EC60,MATCH('Monthly CF'!CX$6,'Monthly Cash Flows'!$B$13:$EC$13))","v":-191.38784646297901},{"$f":"-INDEX('Monthly Cash Flows'!$B60:$EC60,MATCH('Monthly CF'!CY$6,'Monthly Cash Flows'!$B$13:$EC$13))","v":-191.38784646297901},{"$f":"-INDEX('Monthly Cash Flows'!$B60:$EC60,MATCH('Monthly CF'!CZ$6,'Monthly Cash Flows'!$B$13:$EC$13))","v":-191.38784646297901},{"$f":"-INDEX('Monthly Cash Flows'!$B60:$EC60,MATCH('Monthly CF'!DA$6,'Monthly Cash Flows'!$B$13:$EC$13))","v":-191.38784646297901},{"$f":"-INDEX('Monthly Cash Flows'!$B60:$EC60,MATCH('Monthly CF'!DB$6,'Monthly Cash Flows'!$B$13:$EC$13))","v":-191.38784646297901},{"$f":"-INDEX('Monthly Cash Flows'!$B60:$EC60,MATCH('Monthly CF'!DC$6,'Monthly Cash Flows'!$B$13:$EC$13))","v":-191.38784646297901},{"$f":"-INDEX('Monthly Cash Flows'!$B60:$EC60,MATCH('Monthly CF'!DD$6,'Monthly Cash Flows'!$B$13:$EC$13))","v":-191.38784646297901},{"$f":"-INDEX('Monthly Cash Flows'!$B60:$EC60,MATCH('Monthly CF'!DE$6,'Monthly Cash Flows'!$B$13:$EC$13))","v":-191.38784646297901},{"$f":"-INDEX('Monthly Cash Flows'!$B60:$EC60,MATCH('Monthly CF'!DF$6,'Monthly Cash Flows'!$B$13:$EC$13))","v":-191.38784646297901},{"$f":"-INDEX('Monthly Cash Flows'!$B60:$EC60,MATCH('Monthly CF'!DG$6,'Monthly Cash Flows'!$B$13:$EC$13))","v":-191.38784646297901},{"$f":"-INDEX('Monthly Cash Flows'!$B60:$EC60,MATCH('Monthly CF'!DH$6,'Monthly Cash Flows'!$B$13:$EC$13))","v":-191.38784646297901},{"$f":"-INDEX('Monthly Cash Flows'!$B60:$EC60,MATCH('Monthly CF'!DI$6,'Monthly Cash Flows'!$B$13:$EC$13))","v":-197.12948185686838},{"$f":"-INDEX('Monthly Cash Flows'!$B60:$EC60,MATCH('Monthly CF'!DJ$6,'Monthly Cash Flows'!$B$13:$EC$13))","v":-197.12948185686838},{"$f":"-INDEX('Monthly Cash Flows'!$B60:$EC60,MATCH('Monthly CF'!DK$6,'Monthly Cash Flows'!$B$13:$EC$13))","v":-197.12948185686838},{"$f":"-INDEX('Monthly Cash Flows'!$B60:$EC60,MATCH('Monthly CF'!DL$6,'Monthly Cash Flows'!$B$13:$EC$13))","v":-197.12948185686838},{"$f":"-INDEX('Monthly Cash Flows'!$B60:$EC60,MATCH('Monthly CF'!DM$6,'Monthly Cash Flows'!$B$13:$EC$13))","v":-197.12948185686838},{"$f":"-INDEX('Monthly Cash Flows'!$B60:$EC60,MATCH('Monthly CF'!DN$6,'Monthly Cash Flows'!$B$13:$EC$13))","v":-197.12948185686838},{"$f":"-INDEX('Monthly Cash Flows'!$B60:$EC60,MATCH('Monthly CF'!DO$6,'Monthly Cash Flows'!$B$13:$EC$13))","v":-197.12948185686838},{"$f":"-INDEX('Monthly Cash Flows'!$B60:$EC60,MATCH('Monthly CF'!DP$6,'Monthly Cash Flows'!$B$13:$EC$13))","v":-197.12948185686838},{"$f":"-INDEX('Monthly Cash Flows'!$B60:$EC60,MATCH('Monthly CF'!DQ$6,'Monthly Cash Flows'!$B$13:$EC$13))","v":-197.12948185686838},{"$f":"-INDEX('Monthly Cash Flows'!$B60:$EC60,MATCH('Monthly CF'!DR$6,'Monthly Cash Flows'!$B$13:$EC$13))","v":-197.12948185686838},{"$f":"-INDEX('Monthly Cash Flows'!$B60:$EC60,MATCH('Monthly CF'!DS$6,'Monthly Cash Flows'!$B$13:$EC$13))","v":-197.12948185686838},{"$f":"-INDEX('Monthly Cash Flows'!$B60:$EC60,MATCH('Monthly CF'!DT$6,'Monthly Cash Flows'!$B$13:$EC$13))","v":-197.12948185686838},{"$f":"-INDEX('Monthly Cash Flows'!$B60:$EC60,MATCH('Monthly CF'!DU$6,'Monthly Cash Flows'!$B$13:$EC$13))","v":-203.04336631257445},{"$f":"-INDEX('Monthly Cash Flows'!$B60:$EC60,MATCH('Monthly CF'!DV$6,'Monthly Cash Flows'!$B$13:$EC$13))","v":-203.04336631257445},{"$f":"-INDEX('Monthly Cash Flows'!$B60:$EC60,MATCH('Monthly CF'!DW$6,'Monthly Cash Flows'!$B$13:$EC$13))","v":-203.04336631257445},{"$f":"-INDEX('Monthly Cash Flows'!$B60:$EC60,MATCH('Monthly CF'!DX$6,'Monthly Cash Flows'!$B$13:$EC$13))","v":-203.04336631257445},{"$f":"-INDEX('Monthly Cash Flows'!$B60:$EC60,MATCH('Monthly CF'!DY$6,'Monthly Cash Flows'!$B$13:$EC$13))","v":-203.04336631257445},{"$f":"-INDEX('Monthly Cash Flows'!$B60:$EC60,MATCH('Monthly CF'!DZ$6,'Monthly Cash Flows'!$B$13:$EC$13))","v":-203.04336631257445},{"$f":"-INDEX('Monthly Cash Flows'!$B60:$EC60,MATCH('Monthly CF'!EA$6,'Monthly Cash Flows'!$B$13:$EC$13))","v":-203.04336631257445},{"$f":"-INDEX('Monthly Cash Flows'!$B60:$EC60,MATCH('Monthly CF'!EB$6,'Monthly Cash Flows'!$B$13:$EC$13))","v":-203.04336631257445},{"$f":"-INDEX('Monthly Cash Flows'!$B60:$EC60,MATCH('Monthly CF'!EC$6,'Monthly Cash Flows'!$B$13:$EC$13))","v":-203.04336631257445},{"$f":"-INDEX('Monthly Cash Flows'!$B60:$EC60,MATCH('Monthly CF'!ED$6,'Monthly Cash Flows'!$B$13:$EC$13))","v":-203.04336631257445},{"$f":"-INDEX('Monthly Cash Flows'!$B60:$EC60,MATCH('Monthly CF'!EE$6,'Monthly Cash Flows'!$B$13:$EC$13))","v":-203.04336631257445},{"$f":"-INDEX('Monthly Cash Flows'!$B60:$EC60,MATCH('Monthly CF'!EF$6,'Monthly Cash Flows'!$B$13:$EC$13))","v":-203.04336631257445},{"$f":"-INDEX('Monthly Cash Flows'!$B60:$EC60,MATCH('Monthly CF'!EG$6,'Monthly Cash Flows'!$B$13:$EC$13))","v":-203.04336631257445}]
[null,{"$f":"+'Monthly Cash Flows'!A61","v":"Property Taxes - Main Parcel"},null,null,null,{"$f":"-INDEX('Monthly Cash Flows'!$B61:$EC61,MATCH('Monthly CF'!F$6,'Monthly Cash Flows'!$B$13:$EC$13))","v":-15125.5},{"$f":"-INDEX('Monthly Cash Flows'!$B61:$EC61,MATCH('Monthly CF'!G$6,'Monthly Cash Flows'!$B$13:$EC$13))","v":-15125.5},{"$f":"-INDEX('Monthly Cash Flows'!$B61:$EC61,MATCH('Monthly CF'!H$6,'Monthly Cash Flows'!$B$13:$EC$13))","v":-15125.5},{"$f":"-INDEX('Monthly Cash Flows'!$B61:$EC61,MATCH('Monthly CF'!I$6,'Monthly Cash Flows'!$B$13:$EC$13))","v":-15125.5},{"$f":"-INDEX('Monthly Cash Flows'!$B61:$EC61,MATCH('Monthly CF'!J$6,'Monthly Cash Flows'!$B$13:$EC$13))","v":-15125.5},{"$f":"-INDEX('Monthly Cash Flows'!$B61:$EC61,MATCH('Monthly CF'!K$6,'Monthly Cash Flows'!$B$13:$EC$13))","v":-15125.5},{"$f":"-INDEX('Monthly Cash Flows'!$B61:$EC61,MATCH('Monthly CF'!L$6,'Monthly Cash Flows'!$B$13:$EC$13))","v":-15125.5},{"$f":"-INDEX('Monthly Cash Flows'!$B61:$EC61,MATCH('Monthly CF'!M$6,'Monthly Cash Flows'!$B$13:$EC$13))","v":-15125.5},{"$f":"-INDEX('Monthly Cash Flows'!$B61:$EC61,MATCH('Monthly CF'!N$6,'Monthly Cash Flows'!$B$13:$EC$13))","v":-15125.5},{"$f":"-INDEX('Monthly Cash Flows'!$B61:$EC61,MATCH('Monthly CF'!O$6,'Monthly Cash Flows'!$B$13:$EC$13))","v":-15125.5},{"$f":"-INDEX('Monthly Cash Flows'!$B61:$EC61,MATCH('Monthly CF'!P$6,'Monthly Cash Flows'!$B$13:$EC$13))","v":-15125.5},{"$f":"-INDEX('Monthly Cash Flows'!$B61:$EC61,MATCH('Monthly CF'!Q$6,'Monthly Cash Flows'!$B$13:$EC$13))","v":-15579.265000000001},{"$f":"-INDEX('Monthly Cash Flows'!$B61:$EC61,MATCH('Monthly CF'!R$6,'Monthly Cash Flows'!$B$13:$EC$13))","v":-15579.265000000001},{"$f":"-INDEX('Monthly Cash Flows'!$B61:$EC61,MATCH('Monthly CF'!S$6,'Monthly Cash Flows'!$B$13:$EC$13))","v":-15579.265000000001},{"$f":"-INDEX('Monthly Cash Flows'!$B61:$EC61,MATCH('Monthly CF'!T$6,'Monthly Cash Flows'!$B$13:$EC$13))","v":-15579.265000000001},{"$f":"-INDEX('Monthly Cash Flows'!$B61:$EC61,MATCH('Monthly CF'!U$6,'Monthly Cash Flows'!$B$13:$EC$13))","v":-15579.265000000001},{"$f":"-INDEX('Monthly Cash Flows'!$B61:$EC61,MATCH('Monthly CF'!V$6,'Monthly Cash Flows'!$B$13:$EC$13))","v":-15579.265000000001},{"$f":"-INDEX('Monthly Cash Flows'!$B61:$EC61,MATCH('Monthly CF'!W$6,'Monthly Cash Flows'!$B$13:$EC$13))","v":-15579.265000000001},{"$f":"-INDEX('Monthly Cash Flows'!$B61:$EC61,MATCH('Monthly CF'!X$6,'Monthly Cash Flows'!$B$13:$EC$13))","v":-15579.265000000001},{"$f":"-INDEX('Monthly Cash Flows'!$B61:$EC61,MATCH('Monthly CF'!Y$6,'Monthly Cash Flows'!$B$13:$EC$13))","v":-15579.265000000001},{"$f":"-INDEX('Monthly Cash Flows'!$B61:$EC61,MATCH('Monthly CF'!Z$6,'Monthly Cash Flows'!$B$13:$EC$13))","v":-15579.265000000001},{"$f":"-INDEX('Monthly Cash Flows'!$B61:$EC61,MATCH('Monthly CF'!AA$6,'Monthly Cash Flows'!$B$13:$EC$13))","v":-15579.265000000001},{"$f":"-INDEX('Monthly Cash Flows'!$B61:$EC61,MATCH('Monthly CF'!AB$6,'Monthly Cash Flows'!$B$13:$EC$13))","v":-15579.265000000001},{"$f":"-INDEX('Monthly Cash Flows'!$B61:$EC61,MATCH('Monthly CF'!AC$6,'Monthly Cash Flows'!$B$13:$EC$13))","v":-16046.642950000001},{"$f":"-INDEX('Monthly Cash Flows'!$B61:$EC61,MATCH('Monthly CF'!AD$6,'Monthly Cash Flows'!$B$13:$EC$13))","v":-16046.642950000001},{"$f":"-INDEX('Monthly Cash Flows'!$B61:$EC61,MATCH('Monthly CF'!AE$6,'Monthly Cash Flows'!$B$13:$EC$13))","v":-16046.642950000001},{"$f":"-INDEX('Monthly Cash Flows'!$B61:$EC61,MATCH('Monthly CF'!AF$6,'Monthly Cash Flows'!$B$13:$EC$13))","v":-16046.642950000001},{"$f":"-INDEX('Monthly Cash Flows'!$B61:$EC61,MATCH('Monthly CF'!AG$6,'Monthly Cash Flows'!$B$13:$EC$13))","v":-16046.642950000001},{"$f":"-INDEX('Monthly Cash Flows'!$B61:$EC61,MATCH('Monthly CF'!AH$6,'Monthly Cash Flows'!$B$13:$EC$13))","v":-16046.642950000001},{"$f":"-INDEX('Monthly Cash Flows'!$B61:$EC61,MATCH('Monthly CF'!AI$6,'Monthly Cash Flows'!$B$13:$EC$13))","v":-16046.642950000001},{"$f":"-INDEX('Monthly Cash Flows'!$B61:$EC61,MATCH('Monthly CF'!AJ$6,'Monthly Cash Flows'!$B$13:$EC$13))","v":-16046.642950000001},{"$f":"-INDEX('Monthly Cash Flows'!$B61:$EC61,MATCH('Monthly CF'!AK$6,'Monthly Cash Flows'!$B$13:$EC$13))","v":-16046.642950000001},{"$f":"-INDEX('Monthly Cash Flows'!$B61:$EC61,MATCH('Monthly CF'!AL$6,'Monthly Cash Flows'!$B$13:$EC$13))","v":-16046.642950000001},{"$f":"-INDEX('Monthly Cash Flows'!$B61:$EC61,MATCH('Monthly CF'!AM$6,'Monthly Cash Flows'!$B$13:$EC$13))","v":-16046.642950000001},{"$f":"-INDEX('Monthly Cash Flows'!$B61:$EC61,MATCH('Monthly CF'!AN$6,'Monthly Cash Flows'!$B$13:$EC$13))","v":-16046.642950000001},{"$f":"-INDEX('Monthly Cash Flows'!$B61:$EC61,MATCH('Monthly CF'!AO$6,'Monthly Cash Flows'!$B$13:$EC$13))","v":-16528.042238500002},{"$f":"-INDEX('Monthly Cash Flows'!$B61:$EC61,MATCH('Monthly CF'!AP$6,'Monthly Cash Flows'!$B$13:$EC$13))","v":-16528.042238500002},{"$f":"-INDEX('Monthly Cash Flows'!$B61:$EC61,MATCH('Monthly CF'!AQ$6,'Monthly Cash Flows'!$B$13:$EC$13))","v":-16528.042238500002},{"$f":"-INDEX('Monthly Cash Flows'!$B61:$EC61,MATCH('Monthly CF'!AR$6,'Monthly Cash Flows'!$B$13:$EC$13))","v":-16528.042238500002},{"$f":"-INDEX('Monthly Cash Flows'!$B61:$EC61,MATCH('Monthly CF'!AS$6,'Monthly Cash Flows'!$B$13:$EC$13))","v":-16528.042238500002},{"$f":"-INDEX('Monthly Cash Flows'!$B61:$EC61,MATCH('Monthly CF'!AT$6,'Monthly Cash Flows'!$B$13:$EC$13))","v":-16528.042238500002},{"$f":"-INDEX('Monthly Cash Flows'!$B61:$EC61,MATCH('Monthly CF'!AU$6,'Monthly Cash Flows'!$B$13:$EC$13))","v":-16528.042238500002},{"$f":"-INDEX('Monthly Cash Flows'!$B61:$EC61,MATCH('Monthly CF'!AV$6,'Monthly Cash Flows'!$B$13:$EC$13))","v":-16528.042238500002},{"$f":"-INDEX('Monthly Cash Flows'!$B61:$EC61,MATCH('Monthly CF'!AW$6,'Monthly Cash Flows'!$B$13:$EC$13))","v":-16528.042238500002},{"$f":"-INDEX('Monthly Cash Flows'!$B61:$EC61,MATCH('Monthly CF'!AX$6,'Monthly Cash Flows'!$B$13:$EC$13))","v":-16528.042238500002},{"$f":"-INDEX('Monthly Cash Flows'!$B61:$EC61,MATCH('Monthly CF'!AY$6,'Monthly Cash Flows'!$B$13:$EC$13))","v":-16528.042238500002},{"$f":"-INDEX('Monthly Cash Flows'!$B61:$EC61,MATCH('Monthly CF'!AZ$6,'Monthly Cash Flows'!$B$13:$EC$13))","v":-16528.042238500002},{"$f":"-INDEX('Monthly Cash Flows'!$B61:$EC61,MATCH('Monthly CF'!BA$6,'Monthly Cash Flows'!$B$13:$EC$13))","v":-17023.883505655001},{"$f":"-INDEX('Monthly Cash Flows'!$B61:$EC61,MATCH('Monthly CF'!BB$6,'Monthly Cash Flows'!$B$13:$EC$13))","v":-17023.883505655001},{"$f":"-INDEX('Monthly Cash Flows'!$B61:$EC61,MATCH('Monthly CF'!BC$6,'Monthly Cash Flows'!$B$13:$EC$13))","v":-17023.883505655001},{"$f":"-INDEX('Monthly Cash Flows'!$B61:$EC61,MATCH('Monthly CF'!BD$6,'Monthly Cash Flows'!$B$13:$EC$13))","v":-17023.883505655001},{"$f":"-INDEX('Monthly Cash Flows'!$B61:$EC61,MATCH('Monthly CF'!BE$6,'Monthly Cash Flows'!$B$13:$EC$13))","v":-17023.883505655001},{"$f":"-INDEX('Monthly Cash Flows'!$B61:$EC61,MATCH('Monthly CF'!BF$6,'Monthly Cash Flows'!$B$13:$EC$13))","v":-17023.883505655001},{"$f":"-INDEX('Monthly Cash Flows'!$B61:$EC61,MATCH('Monthly CF'!BG$6,'Monthly Cash Flows'!$B$13:$EC$13))","v":-17023.883505655001},{"$f":"-INDEX('Monthly Cash Flows'!$B61:$EC61,MATCH('Monthly CF'!BH$6,'Monthly Cash Flows'!$B$13:$EC$13))","v":-17023.883505655001},{"$f":"-INDEX('Monthly Cash Flows'!$B61:$EC61,MATCH('Monthly CF'!BI$6,'Monthly Cash Flows'!$B$13:$EC$13))","v":-17023.883505655001},{"$f":"-INDEX('Monthly Cash Flows'!$B61:$EC61,MATCH('Monthly CF'!BJ$6,'Monthly Cash Flows'!$B$13:$EC$13))","v":-17023.883505655001},{"$f":"-INDEX('Monthly Cash Flows'!$B61:$EC61,MATCH('Monthly CF'!BK$6,'Monthly Cash Flows'!$B$13:$EC$13))","v":-17023.883505655001},{"$f":"-INDEX('Monthly Cash Flows'!$B61:$EC61,MATCH('Monthly CF'!BL$6,'Monthly Cash Flows'!$B$13:$EC$13))","v":-17023.883505655001},{"$f":"-INDEX('Monthly Cash Flows'!$B61:$EC61,MATCH('Monthly CF'!BM$6,'Monthly Cash Flows'!$B$13:$EC$13))","v":-17534.600010824652},{"$f":"-INDEX('Monthly Cash Flows'!$B61:$EC61,MATCH('Monthly CF'!BN$6,'Monthly Cash Flows'!$B$13:$EC$13))","v":-17534.600010824652},{"$f":"-INDEX('Monthly Cash Flows'!$B61:$EC61,MATCH('Monthly CF'!BO$6,'Monthly Cash Flows'!$B$13:$EC$13))","v":-17534.600010824652},{"$f":"-INDEX('Monthly Cash Flows'!$B61:$EC61,MATCH('Monthly CF'!BP$6,'Monthly Cash Flows'!$B$13:$EC$13))","v":-17534.600010824652},{"$f":"-INDEX('Monthly Cash Flows'!$B61:$EC61,MATCH('Monthly CF'!BQ$6,'Monthly Cash Flows'!$B$13:$EC$13))","v":-17534.600010824652},{"$f":"-INDEX('Monthly Cash Flows'!$B61:$EC61,MATCH('Monthly CF'!BR$6,'Monthly Cash Flows'!$B$13:$EC$13))","v":-17534.600010824652},{"$f":"-INDEX('Monthly Cash Flows'!$B61:$EC61,MATCH('Monthly CF'!BS$6,'Monthly Cash Flows'!$B$13:$EC$13))","v":-17534.600010824652},{"$f":"-INDEX('Monthly Cash Flows'!$B61:$EC61,MATCH('Monthly CF'!BT$6,'Monthly Cash Flows'!$B$13:$EC$13))","v":-17534.600010824652},{"$f":"-INDEX('Monthly Cash Flows'!$B61:$EC61,MATCH('Monthly CF'!BU$6,'Monthly Cash Flows'!$B$13:$EC$13))","v":-17534.600010824652},{"$f":"-INDEX('Monthly Cash Flows'!$B61:$EC61,MATCH('Monthly CF'!BV$6,'Monthly Cash Flows'!$B$13:$EC$13))","v":-17534.600010824652},{"$f":"-INDEX('Monthly Cash Flows'!$B61:$EC61,MATCH('Monthly CF'!BW$6,'Monthly Cash Flows'!$B$13:$EC$13))","v":-17534.600010824652},{"$f":"-INDEX('Monthly Cash Flows'!$B61:$EC61,MATCH('Monthly CF'!BX$6,'Monthly Cash Flows'!$B$13:$EC$13))","v":-17534.600010824652},{"$f":"-INDEX('Monthly Cash Flows'!$B61:$EC61,MATCH('Monthly CF'!BY$6,'Monthly Cash Flows'!$B$13:$EC$13))","v":-18060.638011149393},{"$f":"-INDEX('Monthly Cash Flows'!$B61:$EC61,MATCH('Monthly CF'!BZ$6,'Monthly Cash Flows'!$B$13:$EC$13))","v":-18060.638011149393},{"$f":"-INDEX('Monthly Cash Flows'!$B61:$EC61,MATCH('Monthly CF'!CA$6,'Monthly Cash Flows'!$B$13:$EC$13))","v":-18060.638011149393},{"$f":"-INDEX('Monthly Cash Flows'!$B61:$EC61,MATCH('Monthly CF'!CB$6,'Monthly Cash Flows'!$B$13:$EC$13))","v":-18060.638011149393},{"$f":"-INDEX('Monthly Cash Flows'!$B61:$EC61,MATCH('Monthly CF'!CC$6,'Monthly Cash Flows'!$B$13:$EC$13))","v":-18060.638011149393},{"$f":"-INDEX('Monthly Cash Flows'!$B61:$EC61,MATCH('Monthly CF'!CD$6,'Monthly Cash Flows'!$B$13:$EC$13))","v":-18060.638011149393},{"$f":"-INDEX('Monthly Cash Flows'!$B61:$EC61,MATCH('Monthly CF'!CE$6,'Monthly Cash Flows'!$B$13:$EC$13))","v":-18060.638011149393},{"$f":"-INDEX('Monthly Cash Flows'!$B61:$EC61,MATCH('Monthly CF'!CF$6,'Monthly Cash Flows'!$B$13:$EC$13))","v":-18060.638011149393},{"$f":"-INDEX('Monthly Cash Flows'!$B61:$EC61,MATCH('Monthly CF'!CG$6,'Monthly Cash Flows'!$B$13:$EC$13))","v":-18060.638011149393},{"$f":"-INDEX('Monthly Cash Flows'!$B61:$EC61,MATCH('Monthly CF'!CH$6,'Monthly Cash Flows'!$B$13:$EC$13))","v":-18060.638011149393},{"$f":"-INDEX('Monthly Cash Flows'!$B61:$EC61,MATCH('Monthly CF'!CI$6,'Monthly Cash Flows'!$B$13:$EC$13))","v":-18060.638011149393},{"$f":"-INDEX('Monthly Cash Flows'!$B61:$EC61,MATCH('Monthly CF'!CJ$6,'Monthly Cash Flows'!$B$13:$EC$13))","v":-18060.638011149393},{"$f":"-INDEX('Monthly Cash Flows'!$B61:$EC61,MATCH('Monthly CF'!CK$6,'Monthly Cash Flows'!$B$13:$EC$13))","v":-18602.457151483875},{"$f":"-INDEX('Monthly Cash Flows'!$B61:$EC61,MATCH('Monthly CF'!CL$6,'Monthly Cash Flows'!$B$13:$EC$13))","v":-18602.457151483875},{"$f":"-INDEX('Monthly Cash Flows'!$B61:$EC61,MATCH('Monthly CF'!CM$6,'Monthly Cash Flows'!$B$13:$EC$13))","v":-18602.457151483875},{"$f":"-INDEX('Monthly Cash Flows'!$B61:$EC61,MATCH('Monthly CF'!CN$6,'Monthly Cash Flows'!$B$13:$EC$13))","v":-18602.457151483875},{"$f":"-INDEX('Monthly Cash Flows'!$B61:$EC61,MATCH('Monthly CF'!CO$6,'Monthly Cash Flows'!$B$13:$EC$13))","v":-18602.457151483875},{"$f":"-INDEX('Monthly Cash Flows'!$B61:$EC61,MATCH('Monthly CF'!CP$6,'Monthly Cash Flows'!$B$13:$EC$13))","v":-18602.457151483875},{"$f":"-INDEX('Monthly Cash Flows'!$B61:$EC61,MATCH('Monthly CF'!CQ$6,'Monthly Cash Flows'!$B$13:$EC$13))","v":-18602.457151483875},{"$f":"-INDEX('Monthly Cash Flows'!$B61:$EC61,MATCH('Monthly CF'!CR$6,'Monthly Cash Flows'!$B$13:$EC$13))","v":-18602.457151483875},{"$f":"-INDEX('Monthly Cash Flows'!$B61:$EC61,MATCH('Monthly CF'!CS$6,'Monthly Cash Flows'!$B$13:$EC$13))","v":-18602.457151483875},{"$f":"-INDEX('Monthly Cash Flows'!$B61:$EC61,MATCH('Monthly CF'!CT$6,'Monthly Cash Flows'!$B$13:$EC$13))","v":-18602.457151483875},{"$f":"-INDEX('Monthly Cash Flows'!$B61:$EC61,MATCH('Monthly CF'!CU$6,'Monthly Cash Flows'!$B$13:$EC$13))","v":-18602.457151483875},{"$f":"-INDEX('Monthly Cash Flows'!$B61:$EC61,MATCH('Monthly CF'!CV$6,'Monthly Cash Flows'!$B$13:$EC$13))","v":-18602.457151483875},{"$f":"-INDEX('Monthly Cash Flows'!$B61:$EC61,MATCH('Monthly CF'!CW$6,'Monthly Cash Flows'!$B$13:$EC$13))","v":-19160.530866028392},{"$f":"-INDEX('Monthly Cash Flows'!$B61:$EC61,MATCH('Monthly CF'!CX$6,'Monthly Cash Flows'!$B$13:$EC$13))","v":-19160.530866028392},{"$f":"-INDEX('Monthly Cash Flows'!$B61:$EC61,MATCH('Monthly CF'!CY$6,'Monthly Cash Flows'!$B$13:$EC$13))","v":-19160.530866028392},{"$f":"-INDEX('Monthly Cash Flows'!$B61:$EC61,MATCH('Monthly CF'!CZ$6,'Monthly Cash Flows'!$B$13:$EC$13))","v":-19160.530866028392},{"$f":"-INDEX('Monthly Cash Flows'!$B61:$EC61,MATCH('Monthly CF'!DA$6,'Monthly Cash Flows'!$B$13:$EC$13))","v":-19160.530866028392},{"$f":"-INDEX('Monthly Cash Flows'!$B61:$EC61,MATCH('Monthly CF'!DB$6,'Monthly Cash Flows'!$B$13:$EC$13))","v":-19160.530866028392},{"$f":"-INDEX('Monthly Cash Flows'!$B61:$EC61,MATCH('Monthly CF'!DC$6,'Monthly Cash Flows'!$B$13:$EC$13))","v":-19160.530866028392},{"$f":"-INDEX('Monthly Cash Flows'!$B61:$EC61,MATCH('Monthly CF'!DD$6,'Monthly Cash Flows'!$B$13:$EC$13))","v":-19160.530866028392},{"$f":"-INDEX('Monthly Cash Flows'!$B61:$EC61,MATCH('Monthly CF'!DE$6,'Monthly Cash Flows'!$B$13:$EC$13))","v":-19160.530866028392},{"$f":"-INDEX('Monthly Cash Flows'!$B61:$EC61,MATCH('Monthly CF'!DF$6,'Monthly Cash Flows'!$B$13:$EC$13))","v":-19160.530866028392},{"$f":"-INDEX('Monthly Cash Flows'!$B61:$EC61,MATCH('Monthly CF'!DG$6,'Monthly Cash Flows'!$B$13:$EC$13))","v":-19160.530866028392},{"$f":"-INDEX('Monthly Cash Flows'!$B61:$EC61,MATCH('Monthly CF'!DH$6,'Monthly Cash Flows'!$B$13:$EC$13))","v":-19160.530866028392},{"$f":"-INDEX('Monthly Cash Flows'!$B61:$EC61,MATCH('Monthly CF'!DI$6,'Monthly Cash Flows'!$B$13:$EC$13))","v":-19735.346792009244},{"$f":"-INDEX('Monthly Cash Flows'!$B61:$EC61,MATCH('Monthly CF'!DJ$6,'Monthly Cash Flows'!$B$13:$EC$13))","v":-19735.346792009244},{"$f":"-INDEX('Monthly Cash Flows'!$B61:$EC61,MATCH('Monthly CF'!DK$6,'Monthly Cash Flows'!$B$13:$EC$13))","v":-19735.346792009244},{"$f":"-INDEX('Monthly Cash Flows'!$B61:$EC61,MATCH('Monthly CF'!DL$6,'Monthly Cash Flows'!$B$13:$EC$13))","v":-19735.346792009244},{"$f":"-INDEX('Monthly Cash Flows'!$B61:$EC61,MATCH('Monthly CF'!DM$6,'Monthly Cash Flows'!$B$13:$EC$13))","v":-19735.346792009244},{"$f":"-INDEX('Monthly Cash Flows'!$B61:$EC61,MATCH('Monthly CF'!DN$6,'Monthly Cash Flows'!$B$13:$EC$13))","v":-19735.346792009244},{"$f":"-INDEX('Monthly Cash Flows'!$B61:$EC61,MATCH('Monthly CF'!DO$6,'Monthly Cash Flows'!$B$13:$EC$13))","v":-19735.346792009244},{"$f":"-INDEX('Monthly Cash Flows'!$B61:$EC61,MATCH('Monthly CF'!DP$6,'Monthly Cash Flows'!$B$13:$EC$13))","v":-19735.346792009244},{"$f":"-INDEX('Monthly Cash Flows'!$B61:$EC61,MATCH('Monthly CF'!DQ$6,'Monthly Cash Flows'!$B$13:$EC$13))","v":-19735.346792009244},{"$f":"-INDEX('Monthly Cash Flows'!$B61:$EC61,MATCH('Monthly CF'!DR$6,'Monthly Cash Flows'!$B$13:$EC$13))","v":-19735.346792009244},{"$f":"-INDEX('Monthly Cash Flows'!$B61:$EC61,MATCH('Monthly CF'!DS$6,'Monthly Cash Flows'!$B$13:$EC$13))","v":-19735.346792009244},{"$f":"-INDEX('Monthly Cash Flows'!$B61:$EC61,MATCH('Monthly CF'!DT$6,'Monthly Cash Flows'!$B$13:$EC$13))","v":-19735.346792009244},{"$f":"-INDEX('Monthly Cash Flows'!$B61:$EC61,MATCH('Monthly CF'!DU$6,'Monthly Cash Flows'!$B$13:$EC$13))","v":-20327.407195769523},{"$f":"-INDEX('Monthly Cash Flows'!$B61:$EC61,MATCH('Monthly CF'!DV$6,'Monthly Cash Flows'!$B$13:$EC$13))","v":-20327.407195769523},{"$f":"-INDEX('Monthly Cash Flows'!$B61:$EC61,MATCH('Monthly CF'!DW$6,'Monthly Cash Flows'!$B$13:$EC$13))","v":-20327.407195769523},{"$f":"-INDEX('Monthly Cash Flows'!$B61:$EC61,MATCH('Monthly CF'!DX$6,'Monthly Cash Flows'!$B$13:$EC$13))","v":-20327.407195769523},{"$f":"-INDEX('Monthly Cash Flows'!$B61:$EC61,MATCH('Monthly CF'!DY$6,'Monthly Cash Flows'!$B$13:$EC$13))","v":-20327.407195769523},{"$f":"-INDEX('Monthly Cash Flows'!$B61:$EC61,MATCH('Monthly CF'!DZ$6,'Monthly Cash Flows'!$B$13:$EC$13))","v":-20327.407195769523},{"$f":"-INDEX('Monthly Cash Flows'!$B61:$EC61,MATCH('Monthly CF'!EA$6,'Monthly Cash Flows'!$B$13:$EC$13))","v":-20327.407195769523},{"$f":"-INDEX('Monthly Cash Flows'!$B61:$EC61,MATCH('Monthly CF'!EB$6,'Monthly Cash Flows'!$B$13:$EC$13))","v":-20327.407195769523},{"$f":"-INDEX('Monthly Cash Flows'!$B61:$EC61,MATCH('Monthly CF'!EC$6,'Monthly Cash Flows'!$B$13:$EC$13))","v":-20327.407195769523},{"$f":"-INDEX('Monthly Cash Flows'!$B61:$EC61,MATCH('Monthly CF'!ED$6,'Monthly Cash Flows'!$B$13:$EC$13))","v":-20327.407195769523},{"$f":"-INDEX('Monthly Cash Flows'!$B61:$EC61,MATCH('Monthly CF'!EE$6,'Monthly Cash Flows'!$B$13:$EC$13))","v":-20327.407195769523},{"$f":"-INDEX('Monthly Cash Flows'!$B61:$EC61,MATCH('Monthly CF'!EF$6,'Monthly Cash Flows'!$B$13:$EC$13))","v":-20327.407195769523},{"$f":"-INDEX('Monthly Cash Flows'!$B61:$EC61,MATCH('Monthly CF'!EG$6,'Monthly Cash Flows'!$B$13:$EC$13))","v":-20327.407195769523}]
[null,{"$f":"+'Monthly Cash Flows'!A62","v":"Property Taxes - Title Max"},null,null,null,{"$f":"-INDEX('Monthly Cash Flows'!$B62:$EC62,MATCH('Monthly CF'!F$6,'Monthly Cash Flows'!$B$13:$EC$13))","v":-319},{"$f":"-INDEX('Monthly Cash Flows'!$B62:$EC62,MATCH('Monthly CF'!G$6,'Monthly Cash Flows'!$B$13:$EC$13))","v":-319},{"$f":"-INDEX('Monthly Cash Flows'!$B62:$EC62,MATCH('Monthly CF'!H$6,'Monthly Cash Flows'!$B$13:$EC$13))","v":-319},{"$f":"-INDEX('Monthly Cash Flows'!$B62:$EC62,MATCH('Monthly CF'!I$6,'Monthly Cash Flows'!$B$13:$EC$13))","v":-319},{"$f":"-INDEX('Monthly Cash Flows'!$B62:$EC62,MATCH('Monthly CF'!J$6,'Monthly Cash Flows'!$B$13:$EC$13))","v":-319},{"$f":"-INDEX('Monthly Cash Flows'!$B62:$EC62,MATCH('Monthly CF'!K$6,'Monthly Cash Flows'!$B$13:$EC$13))","v":-319},{"$f":"-INDEX('Monthly Cash Flows'!$B62:$EC62,MATCH('Monthly CF'!L$6,'Monthly Cash Flows'!$B$13:$EC$13))","v":-319},{"$f":"-INDEX('Monthly Cash Flows'!$B62:$EC62,MATCH('Monthly CF'!M$6,'Monthly Cash Flows'!$B$13:$EC$13))","v":-319},{"$f":"-INDEX('Monthly Cash Flows'!$B62:$EC62,MATCH('Monthly CF'!N$6,'Monthly Cash Flows'!$B$13:$EC$13))","v":-319},{"$f":"-INDEX('Monthly Cash Flows'!$B62:$EC62,MATCH('Monthly CF'!O$6,'Monthly Cash Flows'!$B$13:$EC$13))","v":-319},{"$f":"-INDEX('Monthly Cash Flows'!$B62:$EC62,MATCH('Monthly CF'!P$6,'Monthly Cash Flows'!$B$13:$EC$13))","v":-319},{"$f":"-INDEX('Monthly Cash Flows'!$B62:$EC62,MATCH('Monthly CF'!Q$6,'Monthly Cash Flows'!$B$13:$EC$13))","v":-328.57},{"$f":"-INDEX('Monthly Cash Flows'!$B62:$EC62,MATCH('Monthly CF'!R$6,'Monthly Cash Flows'!$B$13:$EC$13))","v":-328.57},{"$f":"-INDEX('Monthly Cash Flows'!$B62:$EC62,MATCH('Monthly CF'!S$6,'Monthly Cash Flows'!$B$13:$EC$13))","v":-328.57},{"$f":"-INDEX('Monthly Cash Flows'!$B62:$EC62,MATCH('Monthly CF'!T$6,'Monthly Cash Flows'!$B$13:$EC$13))","v":-328.57},{"$f":"-INDEX('Monthly Cash Flows'!$B62:$EC62,MATCH('Monthly CF'!U$6,'Monthly Cash Flows'!$B$13:$EC$13))","v":-328.57},{"$f":"-INDEX('Monthly Cash Flows'!$B62:$EC62,MATCH('Monthly CF'!V$6,'Monthly Cash Flows'!$B$13:$EC$13))","v":-328.57},{"$f":"-INDEX('Monthly Cash Flows'!$B62:$EC62,MATCH('Monthly CF'!W$6,'Monthly Cash Flows'!$B$13:$EC$13))","v":-328.57},{"$f":"-INDEX('Monthly Cash Flows'!$B62:$EC62,MATCH('Monthly CF'!X$6,'Monthly Cash Flows'!$B$13:$EC$13))","v":-328.57},{"$f":"-INDEX('Monthly Cash Flows'!$B62:$EC62,MATCH('Monthly CF'!Y$6,'Monthly Cash Flows'!$B$13:$EC$13))","v":-328.57},{"$f":"-INDEX('Monthly Cash Flows'!$B62:$EC62,MATCH('Monthly CF'!Z$6,'Monthly Cash Flows'!$B$13:$EC$13))","v":-328.57},{"$f":"-INDEX('Monthly Cash Flows'!$B62:$EC62,MATCH('Monthly CF'!AA$6,'Monthly Cash Flows'!$B$13:$EC$13))","v":-328.57},{"$f":"-INDEX('Monthly Cash Flows'!$B62:$EC62,MATCH('Monthly CF'!AB$6,'Monthly Cash Flows'!$B$13:$EC$13))","v":-328.57},{"$f":"-INDEX('Monthly Cash Flows'!$B62:$EC62,MATCH('Monthly CF'!AC$6,'Monthly Cash Flows'!$B$13:$EC$13))","v":-338.4271},{"$f":"-INDEX('Monthly Cash Flows'!$B62:$EC62,MATCH('Monthly CF'!AD$6,'Monthly Cash Flows'!$B$13:$EC$13))","v":-338.4271},{"$f":"-INDEX('Monthly Cash Flows'!$B62:$EC62,MATCH('Monthly CF'!AE$6,'Monthly Cash Flows'!$B$13:$EC$13))","v":-338.4271},{"$f":"-INDEX('Monthly Cash Flows'!$B62:$EC62,MATCH('Monthly CF'!AF$6,'Monthly Cash Flows'!$B$13:$EC$13))","v":-338.4271},{"$f":"-INDEX('Monthly Cash Flows'!$B62:$EC62,MATCH('Monthly CF'!AG$6,'Monthly Cash Flows'!$B$13:$EC$13))","v":-338.4271},{"$f":"-INDEX('Monthly Cash Flows'!$B62:$EC62,MATCH('Monthly CF'!AH$6,'Monthly Cash Flows'!$B$13:$EC$13))","v":-338.4271},{"$f":"-INDEX('Monthly Cash Flows'!$B62:$EC62,MATCH('Monthly CF'!AI$6,'Monthly Cash Flows'!$B$13:$EC$13))","v":-338.4271},{"$f":"-INDEX('Monthly Cash Flows'!$B62:$EC62,MATCH('Monthly CF'!AJ$6,'Monthly Cash Flows'!$B$13:$EC$13))","v":-338.4271},{"$f":"-INDEX('Monthly Cash Flows'!$B62:$EC62,MATCH('Monthly CF'!AK$6,'Monthly Cash Flows'!$B$13:$EC$13))","v":-338.4271},{"$f":"-INDEX('Monthly Cash Flows'!$B62:$EC62,MATCH('Monthly CF'!AL$6,'Monthly Cash Flows'!$B$13:$EC$13))","v":-338.4271},{"$f":"-INDEX('Monthly Cash Flows'!$B62:$EC62,MATCH('Monthly CF'!AM$6,'Monthly Cash Flows'!$B$13:$EC$13))","v":-338.4271},{"$f":"-INDEX('Monthly Cash Flows'!$B62:$EC62,MATCH('Monthly CF'!AN$6,'Monthly Cash Flows'!$B$13:$EC$13))","v":-338.4271},{"$f":"-INDEX('Monthly Cash Flows'!$B62:$EC62,MATCH('Monthly CF'!AO$6,'Monthly Cash Flows'!$B$13:$EC$13))","v":-348.57991299999998},{"$f":"-INDEX('Monthly Cash Flows'!$B62:$EC62,MATCH('Monthly CF'!AP$6,'Monthly Cash Flows'!$B$13:$EC$13))","v":-348.57991299999998},{"$f":"-INDEX('Monthly Cash Flows'!$B62:$EC62,MATCH('Monthly CF'!AQ$6,'Monthly Cash Flows'!$B$13:$EC$13))","v":-348.57991299999998},{"$f":"-INDEX('Monthly Cash Flows'!$B62:$EC62,MATCH('Monthly CF'!AR$6,'Monthly Cash Flows'!$B$13:$EC$13))","v":-348.57991299999998},{"$f":"-INDEX('Monthly Cash Flows'!$B62:$EC62,MATCH('Monthly CF'!AS$6,'Monthly Cash Flows'!$B$13:$EC$13))","v":-348.57991299999998},{"$f":"-INDEX('Monthly Cash Flows'!$B62:$EC62,MATCH('Monthly CF'!AT$6,'Monthly Cash Flows'!$B$13:$EC$13))","v":-348.57991299999998},{"$f":"-INDEX('Monthly Cash Flows'!$B62:$EC62,MATCH('Monthly CF'!AU$6,'Monthly Cash Flows'!$B$13:$EC$13))","v":-348.57991299999998},{"$f":"-INDEX('Monthly Cash Flows'!$B62:$EC62,MATCH('Monthly CF'!AV$6,'Monthly Cash Flows'!$B$13:$EC$13))","v":-348.57991299999998},{"$f":"-INDEX('Monthly Cash Flows'!$B62:$EC62,MATCH('Monthly CF'!AW$6,'Monthly Cash Flows'!$B$13:$EC$13))","v":-348.57991299999998},{"$f":"-INDEX('Monthly Cash Flows'!$B62:$EC62,MATCH('Monthly CF'!AX$6,'Monthly Cash Flows'!$B$13:$EC$13))","v":-348.57991299999998},{"$f":"-INDEX('Monthly Cash Flows'!$B62:$EC62,MATCH('Monthly CF'!AY$6,'Monthly Cash Flows'!$B$13:$EC$13))","v":-348.57991299999998},{"$f":"-INDEX('Monthly Cash Flows'!$B62:$EC62,MATCH('Monthly CF'!AZ$6,'Monthly Cash Flows'!$B$13:$EC$13))","v":-348.57991299999998},{"$f":"-INDEX('Monthly Cash Flows'!$B62:$EC62,MATCH('Monthly CF'!BA$6,'Monthly Cash Flows'!$B$13:$EC$13))","v":-359.03731038999996},{"$f":"-INDEX('Monthly Cash Flows'!$B62:$EC62,MATCH('Monthly CF'!BB$6,'Monthly Cash Flows'!$B$13:$EC$13))","v":-359.03731038999996},{"$f":"-INDEX('Monthly Cash Flows'!$B62:$EC62,MATCH('Monthly CF'!BC$6,'Monthly Cash Flows'!$B$13:$EC$13))","v":-359.03731038999996},{"$f":"-INDEX('Monthly Cash Flows'!$B62:$EC62,MATCH('Monthly CF'!BD$6,'Monthly Cash Flows'!$B$13:$EC$13))","v":-359.03731038999996},{"$f":"-INDEX('Monthly Cash Flows'!$B62:$EC62,MATCH('Monthly CF'!BE$6,'Monthly Cash Flows'!$B$13:$EC$13))","v":-359.03731038999996},{"$f":"-INDEX('Monthly Cash Flows'!$B62:$EC62,MATCH('Monthly CF'!BF$6,'Monthly Cash Flows'!$B$13:$EC$13))","v":-359.03731038999996},{"$f":"-INDEX('Monthly Cash Flows'!$B62:$EC62,MATCH('Monthly CF'!BG$6,'Monthly Cash Flows'!$B$13:$EC$13))","v":-359.03731038999996},{"$f":"-INDEX('Monthly Cash Flows'!$B62:$EC62,MATCH('Monthly CF'!BH$6,'Monthly Cash Flows'!$B$13:$EC$13))","v":-359.03731038999996},{"$f":"-INDEX('Monthly Cash Flows'!$B62:$EC62,MATCH('Monthly CF'!BI$6,'Monthly Cash Flows'!$B$13:$EC$13))","v":-359.03731038999996},{"$f":"-INDEX('Monthly Cash Flows'!$B62:$EC62,MATCH('Monthly CF'!BJ$6,'Monthly Cash Flows'!$B$13:$EC$13))","v":-359.03731038999996},{"$f":"-INDEX('Monthly Cash Flows'!$B62:$EC62,MATCH('Monthly CF'!BK$6,'Monthly Cash Flows'!$B$13:$EC$13))","v":-359.03731038999996},{"$f":"-INDEX('Monthly Cash Flows'!$B62:$EC62,MATCH('Monthly CF'!BL$6,'Monthly Cash Flows'!$B$13:$EC$13))","v":-359.03731038999996},{"$f":"-INDEX('Monthly Cash Flows'!$B62:$EC62,MATCH('Monthly CF'!BM$6,'Monthly Cash Flows'!$B$13:$EC$13))","v":-369.80842970169999},{"$f":"-INDEX('Monthly Cash Flows'!$B62:$EC62,MATCH('Monthly CF'!BN$6,'Monthly Cash Flows'!$B$13:$EC$13))","v":-369.80842970169999},{"$f":"-INDEX('Monthly Cash Flows'!$B62:$EC62,MATCH('Monthly CF'!BO$6,'Monthly Cash Flows'!$B$13:$EC$13))","v":-369.80842970169999},{"$f":"-INDEX('Monthly Cash Flows'!$B62:$EC62,MATCH('Monthly CF'!BP$6,'Monthly Cash Flows'!$B$13:$EC$13))","v":-369.80842970169999},{"$f":"-INDEX('Monthly Cash Flows'!$B62:$EC62,MATCH('Monthly CF'!BQ$6,'Monthly Cash Flows'!$B$13:$EC$13))","v":-369.80842970169999},{"$f":"-INDEX('Monthly Cash Flows'!$B62:$EC62,MATCH('Monthly CF'!BR$6,'Monthly Cash Flows'!$B$13:$EC$13))","v":-369.80842970169999},{"$f":"-INDEX('Monthly Cash Flows'!$B62:$EC62,MATCH('Monthly CF'!BS$6,'Monthly Cash Flows'!$B$13:$EC$13))","v":-369.80842970169999},{"$f":"-INDEX('Monthly Cash Flows'!$B62:$EC62,MATCH('Monthly CF'!BT$6,'Monthly Cash Flows'!$B$13:$EC$13))","v":-369.80842970169999},{"$f":"-INDEX('Monthly Cash Flows'!$B62:$EC62,MATCH('Monthly CF'!BU$6,'Monthly Cash Flows'!$B$13:$EC$13))","v":-369.80842970169999},{"$f":"-INDEX('Monthly Cash Flows'!$B62:$EC62,MATCH('Monthly CF'!BV$6,'Monthly Cash Flows'!$B$13:$EC$13))","v":-369.80842970169999},{"$f":"-INDEX('Monthly Cash Flows'!$B62:$EC62,MATCH('Monthly CF'!BW$6,'Monthly Cash Flows'!$B$13:$EC$13))","v":-369.80842970169999},{"$f":"-INDEX('Monthly Cash Flows'!$B62:$EC62,MATCH('Monthly CF'!BX$6,'Monthly Cash Flows'!$B$13:$EC$13))","v":-369.80842970169999},{"$f":"-INDEX('Monthly Cash Flows'!$B62:$EC62,MATCH('Monthly CF'!BY$6,'Monthly Cash Flows'!$B$13:$EC$13))","v":-380.90268259275098},{"$f":"-INDEX('Monthly Cash Flows'!$B62:$EC62,MATCH('Monthly CF'!BZ$6,'Monthly Cash Flows'!$B$13:$EC$13))","v":-380.90268259275098},{"$f":"-INDEX('Monthly Cash Flows'!$B62:$EC62,MATCH('Monthly CF'!CA$6,'Monthly Cash Flows'!$B$13:$EC$13))","v":-380.90268259275098},{"$f":"-INDEX('Monthly Cash Flows'!$B62:$EC62,MATCH('Monthly CF'!CB$6,'Monthly Cash Flows'!$B$13:$EC$13))","v":-380.90268259275098},{"$f":"-INDEX('Monthly Cash Flows'!$B62:$EC62,MATCH('Monthly CF'!CC$6,'Monthly Cash Flows'!$B$13:$EC$13))","v":-380.90268259275098},{"$f":"-INDEX('Monthly Cash Flows'!$B62:$EC62,MATCH('Monthly CF'!CD$6,'Monthly Cash Flows'!$B$13:$EC$13))","v":-380.90268259275098},{"$f":"-INDEX('Monthly Cash Flows'!$B62:$EC62,MATCH('Monthly CF'!CE$6,'Monthly Cash Flows'!$B$13:$EC$13))","v":-380.90268259275098},{"$f":"-INDEX('Monthly Cash Flows'!$B62:$EC62,MATCH('Monthly CF'!CF$6,'Monthly Cash Flows'!$B$13:$EC$13))","v":-380.90268259275098},{"$f":"-INDEX('Monthly Cash Flows'!$B62:$EC62,MATCH('Monthly CF'!CG$6,'Monthly Cash Flows'!$B$13:$EC$13))","v":-380.90268259275098},{"$f":"-INDEX('Monthly Cash Flows'!$B62:$EC62,MATCH('Monthly CF'!CH$6,'Monthly Cash Flows'!$B$13:$EC$13))","v":-380.90268259275098},{"$f":"-INDEX('Monthly Cash Flows'!$B62:$EC62,MATCH('Monthly CF'!CI$6,'Monthly Cash Flows'!$B$13:$EC$13))","v":-380.90268259275098},{"$f":"-INDEX('Monthly Cash Flows'!$B62:$EC62,MATCH('Monthly CF'!CJ$6,'Monthly Cash Flows'!$B$13:$EC$13))","v":-380.90268259275098},{"$f":"-INDEX('Monthly Cash Flows'!$B62:$EC62,MATCH('Monthly CF'!CK$6,'Monthly Cash Flows'!$B$13:$EC$13))","v":-392.32976307053355},{"$f":"-INDEX('Monthly Cash Flows'!$B62:$EC62,MATCH('Monthly CF'!CL$6,'Monthly Cash Flows'!$B$13:$EC$13))","v":-392.32976307053355},{"$f":"-INDEX('Monthly Cash Flows'!$B62:$EC62,MATCH('Monthly CF'!CM$6,'Monthly Cash Flows'!$B$13:$EC$13))","v":-392.32976307053355},{"$f":"-INDEX('Monthly Cash Flows'!$B62:$EC62,MATCH('Monthly CF'!CN$6,'Monthly Cash Flows'!$B$13:$EC$13))","v":-392.32976307053355},{"$f":"-INDEX('Monthly Cash Flows'!$B62:$EC62,MATCH('Monthly CF'!CO$6,'Monthly Cash Flows'!$B$13:$EC$13))","v":-392.32976307053355},{"$f":"-INDEX('Monthly Cash Flows'!$B62:$EC62,MATCH('Monthly CF'!CP$6,'Monthly Cash Flows'!$B$13:$EC$13))","v":-392.32976307053355},{"$f":"-INDEX('Monthly Cash Flows'!$B62:$EC62,MATCH('Monthly CF'!CQ$6,'Monthly Cash Flows'!$B$13:$EC$13))","v":-392.32976307053355},{"$f":"-INDEX('Monthly Cash Flows'!$B62:$EC62,MATCH('Monthly CF'!CR$6,'Monthly Cash Flows'!$B$13:$EC$13))","v":-392.32976307053355},{"$f":"-INDEX('Monthly Cash Flows'!$B62:$EC62,MATCH('Monthly CF'!CS$6,'Monthly Cash Flows'!$B$13:$EC$13))","v":-392.32976307053355},{"$f":"-INDEX('Monthly Cash Flows'!$B62:$EC62,MATCH('Monthly CF'!CT$6,'Monthly Cash Flows'!$B$13:$EC$13))","v":-392.32976307053355},{"$f":"-INDEX('Monthly Cash Flows'!$B62:$EC62,MATCH('Monthly CF'!CU$6,'Monthly Cash Flows'!$B$13:$EC$13))","v":-392.32976307053355},{"$f":"-INDEX('Monthly Cash Flows'!$B62:$EC62,MATCH('Monthly CF'!CV$6,'Monthly Cash Flows'!$B$13:$EC$13))","v":-392.32976307053355},{"$f":"-INDEX('Monthly Cash Flows'!$B62:$EC62,MATCH('Monthly CF'!CW$6,'Monthly Cash Flows'!$B$13:$EC$13))","v":-404.09965596264954},{"$f":"-INDEX('Monthly Cash Flows'!$B62:$EC62,MATCH('Monthly CF'!CX$6,'Monthly Cash Flows'!$B$13:$EC$13))","v":-404.09965596264954},{"$f":"-INDEX('Monthly Cash Flows'!$B62:$EC62,MATCH('Monthly CF'!CY$6,'Monthly Cash Flows'!$B$13:$EC$13))","v":-404.09965596264954},{"$f":"-INDEX('Monthly Cash Flows'!$B62:$EC62,MATCH('Monthly CF'!CZ$6,'Monthly Cash Flows'!$B$13:$EC$13))","v":-404.09965596264954},{"$f":"-INDEX('Monthly Cash Flows'!$B62:$EC62,MATCH('Monthly CF'!DA$6,'Monthly Cash Flows'!$B$13:$EC$13))","v":-404.09965596264954},{"$f":"-INDEX('Monthly Cash Flows'!$B62:$EC62,MATCH('Monthly CF'!DB$6,'Monthly Cash Flows'!$B$13:$EC$13))","v":-404.09965596264954},{"$f":"-INDEX('Monthly Cash Flows'!$B62:$EC62,MATCH('Monthly CF'!DC$6,'Monthly Cash Flows'!$B$13:$EC$13))","v":-404.09965596264954},{"$f":"-INDEX('Monthly Cash Flows'!$B62:$EC62,MATCH('Monthly CF'!DD$6,'Monthly Cash Flows'!$B$13:$EC$13))","v":-404.09965596264954},{"$f":"-INDEX('Monthly Cash Flows'!$B62:$EC62,MATCH('Monthly CF'!DE$6,'Monthly Cash Flows'!$B$13:$EC$13))","v":-404.09965596264954},{"$f":"-INDEX('Monthly Cash Flows'!$B62:$EC62,MATCH('Monthly CF'!DF$6,'Monthly Cash Flows'!$B$13:$EC$13))","v":-404.09965596264954},{"$f":"-INDEX('Monthly Cash Flows'!$B62:$EC62,MATCH('Monthly CF'!DG$6,'Monthly Cash Flows'!$B$13:$EC$13))","v":-404.09965596264954},{"$f":"-INDEX('Monthly Cash Flows'!$B62:$EC62,MATCH('Monthly CF'!DH$6,'Monthly Cash Flows'!$B$13:$EC$13))","v":-404.09965596264954},{"$f":"-INDEX('Monthly Cash Flows'!$B62:$EC62,MATCH('Monthly CF'!DI$6,'Monthly Cash Flows'!$B$13:$EC$13))","v":-416.22264564152903},{"$f":"-INDEX('Monthly Cash Flows'!$B62:$EC62,MATCH('Monthly CF'!DJ$6,'Monthly Cash Flows'!$B$13:$EC$13))","v":-416.22264564152903},{"$f":"-INDEX('Monthly Cash Flows'!$B62:$EC62,MATCH('Monthly CF'!DK$6,'Monthly Cash Flows'!$B$13:$EC$13))","v":-416.22264564152903},{"$f":"-INDEX('Monthly Cash Flows'!$B62:$EC62,MATCH('Monthly CF'!DL$6,'Monthly Cash Flows'!$B$13:$EC$13))","v":-416.22264564152903},{"$f":"-INDEX('Monthly Cash Flows'!$B62:$EC62,MATCH('Monthly CF'!DM$6,'Monthly Cash Flows'!$B$13:$EC$13))","v":-416.22264564152903},{"$f":"-INDEX('Monthly Cash Flows'!$B62:$EC62,MATCH('Monthly CF'!DN$6,'Monthly Cash Flows'!$B$13:$EC$13))","v":-416.22264564152903},{"$f":"-INDEX('Monthly Cash Flows'!$B62:$EC62,MATCH('Monthly CF'!DO$6,'Monthly Cash Flows'!$B$13:$EC$13))","v":-416.22264564152903},{"$f":"-INDEX('Monthly Cash Flows'!$B62:$EC62,MATCH('Monthly CF'!DP$6,'Monthly Cash Flows'!$B$13:$EC$13))","v":-416.22264564152903},{"$f":"-INDEX('Monthly Cash Flows'!$B62:$EC62,MATCH('Monthly CF'!DQ$6,'Monthly Cash Flows'!$B$13:$EC$13))","v":-416.22264564152903},{"$f":"-INDEX('Monthly Cash Flows'!$B62:$EC62,MATCH('Monthly CF'!DR$6,'Monthly Cash Flows'!$B$13:$EC$13))","v":-416.22264564152903},{"$f":"-INDEX('Monthly Cash Flows'!$B62:$EC62,MATCH('Monthly CF'!DS$6,'Monthly Cash Flows'!$B$13:$EC$13))","v":-416.22264564152903},{"$f":"-INDEX('Monthly Cash Flows'!$B62:$EC62,MATCH('Monthly CF'!DT$6,'Monthly Cash Flows'!$B$13:$EC$13))","v":-416.22264564152903},{"$f":"-INDEX('Monthly Cash Flows'!$B62:$EC62,MATCH('Monthly CF'!DU$6,'Monthly Cash Flows'!$B$13:$EC$13))","v":-428.70932501077493},{"$f":"-INDEX('Monthly Cash Flows'!$B62:$EC62,MATCH('Monthly CF'!DV$6,'Monthly Cash Flows'!$B$13:$EC$13))","v":-428.70932501077493},{"$f":"-INDEX('Monthly Cash Flows'!$B62:$EC62,MATCH('Monthly CF'!DW$6,'Monthly Cash Flows'!$B$13:$EC$13))","v":-428.70932501077493},{"$f":"-INDEX('Monthly Cash Flows'!$B62:$EC62,MATCH('Monthly CF'!DX$6,'Monthly Cash Flows'!$B$13:$EC$13))","v":-428.70932501077493},{"$f":"-INDEX('Monthly Cash Flows'!$B62:$EC62,MATCH('Monthly CF'!DY$6,'Monthly Cash Flows'!$B$13:$EC$13))","v":-428.70932501077493},{"$f":"-INDEX('Monthly Cash Flows'!$B62:$EC62,MATCH('Monthly CF'!DZ$6,'Monthly Cash Flows'!$B$13:$EC$13))","v":-428.70932501077493},{"$f":"-INDEX('Monthly Cash Flows'!$B62:$EC62,MATCH('Monthly CF'!EA$6,'Monthly Cash Flows'!$B$13:$EC$13))","v":-428.70932501077493},{"$f":"-INDEX('Monthly Cash Flows'!$B62:$EC62,MATCH('Monthly CF'!EB$6,'Monthly Cash Flows'!$B$13:$EC$13))","v":-428.70932501077493},{"$f":"-INDEX('Monthly Cash Flows'!$B62:$EC62,MATCH('Monthly CF'!EC$6,'Monthly Cash Flows'!$B$13:$EC$13))","v":-428.70932501077493},{"$f":"-INDEX('Monthly Cash Flows'!$B62:$EC62,MATCH('Monthly CF'!ED$6,'Monthly Cash Flows'!$B$13:$EC$13))","v":-428.70932501077493},{"$f":"-INDEX('Monthly Cash Flows'!$B62:$EC62,MATCH('Monthly CF'!EE$6,'Monthly Cash Flows'!$B$13:$EC$13))","v":-428.70932501077493},{"$f":"-INDEX('Monthly Cash Flows'!$B62:$EC62,MATCH('Monthly CF'!EF$6,'Monthly Cash Flows'!$B$13:$EC$13))","v":-428.70932501077493},{"$f":"-INDEX('Monthly Cash Flows'!$B62:$EC62,MATCH('Monthly CF'!EG$6,'Monthly Cash Flows'!$B$13:$EC$13))","v":-428.70932501077493}]
[null,{"$f":"+'Monthly Cash Flows'!A63","v":"Insurance"},null,null,null,{"$f":"-INDEX('Monthly Cash Flows'!$B63:$EC63,MATCH('Monthly CF'!F$6,'Monthly Cash Flows'!$B$13:$EC$13))","v":-3689.5},{"$f":"-INDEX('Monthly Cash Flows'!$B63:$EC63,MATCH('Monthly CF'!G$6,'Monthly Cash Flows'!$B$13:$EC$13))","v":-3689.5},{"$f":"-INDEX('Monthly Cash Flows'!$B63:$EC63,MATCH('Monthly CF'!H$6,'Monthly Cash Flows'!$B$13:$EC$13))","v":-3689.5},{"$f":"-INDEX('Monthly Cash Flows'!$B63:$EC63,MATCH('Monthly CF'!I$6,'Monthly Cash Flows'!$B$13:$EC$13))","v":-3689.5},{"$f":"-INDEX('Monthly Cash Flows'!$B63:$EC63,MATCH('Monthly CF'!J$6,'Monthly Cash Flows'!$B$13:$EC$13))","v":-3689.5},{"$f":"-INDEX('Monthly Cash Flows'!$B63:$EC63,MATCH('Monthly CF'!K$6,'Monthly Cash Flows'!$B$13:$EC$13))","v":-3689.5},{"$f":"-INDEX('Monthly Cash Flows'!$B63:$EC63,MATCH('Monthly CF'!L$6,'Monthly Cash Flows'!$B$13:$EC$13))","v":-3689.5},{"$f":"-INDEX('Monthly Cash Flows'!$B63:$EC63,MATCH('Monthly CF'!M$6,'Monthly Cash Flows'!$B$13:$EC$13))","v":-3689.5},{"$f":"-INDEX('Monthly Cash Flows'!$B63:$EC63,MATCH('Monthly CF'!N$6,'Monthly Cash Flows'!$B$13:$EC$13))","v":-3689.5},{"$f":"-INDEX('Monthly Cash Flows'!$B63:$EC63,MATCH('Monthly CF'!O$6,'Monthly Cash Flows'!$B$13:$EC$13))","v":-3689.5},{"$f":"-INDEX('Monthly Cash Flows'!$B63:$EC63,MATCH('Monthly CF'!P$6,'Monthly Cash Flows'!$B$13:$EC$13))","v":-3689.5},{"$f":"-INDEX('Monthly Cash Flows'!$B63:$EC63,MATCH('Monthly CF'!Q$6,'Monthly Cash Flows'!$B$13:$EC$13))","v":-3800.1849999999999},{"$f":"-INDEX('Monthly Cash Flows'!$B63:$EC63,MATCH('Monthly CF'!R$6,'Monthly Cash Flows'!$B$13:$EC$13))","v":-3800.1849999999999},{"$f":"-INDEX('Monthly Cash Flows'!$B63:$EC63,MATCH('Monthly CF'!S$6,'Monthly Cash Flows'!$B$13:$EC$13))","v":-3800.1849999999999},{"$f":"-INDEX('Monthly Cash Flows'!$B63:$EC63,MATCH('Monthly CF'!T$6,'Monthly Cash Flows'!$B$13:$EC$13))","v":-3800.1849999999999},{"$f":"-INDEX('Monthly Cash Flows'!$B63:$EC63,MATCH('Monthly CF'!U$6,'Monthly Cash Flows'!$B$13:$EC$13))","v":-3800.1849999999999},{"$f":"-INDEX('Monthly Cash Flows'!$B63:$EC63,MATCH('Monthly CF'!V$6,'Monthly Cash Flows'!$B$13:$EC$13))","v":-3800.1849999999999},{"$f":"-INDEX('Monthly Cash Flows'!$B63:$EC63,MATCH('Monthly CF'!W$6,'Monthly Cash Flows'!$B$13:$EC$13))","v":-3800.1849999999999},{"$f":"-INDEX('Monthly Cash Flows'!$B63:$EC63,MATCH('Monthly CF'!X$6,'Monthly Cash Flows'!$B$13:$EC$13))","v":-3800.1849999999999},{"$f":"-INDEX('Monthly Cash Flows'!$B63:$EC63,MATCH('Monthly CF'!Y$6,'Monthly Cash Flows'!$B$13:$EC$13))","v":-3800.1849999999999},{"$f":"-INDEX('Monthly Cash Flows'!$B63:$EC63,MATCH('Monthly CF'!Z$6,'Monthly Cash Flows'!$B$13:$EC$13))","v":-3800.1849999999999},{"$f":"-INDEX('Monthly Cash Flows'!$B63:$EC63,MATCH('Monthly CF'!AA$6,'Monthly Cash Flows'!$B$13:$EC$13))","v":-3800.1849999999999},{"$f":"-INDEX('Monthly Cash Flows'!$B63:$EC63,MATCH('Monthly CF'!AB$6,'Monthly Cash Flows'!$B$13:$EC$13))","v":-3800.1849999999999},{"$f":"-INDEX('Monthly Cash Flows'!$B63:$EC63,MATCH('Monthly CF'!AC$6,'Monthly Cash Flows'!$B$13:$EC$13))","v":-3914.1905500000003},{"$f":"-INDEX('Monthly Cash Flows'!$B63:$EC63,MATCH('Monthly CF'!AD$6,'Monthly Cash Flows'!$B$13:$EC$13))","v":-3914.1905500000003},{"$f":"-INDEX('Monthly Cash Flows'!$B63:$EC63,MATCH('Monthly CF'!AE$6,'Monthly Cash Flows'!$B$13:$EC$13))","v":-3914.1905500000003},{"$f":"-INDEX('Monthly Cash Flows'!$B63:$EC63,MATCH('Monthly CF'!AF$6,'Monthly Cash Flows'!$B$13:$EC$13))","v":-3914.1905500000003},{"$f":"-INDEX('Monthly Cash Flows'!$B63:$EC63,MATCH('Monthly CF'!AG$6,'Monthly Cash Flows'!$B$13:$EC$13))","v":-3914.1905500000003},{"$f":"-INDEX('Monthly Cash Flows'!$B63:$EC63,MATCH('Monthly CF'!AH$6,'Monthly Cash Flows'!$B$13:$EC$13))","v":-3914.1905500000003},{"$f":"-INDEX('Monthly Cash Flows'!$B63:$EC63,MATCH('Monthly CF'!AI$6,'Monthly Cash Flows'!$B$13:$EC$13))","v":-3914.1905500000003},{"$f":"-INDEX('Monthly Cash Flows'!$B63:$EC63,MATCH('Monthly CF'!AJ$6,'Monthly Cash Flows'!$B$13:$EC$13))","v":-3914.1905500000003},{"$f":"-INDEX('Monthly Cash Flows'!$B63:$EC63,MATCH('Monthly CF'!AK$6,'Monthly Cash Flows'!$B$13:$EC$13))","v":-3914.1905500000003},{"$f":"-INDEX('Monthly Cash Flows'!$B63:$EC63,MATCH('Monthly CF'!AL$6,'Monthly Cash Flows'!$B$13:$EC$13))","v":-3914.1905500000003},{"$f":"-INDEX('Monthly Cash Flows'!$B63:$EC63,MATCH('Monthly CF'!AM$6,'Monthly Cash Flows'!$B$13:$EC$13))","v":-3914.1905500000003},{"$f":"-INDEX('Monthly Cash Flows'!$B63:$EC63,MATCH('Monthly CF'!AN$6,'Monthly Cash Flows'!$B$13:$EC$13))","v":-3914.1905500000003},{"$f":"-INDEX('Monthly Cash Flows'!$B63:$EC63,MATCH('Monthly CF'!AO$6,'Monthly Cash Flows'!$B$13:$EC$13))","v":-4031.6162665000002},{"$f":"-INDEX('Monthly Cash Flows'!$B63:$EC63,MATCH('Monthly CF'!AP$6,'Monthly Cash Flows'!$B$13:$EC$13))","v":-4031.6162665000002},{"$f":"-INDEX('Monthly Cash Flows'!$B63:$EC63,MATCH('Monthly CF'!AQ$6,'Monthly Cash Flows'!$B$13:$EC$13))","v":-4031.6162665000002},{"$f":"-INDEX('Monthly Cash Flows'!$B63:$EC63,MATCH('Monthly CF'!AR$6,'Monthly Cash Flows'!$B$13:$EC$13))","v":-4031.6162665000002},{"$f":"-INDEX('Monthly Cash Flows'!$B63:$EC63,MATCH('Monthly CF'!AS$6,'Monthly Cash Flows'!$B$13:$EC$13))","v":-4031.6162665000002},{"$f":"-INDEX('Monthly Cash Flows'!$B63:$EC63,MATCH('Monthly CF'!AT$6,'Monthly Cash Flows'!$B$13:$EC$13))","v":-4031.6162665000002},{"$f":"-INDEX('Monthly Cash Flows'!$B63:$EC63,MATCH('Monthly CF'!AU$6,'Monthly Cash Flows'!$B$13:$EC$13))","v":-4031.6162665000002},{"$f":"-INDEX('Monthly Cash Flows'!$B63:$EC63,MATCH('Monthly CF'!AV$6,'Monthly Cash Flows'!$B$13:$EC$13))","v":-4031.6162665000002},{"$f":"-INDEX('Monthly Cash Flows'!$B63:$EC63,MATCH('Monthly CF'!AW$6,'Monthly Cash Flows'!$B$13:$EC$13))","v":-4031.6162665000002},{"$f":"-INDEX('Monthly Cash Flows'!$B63:$EC63,MATCH('Monthly CF'!AX$6,'Monthly Cash Flows'!$B$13:$EC$13))","v":-4031.6162665000002},{"$f":"-INDEX('Monthly Cash Flows'!$B63:$EC63,MATCH('Monthly CF'!AY$6,'Monthly Cash Flows'!$B$13:$EC$13))","v":-4031.6162665000002},{"$f":"-INDEX('Monthly Cash Flows'!$B63:$EC63,MATCH('Monthly CF'!AZ$6,'Monthly Cash Flows'!$B$13:$EC$13))","v":-4031.6162665000002},{"$f":"-INDEX('Monthly Cash Flows'!$B63:$EC63,MATCH('Monthly CF'!BA$6,'Monthly Cash Flows'!$B$13:$EC$13))","v":-4152.5647544950007},{"$f":"-INDEX('Monthly Cash Flows'!$B63:$EC63,MATCH('Monthly CF'!BB$6,'Monthly Cash Flows'!$B$13:$EC$13))","v":-4152.5647544950007},{"$f":"-INDEX('Monthly Cash Flows'!$B63:$EC63,MATCH('Monthly CF'!BC$6,'Monthly Cash Flows'!$B$13:$EC$13))","v":-4152.5647544950007},{"$f":"-INDEX('Monthly Cash Flows'!$B63:$EC63,MATCH('Monthly CF'!BD$6,'Monthly Cash Flows'!$B$13:$EC$13))","v":-4152.5647544950007},{"$f":"-INDEX('Monthly Cash Flows'!$B63:$EC63,MATCH('Monthly CF'!BE$6,'Monthly Cash Flows'!$B$13:$EC$13))","v":-4152.5647544950007},{"$f":"-INDEX('Monthly Cash Flows'!$B63:$EC63,MATCH('Monthly CF'!BF$6,'Monthly Cash Flows'!$B$13:$EC$13))","v":-4152.5647544950007},{"$f":"-INDEX('Monthly Cash Flows'!$B63:$EC63,MATCH('Monthly CF'!BG$6,'Monthly Cash Flows'!$B$13:$EC$13))","v":-4152.5647544950007},{"$f":"-INDEX('Monthly Cash Flows'!$B63:$EC63,MATCH('Monthly CF'!BH$6,'Monthly Cash Flows'!$B$13:$EC$13))","v":-4152.5647544950007},{"$f":"-INDEX('Monthly Cash Flows'!$B63:$EC63,MATCH('Monthly CF'!BI$6,'Monthly Cash Flows'!$B$13:$EC$13))","v":-4152.5647544950007},{"$f":"-INDEX('Monthly Cash Flows'!$B63:$EC63,MATCH('Monthly CF'!BJ$6,'Monthly Cash Flows'!$B$13:$EC$13))","v":-4152.5647544950007},{"$f":"-INDEX('Monthly Cash Flows'!$B63:$EC63,MATCH('Monthly CF'!BK$6,'Monthly Cash Flows'!$B$13:$EC$13))","v":-4152.5647544950007},{"$f":"-INDEX('Monthly Cash Flows'!$B63:$EC63,MATCH('Monthly CF'!BL$6,'Monthly Cash Flows'!$B$13:$EC$13))","v":-4152.5647544950007},{"$f":"-INDEX('Monthly Cash Flows'!$B63:$EC63,MATCH('Monthly CF'!BM$6,'Monthly Cash Flows'!$B$13:$EC$13))","v":-4277.1416971298504},{"$f":"-INDEX('Monthly Cash Flows'!$B63:$EC63,MATCH('Monthly CF'!BN$6,'Monthly Cash Flows'!$B$13:$EC$13))","v":-4277.1416971298504},{"$f":"-INDEX('Monthly Cash Flows'!$B63:$EC63,MATCH('Monthly CF'!BO$6,'Monthly Cash Flows'!$B$13:$EC$13))","v":-4277.1416971298504},{"$f":"-INDEX('Monthly Cash Flows'!$B63:$EC63,MATCH('Monthly CF'!BP$6,'Monthly Cash Flows'!$B$13:$EC$13))","v":-4277.1416971298504},{"$f":"-INDEX('Monthly Cash Flows'!$B63:$EC63,MATCH('Monthly CF'!BQ$6,'Monthly Cash Flows'!$B$13:$EC$13))","v":-4277.1416971298504},{"$f":"-INDEX('Monthly Cash Flows'!$B63:$EC63,MATCH('Monthly CF'!BR$6,'Monthly Cash Flows'!$B$13:$EC$13))","v":-4277.1416971298504},{"$f":"-INDEX('Monthly Cash Flows'!$B63:$EC63,MATCH('Monthly CF'!BS$6,'Monthly Cash Flows'!$B$13:$EC$13))","v":-4277.1416971298504},{"$f":"-INDEX('Monthly Cash Flows'!$B63:$EC63,MATCH('Monthly CF'!BT$6,'Monthly Cash Flows'!$B$13:$EC$13))","v":-4277.1416971298504},{"$f":"-INDEX('Monthly Cash Flows'!$B63:$EC63,MATCH('Monthly CF'!BU$6,'Monthly Cash Flows'!$B$13:$EC$13))","v":-4277.1416971298504},{"$f":"-INDEX('Monthly Cash Flows'!$B63:$EC63,MATCH('Monthly CF'!BV$6,'Monthly Cash Flows'!$B$13:$EC$13))","v":-4277.1416971298504},{"$f":"-INDEX('Monthly Cash Flows'!$B63:$EC63,MATCH('Monthly CF'!BW$6,'Monthly Cash Flows'!$B$13:$EC$13))","v":-4277.1416971298504},{"$f":"-INDEX('Monthly Cash Flows'!$B63:$EC63,MATCH('Monthly CF'!BX$6,'Monthly Cash Flows'!$B$13:$EC$13))","v":-4277.1416971298504},{"$f":"-INDEX('Monthly Cash Flows'!$B63:$EC63,MATCH('Monthly CF'!BY$6,'Monthly Cash Flows'!$B$13:$EC$13))","v":-4405.4559480437456},{"$f":"-INDEX('Monthly Cash Flows'!$B63:$EC63,MATCH('Monthly CF'!BZ$6,'Monthly Cash Flows'!$B$13:$EC$13))","v":-4405.4559480437456},{"$f":"-INDEX('Monthly Cash Flows'!$B63:$EC63,MATCH('Monthly CF'!CA$6,'Monthly Cash Flows'!$B$13:$EC$13))","v":-4405.4559480437456},{"$f":"-INDEX('Monthly Cash Flows'!$B63:$EC63,MATCH('Monthly CF'!CB$6,'Monthly Cash Flows'!$B$13:$EC$13))","v":-4405.4559480437456},{"$f":"-INDEX('Monthly Cash Flows'!$B63:$EC63,MATCH('Monthly CF'!CC$6,'Monthly Cash Flows'!$B$13:$EC$13))","v":-4405.4559480437456},{"$f":"-INDEX('Monthly Cash Flows'!$B63:$EC63,MATCH('Monthly CF'!CD$6,'Monthly Cash Flows'!$B$13:$EC$13))","v":-4405.4559480437456},{"$f":"-INDEX('Monthly Cash Flows'!$B63:$EC63,MATCH('Monthly CF'!CE$6,'Monthly Cash Flows'!$B$13:$EC$13))","v":-4405.4559480437456},{"$f":"-INDEX('Monthly Cash Flows'!$B63:$EC63,MATCH('Monthly CF'!CF$6,'Monthly Cash Flows'!$B$13:$EC$13))","v":-4405.4559480437456},{"$f":"-INDEX('Monthly Cash Flows'!$B63:$EC63,MATCH('Monthly CF'!CG$6,'Monthly Cash Flows'!$B$13:$EC$13))","v":-4405.4559480437456},{"$f":"-INDEX('Monthly Cash Flows'!$B63:$EC63,MATCH('Monthly CF'!CH$6,'Monthly Cash Flows'!$B$13:$EC$13))","v":-4405.4559480437456},{"$f":"-INDEX('Monthly Cash Flows'!$B63:$EC63,MATCH('Monthly CF'!CI$6,'Monthly Cash Flows'!$B$13:$EC$13))","v":-4405.4559480437456},{"$f":"-INDEX('Monthly Cash Flows'!$B63:$EC63,MATCH('Monthly CF'!CJ$6,'Monthly Cash Flows'!$B$13:$EC$13))","v":-4405.4559480437456},{"$f":"-INDEX('Monthly Cash Flows'!$B63:$EC63,MATCH('Monthly CF'!CK$6,'Monthly Cash Flows'!$B$13:$EC$13))","v":-4537.6196264850578},{"$f":"-INDEX('Monthly Cash Flows'!$B63:$EC63,MATCH('Monthly CF'!CL$6,'Monthly Cash Flows'!$B$13:$EC$13))","v":-4537.6196264850578},{"$f":"-INDEX('Monthly Cash Flows'!$B63:$EC63,MATCH('Monthly CF'!CM$6,'Monthly Cash Flows'!$B$13:$EC$13))","v":-4537.6196264850578},{"$f":"-INDEX('Monthly Cash Flows'!$B63:$EC63,MATCH('Monthly CF'!CN$6,'Monthly Cash Flows'!$B$13:$EC$13))","v":-4537.6196264850578},{"$f":"-INDEX('Monthly Cash Flows'!$B63:$EC63,MATCH('Monthly CF'!CO$6,'Monthly Cash Flows'!$B$13:$EC$13))","v":-4537.6196264850578},{"$f":"-INDEX('Monthly Cash Flows'!$B63:$EC63,MATCH('Monthly CF'!CP$6,'Monthly Cash Flows'!$B$13:$EC$13))","v":-4537.6196264850578},{"$f":"-INDEX('Monthly Cash Flows'!$B63:$EC63,MATCH('Monthly CF'!CQ$6,'Monthly Cash Flows'!$B$13:$EC$13))","v":-4537.6196264850578},{"$f":"-INDEX('Monthly Cash Flows'!$B63:$EC63,MATCH('Monthly CF'!CR$6,'Monthly Cash Flows'!$B$13:$EC$13))","v":-4537.6196264850578},{"$f":"-INDEX('Monthly Cash Flows'!$B63:$EC63,MATCH('Monthly CF'!CS$6,'Monthly Cash Flows'!$B$13:$EC$13))","v":-4537.6196264850578},{"$f":"-INDEX('Monthly Cash Flows'!$B63:$EC63,MATCH('Monthly CF'!CT$6,'Monthly Cash Flows'!$B$13:$EC$13))","v":-4537.6196264850578},{"$f":"-INDEX('Monthly Cash Flows'!$B63:$EC63,MATCH('Monthly CF'!CU$6,'Monthly Cash Flows'!$B$13:$EC$13))","v":-4537.6196264850578},{"$f":"-INDEX('Monthly Cash Flows'!$B63:$EC63,MATCH('Monthly CF'!CV$6,'Monthly Cash Flows'!$B$13:$EC$13))","v":-4537.6196264850578},{"$f":"-INDEX('Monthly Cash Flows'!$B63:$EC63,MATCH('Monthly CF'!CW$6,'Monthly Cash Flows'!$B$13:$EC$13))","v":-4673.7482152796092},{"$f":"-INDEX('Monthly Cash Flows'!$B63:$EC63,MATCH('Monthly CF'!CX$6,'Monthly Cash Flows'!$B$13:$EC$13))","v":-4673.7482152796092},{"$f":"-INDEX('Monthly Cash Flows'!$B63:$EC63,MATCH('Monthly CF'!CY$6,'Monthly Cash Flows'!$B$13:$EC$13))","v":-4673.7482152796092},{"$f":"-INDEX('Monthly Cash Flows'!$B63:$EC63,MATCH('Monthly CF'!CZ$6,'Monthly Cash Flows'!$B$13:$EC$13))","v":-4673.7482152796092},{"$f":"-INDEX('Monthly Cash Flows'!$B63:$EC63,MATCH('Monthly CF'!DA$6,'Monthly Cash Flows'!$B$13:$EC$13))","v":-4673.7482152796092},{"$f":"-INDEX('Monthly Cash Flows'!$B63:$EC63,MATCH('Monthly CF'!DB$6,'Monthly Cash Flows'!$B$13:$EC$13))","v":-4673.7482152796092},{"$f":"-INDEX('Monthly Cash Flows'!$B63:$EC63,MATCH('Monthly CF'!DC$6,'Monthly Cash Flows'!$B$13:$EC$13))","v":-4673.7482152796092},{"$f":"-INDEX('Monthly Cash Flows'!$B63:$EC63,MATCH('Monthly CF'!DD$6,'Monthly Cash Flows'!$B$13:$EC$13))","v":-4673.7482152796092},{"$f":"-INDEX('Monthly Cash Flows'!$B63:$EC63,MATCH('Monthly CF'!DE$6,'Monthly Cash Flows'!$B$13:$EC$13))","v":-4673.7482152796092},{"$f":"-INDEX('Monthly Cash Flows'!$B63:$EC63,MATCH('Monthly CF'!DF$6,'Monthly Cash Flows'!$B$13:$EC$13))","v":-4673.7482152796092},{"$f":"-INDEX('Monthly Cash Flows'!$B63:$EC63,MATCH('Monthly CF'!DG$6,'Monthly Cash Flows'!$B$13:$EC$13))","v":-4673.7482152796092},{"$f":"-INDEX('Monthly Cash Flows'!$B63:$EC63,MATCH('Monthly CF'!DH$6,'Monthly Cash Flows'!$B$13:$EC$13))","v":-4673.7482152796092},{"$f":"-INDEX('Monthly Cash Flows'!$B63:$EC63,MATCH('Monthly CF'!DI$6,'Monthly Cash Flows'!$B$13:$EC$13))","v":-4813.9606617379977},{"$f":"-INDEX('Monthly Cash Flows'!$B63:$EC63,MATCH('Monthly CF'!DJ$6,'Monthly Cash Flows'!$B$13:$EC$13))","v":-4813.9606617379977},{"$f":"-INDEX('Monthly Cash Flows'!$B63:$EC63,MATCH('Monthly CF'!DK$6,'Monthly Cash Flows'!$B$13:$EC$13))","v":-4813.9606617379977},{"$f":"-INDEX('Monthly Cash Flows'!$B63:$EC63,MATCH('Monthly CF'!DL$6,'Monthly Cash Flows'!$B$13:$EC$13))","v":-4813.9606617379977},{"$f":"-INDEX('Monthly Cash Flows'!$B63:$EC63,MATCH('Monthly CF'!DM$6,'Monthly Cash Flows'!$B$13:$EC$13))","v":-4813.9606617379977},{"$f":"-INDEX('Monthly Cash Flows'!$B63:$EC63,MATCH('Monthly CF'!DN$6,'Monthly Cash Flows'!$B$13:$EC$13))","v":-4813.9606617379977},{"$f":"-INDEX('Monthly Cash Flows'!$B63:$EC63,MATCH('Monthly CF'!DO$6,'Monthly Cash Flows'!$B$13:$EC$13))","v":-4813.9606617379977},{"$f":"-INDEX('Monthly Cash Flows'!$B63:$EC63,MATCH('Monthly CF'!DP$6,'Monthly Cash Flows'!$B$13:$EC$13))","v":-4813.9606617379977},{"$f":"-INDEX('Monthly Cash Flows'!$B63:$EC63,MATCH('Monthly CF'!DQ$6,'Monthly Cash Flows'!$B$13:$EC$13))","v":-4813.9606617379977},{"$f":"-INDEX('Monthly Cash Flows'!$B63:$EC63,MATCH('Monthly CF'!DR$6,'Monthly Cash Flows'!$B$13:$EC$13))","v":-4813.9606617379977},{"$f":"-INDEX('Monthly Cash Flows'!$B63:$EC63,MATCH('Monthly CF'!DS$6,'Monthly Cash Flows'!$B$13:$EC$13))","v":-4813.9606617379977},{"$f":"-INDEX('Monthly Cash Flows'!$B63:$EC63,MATCH('Monthly CF'!DT$6,'Monthly Cash Flows'!$B$13:$EC$13))","v":-4813.9606617379977},{"$f":"-INDEX('Monthly Cash Flows'!$B63:$EC63,MATCH('Monthly CF'!DU$6,'Monthly Cash Flows'!$B$13:$EC$13))","v":-4958.3794815901374},{"$f":"-INDEX('Monthly Cash Flows'!$B63:$EC63,MATCH('Monthly CF'!DV$6,'Monthly Cash Flows'!$B$13:$EC$13))","v":-4958.3794815901374},{"$f":"-INDEX('Monthly Cash Flows'!$B63:$EC63,MATCH('Monthly CF'!DW$6,'Monthly Cash Flows'!$B$13:$EC$13))","v":-4958.3794815901374},{"$f":"-INDEX('Monthly Cash Flows'!$B63:$EC63,MATCH('Monthly CF'!DX$6,'Monthly Cash Flows'!$B$13:$EC$13))","v":-4958.3794815901374},{"$f":"-INDEX('Monthly Cash Flows'!$B63:$EC63,MATCH('Monthly CF'!DY$6,'Monthly Cash Flows'!$B$13:$EC$13))","v":-4958.3794815901374},{"$f":"-INDEX('Monthly Cash Flows'!$B63:$EC63,MATCH('Monthly CF'!DZ$6,'Monthly Cash Flows'!$B$13:$EC$13))","v":-4958.3794815901374},{"$f":"-INDEX('Monthly Cash Flows'!$B63:$EC63,MATCH('Monthly CF'!EA$6,'Monthly Cash Flows'!$B$13:$EC$13))","v":-4958.3794815901374},{"$f":"-INDEX('Monthly Cash Flows'!$B63:$EC63,MATCH('Monthly CF'!EB$6,'Monthly Cash Flows'!$B$13:$EC$13))","v":-4958.3794815901374},{"$f":"-INDEX('Monthly Cash Flows'!$B63:$EC63,MATCH('Monthly CF'!EC$6,'Monthly Cash Flows'!$B$13:$EC$13))","v":-4958.3794815901374},{"$f":"-INDEX('Monthly Cash Flows'!$B63:$EC63,MATCH('Monthly CF'!ED$6,'Monthly Cash Flows'!$B$13:$EC$13))","v":-4958.3794815901374},{"$f":"-INDEX('Monthly Cash Flows'!$B63:$EC63,MATCH('Monthly CF'!EE$6,'Monthly Cash Flows'!$B$13:$EC$13))","v":-4958.3794815901374},{"$f":"-INDEX('Monthly Cash Flows'!$B63:$EC63,MATCH('Monthly CF'!EF$6,'Monthly Cash Flows'!$B$13:$EC$13))","v":-4958.3794815901374},{"$f":"-INDEX('Monthly Cash Flows'!$B63:$EC63,MATCH('Monthly CF'!EG$6,'Monthly Cash Flows'!$B$13:$EC$13))","v":-4958.3794815901374}]
[]
[]
[]
[]
[]
[]
[]
[]
[null,"Total Operating Expenses",null,null,null,{"$f":"SUM(F23:F46)","v":-33928.958333333328},{"$f":"SUM(G23:G46)","v":-33928.958333333328},-33928.958333333328,-33928.958333333328,-33928.958333333328,-33928.958333333328,-33928.958333333328,-33928.958333333328,-33928.958333333328,-33928.958333333328,-33928.958333333328,-34844.563333333332,-34844.563333333332,-34844.563333333332,-34844.563333333332,-34844.563333333332,-34844.563333333332,-34844.563333333332,-34844.563333333332,-34844.563333333332,-34844.563333333332,-34844.563333333332,-34844.563333333332,-35787.636483333335,-35787.636483333335,-35787.636483333335,-35787.636483333335,-35787.636483333335,-35787.636483333335,-35787.636483333335,-35787.636483333335,-35787.636483333335,-35787.636483333335,-35787.636483333335,-35787.636483333335,-36759.001827833337,-36759.001827833337,-36759.001827833337,-36759.001827833337,-36759.001827833337,-36759.001827833337,-36759.001827833337,-36759.001827833337,-36759.001827833337,-36759.001827833337,-36759.001827833337,-36759.001827833337,-37759.508132668328,-37759.508132668328,-37759.508132668328,-37759.508132668328,-37759.508132668328,-37759.508132668328,-37759.508132668328,-37759.508132668328,-37759.508132668328,-37759.508132668328,-37759.508132668328,-37759.508132668328,-38790.029626648393,-38790.029626648393,-38790.029626648393,-38790.029626648393,-38790.029626648393,-38790.029626648393,{"$f":"SUM(BS23:BS46)","v":-38790.029626648393},-38790.029626648393,-38790.029626648393,-38790.029626648393,-38790.029626648393,-38790.029626648393,-39851.466765447833,-39851.466765447833,-39851.466765447833,-39851.466765447833,-39851.466765447833,-39851.466765447833,-39851.466765447833,-39851.466765447833,-39851.466765447833,-39851.466765447833,-39851.466765447833,-39851.466765447833,-40944.747018411275,-40944.747018411275,-40944.747018411275,-40944.747018411275,-40944.747018411275,-40944.747018411275,-40944.747018411275,-40944.747018411275,-40944.747018411275,-40944.747018411275,-40944.747018411275,-40944.747018411275,-42070.825678963614,-42070.825678963614,-42070.825678963614,-42070.825678963614,-42070.825678963614,-42070.825678963614,-42070.825678963614,-42070.825678963614,-42070.825678963614,-42070.825678963614,-42070.825678963614,-42070.825678963614,-43230.686699332524,-43230.686699332524,-43230.686699332524,-43230.686699332524,-43230.686699332524,-43230.686699332524,-43230.686699332524,-43230.686699332524,-43230.686699332524,-43230.686699332524,-43230.686699332524,-43230.686699332524,-44425.343550312493,-44425.343550312493,-44425.343550312493,-44425.343550312493,-44425.343550312493,-44425.343550312493,-44425.343550312493,-44425.343550312493,-44425.343550312493,-44425.343550312493,{"$f":"SUM(EE23:EE46)","v":-44425.343550312493},-44425.343550312493,-44425.343550312493]
[null,null,null,null,null,null,null,null,null,null,null,null,null,null,null,null,null,null,null,null,null,null,null,null,null,null,null,null,null,null,null,null,null,null,null,null,null,null,null,null,null,null,null,null,null,null,null,null,null,null,null,null,null,null,null,null,null,null,null,null,null,null,null,null,null,null,null,null,null,null,null,null,null,null,null,null,null,null,null,null,null,null,null,null,null,null,null,null,null,null,null,null,null,null,null,null,null,null,null,null,null,null,null,null,null,null,null,null,null,null,null,null,null,null,null,null,null,null,null,null,null,null,null,null,null,null,0]
[null,"Net Operating Income",null,null,null,{"$f":"+F20+F47","v":74995.81664513408},74995.81664513408,74995.81664513408,77857.568167796038,77857.568167796038,77857.568167796038,77857.568167796038,79447.430124830455,79447.430124830455,79655.763458163798,80676.596791497141,86642.063717653509,86896.313717653509,86896.313717653509,87319.980384320166,88917.889423029032,95105.622641521855,95105.622641521855,95105.622641521855,96655.622641521884,96655.622641521884,96655.622641521884,96655.622641521884,97610.397763864341,97610.397763864341,97610.397763864341,97610.397763864341,97743.731097197684,97743.731097197684,97743.731097197684,97743.731097197684,98004.064430531027,{"$f":"+AL20+AL47","v":98004.064430531027},98004.064430531027,98004.064430531027,97943.749473210453,97943.749473210453,97943.749473210453,97943.749473210453,97943.749473210453,97943.749473210453,97943.749473210453,97943.749473210453,97943.749473210453,97943.749473210453,97943.749473210453,97943.749473210453,97881.625067170244,98798.29173383693,98798.29173383693,98798.29173383693,98798.29173383693,98798.29173383693,98798.29173383693,98798.29173383693,98798.29173383693,98798.29173383693,98798.29173383693,98798.29173383693,98734.303595615507,99484.303595615507,99484.303595615507,99484.303595615507,99484.303595615507,{"$f":"+BR20+BR47","v":99484.303595615507},99484.303595615507,99484.303595615507,99484.303595615507,99484.303595615507,99775.970262282193,101245.97026228219,101180.06247991417,101513.06247991417,101513.06247991417,101513.06247991417,101513.06247991417,101513.06247991417,101513.06247991417,101513.06247991417,101513.06247991417,101513.06247991417,101513.06247991417,101513.06247991417,101445.17746407508,101445.17746407508,101445.17746407508,101445.17746407508,101445.17746407508,101445.17746407508,101445.17746407508,101445.17746407508,101445.17746407508,101445.17746407508,101445.17746407508,101445.17746407508,101375.2558977608,{"$f":"+CX20+CX47","v":101375.2558977608},101375.2558977608,101375.2558977608,101375.2558977608,101375.2558977608,101375.2558977608,101375.2558977608,101375.2558977608,101375.2558977608,101375.2558977608,101375.2558977608,101303.23668445714,102219.90335112379,102219.90335112379,102219.90335112379,102219.90335112379,102219.90335112379,102219.90335112379,102219.90335112379,102219.90335112379,102219.90335112379,102219.90335112379,102219.90335112379,102145.72356142102,102145.72356142102,102145.72356142102,102145.72356142102,102145.72356142102,102145.72356142102,102145.72356142102,102145.72356142102,102145.72356142102,102145.72356142102,102145.72356142102,102145.72356142102,102145.72356142102]
[]
[null,"LEASING & CAPITAL COSTS"]
[null,{"$f":"+'Monthly Cash Flows'!A70","v":"  Tenant Improvements"},null,null,null,{"$f":"INDEX('Monthly Cash Flows'!$B70:$EC70,MATCH('Monthly CF'!F$6,'Monthly Cash Flows'!$B$13:$EC$13))","v":0},{"$f":"INDEX('Monthly Cash Flows'!$B70:$EC70,MATCH('Monthly CF'!G$6,'Monthly Cash Flows'!$B$13:$EC$13))","v":0},{"$f":"INDEX('Monthly Cash Flows'!$B70:$EC70,MATCH('Monthly CF'!H$6,'Monthly Cash Flows'!$B$13:$EC$13))","v":0},{"$f":"INDEX('Monthly Cash Flows'!$B70:$EC70,MATCH('Monthly CF'!I$6,'Monthly Cash Flows'!$B$13:$EC$13))","v":0},{"$f":"INDEX('Monthly Cash Flows'!$B70:$EC70,MATCH('Monthly CF'!J$6,'Monthly Cash Flows'!$B$13:$EC$13))","v":0},{"$f":"INDEX('Monthly Cash Flows'!$B70:$EC70,MATCH('Monthly CF'!K$6,'Monthly Cash Flows'!$B$13:$EC$13))","v":0},{"$f":"INDEX('Monthly Cash Flows'!$B70:$EC70,MATCH('Monthly CF'!L$6,'Monthly Cash Flows'!$B$13:$EC$13))","v":0},{"$f":"INDEX('Monthly Cash Flows'!$B70:$EC70,MATCH('Monthly CF'!M$6,'Monthly Cash Flows'!$B$13:$EC$13))","v":0},{"$f":"INDEX('Monthly Cash Flows'!$B70:$EC70,MATCH('Monthly CF'!N$6,'Monthly Cash Flows'!$B$13:$EC$13))","v":0},{"$f":"INDEX('Monthly Cash Flows'!$B70:$EC70,MATCH('Monthly CF'!O$6,'Monthly Cash Flows'!$B$13:$EC$13))","v":0},{"$f":"INDEX('Monthly Cash Flows'!$B70:$EC70,MATCH('Monthly CF'!P$6,'Monthly Cash Flows'!$B$13:$EC$13))","v":0},{"$f":"INDEX('Monthly Cash Flows'!$B70:$EC70,MATCH('Monthly CF'!Q$6,'Monthly Cash Flows'!$B$13:$EC$13))","v":0},{"$f":"INDEX('Monthly Cash Flows'!$B70:$EC70,MATCH('Monthly CF'!R$6,'Monthly Cash Flows'!$B$13:$EC$13))","v":0},{"$f":"INDEX('Monthly Cash Flows'!$B70:$EC70,MATCH('Monthly CF'!S$6,'Monthly Cash Flows'!$B$13:$EC$13))","v":0},{"$f":"INDEX('Monthly Cash Flows'!$B70:$EC70,MATCH('Monthly CF'!T$6,'Monthly Cash Flows'!$B$13:$EC$13))","v":0},{"$f":"INDEX('Monthly Cash Flows'!$B70:$EC70,MATCH('Monthly CF'!U$6,'Monthly Cash Flows'!$B$13:$EC$13))","v":0},{"$f":"INDEX('Monthly Cash Flows'!$B70:$EC70,MATCH('Monthly CF'!V$6,'Monthly Cash Flows'!$B$13:$EC$13))","v":0},{"$f":"INDEX('Monthly Cash Flows'!$B70:$EC70,MATCH('Monthly CF'!W$6,'Monthly Cash Flows'!$B$13:$EC$13))","v":0},{"$f":"INDEX('Monthly Cash Flows'!$B70:$EC70,MATCH('Monthly CF'!X$6,'Monthly Cash Flows'!$B$13:$EC$13))","v":0},{"$f":"INDEX('Monthly Cash Flows'!$B70:$EC70,MATCH('Monthly CF'!Y$6,'Monthly Cash Flows'!$B$13:$EC$13))","v":0},{"$f":"INDEX('Monthly Cash Flows'!$B70:$EC70,MATCH('Monthly CF'!Z$6,'Monthly Cash Flows'!$B$13:$EC$13))","v":0},{"$f":"INDEX('Monthly Cash Flows'!$B70:$EC70,MATCH('Monthly CF'!AA$6,'Monthly Cash Flows'!$B$13:$EC$13))","v":0},{"$f":"INDEX('Monthly Cash Flows'!$B70:$EC70,MATCH('Monthly CF'!AB$6,'Monthly Cash Flows'!$B$13:$EC$13))","v":0},{"$f":"INDEX('Monthly Cash Flows'!$B70:$EC70,MATCH('Monthly CF'!AC$6,'Monthly Cash Flows'!$B$13:$EC$13))","v":0},{"$f":"INDEX('Monthly Cash Flows'!$B70:$EC70,MATCH('Monthly CF'!AD$6,'Monthly Cash Flows'!$B$13:$EC$13))","v":0},{"$f":"INDEX('Monthly Cash Flows'!$B70:$EC70,MATCH('Monthly CF'!AE$6,'Monthly Cash Flows'!$B$13:$EC$13))","v":0},{"$f":"INDEX('Monthly Cash Flows'!$B70:$EC70,MATCH('Monthly CF'!AF$6,'Monthly Cash Flows'!$B$13:$EC$13))","v":0},{"$f":"INDEX('Monthly Cash Flows'!$B70:$EC70,MATCH('Monthly CF'!AG$6,'Monthly Cash Flows'!$B$13:$EC$13))","v":0},{"$f":"INDEX('Monthly Cash Flows'!$B70:$EC70,MATCH('Monthly CF'!AH$6,'Monthly Cash Flows'!$B$13:$EC$13))","v":0},{"$f":"INDEX('Monthly Cash Flows'!$B70:$EC70,MATCH('Monthly CF'!AI$6,'Monthly Cash Flows'!$B$13:$EC$13))","v":0},{"$f":"INDEX('Monthly Cash Flows'!$B70:$EC70,MATCH('Monthly CF'!AJ$6,'Monthly Cash Flows'!$B$13:$EC$13))","v":0},{"$f":"INDEX('Monthly Cash Flows'!$B70:$EC70,MATCH('Monthly CF'!AK$6,'Monthly Cash Flows'!$B$13:$EC$13))","v":0},{"$f":"INDEX('Monthly Cash Flows'!$B70:$EC70,MATCH('Monthly CF'!AL$6,'Monthly Cash Flows'!$B$13:$EC$13))","v":0},{"$f":"INDEX('Monthly Cash Flows'!$B70:$EC70,MATCH('Monthly CF'!AM$6,'Monthly Cash Flows'!$B$13:$EC$13))","v":0},{"$f":"INDEX('Monthly Cash Flows'!$B70:$EC70,MATCH('Monthly CF'!AN$6,'Monthly Cash Flows'!$B$13:$EC$13))","v":0},{"$f":"INDEX('Monthly Cash Flows'!$B70:$EC70,MATCH('Monthly CF'!AO$6,'Monthly Cash Flows'!$B$13:$EC$13))","v":0},{"$f":"INDEX('Monthly Cash Flows'!$B70:$EC70,MATCH('Monthly CF'!AP$6,'Monthly Cash Flows'!$B$13:$EC$13))","v":0},{"$f":"INDEX('Monthly Cash Flows'!$B70:$EC70,MATCH('Monthly CF'!AQ$6,'Monthly Cash Flows'!$B$13:$EC$13))","v":0},{"$f":"INDEX('Monthly Cash Flows'!$B70:$EC70,MATCH('Monthly CF'!AR$6,'Monthly Cash Flows'!$B$13:$EC$13))","v":0},{"$f":"INDEX('Monthly Cash Flows'!$B70:$EC70,MATCH('Monthly CF'!AS$6,'Monthly Cash Flows'!$B$13:$EC$13))","v":0},{"$f":"INDEX('Monthly Cash Flows'!$B70:$EC70,MATCH('Monthly CF'!AT$6,'Monthly Cash Flows'!$B$13:$EC$13))","v":0},{"$f":"INDEX('Monthly Cash Flows'!$B70:$EC70,MATCH('Monthly CF'!AU$6,'Monthly Cash Flows'!$B$13:$EC$13))","v":0},{"$f":"INDEX('Monthly Cash Flows'!$B70:$EC70,MATCH('Monthly CF'!AV$6,'Monthly Cash Flows'!$B$13:$EC$13))","v":0},{"$f":"INDEX('Monthly Cash Flows'!$B70:$EC70,MATCH('Monthly CF'!AW$6,'Monthly Cash Flows'!$B$13:$EC$13))","v":0},{"$f":"INDEX('Monthly Cash Flows'!$B70:$EC70,MATCH('Monthly CF'!AX$6,'Monthly Cash Flows'!$B$13:$EC$13))","v":0},{"$f":"INDEX('Monthly Cash Flows'!$B70:$EC70,MATCH('Monthly CF'!AY$6,'Monthly Cash Flows'!$B$13:$EC$13))","v":0},{"$f":"INDEX('Monthly Cash Flows'!$B70:$EC70,MATCH('Monthly CF'!AZ$6,'Monthly Cash Flows'!$B$13:$EC$13))","v":0},{"$f":"INDEX('Monthly Cash Flows'!$B70:$EC70,MATCH('Monthly CF'!BA$6,'Monthly Cash Flows'!$B$13:$EC$13))","v":0},{"$f":"INDEX('Monthly Cash Flows'!$B70:$EC70,MATCH('Monthly CF'!BB$6,'Monthly Cash Flows'!$B$13:$EC$13))","v":0},{"$f":"INDEX('Monthly Cash Flows'!$B70:$EC70,MATCH('Monthly CF'!BC$6,'Monthly Cash Flows'!$B$13:$EC$13))","v":0},{"$f":"INDEX('Monthly Cash Flows'!$B70:$EC70,MATCH('Monthly CF'!BD$6,'Monthly Cash Flows'!$B$13:$EC$13))","v":0},{"$f":"INDEX('Monthly Cash Flows'!$B70:$EC70,MATCH('Monthly CF'!BE$6,'Monthly Cash Flows'!$B$13:$EC$13))","v":0},{"$f":"INDEX('Monthly Cash Flows'!$B70:$EC70,MATCH('Monthly CF'!BF$6,'Monthly Cash Flows'!$B$13:$EC$13))","v":0},{"$f":"INDEX('Monthly Cash Flows'!$B70:$EC70,MATCH('Monthly CF'!BG$6,'Monthly Cash Flows'!$B$13:$EC$13))","v":0},{"$f":"INDEX('Monthly Cash Flows'!$B70:$EC70,MATCH('Monthly CF'!BH$6,'Monthly Cash Flows'!$B$13:$EC$13))","v":0},{"$f":"INDEX('Monthly Cash Flows'!$B70:$EC70,MATCH('Monthly CF'!BI$6,'Monthly Cash Flows'!$B$13:$EC$13))","v":0},{"$f":"INDEX('Monthly Cash Flows'!$B70:$EC70,MATCH('Monthly CF'!BJ$6,'Monthly Cash Flows'!$B$13:$EC$13))","v":0},{"$f":"INDEX('Monthly Cash Flows'!$B70:$EC70,MATCH('Monthly CF'!BK$6,'Monthly Cash Flows'!$B$13:$EC$13))","v":0},{"$f":"INDEX('Monthly Cash Flows'!$B70:$EC70,MATCH('Monthly CF'!BL$6,'Monthly Cash Flows'!$B$13:$EC$13))","v":0},{"$f":"INDEX('Monthly Cash Flows'!$B70:$EC70,MATCH('Monthly CF'!BM$6,'Monthly Cash Flows'!$B$13:$EC$13))","v":0},{"$f":"INDEX('Monthly Cash Flows'!$B70:$EC70,MATCH('Monthly CF'!BN$6,'Monthly Cash Flows'!$B$13:$EC$13))","v":0},{"$f":"INDEX('Monthly Cash Flows'!$B70:$EC70,MATCH('Monthly CF'!BO$6,'Monthly Cash Flows'!$B$13:$EC$13))","v":0},{"$f":"INDEX('Monthly Cash Flows'!$B70:$EC70,MATCH('Monthly CF'!BP$6,'Monthly Cash Flows'!$B$13:$EC$13))","v":0},{"$f":"INDEX('Monthly Cash Flows'!$B70:$EC70,MATCH('Monthly CF'!BQ$6,'Monthly Cash Flows'!$B$13:$EC$13))","v":0},{"$f":"INDEX('Monthly Cash Flows'!$B70:$EC70,MATCH('Monthly CF'!BR$6,'Monthly Cash Flows'!$B$13:$EC$13))","v":0},{"$f":"INDEX('Monthly Cash Flows'!$B70:$EC70,MATCH('Monthly CF'!BS$6,'Monthly Cash Flows'!$B$13:$EC$13))","v":0},{"$f":"INDEX('Monthly Cash Flows'!$B70:$EC70,MATCH('Monthly CF'!BT$6,'Monthly Cash Flows'!$B$13:$EC$13))","v":0},{"$f":"INDEX('Monthly Cash Flows'!$B70:$EC70,MATCH('Monthly CF'!BU$6,'Monthly Cash Flows'!$B$13:$EC$13))","v":0},{"$f":"INDEX('Monthly Cash Flows'!$B70:$EC70,MATCH('Monthly CF'!BV$6,'Monthly Cash Flows'!$B$13:$EC$13))","v":0},{"$f":"INDEX('Monthly Cash Flows'!$B70:$EC70,MATCH('Monthly CF'!BW$6,'Monthly Cash Flows'!$B$13:$EC$13))","v":0},{"$f":"INDEX('Monthly Cash Flows'!$B70:$EC70,MATCH('Monthly CF'!BX$6,'Monthly Cash Flows'!$B$13:$EC$13))","v":0},{"$f":"INDEX('Monthly Cash Flows'!$B70:$EC70,MATCH('Monthly CF'!BY$6,'Monthly Cash Flows'!$B$13:$EC$13))","v":0},{"$f":"INDEX('Monthly Cash Flows'!$B70:$EC70,MATCH('Monthly CF'!BZ$6,'Monthly Cash Flows'!$B$13:$EC$13))","v":0},{"$f":"INDEX('Monthly Cash Flows'!$B70:$EC70,MATCH('Monthly CF'!CA$6,'Monthly Cash Flows'!$B$13:$EC$13))","v":0},{"$f":"INDEX('Monthly Cash Flows'!$B70:$EC70,MATCH('Monthly CF'!CB$6,'Monthly Cash Flows'!$B$13:$EC$13))","v":0},{"$f":"INDEX('Monthly Cash Flows'!$B70:$EC70,MATCH('Monthly CF'!CC$6,'Monthly Cash Flows'!$B$13:$EC$13))","v":0},{"$f":"INDEX('Monthly Cash Flows'!$B70:$EC70,MATCH('Monthly CF'!CD$6,'Monthly Cash Flows'!$B$13:$EC$13))","v":0},{"$f":"INDEX('Monthly Cash Flows'!$B70:$EC70,MATCH('Monthly CF'!CE$6,'Monthly Cash Flows'!$B$13:$EC$13))","v":0},{"$f":"INDEX('Monthly Cash Flows'!$B70:$EC70,MATCH('Monthly CF'!CF$6,'Monthly Cash Flows'!$B$13:$EC$13))","v":0},{"$f":"INDEX('Monthly Cash Flows'!$B70:$EC70,MATCH('Monthly CF'!CG$6,'Monthly Cash Flows'!$B$13:$EC$13))","v":0},{"$f":"INDEX('Monthly Cash Flows'!$B70:$EC70,MATCH('Monthly CF'!CH$6,'Monthly Cash Flows'!$B$13:$EC$13))","v":0},{"$f":"INDEX('Monthly Cash Flows'!$B70:$EC70,MATCH('Monthly CF'!CI$6,'Monthly Cash Flows'!$B$13:$EC$13))","v":0},{"$f":"INDEX('Monthly Cash Flows'!$B70:$EC70,MATCH('Monthly CF'!CJ$6,'Monthly Cash Flows'!$B$13:$EC$13))","v":0},{"$f":"INDEX('Monthly Cash Flows'!$B70:$EC70,MATCH('Monthly CF'!CK$6,'Monthly Cash Flows'!$B$13:$EC$13))","v":0},{"$f":"INDEX('Monthly Cash Flows'!$B70:$EC70,MATCH('Monthly CF'!CL$6,'Monthly Cash Flows'!$B$13:$EC$13))","v":0},{"$f":"INDEX('Monthly Cash Flows'!$B70:$EC70,MATCH('Monthly CF'!CM$6,'Monthly Cash Flows'!$B$13:$EC$13))","v":0},{"$f":"INDEX('Monthly Cash Flows'!$B70:$EC70,MATCH('Monthly CF'!CN$6,'Monthly Cash Flows'!$B$13:$EC$13))","v":0},{"$f":"INDEX('Monthly Cash Flows'!$B70:$EC70,MATCH('Monthly CF'!CO$6,'Monthly Cash Flows'!$B$13:$EC$13))","v":0},{"$f":"INDEX('Monthly Cash Flows'!$B70:$EC70,MATCH('Monthly CF'!CP$6,'Monthly Cash Flows'!$B$13:$EC$13))","v":0},{"$f":"INDEX('Monthly Cash Flows'!$B70:$EC70,MATCH('Monthly CF'!CQ$6,'Monthly Cash Flows'!$B$13:$EC$13))","v":0},{"$f":"INDEX('Monthly Cash Flows'!$B70:$EC70,MATCH('Monthly CF'!CR$6,'Monthly Cash Flows'!$B$13:$EC$13))","v":0},{"$f":"INDEX('Monthly Cash Flows'!$B70:$EC70,MATCH('Monthly CF'!CS$6,'Monthly Cash Flows'!$B$13:$EC$13))","v":0},{"$f":"INDEX('Monthly Cash Flows'!$B70:$EC70,MATCH('Monthly CF'!CT$6,'Monthly Cash Flows'!$B$13:$EC$13))","v":0},{"$f":"INDEX('Monthly Cash Flows'!$B70:$EC70,MATCH('Monthly CF'!CU$6,'Monthly Cash Flows'!$B$13:$EC$13))","v":0},{"$f":"INDEX('Monthly Cash Flows'!$B70:$EC70,MATCH('Monthly CF'!CV$6,'Monthly Cash Flows'!$B$13:$EC$13))","v":0},{"$f":"INDEX('Monthly Cash Flows'!$B70:$EC70,MATCH('Monthly CF'!CW$6,'Monthly Cash Flows'!$B$13:$EC$13))","v":0},{"$f":"INDEX('Monthly Cash Flows'!$B70:$EC70,MATCH('Monthly CF'!CX$6,'Monthly Cash Flows'!$B$13:$EC$13))","v":0},{"$f":"INDEX('Monthly Cash Flows'!$B70:$EC70,MATCH('Monthly CF'!CY$6,'Monthly Cash Flows'!$B$13:$EC$13))","v":0},{"$f":"INDEX('Monthly Cash Flows'!$B70:$EC70,MATCH('Monthly CF'!CZ$6,'Monthly Cash Flows'!$B$13:$EC$13))","v":0},{"$f":"INDEX('Monthly Cash Flows'!$B70:$EC70,MATCH('Monthly CF'!DA$6,'Monthly Cash Flows'!$B$13:$EC$13))","v":0},{"$f":"INDEX('Monthly Cash Flows'!$B70:$EC70,MATCH('Monthly CF'!DB$6,'Monthly Cash Flows'!$B$13:$EC$13))","v":0},{"$f":"INDEX('Monthly Cash Flows'!$B70:$EC70,MATCH('Monthly CF'!DC$6,'Monthly Cash Flows'!$B$13:$EC$13))","v":0},{"$f":"INDEX('Monthly Cash Flows'!$B70:$EC70,MATCH('Monthly CF'!DD$6,'Monthly Cash Flows'!$B$13:$EC$13))","v":0},{"$f":"INDEX('Monthly Cash Flows'!$B70:$EC70,MATCH('Monthly CF'!DE$6,'Monthly Cash Flows'!$B$13:$EC$13))","v":0},{"$f":"INDEX('Monthly Cash Flows'!$B70:$EC70,MATCH('Monthly CF'!DF$6,'Monthly Cash Flows'!$B$13:$EC$13))","v":0},{"$f":"INDEX('Monthly Cash Flows'!$B70:$EC70,MATCH('Monthly CF'!DG$6,'Monthly Cash Flows'!$B$13:$EC$13))","v":0},{"$f":"INDEX('Monthly Cash Flows'!$B70:$EC70,MATCH('Monthly CF'!DH$6,'Monthly Cash Flows'!$B$13:$EC$13))","v":0},{"$f":"INDEX('Monthly Cash Flows'!$B70:$EC70,MATCH('Monthly CF'!DI$6,'Monthly Cash Flows'!$B$13:$EC$13))","v":0},{"$f":"INDEX('Monthly Cash Flows'!$B70:$EC70,MATCH('Monthly CF'!DJ$6,'Monthly Cash Flows'!$B$13:$EC$13))","v":0},{"$f":"INDEX('Monthly Cash Flows'!$B70:$EC70,MATCH('Monthly CF'!DK$6,'Monthly Cash Flows'!$B$13:$EC$13))","v":0},{"$f":"INDEX('Monthly Cash Flows'!$B70:$EC70,MATCH('Monthly CF'!DL$6,'Monthly Cash Flows'!$B$13:$EC$13))","v":0},{"$f":"INDEX('Monthly Cash Flows'!$B70:$EC70,MATCH('Monthly CF'!DM$6,'Monthly Cash Flows'!$B$13:$EC$13))","v":0},{"$f":"INDEX('Monthly Cash Flows'!$B70:$EC70,MATCH('Monthly CF'!DN$6,'Monthly Cash Flows'!$B$13:$EC$13))","v":0},{"$f":"INDEX('Monthly Cash Flows'!$B70:$EC70,MATCH('Monthly CF'!DO$6,'Monthly Cash Flows'!$B$13:$EC$13))","v":0},{"$f":"INDEX('Monthly Cash Flows'!$B70:$EC70,MATCH('Monthly CF'!DP$6,'Monthly Cash Flows'!$B$13:$EC$13))","v":0},{"$f":"INDEX('Monthly Cash Flows'!$B70:$EC70,MATCH('Monthly CF'!DQ$6,'Monthly Cash Flows'!$B$13:$EC$13))","v":0},{"$f":"INDEX('Monthly Cash Flows'!$B70:$EC70,MATCH('Monthly CF'!DR$6,'Monthly Cash Flows'!$B$13:$EC$13))","v":0},{"$f":"INDEX('Monthly Cash Flows'!$B70:$EC70,MATCH('Monthly CF'!DS$6,'Monthly Cash Flows'!$B$13:$EC$13))","v":0},{"$f":"INDEX('Monthly Cash Flows'!$B70:$EC70,MATCH('Monthly CF'!DT$6,'Monthly Cash Flows'!$B$13:$EC$13))","v":0},{"$f":"INDEX('Monthly Cash Flows'!$B70:$EC70,MATCH('Monthly CF'!DU$6,'Monthly Cash Flows'!$B$13:$EC$13))","v":0},{"$f":"INDEX('Monthly Cash Flows'!$B70:$EC70,MATCH('Monthly CF'!DV$6,'Monthly Cash Flows'!$B$13:$EC$13))","v":0},{"$f":"INDEX('Monthly Cash Flows'!$B70:$EC70,MATCH('Monthly CF'!DW$6,'Monthly Cash Flows'!$B$13:$EC$13))","v":0},{"$f":"INDEX('Monthly Cash Flows'!$B70:$EC70,MATCH('Monthly CF'!DX$6,'Monthly Cash Flows'!$B$13:$EC$13))","v":0},{"$f":"INDEX('Monthly Cash Flows'!$B70:$EC70,MATCH('Monthly CF'!DY$6,'Monthly Cash Flows'!$B$13:$EC$13))","v":0},{"$f":"INDEX('Monthly Cash Flows'!$B70:$EC70,MATCH('Monthly CF'!DZ$6,'Monthly Cash Flows'!$B$13:$EC$13))","v":0},{"$f":"INDEX('Monthly Cash Flows'!$B70:$EC70,MATCH('Monthly CF'!EA$6,'Monthly Cash Flows'!$B$13:$EC$13))","v":0},{"$f":"INDEX('Monthly Cash Flows'!$B70:$EC70,MATCH('Monthly CF'!EB$6,'Monthly Cash Flows'!$B$13:$EC$13))","v":0},{"$f":"INDEX('Monthly Cash Flows'!$B70:$EC70,MATCH('Monthly CF'!EC$6,'Monthly Cash Flows'!$B$13:$EC$13))","v":0},{"$f":"INDEX('Monthly Cash Flows'!$B70:$EC70,MATCH('Monthly CF'!ED$6,'Monthly Cash Flows'!$B$13:$EC$13))","v":0},{"$f":"INDEX('Monthly Cash Flows'!$B70:$EC70,MATCH('Monthly CF'!EE$6,'Monthly Cash Flows'!$B$13:$EC$13))","v":0},{"$f":"INDEX('Monthly Cash Flows'!$B70:$EC70,MATCH('Monthly CF'!EF$6,'Monthly Cash Flows'!$B$13:$EC$13))","v":0},{"$f":"INDEX('Monthly Cash Flows'!$B70:$EC70,MATCH('Monthly CF'!EG$6,'Monthly Cash Flows'!$B$13:$EC$13))","v":0}]
[null,{"$f":"+'Monthly Cash Flows'!A71","v":"  Leasing Commissions"},null,null,null,{"$f":"INDEX('Monthly Cash Flows'!$B71:$EC71,MATCH('Monthly CF'!F$6,'Monthly Cash Flows'!$B$13:$EC$13))","v":0},{"$f":"INDEX('Monthly Cash Flows'!$B71:$EC71,MATCH('Monthly CF'!G$6,'Monthly Cash Flows'!$B$13:$EC$13))","v":0},{"$f":"INDEX('Monthly Cash Flows'!$B71:$EC71,MATCH('Monthly CF'!H$6,'Monthly Cash Flows'!$B$13:$EC$13))","v":0},{"$f":"INDEX('Monthly Cash Flows'!$B71:$EC71,MATCH('Monthly CF'!I$6,'Monthly Cash Flows'!$B$13:$EC$13))","v":7290},{"$f":"INDEX('Monthly Cash Flows'!$B71:$EC71,MATCH('Monthly CF'!J$6,'Monthly Cash Flows'!$B$13:$EC$13))","v":0},{"$f":"INDEX('Monthly Cash Flows'!$B71:$EC71,MATCH('Monthly CF'!K$6,'Monthly Cash Flows'!$B$13:$EC$13))","v":0},{"$f":"INDEX('Monthly Cash Flows'!$B71:$EC71,MATCH('Monthly CF'!L$6,'Monthly Cash Flows'!$B$13:$EC$13))","v":0},{"$f":"INDEX('Monthly Cash Flows'!$B71:$EC71,MATCH('Monthly CF'!M$6,'Monthly Cash Flows'!$B$13:$EC$13))","v":4050},{"$f":"INDEX('Monthly Cash Flows'!$B71:$EC71,MATCH('Monthly CF'!N$6,'Monthly Cash Flows'!$B$13:$EC$13))","v":0},{"$f":"INDEX('Monthly Cash Flows'!$B71:$EC71,MATCH('Monthly CF'!O$6,'Monthly Cash Flows'!$B$13:$EC$13))","v":0},{"$f":"INDEX('Monthly Cash Flows'!$B71:$EC71,MATCH('Monthly CF'!P$6,'Monthly Cash Flows'!$B$13:$EC$13))","v":0},{"$f":"INDEX('Monthly Cash Flows'!$B71:$EC71,MATCH('Monthly CF'!Q$6,'Monthly Cash Flows'!$B$13:$EC$13))","v":12330},{"$f":"INDEX('Monthly Cash Flows'!$B71:$EC71,MATCH('Monthly CF'!R$6,'Monthly Cash Flows'!$B$13:$EC$13))","v":0},{"$f":"INDEX('Monthly Cash Flows'!$B71:$EC71,MATCH('Monthly CF'!S$6,'Monthly Cash Flows'!$B$13:$EC$13))","v":0},{"$f":"INDEX('Monthly Cash Flows'!$B71:$EC71,MATCH('Monthly CF'!T$6,'Monthly Cash Flows'!$B$13:$EC$13))","v":0},{"$f":"INDEX('Monthly Cash Flows'!$B71:$EC71,MATCH('Monthly CF'!U$6,'Monthly Cash Flows'!$B$13:$EC$13))","v":4050},{"$f":"INDEX('Monthly Cash Flows'!$B71:$EC71,MATCH('Monthly CF'!V$6,'Monthly Cash Flows'!$B$13:$EC$13))","v":6600},{"$f":"INDEX('Monthly Cash Flows'!$B71:$EC71,MATCH('Monthly CF'!W$6,'Monthly Cash Flows'!$B$13:$EC$13))","v":0},{"$f":"INDEX('Monthly Cash Flows'!$B71:$EC71,MATCH('Monthly CF'!X$6,'Monthly Cash Flows'!$B$13:$EC$13))","v":0},{"$f":"INDEX('Monthly Cash Flows'!$B71:$EC71,MATCH('Monthly CF'!Y$6,'Monthly Cash Flows'!$B$13:$EC$13))","v":0},{"$f":"INDEX('Monthly Cash Flows'!$B71:$EC71,MATCH('Monthly CF'!Z$6,'Monthly Cash Flows'!$B$13:$EC$13))","v":0},{"$f":"INDEX('Monthly Cash Flows'!$B71:$EC71,MATCH('Monthly CF'!AA$6,'Monthly Cash Flows'!$B$13:$EC$13))","v":0},{"$f":"INDEX('Monthly Cash Flows'!$B71:$EC71,MATCH('Monthly CF'!AB$6,'Monthly Cash Flows'!$B$13:$EC$13))","v":0},{"$f":"INDEX('Monthly Cash Flows'!$B71:$EC71,MATCH('Monthly CF'!AC$6,'Monthly Cash Flows'!$B$13:$EC$13))","v":0},{"$f":"INDEX('Monthly Cash Flows'!$B71:$EC71,MATCH('Monthly CF'!AD$6,'Monthly Cash Flows'!$B$13:$EC$13))","v":0},{"$f":"INDEX('Monthly Cash Flows'!$B71:$EC71,MATCH('Monthly CF'!AE$6,'Monthly Cash Flows'!$B$13:$EC$13))","v":0},{"$f":"INDEX('Monthly Cash Flows'!$B71:$EC71,MATCH('Monthly CF'!AF$6,'Monthly Cash Flows'!$B$13:$EC$13))","v":0},{"$f":"INDEX('Monthly Cash Flows'!$B71:$EC71,MATCH('Monthly CF'!AG$6,'Monthly Cash Flows'!$B$13:$EC$13))","v":0},{"$f":"INDEX('Monthly Cash Flows'!$B71:$EC71,MATCH('Monthly CF'!AH$6,'Monthly Cash Flows'!$B$13:$EC$13))","v":0},{"$f":"INDEX('Monthly Cash Flows'!$B71:$EC71,MATCH('Monthly CF'!AI$6,'Monthly Cash Flows'!$B$13:$EC$13))","v":0},{"$f":"INDEX('Monthly Cash Flows'!$B71:$EC71,MATCH('Monthly CF'!AJ$6,'Monthly Cash Flows'!$B$13:$EC$13))","v":0},{"$f":"INDEX('Monthly Cash Flows'!$B71:$EC71,MATCH('Monthly CF'!AK$6,'Monthly Cash Flows'!$B$13:$EC$13))","v":0},{"$f":"INDEX('Monthly Cash Flows'!$B71:$EC71,MATCH('Monthly CF'!AL$6,'Monthly Cash Flows'!$B$13:$EC$13))","v":0},{"$f":"INDEX('Monthly Cash Flows'!$B71:$EC71,MATCH('Monthly CF'!AM$6,'Monthly Cash Flows'!$B$13:$EC$13))","v":0},{"$f":"INDEX('Monthly Cash Flows'!$B71:$EC71,MATCH('Monthly CF'!AN$6,'Monthly Cash Flows'!$B$13:$EC$13))","v":0},{"$f":"INDEX('Monthly Cash Flows'!$B71:$EC71,MATCH('Monthly CF'!AO$6,'Monthly Cash Flows'!$B$13:$EC$13))","v":0},{"$f":"INDEX('Monthly Cash Flows'!$B71:$EC71,MATCH('Monthly CF'!AP$6,'Monthly Cash Flows'!$B$13:$EC$13))","v":0},{"$f":"INDEX('Monthly Cash Flows'!$B71:$EC71,MATCH('Monthly CF'!AQ$6,'Monthly Cash Flows'!$B$13:$EC$13))","v":0},{"$f":"INDEX('Monthly Cash Flows'!$B71:$EC71,MATCH('Monthly CF'!AR$6,'Monthly Cash Flows'!$B$13:$EC$13))","v":0},{"$f":"INDEX('Monthly Cash Flows'!$B71:$EC71,MATCH('Monthly CF'!AS$6,'Monthly Cash Flows'!$B$13:$EC$13))","v":0},{"$f":"INDEX('Monthly Cash Flows'!$B71:$EC71,MATCH('Monthly CF'!AT$6,'Monthly Cash Flows'!$B$13:$EC$13))","v":0},{"$f":"INDEX('Monthly Cash Flows'!$B71:$EC71,MATCH('Monthly CF'!AU$6,'Monthly Cash Flows'!$B$13:$EC$13))","v":0},{"$f":"INDEX('Monthly Cash Flows'!$B71:$EC71,MATCH('Monthly CF'!AV$6,'Monthly Cash Flows'!$B$13:$EC$13))","v":0},{"$f":"INDEX('Monthly Cash Flows'!$B71:$EC71,MATCH('Monthly CF'!AW$6,'Monthly Cash Flows'!$B$13:$EC$13))","v":0},{"$f":"INDEX('Monthly Cash Flows'!$B71:$EC71,MATCH('Monthly CF'!AX$6,'Monthly Cash Flows'!$B$13:$EC$13))","v":0},{"$f":"INDEX('Monthly Cash Flows'!$B71:$EC71,MATCH('Monthly CF'!AY$6,'Monthly Cash Flows'!$B$13:$EC$13))","v":0},{"$f":"INDEX('Monthly Cash Flows'!$B71:$EC71,MATCH('Monthly CF'!AZ$6,'Monthly Cash Flows'!$B$13:$EC$13))","v":0},{"$f":"INDEX('Monthly Cash Flows'!$B71:$EC71,MATCH('Monthly CF'!BA$6,'Monthly Cash Flows'!$B$13:$EC$13))","v":0},{"$f":"INDEX('Monthly Cash Flows'!$B71:$EC71,MATCH('Monthly CF'!BB$6,'Monthly Cash Flows'!$B$13:$EC$13))","v":0},{"$f":"INDEX('Monthly Cash Flows'!$B71:$EC71,MATCH('Monthly CF'!BC$6,'Monthly Cash Flows'!$B$13:$EC$13))","v":0},{"$f":"INDEX('Monthly Cash Flows'!$B71:$EC71,MATCH('Monthly CF'!BD$6,'Monthly Cash Flows'!$B$13:$EC$13))","v":0},{"$f":"INDEX('Monthly Cash Flows'!$B71:$EC71,MATCH('Monthly CF'!BE$6,'Monthly Cash Flows'!$B$13:$EC$13))","v":0},{"$f":"INDEX('Monthly Cash Flows'!$B71:$EC71,MATCH('Monthly CF'!BF$6,'Monthly Cash Flows'!$B$13:$EC$13))","v":0},{"$f":"INDEX('Monthly Cash Flows'!$B71:$EC71,MATCH('Monthly CF'!BG$6,'Monthly Cash Flows'!$B$13:$EC$13))","v":0},{"$f":"INDEX('Monthly Cash Flows'!$B71:$EC71,MATCH('Monthly CF'!BH$6,'Monthly Cash Flows'!$B$13:$EC$13))","v":0},{"$f":"INDEX('Monthly Cash Flows'!$B71:$EC71,MATCH('Monthly CF'!BI$6,'Monthly Cash Flows'!$B$13:$EC$13))","v":0},{"$f":"INDEX('Monthly Cash Flows'!$B71:$EC71,MATCH('Monthly CF'!BJ$6,'Monthly Cash Flows'!$B$13:$EC$13))","v":0},{"$f":"INDEX('Monthly Cash Flows'!$B71:$EC71,MATCH('Monthly CF'!BK$6,'Monthly Cash Flows'!$B$13:$EC$13))","v":0},{"$f":"INDEX('Monthly Cash Flows'!$B71:$EC71,MATCH('Monthly CF'!BL$6,'Monthly Cash Flows'!$B$13:$EC$13))","v":0},{"$f":"INDEX('Monthly Cash Flows'!$B71:$EC71,MATCH('Monthly CF'!BM$6,'Monthly Cash Flows'!$B$13:$EC$13))","v":0},{"$f":"INDEX('Monthly Cash Flows'!$B71:$EC71,MATCH('Monthly CF'!BN$6,'Monthly Cash Flows'!$B$13:$EC$13))","v":0},{"$f":"INDEX('Monthly Cash Flows'!$B71:$EC71,MATCH('Monthly CF'!BO$6,'Monthly Cash Flows'!$B$13:$EC$13))","v":0},{"$f":"INDEX('Monthly Cash Flows'!$B71:$EC71,MATCH('Monthly CF'!BP$6,'Monthly Cash Flows'!$B$13:$EC$13))","v":0},{"$f":"INDEX('Monthly Cash Flows'!$B71:$EC71,MATCH('Monthly CF'!BQ$6,'Monthly Cash Flows'!$B$13:$EC$13))","v":0},{"$f":"INDEX('Monthly Cash Flows'!$B71:$EC71,MATCH('Monthly CF'!BR$6,'Monthly Cash Flows'!$B$13:$EC$13))","v":0},{"$f":"INDEX('Monthly Cash Flows'!$B71:$EC71,MATCH('Monthly CF'!BS$6,'Monthly Cash Flows'!$B$13:$EC$13))","v":0},{"$f":"INDEX('Monthly Cash Flows'!$B71:$EC71,MATCH('Monthly CF'!BT$6,'Monthly Cash Flows'!$B$13:$EC$13))","v":0},{"$f":"INDEX('Monthly Cash Flows'!$B71:$EC71,MATCH('Monthly CF'!BU$6,'Monthly Cash Flows'!$B$13:$EC$13))","v":0},{"$f":"INDEX('Monthly Cash Flows'!$B71:$EC71,MATCH('Monthly CF'!BV$6,'Monthly Cash Flows'!$B$13:$EC$13))","v":0},{"$f":"INDEX('Monthly Cash Flows'!$B71:$EC71,MATCH('Monthly CF'!BW$6,'Monthly Cash Flows'!$B$13:$EC$13))","v":0},{"$f":"INDEX('Monthly Cash Flows'!$B71:$EC71,MATCH('Monthly CF'!BX$6,'Monthly Cash Flows'!$B$13:$EC$13))","v":0},{"$f":"INDEX('Monthly Cash Flows'!$B71:$EC71,MATCH('Monthly CF'!BY$6,'Monthly Cash Flows'!$B$13:$EC$13))","v":0},{"$f":"INDEX('Monthly Cash Flows'!$B71:$EC71,MATCH('Monthly CF'!BZ$6,'Monthly Cash Flows'!$B$13:$EC$13))","v":0},{"$f":"INDEX('Monthly Cash Flows'!$B71:$EC71,MATCH('Monthly CF'!CA$6,'Monthly Cash Flows'!$B$13:$EC$13))","v":0},{"$f":"INDEX('Monthly Cash Flows'!$B71:$EC71,MATCH('Monthly CF'!CB$6,'Monthly Cash Flows'!$B$13:$EC$13))","v":0},{"$f":"INDEX('Monthly Cash Flows'!$B71:$EC71,MATCH('Monthly CF'!CC$6,'Monthly Cash Flows'!$B$13:$EC$13))","v":0},{"$f":"INDEX('Monthly Cash Flows'!$B71:$EC71,MATCH('Monthly CF'!CD$6,'Monthly Cash Flows'!$B$13:$EC$13))","v":0},{"$f":"INDEX('Monthly Cash Flows'!$B71:$EC71,MATCH('Monthly CF'!CE$6,'Monthly Cash Flows'!$B$13:$EC$13))","v":0},{"$f":"INDEX('Monthly Cash Flows'!$B71:$EC71,MATCH('Monthly CF'!CF$6,'Monthly Cash Flows'!$B$13:$EC$13))","v":0},{"$f":"INDEX('Monthly Cash Flows'!$B71:$EC71,MATCH('Monthly CF'!CG$6,'Monthly Cash Flows'!$B$13:$EC$13))","v":0},{"$f":"INDEX('Monthly Cash Flows'!$B71:$EC71,MATCH('Monthly CF'!CH$6,'Monthly Cash Flows'!$B$13:$EC$13))","v":0},{"$f":"INDEX('Monthly Cash Flows'!$B71:$EC71,MATCH('Monthly CF'!CI$6,'Monthly Cash Flows'!$B$13:$EC$13))","v":0},{"$f":"INDEX('Monthly Cash Flows'!$B71:$EC71,MATCH('Monthly CF'!CJ$6,'Monthly Cash Flows'!$B$13:$EC$13))","v":0},{"$f":"INDEX('Monthly Cash Flows'!$B71:$EC71,MATCH('Monthly CF'!CK$6,'Monthly Cash Flows'!$B$13:$EC$13))","v":0},{"$f":"INDEX('Monthly Cash Flows'!$B71:$EC71,MATCH('Monthly CF'!CL$6,'Monthly Cash Flows'!$B$13:$EC$13))","v":0},{"$f":"INDEX('Monthly Cash Flows'!$B71:$EC71,MATCH('Monthly CF'!CM$6,'Monthly Cash Flows'!$B$13:$EC$13))","v":0},{"$f":"INDEX('Monthly Cash Flows'!$B71:$EC71,MATCH('Monthly CF'!CN$6,'Monthly Cash Flows'!$B$13:$EC$13))","v":0},{"$f":"INDEX('Monthly Cash Flows'!$B71:$EC71,MATCH('Monthly CF'!CO$6,'Monthly Cash Flows'!$B$13:$EC$13))","v":0},{"$f":"INDEX('Monthly Cash Flows'!$B71:$EC71,MATCH('Monthly CF'!CP$6,'Monthly Cash Flows'!$B$13:$EC$13))","v":0},{"$f":"INDEX('Monthly Cash Flows'!$B71:$EC71,MATCH('Monthly CF'!CQ$6,'Monthly Cash Flows'!$B$13:$EC$13))","v":0},{"$f":"INDEX('Monthly Cash Flows'!$B71:$EC71,MATCH('Monthly CF'!CR$6,'Monthly Cash Flows'!$B$13:$EC$13))","v":0},{"$f":"INDEX('Monthly Cash Flows'!$B71:$EC71,MATCH('Monthly CF'!CS$6,'Monthly Cash Flows'!$B$13:$EC$13))","v":0},{"$f":"INDEX('Monthly Cash Flows'!$B71:$EC71,MATCH('Monthly CF'!CT$6,'Monthly Cash Flows'!$B$13:$EC$13))","v":0},{"$f":"INDEX('Monthly Cash Flows'!$B71:$EC71,MATCH('Monthly CF'!CU$6,'Monthly Cash Flows'!$B$13:$EC$13))","v":0},{"$f":"INDEX('Monthly Cash Flows'!$B71:$EC71,MATCH('Monthly CF'!CV$6,'Monthly Cash Flows'!$B$13:$EC$13))","v":0},{"$f":"INDEX('Monthly Cash Flows'!$B71:$EC71,MATCH('Monthly CF'!CW$6,'Monthly Cash Flows'!$B$13:$EC$13))","v":0},{"$f":"INDEX('Monthly Cash Flows'!$B71:$EC71,MATCH('Monthly CF'!CX$6,'Monthly Cash Flows'!$B$13:$EC$13))","v":0},{"$f":"INDEX('Monthly Cash Flows'!$B71:$EC71,MATCH('Monthly CF'!CY$6,'Monthly Cash Flows'!$B$13:$EC$13))","v":0},{"$f":"INDEX('Monthly Cash Flows'!$B71:$EC71,MATCH('Monthly CF'!CZ$6,'Monthly Cash Flows'!$B$13:$EC$13))","v":0},{"$f":"INDEX('Monthly Cash Flows'!$B71:$EC71,MATCH('Monthly CF'!DA$6,'Monthly Cash Flows'!$B$13:$EC$13))","v":0},{"$f":"INDEX('Monthly Cash Flows'!$B71:$EC71,MATCH('Monthly CF'!DB$6,'Monthly Cash Flows'!$B$13:$EC$13))","v":0},{"$f":"INDEX('Monthly Cash Flows'!$B71:$EC71,MATCH('Monthly CF'!DC$6,'Monthly Cash Flows'!$B$13:$EC$13))","v":0},{"$f":"INDEX('Monthly Cash Flows'!$B71:$EC71,MATCH('Monthly CF'!DD$6,'Monthly Cash Flows'!$B$13:$EC$13))","v":0},{"$f":"INDEX('Monthly Cash Flows'!$B71:$EC71,MATCH('Monthly CF'!DE$6,'Monthly Cash Flows'!$B$13:$EC$13))","v":0},{"$f":"INDEX('Monthly Cash Flows'!$B71:$EC71,MATCH('Monthly CF'!DF$6,'Monthly Cash Flows'!$B$13:$EC$13))","v":0},{"$f":"INDEX('Monthly Cash Flows'!$B71:$EC71,MATCH('Monthly CF'!DG$6,'Monthly Cash Flows'!$B$13:$EC$13))","v":0},{"$f":"INDEX('Monthly Cash Flows'!$B71:$EC71,MATCH('Monthly CF'!DH$6,'Monthly Cash Flows'!$B$13:$EC$13))","v":0},{"$f":"INDEX('Monthly Cash Flows'!$B71:$EC71,MATCH('Monthly CF'!DI$6,'Monthly Cash Flows'!$B$13:$EC$13))","v":0},{"$f":"INDEX('Monthly Cash Flows'!$B71:$EC71,MATCH('Monthly CF'!DJ$6,'Monthly Cash Flows'!$B$13:$EC$13))","v":0},{"$f":"INDEX('Monthly Cash Flows'!$B71:$EC71,MATCH('Monthly CF'!DK$6,'Monthly Cash Flows'!$B$13:$EC$13))","v":0},{"$f":"INDEX('Monthly Cash Flows'!$B71:$EC71,MATCH('Monthly CF'!DL$6,'Monthly Cash Flows'!$B$13:$EC$13))","v":0},{"$f":"INDEX('Monthly Cash Flows'!$B71:$EC71,MATCH('Monthly CF'!DM$6,'Monthly Cash Flows'!$B$13:$EC$13))","v":0},{"$f":"INDEX('Monthly Cash Flows'!$B71:$EC71,MATCH('Monthly CF'!DN$6,'Monthly Cash Flows'!$B$13:$EC$13))","v":0},{"$f":"INDEX('Monthly Cash Flows'!$B71:$EC71,MATCH('Monthly CF'!DO$6,'Monthly Cash Flows'!$B$13:$EC$13))","v":0},{"$f":"INDEX('Monthly Cash Flows'!$B71:$EC71,MATCH('Monthly CF'!DP$6,'Monthly Cash Flows'!$B$13:$EC$13))","v":0},{"$f":"INDEX('Monthly Cash Flows'!$B71:$EC71,MATCH('Monthly CF'!DQ$6,'Monthly Cash Flows'!$B$13:$EC$13))","v":0},{"$f":"INDEX('Monthly Cash Flows'!$B71:$EC71,MATCH('Monthly CF'!DR$6,'Monthly Cash Flows'!$B$13:$EC$13))","v":0},{"$f":"INDEX('Monthly Cash Flows'!$B71:$EC71,MATCH('Monthly CF'!DS$6,'Monthly Cash Flows'!$B$13:$EC$13))","v":0},{"$f":"INDEX('Monthly Cash Flows'!$B71:$EC71,MATCH('Monthly CF'!DT$6,'Monthly Cash Flows'!$B$13:$EC$13))","v":0},{"$f":"INDEX('Monthly Cash Flows'!$B71:$EC71,MATCH('Monthly CF'!DU$6,'Monthly Cash Flows'!$B$13:$EC$13))","v":0},{"$f":"INDEX('Monthly Cash Flows'!$B71:$EC71,MATCH('Monthly CF'!DV$6,'Monthly Cash Flows'!$B$13:$EC$13))","v":0},{"$f":"INDEX('Monthly Cash Flows'!$B71:$EC71,MATCH('Monthly CF'!DW$6,'Monthly Cash Flows'!$B$13:$EC$13))","v":0},{"$f":"INDEX('Monthly Cash Flows'!$B71:$EC71,MATCH('Monthly CF'!DX$6,'Monthly Cash Flows'!$B$13:$EC$13))","v":0},{"$f":"INDEX('Monthly Cash Flows'!$B71:$EC71,MATCH('Monthly CF'!DY$6,'Monthly Cash Flows'!$B$13:$EC$13))","v":0},{"$f":"INDEX('Monthly Cash Flows'!$B71:$EC71,MATCH('Monthly CF'!DZ$6,'Monthly Cash Flows'!$B$13:$EC$13))","v":0},{"$f":"INDEX('Monthly Cash Flows'!$B71:$EC71,MATCH('Monthly CF'!EA$6,'Monthly Cash Flows'!$B$13:$EC$13))","v":0},{"$f":"INDEX('Monthly Cash Flows'!$B71:$EC71,MATCH('Monthly CF'!EB$6,'Monthly Cash Flows'!$B$13:$EC$13))","v":0},{"$f":"INDEX('Monthly Cash Flows'!$B71:$EC71,MATCH('Monthly CF'!EC$6,'Monthly Cash Flows'!$B$13:$EC$13))","v":0},{"$f":"INDEX('Monthly Cash Flows'!$B71:$EC71,MATCH('Monthly CF'!ED$6,'Monthly Cash Flows'!$B$13:$EC$13))","v":0},{"$f":"INDEX('Monthly Cash Flows'!$B71:$EC71,MATCH('Monthly CF'!EE$6,'Monthly Cash Flows'!$B$13:$EC$13))","v":0},{"$f":"INDEX('Monthly Cash Flows'!$B71:$EC71,MATCH('Monthly CF'!EF$6,'Monthly Cash Flows'!$B$13:$EC$13))","v":0},{"$f":"INDEX('Monthly Cash Flows'!$B71:$EC71,MATCH('Monthly CF'!EG$6,'Monthly Cash Flows'!$B$13:$EC$13))","v":0}]
[null,{"$f":"+'Monthly Cash Flows'!A72","v":"  Replacement Reserves"},null,null,null,{"$f":"INDEX('Monthly Cash Flows'!$B72:$EC72,MATCH('Monthly CF'!F$6,'Monthly Cash Flows'!$B$13:$EC$13))","v":1896.3500000000001},{"$f":"INDEX('Monthly Cash Flows'!$B72:$EC72,MATCH('Monthly CF'!G$6,'Monthly Cash Flows'!$B$13:$EC$13))","v":1896.3500000000001},{"$f":"INDEX('Monthly Cash Flows'!$B72:$EC72,MATCH('Monthly CF'!H$6,'Monthly Cash Flows'!$B$13:$EC$13))","v":1896.3500000000001},{"$f":"INDEX('Monthly Cash Flows'!$B72:$EC72,MATCH('Monthly CF'!I$6,'Monthly Cash Flows'!$B$13:$EC$13))","v":1896.3500000000001},{"$f":"INDEX('Monthly Cash Flows'!$B72:$EC72,MATCH('Monthly CF'!J$6,'Monthly Cash Flows'!$B$13:$EC$13))","v":1896.3500000000001},{"$f":"INDEX('Monthly Cash Flows'!$B72:$EC72,MATCH('Monthly CF'!K$6,'Monthly Cash Flows'!$B$13:$EC$13))","v":1896.3500000000001},{"$f":"INDEX('Monthly Cash Flows'!$B72:$EC72,MATCH('Monthly CF'!L$6,'Monthly Cash Flows'!$B$13:$EC$13))","v":1896.3500000000001},{"$f":"INDEX('Monthly Cash Flows'!$B72:$EC72,MATCH('Monthly CF'!M$6,'Monthly Cash Flows'!$B$13:$EC$13))","v":1896.3500000000001},{"$f":"INDEX('Monthly Cash Flows'!$B72:$EC72,MATCH('Monthly CF'!N$6,'Monthly Cash Flows'!$B$13:$EC$13))","v":1896.3500000000001},{"$f":"INDEX('Monthly Cash Flows'!$B72:$EC72,MATCH('Monthly CF'!O$6,'Monthly Cash Flows'!$B$13:$EC$13))","v":1896.3500000000001},{"$f":"INDEX('Monthly Cash Flows'!$B72:$EC72,MATCH('Monthly CF'!P$6,'Monthly Cash Flows'!$B$13:$EC$13))","v":1896.3500000000001},{"$f":"INDEX('Monthly Cash Flows'!$B72:$EC72,MATCH('Monthly CF'!Q$6,'Monthly Cash Flows'!$B$13:$EC$13))","v":1896.3500000000001},{"$f":"INDEX('Monthly Cash Flows'!$B72:$EC72,MATCH('Monthly CF'!R$6,'Monthly Cash Flows'!$B$13:$EC$13))","v":1896.3500000000001},{"$f":"INDEX('Monthly Cash Flows'!$B72:$EC72,MATCH('Monthly CF'!S$6,'Monthly Cash Flows'!$B$13:$EC$13))","v":1896.3500000000001},{"$f":"INDEX('Monthly Cash Flows'!$B72:$EC72,MATCH('Monthly CF'!T$6,'Monthly Cash Flows'!$B$13:$EC$13))","v":1896.3500000000001},{"$f":"INDEX('Monthly Cash Flows'!$B72:$EC72,MATCH('Monthly CF'!U$6,'Monthly Cash Flows'!$B$13:$EC$13))","v":1896.3500000000001},{"$f":"INDEX('Monthly Cash Flows'!$B72:$EC72,MATCH('Monthly CF'!V$6,'Monthly Cash Flows'!$B$13:$EC$13))","v":1896.3500000000001},{"$f":"INDEX('Monthly Cash Flows'!$B72:$EC72,MATCH('Monthly CF'!W$6,'Monthly Cash Flows'!$B$13:$EC$13))","v":1896.3500000000001},{"$f":"INDEX('Monthly Cash Flows'!$B72:$EC72,MATCH('Monthly CF'!X$6,'Monthly Cash Flows'!$B$13:$EC$13))","v":1896.3500000000001},{"$f":"INDEX('Monthly Cash Flows'!$B72:$EC72,MATCH('Monthly CF'!Y$6,'Monthly Cash Flows'!$B$13:$EC$13))","v":1896.3500000000001},{"$f":"INDEX('Monthly Cash Flows'!$B72:$EC72,MATCH('Monthly CF'!Z$6,'Monthly Cash Flows'!$B$13:$EC$13))","v":1896.3500000000001},{"$f":"INDEX('Monthly Cash Flows'!$B72:$EC72,MATCH('Monthly CF'!AA$6,'Monthly Cash Flows'!$B$13:$EC$13))","v":1896.3500000000001},{"$f":"INDEX('Monthly Cash Flows'!$B72:$EC72,MATCH('Monthly CF'!AB$6,'Monthly Cash Flows'!$B$13:$EC$13))","v":1896.3500000000001},{"$f":"INDEX('Monthly Cash Flows'!$B72:$EC72,MATCH('Monthly CF'!AC$6,'Monthly Cash Flows'!$B$13:$EC$13))","v":1896.3500000000001},{"$f":"INDEX('Monthly Cash Flows'!$B72:$EC72,MATCH('Monthly CF'!AD$6,'Monthly Cash Flows'!$B$13:$EC$13))","v":1896.3500000000001},{"$f":"INDEX('Monthly Cash Flows'!$B72:$EC72,MATCH('Monthly CF'!AE$6,'Monthly Cash Flows'!$B$13:$EC$13))","v":1896.3500000000001},{"$f":"INDEX('Monthly Cash Flows'!$B72:$EC72,MATCH('Monthly CF'!AF$6,'Monthly Cash Flows'!$B$13:$EC$13))","v":1896.3500000000001},{"$f":"INDEX('Monthly Cash Flows'!$B72:$EC72,MATCH('Monthly CF'!AG$6,'Monthly Cash Flows'!$B$13:$EC$13))","v":1896.3500000000001},{"$f":"INDEX('Monthly Cash Flows'!$B72:$EC72,MATCH('Monthly CF'!AH$6,'Monthly Cash Flows'!$B$13:$EC$13))","v":1896.3500000000001},{"$f":"INDEX('Monthly Cash Flows'!$B72:$EC72,MATCH('Monthly CF'!AI$6,'Monthly Cash Flows'!$B$13:$EC$13))","v":1896.3500000000001},{"$f":"INDEX('Monthly Cash Flows'!$B72:$EC72,MATCH('Monthly CF'!AJ$6,'Monthly Cash Flows'!$B$13:$EC$13))","v":1896.3500000000001},{"$f":"INDEX('Monthly Cash Flows'!$B72:$EC72,MATCH('Monthly CF'!AK$6,'Monthly Cash Flows'!$B$13:$EC$13))","v":1896.3500000000001},{"$f":"INDEX('Monthly Cash Flows'!$B72:$EC72,MATCH('Monthly CF'!AL$6,'Monthly Cash Flows'!$B$13:$EC$13))","v":1896.3500000000001},{"$f":"INDEX('Monthly Cash Flows'!$B72:$EC72,MATCH('Monthly CF'!AM$6,'Monthly Cash Flows'!$B$13:$EC$13))","v":1896.3500000000001},{"$f":"INDEX('Monthly Cash Flows'!$B72:$EC72,MATCH('Monthly CF'!AN$6,'Monthly Cash Flows'!$B$13:$EC$13))","v":1896.3500000000001},{"$f":"INDEX('Monthly Cash Flows'!$B72:$EC72,MATCH('Monthly CF'!AO$6,'Monthly Cash Flows'!$B$13:$EC$13))","v":1896.3500000000001},{"$f":"INDEX('Monthly Cash Flows'!$B72:$EC72,MATCH('Monthly CF'!AP$6,'Monthly Cash Flows'!$B$13:$EC$13))","v":1896.3500000000001},{"$f":"INDEX('Monthly Cash Flows'!$B72:$EC72,MATCH('Monthly CF'!AQ$6,'Monthly Cash Flows'!$B$13:$EC$13))","v":1896.3500000000001},{"$f":"INDEX('Monthly Cash Flows'!$B72:$EC72,MATCH('Monthly CF'!AR$6,'Monthly Cash Flows'!$B$13:$EC$13))","v":1896.3500000000001},{"$f":"INDEX('Monthly Cash Flows'!$B72:$EC72,MATCH('Monthly CF'!AS$6,'Monthly Cash Flows'!$B$13:$EC$13))","v":1896.3500000000001},{"$f":"INDEX('Monthly Cash Flows'!$B72:$EC72,MATCH('Monthly CF'!AT$6,'Monthly Cash Flows'!$B$13:$EC$13))","v":1896.3500000000001},{"$f":"INDEX('Monthly Cash Flows'!$B72:$EC72,MATCH('Monthly CF'!AU$6,'Monthly Cash Flows'!$B$13:$EC$13))","v":1896.3500000000001},{"$f":"INDEX('Monthly Cash Flows'!$B72:$EC72,MATCH('Monthly CF'!AV$6,'Monthly Cash Flows'!$B$13:$EC$13))","v":1896.3500000000001},{"$f":"INDEX('Monthly Cash Flows'!$B72:$EC72,MATCH('Monthly CF'!AW$6,'Monthly Cash Flows'!$B$13:$EC$13))","v":1896.3500000000001},{"$f":"INDEX('Monthly Cash Flows'!$B72:$EC72,MATCH('Monthly CF'!AX$6,'Monthly Cash Flows'!$B$13:$EC$13))","v":1896.3500000000001},{"$f":"INDEX('Monthly Cash Flows'!$B72:$EC72,MATCH('Monthly CF'!AY$6,'Monthly Cash Flows'!$B$13:$EC$13))","v":1896.3500000000001},{"$f":"INDEX('Monthly Cash Flows'!$B72:$EC72,MATCH('Monthly CF'!AZ$6,'Monthly Cash Flows'!$B$13:$EC$13))","v":1896.3500000000001},{"$f":"INDEX('Monthly Cash Flows'!$B72:$EC72,MATCH('Monthly CF'!BA$6,'Monthly Cash Flows'!$B$13:$EC$13))","v":1896.3500000000001},{"$f":"INDEX('Monthly Cash Flows'!$B72:$EC72,MATCH('Monthly CF'!BB$6,'Monthly Cash Flows'!$B$13:$EC$13))","v":1896.3500000000001},{"$f":"INDEX('Monthly Cash Flows'!$B72:$EC72,MATCH('Monthly CF'!BC$6,'Monthly Cash Flows'!$B$13:$EC$13))","v":1896.3500000000001},{"$f":"INDEX('Monthly Cash Flows'!$B72:$EC72,MATCH('Monthly CF'!BD$6,'Monthly Cash Flows'!$B$13:$EC$13))","v":1896.3500000000001},{"$f":"INDEX('Monthly Cash Flows'!$B72:$EC72,MATCH('Monthly CF'!BE$6,'Monthly Cash Flows'!$B$13:$EC$13))","v":1896.3500000000001},{"$f":"INDEX('Monthly Cash Flows'!$B72:$EC72,MATCH('Monthly CF'!BF$6,'Monthly Cash Flows'!$B$13:$EC$13))","v":1896.3500000000001},{"$f":"INDEX('Monthly Cash Flows'!$B72:$EC72,MATCH('Monthly CF'!BG$6,'Monthly Cash Flows'!$B$13:$EC$13))","v":1896.3500000000001},{"$f":"INDEX('Monthly Cash Flows'!$B72:$EC72,MATCH('Monthly CF'!BH$6,'Monthly Cash Flows'!$B$13:$EC$13))","v":1896.3500000000001},{"$f":"INDEX('Monthly Cash Flows'!$B72:$EC72,MATCH('Monthly CF'!BI$6,'Monthly Cash Flows'!$B$13:$EC$13))","v":1896.3500000000001},{"$f":"INDEX('Monthly Cash Flows'!$B72:$EC72,MATCH('Monthly CF'!BJ$6,'Monthly Cash Flows'!$B$13:$EC$13))","v":1896.3500000000001},{"$f":"INDEX('Monthly Cash Flows'!$B72:$EC72,MATCH('Monthly CF'!BK$6,'Monthly Cash Flows'!$B$13:$EC$13))","v":1896.3500000000001},{"$f":"INDEX('Monthly Cash Flows'!$B72:$EC72,MATCH('Monthly CF'!BL$6,'Monthly Cash Flows'!$B$13:$EC$13))","v":1896.3500000000001},{"$f":"INDEX('Monthly Cash Flows'!$B72:$EC72,MATCH('Monthly CF'!BM$6,'Monthly Cash Flows'!$B$13:$EC$13))","v":1896.3500000000001},{"$f":"INDEX('Monthly Cash Flows'!$B72:$EC72,MATCH('Monthly CF'!BN$6,'Monthly Cash Flows'!$B$13:$EC$13))","v":1896.3500000000001},{"$f":"INDEX('Monthly Cash Flows'!$B72:$EC72,MATCH('Monthly CF'!BO$6,'Monthly Cash Flows'!$B$13:$EC$13))","v":1896.3500000000001},{"$f":"INDEX('Monthly Cash Flows'!$B72:$EC72,MATCH('Monthly CF'!BP$6,'Monthly Cash Flows'!$B$13:$EC$13))","v":1896.3500000000001},{"$f":"INDEX('Monthly Cash Flows'!$B72:$EC72,MATCH('Monthly CF'!BQ$6,'Monthly Cash Flows'!$B$13:$EC$13))","v":1896.3500000000001},{"$f":"INDEX('Monthly Cash Flows'!$B72:$EC72,MATCH('Monthly CF'!BR$6,'Monthly Cash Flows'!$B$13:$EC$13))","v":1896.3500000000001},{"$f":"INDEX('Monthly Cash Flows'!$B72:$EC72,MATCH('Monthly CF'!BS$6,'Monthly Cash Flows'!$B$13:$EC$13))","v":1896.3500000000001},{"$f":"INDEX('Monthly Cash Flows'!$B72:$EC72,MATCH('Monthly CF'!BT$6,'Monthly Cash Flows'!$B$13:$EC$13))","v":1896.3500000000001},{"$f":"INDEX('Monthly Cash Flows'!$B72:$EC72,MATCH('Monthly CF'!BU$6,'Monthly Cash Flows'!$B$13:$EC$13))","v":1896.3500000000001},{"$f":"INDEX('Monthly Cash Flows'!$B72:$EC72,MATCH('Monthly CF'!BV$6,'Monthly Cash Flows'!$B$13:$EC$13))","v":1896.3500000000001},{"$f":"INDEX('Monthly Cash Flows'!$B72:$EC72,MATCH('Monthly CF'!BW$6,'Monthly Cash Flows'!$B$13:$EC$13))","v":1896.3500000000001},{"$f":"INDEX('Monthly Cash Flows'!$B72:$EC72,MATCH('Monthly CF'!BX$6,'Monthly Cash Flows'!$B$13:$EC$13))","v":1896.3500000000001},{"$f":"INDEX('Monthly Cash Flows'!$B72:$EC72,MATCH('Monthly CF'!BY$6,'Monthly Cash Flows'!$B$13:$EC$13))","v":1896.3500000000001},{"$f":"INDEX('Monthly Cash Flows'!$B72:$EC72,MATCH('Monthly CF'!BZ$6,'Monthly Cash Flows'!$B$13:$EC$13))","v":1896.3500000000001},{"$f":"INDEX('Monthly Cash Flows'!$B72:$EC72,MATCH('Monthly CF'!CA$6,'Monthly Cash Flows'!$B$13:$EC$13))","v":1896.3500000000001},{"$f":"INDEX('Monthly Cash Flows'!$B72:$EC72,MATCH('Monthly CF'!CB$6,'Monthly Cash Flows'!$B$13:$EC$13))","v":1896.3500000000001},{"$f":"INDEX('Monthly Cash Flows'!$B72:$EC72,MATCH('Monthly CF'!CC$6,'Monthly Cash Flows'!$B$13:$EC$13))","v":1896.3500000000001},{"$f":"INDEX('Monthly Cash Flows'!$B72:$EC72,MATCH('Monthly CF'!CD$6,'Monthly Cash Flows'!$B$13:$EC$13))","v":1896.3500000000001},{"$f":"INDEX('Monthly Cash Flows'!$B72:$EC72,MATCH('Monthly CF'!CE$6,'Monthly Cash Flows'!$B$13:$EC$13))","v":1896.3500000000001},{"$f":"INDEX('Monthly Cash Flows'!$B72:$EC72,MATCH('Monthly CF'!CF$6,'Monthly Cash Flows'!$B$13:$EC$13))","v":1896.3500000000001},{"$f":"INDEX('Monthly Cash Flows'!$B72:$EC72,MATCH('Monthly CF'!CG$6,'Monthly Cash Flows'!$B$13:$EC$13))","v":1896.3500000000001},{"$f":"INDEX('Monthly Cash Flows'!$B72:$EC72,MATCH('Monthly CF'!CH$6,'Monthly Cash Flows'!$B$13:$EC$13))","v":1896.3500000000001},{"$f":"INDEX('Monthly Cash Flows'!$B72:$EC72,MATCH('Monthly CF'!CI$6,'Monthly Cash Flows'!$B$13:$EC$13))","v":1896.3500000000001},{"$f":"INDEX('Monthly Cash Flows'!$B72:$EC72,MATCH('Monthly CF'!CJ$6,'Monthly Cash Flows'!$B$13:$EC$13))","v":1896.3500000000001},{"$f":"INDEX('Monthly Cash Flows'!$B72:$EC72,MATCH('Monthly CF'!CK$6,'Monthly Cash Flows'!$B$13:$EC$13))","v":1896.3500000000001},{"$f":"INDEX('Monthly Cash Flows'!$B72:$EC72,MATCH('Monthly CF'!CL$6,'Monthly Cash Flows'!$B$13:$EC$13))","v":1896.3500000000001},{"$f":"INDEX('Monthly Cash Flows'!$B72:$EC72,MATCH('Monthly CF'!CM$6,'Monthly Cash Flows'!$B$13:$EC$13))","v":1896.3500000000001},{"$f":"INDEX('Monthly Cash Flows'!$B72:$EC72,MATCH('Monthly CF'!CN$6,'Monthly Cash Flows'!$B$13:$EC$13))","v":1896.3500000000001},{"$f":"INDEX('Monthly Cash Flows'!$B72:$EC72,MATCH('Monthly CF'!CO$6,'Monthly Cash Flows'!$B$13:$EC$13))","v":1896.3500000000001},{"$f":"INDEX('Monthly Cash Flows'!$B72:$EC72,MATCH('Monthly CF'!CP$6,'Monthly Cash Flows'!$B$13:$EC$13))","v":1896.3500000000001},{"$f":"INDEX('Monthly Cash Flows'!$B72:$EC72,MATCH('Monthly CF'!CQ$6,'Monthly Cash Flows'!$B$13:$EC$13))","v":1896.3500000000001},{"$f":"INDEX('Monthly Cash Flows'!$B72:$EC72,MATCH('Monthly CF'!CR$6,'Monthly Cash Flows'!$B$13:$EC$13))","v":1896.3500000000001},{"$f":"INDEX('Monthly Cash Flows'!$B72:$EC72,MATCH('Monthly CF'!CS$6,'Monthly Cash Flows'!$B$13:$EC$13))","v":1896.3500000000001},{"$f":"INDEX('Monthly Cash Flows'!$B72:$EC72,MATCH('Monthly CF'!CT$6,'Monthly Cash Flows'!$B$13:$EC$13))","v":1896.3500000000001},{"$f":"INDEX('Monthly Cash Flows'!$B72:$EC72,MATCH('Monthly CF'!CU$6,'Monthly Cash Flows'!$B$13:$EC$13))","v":1896.3500000000001},{"$f":"INDEX('Monthly Cash Flows'!$B72:$EC72,MATCH('Monthly CF'!CV$6,'Monthly Cash Flows'!$B$13:$EC$13))","v":1896.3500000000001},{"$f":"INDEX('Monthly Cash Flows'!$B72:$EC72,MATCH('Monthly CF'!CW$6,'Monthly Cash Flows'!$B$13:$EC$13))","v":1896.3500000000001},{"$f":"INDEX('Monthly Cash Flows'!$B72:$EC72,MATCH('Monthly CF'!CX$6,'Monthly Cash Flows'!$B$13:$EC$13))","v":1896.3500000000001},{"$f":"INDEX('Monthly Cash Flows'!$B72:$EC72,MATCH('Monthly CF'!CY$6,'Monthly Cash Flows'!$B$13:$EC$13))","v":1896.3500000000001},{"$f":"INDEX('Monthly Cash Flows'!$B72:$EC72,MATCH('Monthly CF'!CZ$6,'Monthly Cash Flows'!$B$13:$EC$13))","v":1896.3500000000001},{"$f":"INDEX('Monthly Cash Flows'!$B72:$EC72,MATCH('Monthly CF'!DA$6,'Monthly Cash Flows'!$B$13:$EC$13))","v":1896.3500000000001},{"$f":"INDEX('Monthly Cash Flows'!$B72:$EC72,MATCH('Monthly CF'!DB$6,'Monthly Cash Flows'!$B$13:$EC$13))","v":1896.3500000000001},{"$f":"INDEX('Monthly Cash Flows'!$B72:$EC72,MATCH('Monthly CF'!DC$6,'Monthly Cash Flows'!$B$13:$EC$13))","v":1896.3500000000001},{"$f":"INDEX('Monthly Cash Flows'!$B72:$EC72,MATCH('Monthly CF'!DD$6,'Monthly Cash Flows'!$B$13:$EC$13))","v":1896.3500000000001},{"$f":"INDEX('Monthly Cash Flows'!$B72:$EC72,MATCH('Monthly CF'!DE$6,'Monthly Cash Flows'!$B$13:$EC$13))","v":1896.3500000000001},{"$f":"INDEX('Monthly Cash Flows'!$B72:$EC72,MATCH('Monthly CF'!DF$6,'Monthly Cash Flows'!$B$13:$EC$13))","v":1896.3500000000001},{"$f":"INDEX('Monthly Cash Flows'!$B72:$EC72,MATCH('Monthly CF'!DG$6,'Monthly Cash Flows'!$B$13:$EC$13))","v":1896.3500000000001},{"$f":"INDEX('Monthly Cash Flows'!$B72:$EC72,MATCH('Monthly CF'!DH$6,'Monthly Cash Flows'!$B$13:$EC$13))","v":1896.3500000000001},{"$f":"INDEX('Monthly Cash Flows'!$B72:$EC72,MATCH('Monthly CF'!DI$6,'Monthly Cash Flows'!$B$13:$EC$13))","v":1896.3500000000001},{"$f":"INDEX('Monthly Cash Flows'!$B72:$EC72,MATCH('Monthly CF'!DJ$6,'Monthly Cash Flows'!$B$13:$EC$13))","v":1896.3500000000001},{"$f":"INDEX('Monthly Cash Flows'!$B72:$EC72,MATCH('Monthly CF'!DK$6,'Monthly Cash Flows'!$B$13:$EC$13))","v":1896.3500000000001},{"$f":"INDEX('Monthly Cash Flows'!$B72:$EC72,MATCH('Monthly CF'!DL$6,'Monthly Cash Flows'!$B$13:$EC$13))","v":1896.3500000000001},{"$f":"INDEX('Monthly Cash Flows'!$B72:$EC72,MATCH('Monthly CF'!DM$6,'Monthly Cash Flows'!$B$13:$EC$13))","v":1896.3500000000001},{"$f":"INDEX('Monthly Cash Flows'!$B72:$EC72,MATCH('Monthly CF'!DN$6,'Monthly Cash Flows'!$B$13:$EC$13))","v":1896.3500000000001},{"$f":"INDEX('Monthly Cash Flows'!$B72:$EC72,MATCH('Monthly CF'!DO$6,'Monthly Cash Flows'!$B$13:$EC$13))","v":1896.3500000000001},{"$f":"INDEX('Monthly Cash Flows'!$B72:$EC72,MATCH('Monthly CF'!DP$6,'Monthly Cash Flows'!$B$13:$EC$13))","v":1896.3500000000001},{"$f":"INDEX('Monthly Cash Flows'!$B72:$EC72,MATCH('Monthly CF'!DQ$6,'Monthly Cash Flows'!$B$13:$EC$13))","v":1896.3500000000001},{"$f":"INDEX('Monthly Cash Flows'!$B72:$EC72,MATCH('Monthly CF'!DR$6,'Monthly Cash Flows'!$B$13:$EC$13))","v":1896.3500000000001},{"$f":"INDEX('Monthly Cash Flows'!$B72:$EC72,MATCH('Monthly CF'!DS$6,'Monthly Cash Flows'!$B$13:$EC$13))","v":1896.3500000000001},{"$f":"INDEX('Monthly Cash Flows'!$B72:$EC72,MATCH('Monthly CF'!DT$6,'Monthly Cash Flows'!$B$13:$EC$13))","v":1896.3500000000001},{"$f":"INDEX('Monthly Cash Flows'!$B72:$EC72,MATCH('Monthly CF'!DU$6,'Monthly Cash Flows'!$B$13:$EC$13))","v":1896.3500000000001},{"$f":"INDEX('Monthly Cash Flows'!$B72:$EC72,MATCH('Monthly CF'!DV$6,'Monthly Cash Flows'!$B$13:$EC$13))","v":1896.3500000000001},{"$f":"INDEX('Monthly Cash Flows'!$B72:$EC72,MATCH('Monthly CF'!DW$6,'Monthly Cash Flows'!$B$13:$EC$13))","v":1896.3500000000001},{"$f":"INDEX('Monthly Cash Flows'!$B72:$EC72,MATCH('Monthly CF'!DX$6,'Monthly Cash Flows'!$B$13:$EC$13))","v":1896.3500000000001},{"$f":"INDEX('Monthly Cash Flows'!$B72:$EC72,MATCH('Monthly CF'!DY$6,'Monthly Cash Flows'!$B$13:$EC$13))","v":1896.3500000000001},{"$f":"INDEX('Monthly Cash Flows'!$B72:$EC72,MATCH('Monthly CF'!DZ$6,'Monthly Cash Flows'!$B$13:$EC$13))","v":1896.3500000000001},{"$f":"INDEX('Monthly Cash Flows'!$B72:$EC72,MATCH('Monthly CF'!EA$6,'Monthly Cash Flows'!$B$13:$EC$13))","v":1896.3500000000001},{"$f":"INDEX('Monthly Cash Flows'!$B72:$EC72,MATCH('Monthly CF'!EB$6,'Monthly Cash Flows'!$B$13:$EC$13))","v":1896.3500000000001},{"$f":"INDEX('Monthly Cash Flows'!$B72:$EC72,MATCH('Monthly CF'!EC$6,'Monthly Cash Flows'!$B$13:$EC$13))","v":1896.3500000000001},{"$f":"INDEX('Monthly Cash Flows'!$B72:$EC72,MATCH('Monthly CF'!ED$6,'Monthly Cash Flows'!$B$13:$EC$13))","v":1896.3500000000001},{"$f":"INDEX('Monthly Cash Flows'!$B72:$EC72,MATCH('Monthly CF'!EE$6,'Monthly Cash Flows'!$B$13:$EC$13))","v":1896.3500000000001},{"$f":"INDEX('Monthly Cash Flows'!$B72:$EC72,MATCH('Monthly CF'!EF$6,'Monthly Cash Flows'!$B$13:$EC$13))","v":1896.3500000000001},{"$f":"INDEX('Monthly Cash Flows'!$B72:$EC72,MATCH('Monthly CF'!EG$6,'Monthly Cash Flows'!$B$13:$EC$13))","v":1896.3500000000001}]
[]
[null,"Total Leasing & Capital Costs",null,null,null,{"$f":"SUM(F52:F55)","v":1896.3500000000001},1896.3500000000001,1896.3500000000001,9186.35,1896.3500000000001,1896.3500000000001,1896.3500000000001,5946.35,1896.3500000000001,1896.3500000000001,1896.3500000000001,14226.35,1896.3500000000001,1896.3500000000001,1896.3500000000001,5946.35,8496.35,1896.3500000000001,1896.3500000000001,1896.3500000000001,1896.3500000000001,1896.3500000000001,1896.3500000000001,1896.3500000000001,1896.3500000000001,1896.3500000000001,1896.3500000000001,1896.3500000000001,1896.3500000000001,1896.3500000000001,1896.3500000000001,1896.3500000000001,{"$f":"SUM(AL52:AL55)","v":1896.3500000000001},1896.3500000000001,1896.3500000000001,1896.3500000000001,1896.3500000000001,1896.3500000000001,1896.3500000000001,1896.3500000000001,1896.3500000000001,1896.3500000000001,1896.3500000000001,1896.3500000000001,1896.3500000000001,1896.3500000000001,1896.3500000000001,1896.3500000000001,1896.3500000000001,1896.3500000000001,1896.3500000000001,1896.3500000000001,1896.3500000000001,1896.3500000000001,1896.3500000000001,1896.3500000000001,1896.3500000000001,1896.3500000000001,1896.3500000000001,1896.3500000000001,1896.3500000000001,1896.3500000000001,1896.3500000000001,1896.3500000000001,{"$f":"SUM(BR52:BR55)","v":1896.3500000000001},1896.3500000000001,1896.3500000000001,1896.3500000000001,1896.3500000000001,1896.3500000000001,1896.3500000000001,1896.3500000000001,1896.3500000000001,1896.3500000000001,1896.3500000000001,1896.3500000000001,1896.3500000000001,1896.3500000000001,1896.3500000000001,1896.3500000000001,1896.3500000000001,1896.3500000000001,1896.3500000000001,1896.3500000000001,1896.3500000000001,1896.3500000000001,1896.3500000000001,1896.3500000000001,1896.3500000000001,1896.3500000000001,1896.3500000000001,1896.3500000000001,1896.3500000000001,1896.3500000000001,1896.3500000000001,1896.3500000000001,{"$f":"SUM(CX52:CX55)","v":1896.3500000000001},1896.3500000000001,1896.3500000000001,1896.3500000000001,1896.3500000000001,1896.3500000000001,1896.3500000000001,1896.3500000000001,1896.3500000000001,1896.3500000000001,1896.3500000000001,1896.3500000000001,1896.3500000000001,1896.3500000000001,1896.3500000000001,1896.3500000000001,1896.3500000000001,1896.3500000000001,1896.3500000000001,1896.3500000000001,1896.3500000000001,1896.3500000000001,1896.3500000000001,1896.3500000000001,1896.3500000000001,1896.3500000000001,1896.3500000000001,1896.3500000000001,1896.3500000000001,1896.3500000000001,1896.3500000000001,1896.3500000000001,{"$f":"SUM(ED52:ED55)","v":1896.3500000000001},1896.3500000000001,1896.3500000000001,1896.3500000000001]
[]
[null,"Cash Flow Before Debt Service",null,null,{"$f":"+E7","v":-11845000},{"$f":"+(F49-F56)*(F6<='Project Summary'!$Q$8)","v":73099.466645134074},{"$f":"+(G49-G56)*(G6<='Project Summary'!$Q$8)","v":73099.466645134074},{"$f":"+(H49-H56)*(H6<='Project Summary'!$Q$8)","v":73099.466645134074},{"$f":"+(I49-I56)*(I6<='Project Summary'!$Q$8)","v":68671.218167796033},{"$f":"+(J49-J56)*(J6<='Project Summary'!$Q$8)","v":75961.218167796033},{"$f":"+(K49-K56)*(K6<='Project Summary'!$Q$8)","v":75961.218167796033},{"$f":"+(L49-L56)*(L6<='Project Summary'!$Q$8)","v":75961.218167796033},{"$f":"+(M49-M56)*(M6<='Project Summary'!$Q$8)","v":73501.080124830449},{"$f":"+(N49-N56)*(N6<='Project Summary'!$Q$8)","v":77551.080124830449},{"$f":"+(O49-O56)*(O6<='Project Summary'!$Q$8)","v":77759.413458163792},{"$f":"+(P49-P56)*(P6<='Project Summary'!$Q$8)","v":78780.246791497135},{"$f":"+(Q49-Q56)*(Q6<='Project Summary'!$Q$8)","v":72415.713717653503},{"$f":"+(R49-R56)*(R6<='Project Summary'!$Q$8)","v":84999.963717653503},{"$f":"+(S49-S56)*(S6<='Project Summary'!$Q$8)","v":84999.963717653503},{"$f":"+(T49-T56)*(T6<='Project Summary'!$Q$8)","v":85423.63038432016},{"$f":"+(U49-U56)*(U6<='Project Summary'!$Q$8)","v":82971.539423029026},{"$f":"+(V49-V56)*(V6<='Project Summary'!$Q$8)","v":86609.272641521849},{"$f":"+(W49-W56)*(W6<='Project Summary'!$Q$8)","v":93209.272641521849},{"$f":"+(X49-X56)*(X6<='Project Summary'!$Q$8)","v":93209.272641521849},{"$f":"+(Y49-Y56)*(Y6<='Project Summary'!$Q$8)","v":94759.272641521879},{"$f":"+(Z49-Z56)*(Z6<='Project Summary'!$Q$8)","v":94759.272641521879},{"$f":"+(AA49-AA56)*(AA6<='Project Summary'!$Q$8)","v":94759.272641521879},{"$f":"+(AB49-AB56)*(AB6<='Project Summary'!$Q$8)","v":94759.272641521879},{"$f":"+(AC49-AC56)*(AC6<='Project Summary'!$Q$8)","v":95714.047763864335},{"$f":"+(AD49-AD56)*(AD6<='Project Summary'!$Q$8)","v":95714.047763864335},{"$f":"+(AE49-AE56)*(AE6<='Project Summary'!$Q$8)","v":95714.047763864335},{"$f":"+(AF49-AF56)*(AF6<='Project Summary'!$Q$8)","v":95714.047763864335},{"$f":"+(AG49-AG56)*(AG6<='Project Summary'!$Q$8)","v":95847.381097197678},{"$f":"+(AH49-AH56)*(AH6<='Project Summary'!$Q$8)","v":95847.381097197678},{"$f":"+(AI49-AI56)*(AI6<='Project Summary'!$Q$8)","v":95847.381097197678},{"$f":"+(AJ49-AJ56)*(AJ6<='Project Summary'!$Q$8)","v":95847.381097197678},{"$f":"+(AK49-AK56)*(AK6<='Project Summary'!$Q$8)","v":96107.714430531021},{"$f":"+(AL49-AL56)*(AL6<='Project Summary'!$Q$8)","v":96107.714430531021},{"$f":"+(AM49-AM56)*(AM6<='Project Summary'!$Q$8)","v":96107.714430531021},{"$f":"+(AN49-AN56)*(AN6<='Project Summary'!$Q$8)","v":96107.714430531021},{"$f":"+(AO49-AO56)*(AO6<='Project Summary'!$Q$8)","v":96047.399473210447},{"$f":"+(AP49-AP56)*(AP6<='Project Summary'!$Q$8)","v":96047.399473210447},{"$f":"+(AQ49-AQ56)*(AQ6<='Project Summary'!$Q$8)","v":96047.399473210447},{"$f":"+(AR49-AR56)*(AR6<='Project Summary'!$Q$8)","v":96047.399473210447},{"$f":"+(AS49-AS56)*(AS6<='Project Summary'!$Q$8)","v":96047.399473210447},{"$f":"+(AT49-AT56)*(AT6<='Project Summary'!$Q$8)","v":96047.399473210447},{"$f":"+(AU49-AU56)*(AU6<='Project Summary'!$Q$8)","v":96047.399473210447},{"$f":"+(AV49-AV56)*(AV6<='Project Summary'!$Q$8)","v":96047.399473210447},{"$f":"+(AW49-AW56)*(AW6<='Project Summary'!$Q$8)","v":96047.399473210447},{"$f":"+(AX49-AX56)*(AX6<='Project Summary'!$Q$8)","v":96047.399473210447},{"$f":"+(AY49-AY56)*(AY6<='Project Summary'!$Q$8)","v":96047.399473210447},{"$f":"+(AZ49-AZ56)*(AZ6<='Project Summary'!$Q$8)","v":96047.399473210447},{"$f":"+(BA49-BA56)*(BA6<='Project Summary'!$Q$8)","v":95985.275067170238},{"$f":"+(BB49-BB56)*(BB6<='Project Summary'!$Q$8)","v":96901.941733836924},{"$f":"+(BC49-BC56)*(BC6<='Project Summary'!$Q$8)","v":96901.941733836924},{"$f":"+(BD49-BD56)*(BD6<='Project Summary'!$Q$8)","v":96901.941733836924},{"$f":"+(BE49-BE56)*(BE6<='Project Summary'!$Q$8)","v":96901.941733836924},{"$f":"+(BF49-BF56)*(BF6<='Project Summary'!$Q$8)","v":96901.941733836924},{"$f":"+(BG49-BG56)*(BG6<='Project Summary'!$Q$8)","v":96901.941733836924},{"$f":"+(BH49-BH56)*(BH6<='Project Summary'!$Q$8)","v":96901.941733836924},{"$f":"+(BI49-BI56)*(BI6<='Project Summary'!$Q$8)","v":96901.941733836924},{"$f":"+(BJ49-BJ56)*(BJ6<='Project Summary'!$Q$8)","v":96901.941733836924},{"$f":"+(BK49-BK56)*(BK6<='Project Summary'!$Q$8)","v":96901.941733836924},{"$f":"+(BL49-BL56)*(BL6<='Project Summary'!$Q$8)","v":96901.941733836924},{"$f":"+(BM49-BM56)*(BM6<='Project Summary'!$Q$8)","v":96837.953595615501},{"$f":"+(BN49-BN56)*(BN6<='Project Summary'!$Q$8)","v":97587.953595615501},{"$f":"+(BO49-BO56)*(BO6<='Project Summary'!$Q$8)","v":97587.953595615501},{"$f":"+(BP49-BP56)*(BP6<='Project Summary'!$Q$8)","v":97587.953595615501},{"$f":"+(BQ49-BQ56)*(BQ6<='Project Summary'!$Q$8)","v":97587.953595615501},{"$f":"+(BR49-BR56)*(BR6<='Project Summary'!$Q$8)","v":97587.953595615501},{"$f":"+(BS49-BS56)*(BS6<='Project Summary'!$Q$8)","v":97587.953595615501},{"$f":"+(BT49-BT56)*(BT6<='Project Summary'!$Q$8)","v":97587.953595615501},{"$f":"+(BU49-BU56)*(BU6<='Project Summary'!$Q$8)","v":97587.953595615501},{"$f":"+(BV49-BV56)*(BV6<='Project Summary'!$Q$8)","v":97587.953595615501},{"$f":"+(BW49-BW56)*(BW6<='Project Summary'!$Q$8)","v":97879.620262282187},{"$f":"+(BX49-BX56)*(BX6<='Project Summary'!$Q$8)","v":99349.620262282187},{"$f":"+(BY49-BY56)*(BY6<='Project Summary'!$Q$8)","v":99283.71247991416},{"$f":"+(BZ49-BZ56)*(BZ6<='Project Summary'!$Q$8)","v":99616.71247991416},{"$f":"+(CA49-CA56)*(CA6<='Project Summary'!$Q$8)","v":99616.71247991416},{"$f":"+(CB49-CB56)*(CB6<='Project Summary'!$Q$8)","v":99616.71247991416},{"$f":"+(CC49-CC56)*(CC6<='Project Summary'!$Q$8)","v":99616.71247991416},{"$f":"+(CD49-CD56)*(CD6<='Project Summary'!$Q$8)","v":99616.71247991416},{"$f":"+(CE49-CE56)*(CE6<='Project Summary'!$Q$8)","v":99616.71247991416},{"$f":"+(CF49-CF56)*(CF6<='Project Summary'!$Q$8)","v":99616.71247991416},{"$f":"+(CG49-CG56)*(CG6<='Project Summary'!$Q$8)","v":99616.71247991416},{"$f":"+(CH49-CH56)*(CH6<='Project Summary'!$Q$8)","v":99616.71247991416},{"$f":"+(CI49-CI56)*(CI6<='Project Summary'!$Q$8)","v":99616.71247991416},{"$f":"+(CJ49-CJ56)*(CJ6<='Project Summary'!$Q$8)","v":99616.71247991416},{"$f":"+(CK49-CK56)*(CK6<='Project Summary'!$Q$8)","v":99548.827464075075},{"$f":"+(CL49-CL56)*(CL6<='Project Summary'!$Q$8)","v":0},{"$f":"+(CM49-CM56)*(CM6<='Project Summary'!$Q$8)","v":0},{"$f":"+(CN49-CN56)*(CN6<='Project Summary'!$Q$8)","v":0},{"$f":"+(CO49-CO56)*(CO6<='Project Summary'!$Q$8)","v":0},{"$f":"+(CP49-CP56)*(CP6<='Project Summary'!$Q$8)","v":0},{"$f":"+(CQ49-CQ56)*(CQ6<='Project Summary'!$Q$8)","v":0},{"$f":"+(CR49-CR56)*(CR6<='Project Summary'!$Q$8)","v":0},{"$f":"+(CS49-CS56)*(CS6<='Project Summary'!$Q$8)","v":0},{"$f":"+(CT49-CT56)*(CT6<='Project Summary'!$Q$8)","v":0},{"$f":"+(CU49-CU56)*(CU6<='Project Summary'!$Q$8)","v":0},{"$f":"+(CV49-CV56)*(CV6<='Project Summary'!$Q$8)","v":0},{"$f":"+(CW49-CW56)*(CW6<='Project Summary'!$Q$8)","v":0},{"$f":"+(CX49-CX56)*(CX6<='Project Summary'!$Q$8)","v":0},{"$f":"+(CY49-CY56)*(CY6<='Project Summary'!$Q$8)","v":0},{"$f":"+(CZ49-CZ56)*(CZ6<='Project Summary'!$Q$8)","v":0},{"$f":"+(DA49-DA56)*(DA6<='Project Summary'!$Q$8)","v":0},{"$f":"+(DB49-DB56)*(DB6<='Project Summary'!$Q$8)","v":0},{"$f":"+(DC49-DC56)*(DC6<='Project Summary'!$Q$8)","v":0},{"$f":"+(DD49-DD56)*(DD6<='Project Summary'!$Q$8)","v":0},{"$f":"+(DE49-DE56)*(DE6<='Project Summary'!$Q$8)","v":0},{"$f":"+(DF49-DF56)*(DF6<='Project Summary'!$Q$8)","v":0},{"$f":"+(DG49-DG56)*(DG6<='Project Summary'!$Q$8)","v":0},{"$f":"+(DH49-DH56)*(DH6<='Project Summary'!$Q$8)","v":0},{"$f":"+(DI49-DI56)*(DI6<='Project Summary'!$Q$8)","v":0},{"$f":"+(DJ49-DJ56)*(DJ6<='Project Summary'!$Q$8)","v":0},{"$f":"+(DK49-DK56)*(DK6<='Project Summary'!$Q$8)","v":0},{"$f":"+(DL49-DL56)*(DL6<='Project Summary'!$Q$8)","v":0},{"$f":"+(DM49-DM56)*(DM6<='Project Summary'!$Q$8)","v":0},{"$f":"+(DN49-DN56)*(DN6<='Project Summary'!$Q$8)","v":0},{"$f":"+(DO49-DO56)*(DO6<='Project Summary'!$Q$8)","v":0},{"$f":"+(DP49-DP56)*(DP6<='Project Summary'!$Q$8)","v":0},{"$f":"+(DQ49-DQ56)*(DQ6<='Project Summary'!$Q$8)","v":0},{"$f":"+(DR49-DR56)*(DR6<='Project Summary'!$Q$8)","v":0},{"$f":"+(DS49-DS56)*(DS6<='Project Summary'!$Q$8)","v":0},{"$f":"+(DT49-DT56)*(DT6<='Project Summary'!$Q$8)","v":0},{"$f":"+(DU49-DU56)*(DU6<='Project Summary'!$Q$8)","v":0},{"$f":"+(DV49-DV56)*(DV6<='Project Summary'!$Q$8)","v":0},{"$f":"+(DW49-DW56)*(DW6<='Project Summary'!$Q$8)","v":0},{"$f":"+(DX49-DX56)*(DX6<='Project Summary'!$Q$8)","v":0},{"$f":"+(DY49-DY56)*(DY6<='Project Summary'!$Q$8)","v":0},{"$f":"+(DZ49-DZ56)*(DZ6<='Project Summary'!$Q$8)","v":0},{"$f":"+(EA49-EA56)*(EA6<='Project Summary'!$Q$8)","v":0},{"$f":"+(EB49-EB56)*(EB6<='Project Summary'!$Q$8)","v":0},{"$f":"+(EC49-EC56)*(EC6<='Project Summary'!$Q$8)","v":0},{"$f":"+(ED49-ED56)*(ED6<='Project Summary'!$Q$8)","v":0},{"$f":"+(EE49-EE56)*(EE6<='Project Summary'!$Q$8)","v":0},{"$f":"+(EF49-EF56)*(EF6<='Project Summary'!$Q$8)","v":0},{"$f":"+(EG49-EG56)*(EG6<='Project Summary'!$Q$8)","v":0}]
[null,"Sale of Building",null,null,null,{"$f":"+(F6='Project Summary'!$Q$8)*'Project Summary'!$P$14","v":0},{"$f":"+(G6='Project Summary'!$Q$8)*'Project Summary'!$P$14","v":0},{"$f":"+(H6='Project Summary'!$Q$8)*'Project Summary'!$P$14","v":0},{"$f":"+(I6='Project Summary'!$Q$8)*'Project Summary'!$P$14","v":0},{"$f":"+(J6='Project Summary'!$Q$8)*'Project Summary'!$P$14","v":0},{"$f":"+(K6='Project Summary'!$Q$8)*'Project Summary'!$P$14","v":0},{"$f":"+(L6='Project Summary'!$Q$8)*'Project Summary'!$P$14","v":0},{"$f":"+(M6='Project Summary'!$Q$8)*'Project Summary'!$P$14","v":0},{"$f":"+(N6='Project Summary'!$Q$8)*'Project Summary'!$P$14","v":0},{"$f":"+(O6='Project Summary'!$Q$8)*'Project Summary'!$P$14","v":0},{"$f":"+(P6='Project Summary'!$Q$8)*'Project Summary'!$P$14","v":0},{"$f":"+(Q6='Project Summary'!$Q$8)*'Project Summary'!$P$14","v":0},{"$f":"+(R6='Project Summary'!$Q$8)*'Project Summary'!$P$14","v":0},{"$f":"+(S6='Project Summary'!$Q$8)*'Project Summary'!$P$14","v":0},{"$f":"+(T6='Project Summary'!$Q$8)*'Project Summary'!$P$14","v":0},{"$f":"+(U6='Project Summary'!$Q$8)*'Project Summary'!$P$14","v":0},{"$f":"+(V6='Project Summary'!$Q$8)*'Project Summary'!$P$14","v":0},{"$f":"+(W6='Project Summary'!$Q$8)*'Project Summary'!$P$14","v":0},{"$f":"+(X6='Project Summary'!$Q$8)*'Project Summary'!$P$14","v":0},{"$f":"+(Y6='Project Summary'!$Q$8)*'Project Summary'!$P$14","v":0},{"$f":"+(Z6='Project Summary'!$Q$8)*'Project Summary'!$P$14","v":0},{"$f":"+(AA6='Project Summary'!$Q$8)*'Project Summary'!$P$14","v":0},{"$f":"+(AB6='Project Summary'!$Q$8)*'Project Summary'!$P$14","v":0},{"$f":"+(AC6='Project Summary'!$Q$8)*'Project Summary'!$P$14","v":0},{"$f":"+(AD6='Project Summary'!$Q$8)*'Project Summary'!$P$14","v":0},{"$f":"+(AE6='Project Summary'!$Q$8)*'Project Summary'!$P$14","v":0},{"$f":"+(AF6='Project Summary'!$Q$8)*'Project Summary'!$P$14","v":0},{"$f":"+(AG6='Project Summary'!$Q$8)*'Project Summary'!$P$14","v":0},{"$f":"+(AH6='Project Summary'!$Q$8)*'Project Summary'!$P$14","v":0},{"$f":"+(AI6='Project Summary'!$Q$8)*'Project Summary'!$P$14","v":0},{"$f":"+(AJ6='Project Summary'!$Q$8)*'Project Summary'!$P$14","v":0},{"$f":"+(AK6='Project Summary'!$Q$8)*'Project Summary'!$P$14","v":0},{"$f":"+(AL6='Project Summary'!$Q$8)*'Project Summary'!$P$14","v":0},{"$f":"+(AM6='Project Summary'!$Q$8)*'Project Summary'!$P$14","v":0},{"$f":"+(AN6='Project Summary'!$Q$8)*'Project Summary'!$P$14","v":0},{"$f":"+(AO6='Project Summary'!$Q$8)*'Project Summary'!$P$14","v":0},{"$f":"+(AP6='Project Summary'!$Q$8)*'Project Summary'!$P$14","v":0},{"$f":"+(AQ6='Project Summary'!$Q$8)*'Project Summary'!$P$14","v":0},{"$f":"+(AR6='Project Summary'!$Q$8)*'Project Summary'!$P$14","v":0},{"$f":"+(AS6='Project Summary'!$Q$8)*'Project Summary'!$P$14","v":0},{"$f":"+(AT6='Project Summary'!$Q$8)*'Project Summary'!$P$14","v":0},{"$f":"+(AU6='Project Summary'!$Q$8)*'Project Summary'!$P$14","v":0},{"$f":"+(AV6='Project Summary'!$Q$8)*'Project Summary'!$P$14","v":0},{"$f":"+(AW6='Project Summary'!$Q$8)*'Project Summary'!$P$14","v":0},{"$f":"+(AX6='Project Summary'!$Q$8)*'Project Summary'!$P$14","v":0},{"$f":"+(AY6='Project Summary'!$Q$8)*'Project Summary'!$P$14","v":0},{"$f":"+(AZ6='Project Summary'!$Q$8)*'Project Summary'!$P$14","v":0},{"$f":"+(BA6='Project Summary'!$Q$8)*'Project Summary'!$P$14","v":0},{"$f":"+(BB6='Project Summary'!$Q$8)*'Project Summary'!$P$14","v":0},{"$f":"+(BC6='Project Summary'!$Q$8)*'Project Summary'!$P$14","v":0},{"$f":"+(BD6='Project Summary'!$Q$8)*'Project Summary'!$P$14","v":0},{"$f":"+(BE6='Project Summary'!$Q$8)*'Project Summary'!$P$14","v":0},{"$f":"+(BF6='Project Summary'!$Q$8)*'Project Summary'!$P$14","v":0},{"$f":"+(BG6='Project Summary'!$Q$8)*'Project Summary'!$P$14","v":0},{"$f":"+(BH6='Project Summary'!$Q$8)*'Project Summary'!$P$14","v":0},{"$f":"+(BI6='Project Summary'!$Q$8)*'Project Summary'!$P$14","v":0},{"$f":"+(BJ6='Project Summary'!$Q$8)*'Project Summary'!$P$14","v":0},{"$f":"+(BK6='Project Summary'!$Q$8)*'Project Summary'!$P$14","v":0},{"$f":"+(BL6='Project Summary'!$Q$8)*'Project Summary'!$P$14","v":0},{"$f":"+(BM6='Project Summary'!$Q$8)*'Project Summary'!$P$14","v":0},{"$f":"+(BN6='Project Summary'!$Q$8)*'Project Summary'!$P$14","v":0},{"$f":"+(BO6='Project Summary'!$Q$8)*'Project Summary'!$P$14","v":0},{"$f":"+(BP6='Project Summary'!$Q$8)*'Project Summary'!$P$14","v":0},{"$f":"+(BQ6='Project Summary'!$Q$8)*'Project Summary'!$P$14","v":0},{"$f":"+(BR6='Project Summary'!$Q$8)*'Project Summary'!$P$14","v":0},{"$f":"+(BS6='Project Summary'!$Q$8)*'Project Summary'!$P$14","v":0},{"$f":"+(BT6='Project Summary'!$Q$8)*'Project Summary'!$P$14","v":0},{"$f":"+(BU6='Project Summary'!$Q$8)*'Project Summary'!$P$14","v":0},{"$f":"+(BV6='Project Summary'!$Q$8)*'Project Summary'!$P$14","v":0},{"$f":"+(BW6='Project Summary'!$Q$8)*'Project Summary'!$P$14","v":0},{"$f":"+(BX6='Project Summary'!$Q$8)*'Project Summary'!$P$14","v":0},{"$f":"+(BY6='Project Summary'!$Q$8)*'Project Summary'!$P$14","v":0},{"$f":"+(BZ6='Project Summary'!$Q$8)*'Project Summary'!$P$14","v":0},{"$f":"+(CA6='Project Summary'!$Q$8)*'Project Summary'!$P$14","v":0},{"$f":"+(CB6='Project Summary'!$Q$8)*'Project Summary'!$P$14","v":0},{"$f":"+(CC6='Project Summary'!$Q$8)*'Project Summary'!$P$14","v":0},{"$f":"+(CD6='Project Summary'!$Q$8)*'Project Summary'!$P$14","v":0},{"$f":"+(CE6='Project Summary'!$Q$8)*'Project Summary'!$P$14","v":0},{"$f":"+(CF6='Project Summary'!$Q$8)*'Project Summary'!$P$14","v":0},{"$f":"+(CG6='Project Summary'!$Q$8)*'Project Summary'!$P$14","v":0},{"$f":"+(CH6='Project Summary'!$Q$8)*'Project Summary'!$P$14","v":0},{"$f":"+(CI6='Project Summary'!$Q$8)*'Project Summary'!$P$14","v":0},{"$f":"+(CJ6='Project Summary'!$Q$8)*'Project Summary'!$P$14","v":0},{"$f":"+(CK6='Project Summary'!$Q$8)*'Project Summary'!$P$14","v":15063743.574032011},{"$f":"+(CL6='Project Summary'!$Q$8)*'Project Summary'!$P$14","v":0},{"$f":"+(CM6='Project Summary'!$Q$8)*'Project Summary'!$P$14","v":0},{"$f":"+(CN6='Project Summary'!$Q$8)*'Project Summary'!$P$14","v":0},{"$f":"+(CO6='Project Summary'!$Q$8)*'Project Summary'!$P$14","v":0},{"$f":"+(CP6='Project Summary'!$Q$8)*'Project Summary'!$P$14","v":0},{"$f":"+(CQ6='Project Summary'!$Q$8)*'Project Summary'!$P$14","v":0},{"$f":"+(CR6='Project Summary'!$Q$8)*'Project Summary'!$P$14","v":0},{"$f":"+(CS6='Project Summary'!$Q$8)*'Project Summary'!$P$14","v":0},{"$f":"+(CT6='Project Summary'!$Q$8)*'Project Summary'!$P$14","v":0},{"$f":"+(CU6='Project Summary'!$Q$8)*'Project Summary'!$P$14","v":0},{"$f":"+(CV6='Project Summary'!$Q$8)*'Project Summary'!$P$14","v":0},{"$f":"+(CW6='Project Summary'!$Q$8)*'Project Summary'!$P$14","v":0},{"$f":"+(CX6='Project Summary'!$Q$8)*'Project Summary'!$P$14","v":0},{"$f":"+(CY6='Project Summary'!$Q$8)*'Project Summary'!$P$14","v":0},{"$f":"+(CZ6='Project Summary'!$Q$8)*'Project Summary'!$P$14","v":0},{"$f":"+(DA6='Project Summary'!$Q$8)*'Project Summary'!$P$14","v":0},{"$f":"+(DB6='Project Summary'!$Q$8)*'Project Summary'!$P$14","v":0},{"$f":"+(DC6='Project Summary'!$Q$8)*'Project Summary'!$P$14","v":0},{"$f":"+(DD6='Project Summary'!$Q$8)*'Project Summary'!$P$14","v":0},{"$f":"+(DE6='Project Summary'!$Q$8)*'Project Summary'!$P$14","v":0},{"$f":"+(DF6='Project Summary'!$Q$8)*'Project Summary'!$P$14","v":0},{"$f":"+(DG6='Project Summary'!$Q$8)*'Project Summary'!$P$14","v":0},{"$f":"+(DH6='Project Summary'!$Q$8)*'Project Summary'!$P$14","v":0},{"$f":"+(DI6='Project Summary'!$Q$8)*'Project Summary'!$P$14","v":0},{"$f":"+(DJ6='Project Summary'!$Q$8)*'Project Summary'!$P$14","v":0},{"$f":"+(DK6='Project Summary'!$Q$8)*'Project Summary'!$P$14","v":0},{"$f":"+(DL6='Project Summary'!$Q$8)*'Project Summary'!$P$14","v":0},{"$f":"+(DM6='Project Summary'!$Q$8)*'Project Summary'!$P$14","v":0},{"$f":"+(DN6='Project Summary'!$Q$8)*'Project Summary'!$P$14","v":0},{"$f":"+(DO6='Project Summary'!$Q$8)*'Project Summary'!$P$14","v":0},{"$f":"+(DP6='Project Summary'!$Q$8)*'Project Summary'!$P$14","v":0},{"$f":"+(DQ6='Project Summary'!$Q$8)*'Project Summary'!$P$14","v":0},{"$f":"+(DR6='Project Summary'!$Q$8)*'Project Summary'!$P$14","v":0},{"$f":"+(DS6='Project Summary'!$Q$8)*'Project Summary'!$P$14","v":0},{"$f":"+(DT6='Project Summary'!$Q$8)*'Project Summary'!$P$14","v":0},{"$f":"+(DU6='Project Summary'!$Q$8)*'Project Summary'!$P$14","v":0},{"$f":"+(DV6='Project Summary'!$Q$8)*'Project Summary'!$P$14","v":0},{"$f":"+(DW6='Project Summary'!$Q$8)*'Project Summary'!$P$14","v":0},{"$f":"+(DX6='Project Summary'!$Q$8)*'Project Summary'!$P$14","v":0},{"$f":"+(DY6='Project Summary'!$Q$8)*'Project Summary'!$P$14","v":0},{"$f":"+(DZ6='Project Summary'!$Q$8)*'Project Summary'!$P$14","v":0},{"$f":"+(EA6='Project Summary'!$Q$8)*'Project Summary'!$P$14","v":0},{"$f":"+(EB6='Project Summary'!$Q$8)*'Project Summary'!$P$14","v":0},{"$f":"+(EC6='Project Summary'!$Q$8)*'Project Summary'!$P$14","v":0},{"$f":"+(ED6='Project Summary'!$Q$8)*'Project Summary'!$P$14","v":0},{"$f":"+(EE6='Project Summary'!$Q$8)*'Project Summary'!$P$14","v":0},{"$f":"+(EF6='Project Summary'!$Q$8)*'Project Summary'!$P$14","v":0},{"$f":"+(EG6='Project Summary'!$Q$8)*'Project Summary'!$P$14","v":0}]
[null,"Unleverred Cash Flow",null,null,{"$f":"SUM(E58:E59)","v":-11845000},{"$f":"SUM(F58:F59)","v":73099.466645134074},73099.466645134074,73099.466645134074,68671.218167796033,75961.218167796033,75961.218167796033,75961.218167796033,73501.080124830449,77551.080124830449,77759.413458163792,78780.246791497135,72415.713717653503,84999.963717653503,84999.963717653503,85423.63038432016,82971.539423029026,86609.272641521849,93209.272641521849,93209.272641521849,94759.272641521879,94759.272641521879,94759.272641521879,94759.272641521879,95714.047763864335,95714.047763864335,95714.047763864335,95714.047763864335,95847.381097197678,95847.381097197678,95847.381097197678,95847.381097197678,96107.714430531021,96107.714430531021,96107.714430531021,96107.714430531021,96047.399473210447,96047.399473210447,96047.399473210447,96047.399473210447,96047.399473210447,96047.399473210447,96047.399473210447,96047.399473210447,96047.399473210447,96047.399473210447,96047.399473210447,96047.399473210447,95985.275067170238,96901.941733836924,96901.941733836924,96901.941733836924,96901.941733836924,96901.941733836924,96901.941733836924,96901.941733836924,96901.941733836924,96901.941733836924,96901.941733836924,96901.941733836924,96837.953595615501,97587.953595615501,97587.953595615501,97587.953595615501,97587.953595615501,{"$f":"SUM(BR58:BR59)","v":97587.953595615501},97587.953595615501,97587.953595615501,97587.953595615501,97587.953595615501,97879.620262282187,99349.620262282187,99283.71247991416,99616.71247991416,99616.71247991416,99616.71247991416,99616.71247991416,99616.71247991416,99616.71247991416,99616.71247991416,99616.71247991416,99616.71247991416,99616.71247991416,99616.71247991416,15163292.401496086,0,0,0,0,0,0,0,0,0,0,0,0,0,0,0,0,0,0,0,0,0,0,0,0,0,0,0,0,0,0,0,0,0,0,0,0,0,0,0,0,0,0,0,0,{"$f":"SUM(ED58:ED59)","v":0},0,0,0]
[]
[null,"Unleverred IRR",null,{"$f":"((IRR(E60:GG60,0.1/12)+1)^12)-1","v":0.12438662710684167},null,null,null,null,null,null,null,null,null,null,null,null,null,null,null,null,null,null,null,null,null,null,null,null,null,null,null,null,null,null,null,null,null,null,null,null,null,null,null,null,null,null,null,null,null,null,null,null,null,null,null,null,null,null,null,null,null,null,null,null,null,null,null,null,null,null,null,null,null,null,null,null,null,null,null,null,null,null,null,null,null,null,null,"at 7.8%",{"$f":"+CK49*12/0.078*0.99","v":15450880.875297587}]
[null,"Unleverred Multiple",null,{"$f":"+(SUM($E$60:$EG$60)+MAX($E$67:$EG$67))/MAX($E$67:$EG$67)","v":1.93180173417281},null,null,null,null,null,null,null,null,null,null,null,null,null,null,null,null,null,null,null,null,null,null,null,null,null,null,null,null,null,null,null,null,null,null,null,null,null,null,null,null,null,null,null,null,null,null,null,null,null,null,null,null,null,null,null,null,null,null,null,null,null,null,null,null,null,null,null,null,null,null,null,null,null,null,null,null,null,null,null,null,null,null,null,"at 7.5%",{"$f":"+CK49*12/0.075*0.99","v":16068916.110309493}]
[]
[]
[null,"Funding Requirement",null,null,{"$f":"+-E58*(E58<0)*(E6<='Project Summary'!$Q$8)","v":11845000},{"$f":"+-F58*(F58<0)*(F6<='Project Summary'!$Q$8)","v":0},{"$f":"+-G58*(G58<0)*(G6<='Project Summary'!$Q$8)","v":0},{"$f":"+-H58*(H58<0)*(H6<='Project Summary'!$Q$8)","v":0},{"$f":"+-I58*(I58<0)*(I6<='Project Summary'!$Q$8)","v":0},{"$f":"+-J58*(J58<0)*(J6<='Project Summary'!$Q$8)","v":0},{"$f":"+-K58*(K58<0)*(K6<='Project Summary'!$Q$8)","v":0},{"$f":"+-L58*(L58<0)*(L6<='Project Summary'!$Q$8)","v":0},{"$f":"+-M58*(M58<0)*(M6<='Project Summary'!$Q$8)","v":0},{"$f":"+-N58*(N58<0)*(N6<='Project Summary'!$Q$8)","v":0},{"$f":"+-O58*(O58<0)*(O6<='Project Summary'!$Q$8)","v":0},{"$f":"+-P58*(P58<0)*(P6<='Project Summary'!$Q$8)","v":0},{"$f":"+-Q58*(Q58<0)*(Q6<='Project Summary'!$Q$8)","v":0},{"$f":"+-R58*(R58<0)*(R6<='Project Summary'!$Q$8)","v":0},{"$f":"+-S58*(S58<0)*(S6<='Project Summary'!$Q$8)","v":0},{"$f":"+-T58*(T58<0)*(T6<='Project Summary'!$Q$8)","v":0},{"$f":"+-U58*(U58<0)*(U6<='Project Summary'!$Q$8)","v":0},{"$f":"+-V58*(V58<0)*(V6<='Project Summary'!$Q$8)","v":0},{"$f":"+-W58*(W58<0)*(W6<='Project Summary'!$Q$8)","v":0},{"$f":"+-X58*(X58<0)*(X6<='Project Summary'!$Q$8)","v":0},{"$f":"+-Y58*(Y58<0)*(Y6<='Project Summary'!$Q$8)","v":0},{"$f":"+-Z58*(Z58<0)*(Z6<='Project Summary'!$Q$8)","v":0},{"$f":"+-AA58*(AA58<0)*(AA6<='Project Summary'!$Q$8)","v":0},{"$f":"+-AB58*(AB58<0)*(AB6<='Project Summary'!$Q$8)","v":0},{"$f":"+-AC58*(AC58<0)*(AC6<='Project Summary'!$Q$8)","v":0},{"$f":"+-AD58*(AD58<0)*(AD6<='Project Summary'!$Q$8)","v":0},{"$f":"+-AE58*(AE58<0)*(AE6<='Project Summary'!$Q$8)","v":0},{"$f":"+-AF58*(AF58<0)*(AF6<='Project Summary'!$Q$8)","v":0},{"$f":"+-AG58*(AG58<0)*(AG6<='Project Summary'!$Q$8)","v":0},{"$f":"+-AH58*(AH58<0)*(AH6<='Project Summary'!$Q$8)","v":0},{"$f":"+-AI58*(AI58<0)*(AI6<='Project Summary'!$Q$8)","v":0},{"$f":"+-AJ58*(AJ58<0)*(AJ6<='Project Summary'!$Q$8)","v":0},{"$f":"+-AK58*(AK58<0)*(AK6<='Project Summary'!$Q$8)","v":0},{"$f":"+-AL58*(AL58<0)*(AL6<='Project Summary'!$Q$8)","v":0},{"$f":"+-AM58*(AM58<0)*(AM6<='Project Summary'!$Q$8)","v":0},{"$f":"+-AN58*(AN58<0)*(AN6<='Project Summary'!$Q$8)","v":0},{"$f":"+-AO58*(AO58<0)*(AO6<='Project Summary'!$Q$8)","v":0},{"$f":"+-AP58*(AP58<0)*(AP6<='Project Summary'!$Q$8)","v":0},{"$f":"+-AQ58*(AQ58<0)*(AQ6<='Project Summary'!$Q$8)","v":0},{"$f":"+-AR58*(AR58<0)*(AR6<='Project Summary'!$Q$8)","v":0},{"$f":"+-AS58*(AS58<0)*(AS6<='Project Summary'!$Q$8)","v":0},{"$f":"+-AT58*(AT58<0)*(AT6<='Project Summary'!$Q$8)","v":0},{"$f":"+-AU58*(AU58<0)*(AU6<='Project Summary'!$Q$8)","v":0},{"$f":"+-AV58*(AV58<0)*(AV6<='Project Summary'!$Q$8)","v":0},{"$f":"+-AW58*(AW58<0)*(AW6<='Project Summary'!$Q$8)","v":0},{"$f":"+-AX58*(AX58<0)*(AX6<='Project Summary'!$Q$8)","v":0},{"$f":"+-AY58*(AY58<0)*(AY6<='Project Summary'!$Q$8)","v":0},{"$f":"+-AZ58*(AZ58<0)*(AZ6<='Project Summary'!$Q$8)","v":0},{"$f":"+-BA58*(BA58<0)*(BA6<='Project Summary'!$Q$8)","v":0},{"$f":"+-BB58*(BB58<0)*(BB6<='Project Summary'!$Q$8)","v":0},{"$f":"+-BC58*(BC58<0)*(BC6<='Project Summary'!$Q$8)","v":0},{"$f":"+-BD58*(BD58<0)*(BD6<='Project Summary'!$Q$8)","v":0},{"$f":"+-BE58*(BE58<0)*(BE6<='Project Summary'!$Q$8)","v":0},{"$f":"+-BF58*(BF58<0)*(BF6<='Project Summary'!$Q$8)","v":0},{"$f":"+-BG58*(BG58<0)*(BG6<='Project Summary'!$Q$8)","v":0},{"$f":"+-BH58*(BH58<0)*(BH6<='Project Summary'!$Q$8)","v":0},{"$f":"+-BI58*(BI58<0)*(BI6<='Project Summary'!$Q$8)","v":0},{"$f":"+-BJ58*(BJ58<0)*(BJ6<='Project Summary'!$Q$8)","v":0},{"$f":"+-BK58*(BK58<0)*(BK6<='Project Summary'!$Q$8)","v":0},{"$f":"+-BL58*(BL58<0)*(BL6<='Project Summary'!$Q$8)","v":0},{"$f":"+-BM58*(BM58<0)*(BM6<='Project Summary'!$Q$8)","v":0},{"$f":"+-BN58*(BN58<0)*(BN6<='Project Summary'!$Q$8)","v":0},{"$f":"+-BO58*(BO58<0)*(BO6<='Project Summary'!$Q$8)","v":0},{"$f":"+-BP58*(BP58<0)*(BP6<='Project Summary'!$Q$8)","v":0},{"$f":"+-BQ58*(BQ58<0)*(BQ6<='Project Summary'!$Q$8)","v":0},{"$f":"+-BR58*(BR58<0)*(BR6<='Project Summary'!$Q$8)","v":0},{"$f":"+-BS58*(BS58<0)*(BS6<='Project Summary'!$Q$8)","v":0},{"$f":"+-BT58*(BT58<0)*(BT6<='Project Summary'!$Q$8)","v":0},{"$f":"+-BU58*(BU58<0)*(BU6<='Project Summary'!$Q$8)","v":0},{"$f":"+-BV58*(BV58<0)*(BV6<='Project Summary'!$Q$8)","v":0},{"$f":"+-BW58*(BW58<0)*(BW6<='Project Summary'!$Q$8)","v":0},{"$f":"+-BX58*(BX58<0)*(BX6<='Project Summary'!$Q$8)","v":0},{"$f":"+-BY58*(BY58<0)*(BY6<='Project Summary'!$Q$8)","v":0},{"$f":"+-BZ58*(BZ58<0)*(BZ6<='Project Summary'!$Q$8)","v":0},{"$f":"+-CA58*(CA58<0)*(CA6<='Project Summary'!$Q$8)","v":0},{"$f":"+-CB58*(CB58<0)*(CB6<='Project Summary'!$Q$8)","v":0},{"$f":"+-CC58*(CC58<0)*(CC6<='Project Summary'!$Q$8)","v":0},{"$f":"+-CD58*(CD58<0)*(CD6<='Project Summary'!$Q$8)","v":0},{"$f":"+-CE58*(CE58<0)*(CE6<='Project Summary'!$Q$8)","v":0},{"$f":"+-CF58*(CF58<0)*(CF6<='Project Summary'!$Q$8)","v":0},{"$f":"+-CG58*(CG58<0)*(CG6<='Project Summary'!$Q$8)","v":0},{"$f":"+-CH58*(CH58<0)*(CH6<='Project Summary'!$Q$8)","v":0},{"$f":"+-CI58*(CI58<0)*(CI6<='Project Summary'!$Q$8)","v":0},{"$f":"+-CJ58*(CJ58<0)*(CJ6<='Project Summary'!$Q$8)","v":0},{"$f":"+-CK58*(CK58<0)*(CK6<='Project Summary'!$Q$8)","v":0},{"$f":"+-CL58*(CL58<0)*(CL6<='Project Summary'!$Q$8)","v":0},{"$f":"+-CM58*(CM58<0)*(CM6<='Project Summary'!$Q$8)","v":0},{"$f":"+-CN58*(CN58<0)*(CN6<='Project Summary'!$Q$8)","v":0},{"$f":"+-CO58*(CO58<0)*(CO6<='Project Summary'!$Q$8)","v":0},{"$f":"+-CP58*(CP58<0)*(CP6<='Project Summary'!$Q$8)","v":0},{"$f":"+-CQ58*(CQ58<0)*(CQ6<='Project Summary'!$Q$8)","v":0},{"$f":"+-CR58*(CR58<0)*(CR6<='Project Summary'!$Q$8)","v":0},{"$f":"+-CS58*(CS58<0)*(CS6<='Project Summary'!$Q$8)","v":0},{"$f":"+-CT58*(CT58<0)*(CT6<='Project Summary'!$Q$8)","v":0},{"$f":"+-CU58*(CU58<0)*(CU6<='Project Summary'!$Q$8)","v":0},{"$f":"+-CV58*(CV58<0)*(CV6<='Project Summary'!$Q$8)","v":0},{"$f":"+-CW58*(CW58<0)*(CW6<='Project Summary'!$Q$8)","v":0},{"$f":"+-CX58*(CX58<0)*(CX6<='Project Summary'!$Q$8)","v":0},{"$f":"+-CY58*(CY58<0)*(CY6<='Project Summary'!$Q$8)","v":0},{"$f":"+-CZ58*(CZ58<0)*(CZ6<='Project Summary'!$Q$8)","v":0},{"$f":"+-DA58*(DA58<0)*(DA6<='Project Summary'!$Q$8)","v":0},{"$f":"+-DB58*(DB58<0)*(DB6<='Project Summary'!$Q$8)","v":0},{"$f":"+-DC58*(DC58<0)*(DC6<='Project Summary'!$Q$8)","v":0},{"$f":"+-DD58*(DD58<0)*(DD6<='Project Summary'!$Q$8)","v":0},{"$f":"+-DE58*(DE58<0)*(DE6<='Project Summary'!$Q$8)","v":0},{"$f":"+-DF58*(DF58<0)*(DF6<='Project Summary'!$Q$8)","v":0},{"$f":"+-DG58*(DG58<0)*(DG6<='Project Summary'!$Q$8)","v":0},{"$f":"+-DH58*(DH58<0)*(DH6<='Project Summary'!$Q$8)","v":0},{"$f":"+-DI58*(DI58<0)*(DI6<='Project Summary'!$Q$8)","v":0},{"$f":"+-DJ58*(DJ58<0)*(DJ6<='Project Summary'!$Q$8)","v":0},{"$f":"+-DK58*(DK58<0)*(DK6<='Project Summary'!$Q$8)","v":0},{"$f":"+-DL58*(DL58<0)*(DL6<='Project Summary'!$Q$8)","v":0},{"$f":"+-DM58*(DM58<0)*(DM6<='Project Summary'!$Q$8)","v":0},{"$f":"+-DN58*(DN58<0)*(DN6<='Project Summary'!$Q$8)","v":0},{"$f":"+-DO58*(DO58<0)*(DO6<='Project Summary'!$Q$8)","v":0},{"$f":"+-DP58*(DP58<0)*(DP6<='Project Summary'!$Q$8)","v":0},{"$f":"+-DQ58*(DQ58<0)*(DQ6<='Project Summary'!$Q$8)","v":0},{"$f":"+-DR58*(DR58<0)*(DR6<='Project Summary'!$Q$8)","v":0},{"$f":"+-DS58*(DS58<0)*(DS6<='Project Summary'!$Q$8)","v":0},{"$f":"+-DT58*(DT58<0)*(DT6<='Project Summary'!$Q$8)","v":0},{"$f":"+-DU58*(DU58<0)*(DU6<='Project Summary'!$Q$8)","v":0},{"$f":"+-DV58*(DV58<0)*(DV6<='Project Summary'!$Q$8)","v":0},{"$f":"+-DW58*(DW58<0)*(DW6<='Project Summary'!$Q$8)","v":0},{"$f":"+-DX58*(DX58<0)*(DX6<='Project Summary'!$Q$8)","v":0},{"$f":"+-DY58*(DY58<0)*(DY6<='Project Summary'!$Q$8)","v":0},{"$f":"+-DZ58*(DZ58<0)*(DZ6<='Project Summary'!$Q$8)","v":0},{"$f":"+-EA58*(EA58<0)*(EA6<='Project Summary'!$Q$8)","v":0},{"$f":"+-EB58*(EB58<0)*(EB6<='Project Summary'!$Q$8)","v":0},{"$f":"+-EC58*(EC58<0)*(EC6<='Project Summary'!$Q$8)","v":0},{"$f":"+-ED58*(ED58<0)*(ED6<='Project Summary'!$Q$8)","v":0},{"$f":"+-EE58*(EE58<0)*(EE6<='Project Summary'!$Q$8)","v":0},{"$f":"+-EF58*(EF58<0)*(EF6<='Project Summary'!$Q$8)","v":0},{"$f":"+-EG58*(EG58<0)*(EG6<='Project Summary'!$Q$8)","v":0}]
[null,"Cumulative Funding",null,null,{"$f":"+SUM($E$66:E66)*(E6<'Project Summary'!$Q$8)","v":11845000},{"$f":"+SUM($E$66:F66)*(F6<'Project Summary'!$Q$8)","v":11845000},{"$f":"+SUM($E$66:G66)*(G6<'Project Summary'!$Q$8)","v":11845000},{"$f":"+SUM($E$66:H66)*(H6<'Project Summary'!$Q$8)","v":11845000},{"$f":"+SUM($E$66:I66)*(I6<'Project Summary'!$Q$8)","v":11845000},{"$f":"+SUM($E$66:J66)*(J6<'Project Summary'!$Q$8)","v":11845000},{"$f":"+SUM($E$66:K66)*(K6<'Project Summary'!$Q$8)","v":11845000},{"$f":"+SUM($E$66:L66)*(L6<'Project Summary'!$Q$8)","v":11845000},{"$f":"+SUM($E$66:M66)*(M6<'Project Summary'!$Q$8)","v":11845000},{"$f":"+SUM($E$66:N66)*(N6<'Project Summary'!$Q$8)","v":11845000},{"$f":"+SUM($E$66:O66)*(O6<'Project Summary'!$Q$8)","v":11845000},{"$f":"+SUM($E$66:P66)*(P6<'Project Summary'!$Q$8)","v":11845000},{"$f":"+SUM($E$66:Q66)*(Q6<'Project Summary'!$Q$8)","v":11845000},{"$f":"+SUM($E$66:R66)*(R6<'Project Summary'!$Q$8)","v":11845000},{"$f":"+SUM($E$66:S66)*(S6<'Project Summary'!$Q$8)","v":11845000},{"$f":"+SUM($E$66:T66)*(T6<'Project Summary'!$Q$8)","v":11845000},{"$f":"+SUM($E$66:U66)*(U6<'Project Summary'!$Q$8)","v":11845000},{"$f":"+SUM($E$66:V66)*(V6<'Project Summary'!$Q$8)","v":11845000},{"$f":"+SUM($E$66:W66)*(W6<'Project Summary'!$Q$8)","v":11845000},{"$f":"+SUM($E$66:X66)*(X6<'Project Summary'!$Q$8)","v":11845000},{"$f":"+SUM($E$66:Y66)*(Y6<'Project Summary'!$Q$8)","v":11845000},{"$f":"+SUM($E$66:Z66)*(Z6<'Project Summary'!$Q$8)","v":11845000},{"$f":"+SUM($E$66:AA66)*(AA6<'Project Summary'!$Q$8)","v":11845000},{"$f":"+SUM($E$66:AB66)*(AB6<'Project Summary'!$Q$8)","v":11845000},{"$f":"+SUM($E$66:AC66)*(AC6<'Project Summary'!$Q$8)","v":11845000},{"$f":"+SUM($E$66:AD66)*(AD6<'Project Summary'!$Q$8)","v":11845000},{"$f":"+SUM($E$66:AE66)*(AE6<'Project Summary'!$Q$8)","v":11845000},{"$f":"+SUM($E$66:AF66)*(AF6<'Project Summary'!$Q$8)","v":11845000},{"$f":"+SUM($E$66:AG66)*(AG6<'Project Summary'!$Q$8)","v":11845000},{"$f":"+SUM($E$66:AH66)*(AH6<'Project Summary'!$Q$8)","v":11845000},{"$f":"+SUM($E$66:AI66)*(AI6<'Project Summary'!$Q$8)","v":11845000},{"$f":"+SUM($E$66:AJ66)*(AJ6<'Project Summary'!$Q$8)","v":11845000},{"$f":"+SUM($E$66:AK66)*(AK6<'Project Summary'!$Q$8)","v":11845000},{"$f":"+SUM($E$66:AL66)*(AL6<'Project Summary'!$Q$8)","v":11845000},{"$f":"+SUM($E$66:AM66)*(AM6<'Project Summary'!$Q$8)","v":11845000},{"$f":"+SUM($E$66:AN66)*(AN6<'Project Summary'!$Q$8)","v":11845000},{"$f":"+SUM($E$66:AO66)*(AO6<'Project Summary'!$Q$8)","v":11845000},{"$f":"+SUM($E$66:AP66)*(AP6<'Project Summary'!$Q$8)","v":11845000},{"$f":"+SUM($E$66:AQ66)*(AQ6<'Project Summary'!$Q$8)","v":11845000},{"$f":"+SUM($E$66:AR66)*(AR6<'Project Summary'!$Q$8)","v":11845000},{"$f":"+SUM($E$66:AS66)*(AS6<'Project Summary'!$Q$8)","v":11845000},{"$f":"+SUM($E$66:AT66)*(AT6<'Project Summary'!$Q$8)","v":11845000},{"$f":"+SUM($E$66:AU66)*(AU6<'Project Summary'!$Q$8)","v":11845000},{"$f":"+SUM($E$66:AV66)*(AV6<'Project Summary'!$Q$8)","v":11845000},{"$f":"+SUM($E$66:AW66)*(AW6<'Project Summary'!$Q$8)","v":11845000},{"$f":"+SUM($E$66:AX66)*(AX6<'Project Summary'!$Q$8)","v":11845000},{"$f":"+SUM($E$66:AY66)*(AY6<'Project Summary'!$Q$8)","v":11845000},{"$f":"+SUM($E$66:AZ66)*(AZ6<'Project Summary'!$Q$8)","v":11845000},{"$f":"+SUM($E$66:BA66)*(BA6<'Project Summary'!$Q$8)","v":11845000},{"$f":"+SUM($E$66:BB66)*(BB6<'Project Summary'!$Q$8)","v":11845000},{"$f":"+SUM($E$66:BC66)*(BC6<'Project Summary'!$Q$8)","v":11845000},{"$f":"+SUM($E$66:BD66)*(BD6<'Project Summary'!$Q$8)","v":11845000},{"$f":"+SUM($E$66:BE66)*(BE6<'Project Summary'!$Q$8)","v":11845000},{"$f":"+SUM($E$66:BF66)*(BF6<'Project Summary'!$Q$8)","v":11845000},{"$f":"+SUM($E$66:BG66)*(BG6<'Project Summary'!$Q$8)","v":11845000},{"$f":"+SUM($E$66:BH66)*(BH6<'Project Summary'!$Q$8)","v":11845000},{"$f":"+SUM($E$66:BI66)*(BI6<'Project Summary'!$Q$8)","v":11845000},{"$f":"+SUM($E$66:BJ66)*(BJ6<'Project Summary'!$Q$8)","v":11845000},{"$f":"+SUM($E$66:BK66)*(BK6<'Project Summary'!$Q$8)","v":11845000},{"$f":"+SUM($E$66:BL66)*(BL6<'Project Summary'!$Q$8)","v":11845000},{"$f":"+SUM($E$66:BM66)*(BM6<'Project Summary'!$Q$8)","v":11845000},{"$f":"+SUM($E$66:BN66)*(BN6<'Project Summary'!$Q$8)","v":11845000},{"$f":"+SUM($E$66:BO66)*(BO6<'Project Summary'!$Q$8)","v":11845000},{"$f":"+SUM($E$66:BP66)*(BP6<'Project Summary'!$Q$8)","v":11845000},{"$f":"+SUM($E$66:BQ66)*(BQ6<'Project Summary'!$Q$8)","v":11845000},{"$f":"+SUM($E$66:BR66)*(BR6<'Project Summary'!$Q$8)","v":11845000},{"$f":"+SUM($E$66:BS66)*(BS6<'Project Summary'!$Q$8)","v":11845000},{"$f":"+SUM($E$66:BT66)*(BT6<'Project Summary'!$Q$8)","v":11845000},{"$f":"+SUM($E$66:BU66)*(BU6<'Project Summary'!$Q$8)","v":11845000},{"$f":"+SUM($E$66:BV66)*(BV6<'Project Summary'!$Q$8)","v":11845000},{"$f":"+SUM($E$66:BW66)*(BW6<'Project Summary'!$Q$8)","v":11845000},{"$f":"+SUM($E$66:BX66)*(BX6<'Project Summary'!$Q$8)","v":11845000},{"$f":"+SUM($E$66:BY66)*(BY6<'Project Summary'!$Q$8)","v":11845000},{"$f":"+SUM($E$66:BZ66)*(BZ6<'Project Summary'!$Q$8)","v":11845000},{"$f":"+SUM($E$66:CA66)*(CA6<'Project Summary'!$Q$8)","v":11845000},{"$f":"+SUM($E$66:CB66)*(CB6<'Project Summary'!$Q$8)","v":11845000},{"$f":"+SUM($E$66:CC66)*(CC6<'Project Summary'!$Q$8)","v":11845000},{"$f":"+SUM($E$66:CD66)*(CD6<'Project Summary'!$Q$8)","v":11845000},{"$f":"+SUM($E$66:CE66)*(CE6<'Project Summary'!$Q$8)","v":11845000},{"$f":"+SUM($E$66:CF66)*(CF6<'Project Summary'!$Q$8)","v":11845000},{"$f":"+SUM($E$66:CG66)*(CG6<'Project Summary'!$Q$8)","v":11845000},{"$f":"+SUM($E$66:CH66)*(CH6<'Project Summary'!$Q$8)","v":11845000},{"$f":"+SUM($E$66:CI66)*(CI6<'Project Summary'!$Q$8)","v":11845000},{"$f":"+SUM($E$66:CJ66)*(CJ6<'Project Summary'!$Q$8)","v":11845000},{"$f":"+SUM($E$66:CK66)*(CK6<'Project Summary'!$Q$8)","v":0},{"$f":"+SUM($E$66:CL66)*(CL6<'Project Summary'!$Q$8)","v":0},{"$f":"+SUM($E$66:CM66)*(CM6<'Project Summary'!$Q$8)","v":0},{"$f":"+SUM($E$66:CN66)*(CN6<'Project Summary'!$Q$8)","v":0},{"$f":"+SUM($E$66:CO66)*(CO6<'Project Summary'!$Q$8)","v":0},{"$f":"+SUM($E$66:CP66)*(CP6<'Project Summary'!$Q$8)","v":0},{"$f":"+SUM($E$66:CQ66)*(CQ6<'Project Summary'!$Q$8)","v":0},{"$f":"+SUM($E$66:CR66)*(CR6<'Project Summary'!$Q$8)","v":0},{"$f":"+SUM($E$66:CS66)*(CS6<'Project Summary'!$Q$8)","v":0},{"$f":"+SUM($E$66:CT66)*(CT6<'Project Summary'!$Q$8)","v":0},{"$f":"+SUM($E$66:CU66)*(CU6<'Project Summary'!$Q$8)","v":0},{"$f":"+SUM($E$66:CV66)*(CV6<'Project Summary'!$Q$8)","v":0},{"$f":"+SUM($E$66:CW66)*(CW6<'Project Summary'!$Q$8)","v":0},{"$f":"+SUM($E$66:CX66)*(CX6<'Project Summary'!$Q$8)","v":0},{"$f":"+SUM($E$66:CY66)*(CY6<'Project Summary'!$Q$8)","v":0},{"$f":"+SUM($E$66:CZ66)*(CZ6<'Project Summary'!$Q$8)","v":0},{"$f":"+SUM($E$66:DA66)*(DA6<'Project Summary'!$Q$8)","v":0},{"$f":"+SUM($E$66:DB66)*(DB6<'Project Summary'!$Q$8)","v":0},{"$f":"+SUM($E$66:DC66)*(DC6<'Project Summary'!$Q$8)","v":0},{"$f":"+SUM($E$66:DD66)*(DD6<'Project Summary'!$Q$8)","v":0},{"$f":"+SUM($E$66:DE66)*(DE6<'Project Summary'!$Q$8)","v":0},{"$f":"+SUM($E$66:DF66)*(DF6<'Project Summary'!$Q$8)","v":0},{"$f":"+SUM($E$66:DG66)*(DG6<'Project Summary'!$Q$8)","v":0},{"$f":"+SUM($E$66:DH66)*(DH6<'Project Summary'!$Q$8)","v":0},{"$f":"+SUM($E$66:DI66)*(DI6<'Project Summary'!$Q$8)","v":0},{"$f":"+SUM($E$66:DJ66)*(DJ6<'Project Summary'!$Q$8)","v":0},{"$f":"+SUM($E$66:DK66)*(DK6<'Project Summary'!$Q$8)","v":0},{"$f":"+SUM($E$66:DL66)*(DL6<'Project Summary'!$Q$8)","v":0},{"$f":"+SUM($E$66:DM66)*(DM6<'Project Summary'!$Q$8)","v":0},{"$f":"+SUM($E$66:DN66)*(DN6<'Project Summary'!$Q$8)","v":0},{"$f":"+SUM($E$66:DO66)*(DO6<'Project Summary'!$Q$8)","v":0},{"$f":"+SUM($E$66:DP66)*(DP6<'Project Summary'!$Q$8)","v":0},{"$f":"+SUM($E$66:DQ66)*(DQ6<'Project Summary'!$Q$8)","v":0},{"$f":"+SUM($E$66:DR66)*(DR6<'Project Summary'!$Q$8)","v":0},{"$f":"+SUM($E$66:DS66)*(DS6<'Project Summary'!$Q$8)","v":0},{"$f":"+SUM($E$66:DT66)*(DT6<'Project Summary'!$Q$8)","v":0},{"$f":"+SUM($E$66:DU66)*(DU6<'Project Summary'!$Q$8)","v":0},{"$f":"+SUM($E$66:DV66)*(DV6<'Project Summary'!$Q$8)","v":0},{"$f":"+SUM($E$66:DW66)*(DW6<'Project Summary'!$Q$8)","v":0},{"$f":"+SUM($E$66:DX66)*(DX6<'Project Summary'!$Q$8)","v":0},{"$f":"+SUM($E$66:DY66)*(DY6<'Project Summary'!$Q$8)","v":0},{"$f":"+SUM($E$66:DZ66)*(DZ6<'Project Summary'!$Q$8)","v":0},{"$f":"+SUM($E$66:EA66)*(EA6<'Project Summary'!$Q$8)","v":0},{"$f":"+SUM($E$66:EB66)*(EB6<'Project Summary'!$Q$8)","v":0},{"$f":"+SUM($E$66:EC66)*(EC6<'Project Summary'!$Q$8)","v":0},{"$f":"+SUM($E$66:ED66)*(ED6<'Project Summary'!$Q$8)","v":0},{"$f":"+SUM($E$66:EE66)*(EE6<'Project Summary'!$Q$8)","v":0},{"$f":"+SUM($E$66:EF66)*(EF6<'Project Summary'!$Q$8)","v":0},{"$f":"+SUM($E$66:EG66)*(EG6<'Project Summary'!$Q$8)","v":0}]
[]
[null,"Levered Returns"]
[null,"Unleverred Cash Flow",null,null,{"$f":"+E60","v":-11845000},{"$f":"+F60","v":73099.466645134074},73099.466645134074,73099.466645134074,68671.218167796033,75961.218167796033,75961.218167796033,75961.218167796033,73501.080124830449,77551.080124830449,77759.413458163792,78780.246791497135,72415.713717653503,84999.963717653503,84999.963717653503,85423.63038432016,82971.539423029026,86609.272641521849,93209.272641521849,93209.272641521849,94759.272641521879,94759.272641521879,94759.272641521879,94759.272641521879,95714.047763864335,95714.047763864335,95714.047763864335,95714.047763864335,95847.381097197678,95847.381097197678,95847.381097197678,95847.381097197678,96107.714430531021,96107.714430531021,96107.714430531021,96107.714430531021,96047.399473210447,96047.399473210447,96047.399473210447,96047.399473210447,96047.399473210447,96047.399473210447,96047.399473210447,96047.399473210447,96047.399473210447,96047.399473210447,96047.399473210447,96047.399473210447,95985.275067170238,96901.941733836924,96901.941733836924,96901.941733836924,96901.941733836924,96901.941733836924,96901.941733836924,96901.941733836924,96901.941733836924,96901.941733836924,96901.941733836924,96901.941733836924,96837.953595615501,97587.953595615501,97587.953595615501,97587.953595615501,97587.953595615501,{"$f":"+BR60","v":97587.953595615501},97587.953595615501,97587.953595615501,97587.953595615501,97587.953595615501,97879.620262282187,99349.620262282187,99283.71247991416,99616.71247991416,99616.71247991416,99616.71247991416,99616.71247991416,99616.71247991416,99616.71247991416,99616.71247991416,99616.71247991416,99616.71247991416,99616.71247991416,99616.71247991416,15163292.401496086,0,0,0,0,0,0,0,0,0,0,0,0,0,0,0,0,0,0,0,0,0,0,0,0,0,0,0,0,0,0,0,0,0,0,0,0,0,0,0,0,0,0,0,0,{"$f":"+ED60","v":0},0,0,0]
[null,"Debt Proceeds",null,null,{"$f":"+E85","v":7475000.0000000009},{"$f":"+F85","v":0},0,0,0,0,0,0,0,0,0,0,0,0,0,0,0,0,0,0,0,0,0,0,0,0,0,0,0,0,0,0,0,0,0,0,0,0,0,0,0,0,0,0,0,0,0,0,0,0,0,0,0,0,0,0,0,0,0,0,0,0,0,0,0,{"$f":"+BR85","v":0},0,0,0,0,0,0,0,0,0,0,0,0,0,0,0,0,0,0,0,0,0,0,0,0,0,0,0,0,0,0,0,0,0,0,0,0,0,0,0,0,0,0,0,0,0,0,0,0,0,0,0,0,0,0,0,0,0,0,0,0,0,0,0,{"$f":"+ED85","v":0},0,0,0]
[null,"Financing Fees",null,null,0,0,0,0,0,0,0,0,0,0,0,0,0,0,0,0,0,0,0,0,0,0,0,0,0,0,0,0,0,0,0,0,0,0,0,0,0,0,0,0,0,0,0,0,0,0,0,0,0,0,0,0,0,0,0,0,0,0,0,0,0,0,0,0,0,0,0,0,0,0,0,0,0,0,0,0,0,0,0,0,0,0,0,0,0,0,0,0,0,0,0,0,0,0,0,0,0,0,0,0,0,0,0,0,0,0,0,0,0,0,0,0,0,0,0,0,0,0,0,0,0,0,0,0,0,0,0,0,0,0,0,0,0]
[null,"Debt Service",null,null,{"$f":"+E87","v":0},{"$f":"+F87","v":-42187.458707944796},{"$f":"+G87","v":-42187.458707944796},-42187.458707944796,-42187.458707944796,-42187.458707944796,-42187.458707944796,-42187.458707944796,-42187.458707944796,-42187.458707944796,-42187.458707944796,-42187.458707944796,-42187.458707944796,-42187.458707944796,-42187.458707944796,-42187.458707944796,-42187.458707944796,-42187.458707944796,-42187.458707944796,-42187.458707944796,-42187.458707944796,-42187.458707944796,-42187.458707944796,-42187.458707944796,-42187.458707944796,-42187.458707944796,-42187.458707944796,-42187.458707944796,-42187.458707944796,-42187.458707944796,-42187.458707944796,-42187.458707944796,-42187.458707944796,-42187.458707944796,-42187.458707944796,-42187.458707944796,-42187.458707944796,-42187.458707944796,-42187.458707944796,-42187.458707944796,-42187.458707944796,-42187.458707944796,-42187.458707944796,-42187.458707944796,-42187.458707944796,-42187.458707944796,-42187.458707944796,-42187.458707944796,-42187.458707944796,-42187.458707944796,-42187.458707944796,-42187.458707944796,-42187.458707944796,-42187.458707944796,-42187.458707944796,-42187.458707944796,-42187.458707944796,-42187.458707944796,-42187.458707944796,-42187.458707944796,-42187.458707944796,-42187.458707944796,-42187.458707944796,-42187.458707944796,-42187.458707944796,{"$f":"+BR87","v":-42187.458707944796},-42187.458707944796,-42187.458707944796,-42187.458707944796,-42187.458707944796,-42187.458707944796,-42187.458707944796,-42187.458707944796,-42187.458707944796,-42187.458707944796,-42187.458707944796,-42187.458707944796,-42187.458707944796,-42187.458707944796,-42187.458707944796,-42187.458707944796,-42187.458707944796,-42187.458707944796,-42187.458707944796,-42187.458707944796,0,0,0,0,0,0,0,0,0,0,0,0,0,0,0,0,0,0,0,0,0,0,0,0,0,0,0,0,0,0,0,0,0,0,0,0,0,0,0,0,0,0,0,0,0,0,0,0]
[null,"Debt Repayment",null,null,{"$f":"+E90","v":0},{"$f":"+F90","v":0},0,0,0,0,0,0,0,0,0,0,0,0,0,0,0,0,0,0,0,0,0,0,0,0,0,0,0,0,0,0,0,0,0,0,0,0,0,0,0,0,0,0,0,0,0,0,0,0,0,0,0,0,0,0,0,0,0,0,{"$f":"+BM90","v":0},0,0,0,0,{"$f":"+BR90","v":0},0,0,0,0,0,0,0,0,0,0,0,0,0,0,0,0,0,0,-6165263.6683341172,0,0,0,0,0,0,0,0,0,0,0,0,0,0,0,0,0,0,0,0,0,0,0,0,0,0,0,0,0,0,0,0,0,0,0,0,0,0,0,0,0,0,0,0,{"$f":"+ED90","v":0},0,0,0]
[null,"Levered Cash Flow",null,null,{"$f":"SUM(E70:E74)","v":-4369999.9999999991},{"$f":"SUM(F70:F74)","v":30912.007937189279},30912.007937189279,30912.007937189279,26483.759459851237,33773.759459851237,33773.759459851237,33773.759459851237,31313.621416885653,35363.621416885653,35571.954750218996,36592.788083552339,30228.255009708708,42812.505009708708,42812.505009708708,43236.171676375365,40784.08071508423,44421.813933577054,51021.813933577054,51021.813933577054,52571.813933577083,52571.813933577083,52571.813933577083,52571.813933577083,53526.58905591954,53526.58905591954,53526.58905591954,53526.58905591954,53659.922389252883,53659.922389252883,53659.922389252883,53659.922389252883,53920.255722586226,53920.255722586226,53920.255722586226,53920.255722586226,53859.940765265652,53859.940765265652,53859.940765265652,53859.940765265652,53859.940765265652,53859.940765265652,53859.940765265652,53859.940765265652,53859.940765265652,53859.940765265652,53859.940765265652,53859.940765265652,53797.816359225442,54714.483025892128,54714.483025892128,54714.483025892128,54714.483025892128,54714.483025892128,54714.483025892128,54714.483025892128,54714.483025892128,54714.483025892128,54714.483025892128,54714.483025892128,54650.494887670706,55400.494887670706,55400.494887670706,55400.494887670706,55400.494887670706,{"$f":"SUM(BR70:BR74)","v":55400.494887670706},55400.494887670706,55400.494887670706,55400.494887670706,55400.494887670706,55692.161554337392,57162.161554337392,57096.253771969365,57429.253771969365,57429.253771969365,57429.253771969365,57429.253771969365,57429.253771969365,57429.253771969365,57429.253771969365,57429.253771969365,57429.253771969365,57429.253771969365,57429.253771969365,8955841.2744540237,0,0,0,0,0,0,0,0,0,0,0,0,0,0,0,0,0,0,0,0,0,0,0,0,0,0,0,0,0,0,0,0,0,0,0,0,0,0,0,0,0,0,0,0,{"$f":"SUM(ED70:ED74)","v":0},0,0,0]
[]
[null,"Levered IRR",null,{"$f":"((IRR(E75:GG75,0.1/12)+1)^12)-1","v":0.2201883134514413}]
[null,"Levered Multiple",null,{"$f":"+(SUM($E$75:$EG$75)+MAX($E$82:$EG$82))/MAX($E$82:$EG$82)","v":3.0144579728776764}]
[]
[]
[null,"Equity Requirement",null,null,{"$f":"+-(E75<0)*E75*(E6<='Project Summary'!$Q$8)","v":4369999.9999999991},{"$f":"+-(F75<0)*F75*(F6<='Project Summary'!$Q$8)","v":0},{"$f":"+-(G75<0)*G75*(G6<='Project Summary'!$Q$8)","v":0},{"$f":"+-(H75<0)*H75*(H6<='Project Summary'!$Q$8)","v":0},{"$f":"+-(I75<0)*I75*(I6<='Project Summary'!$Q$8)","v":0},{"$f":"+-(J75<0)*J75*(J6<='Project Summary'!$Q$8)","v":0},{"$f":"+-(K75<0)*K75*(K6<='Project Summary'!$Q$8)","v":0},{"$f":"+-(L75<0)*L75*(L6<='Project Summary'!$Q$8)","v":0},{"$f":"+-(M75<0)*M75*(M6<='Project Summary'!$Q$8)","v":0},{"$f":"+-(N75<0)*N75*(N6<='Project Summary'!$Q$8)","v":0},{"$f":"+-(O75<0)*O75*(O6<='Project Summary'!$Q$8)","v":0},{"$f":"+-(P75<0)*P75*(P6<='Project Summary'!$Q$8)","v":0},{"$f":"+-(Q75<0)*Q75*(Q6<='Project Summary'!$Q$8)","v":0},{"$f":"+-(R75<0)*R75*(R6<='Project Summary'!$Q$8)","v":0},{"$f":"+-(S75<0)*S75*(S6<='Project Summary'!$Q$8)","v":0},{"$f":"+-(T75<0)*T75*(T6<='Project Summary'!$Q$8)","v":0},{"$f":"+-(U75<0)*U75*(U6<='Project Summary'!$Q$8)","v":0},{"$f":"+-(V75<0)*V75*(V6<='Project Summary'!$Q$8)","v":0},{"$f":"+-(W75<0)*W75*(W6<='Project Summary'!$Q$8)","v":0},{"$f":"+-(X75<0)*X75*(X6<='Project Summary'!$Q$8)","v":0},{"$f":"+-(Y75<0)*Y75*(Y6<='Project Summary'!$Q$8)","v":0},{"$f":"+-(Z75<0)*Z75*(Z6<='Project Summary'!$Q$8)","v":0},{"$f":"+-(AA75<0)*AA75*(AA6<='Project Summary'!$Q$8)","v":0},{"$f":"+-(AB75<0)*AB75*(AB6<='Project Summary'!$Q$8)","v":0},{"$f":"+-(AC75<0)*AC75*(AC6<='Project Summary'!$Q$8)","v":0},{"$f":"+-(AD75<0)*AD75*(AD6<='Project Summary'!$Q$8)","v":0},{"$f":"+-(AE75<0)*AE75*(AE6<='Project Summary'!$Q$8)","v":0},{"$f":"+-(AF75<0)*AF75*(AF6<='Project Summary'!$Q$8)","v":0},{"$f":"+-(AG75<0)*AG75*(AG6<='Project Summary'!$Q$8)","v":0},{"$f":"+-(AH75<0)*AH75*(AH6<='Project Summary'!$Q$8)","v":0},{"$f":"+-(AI75<0)*AI75*(AI6<='Project Summary'!$Q$8)","v":0},{"$f":"+-(AJ75<0)*AJ75*(AJ6<='Project Summary'!$Q$8)","v":0},{"$f":"+-(AK75<0)*AK75*(AK6<='Project Summary'!$Q$8)","v":0},{"$f":"+-(AL75<0)*AL75*(AL6<='Project Summary'!$Q$8)","v":0},{"$f":"+-(AM75<0)*AM75*(AM6<='Project Summary'!$Q$8)","v":0},{"$f":"+-(AN75<0)*AN75*(AN6<='Project Summary'!$Q$8)","v":0},{"$f":"+-(AO75<0)*AO75*(AO6<='Project Summary'!$Q$8)","v":0},{"$f":"+-(AP75<0)*AP75*(AP6<='Project Summary'!$Q$8)","v":0},{"$f":"+-(AQ75<0)*AQ75*(AQ6<='Project Summary'!$Q$8)","v":0},{"$f":"+-(AR75<0)*AR75*(AR6<='Project Summary'!$Q$8)","v":0},{"$f":"+-(AS75<0)*AS75*(AS6<='Project Summary'!$Q$8)","v":0},{"$f":"+-(AT75<0)*AT75*(AT6<='Project Summary'!$Q$8)","v":0},{"$f":"+-(AU75<0)*AU75*(AU6<='Project Summary'!$Q$8)","v":0},{"$f":"+-(AV75<0)*AV75*(AV6<='Project Summary'!$Q$8)","v":0},{"$f":"+-(AW75<0)*AW75*(AW6<='Project Summary'!$Q$8)","v":0},{"$f":"+-(AX75<0)*AX75*(AX6<='Project Summary'!$Q$8)","v":0},{"$f":"+-(AY75<0)*AY75*(AY6<='Project Summary'!$Q$8)","v":0},{"$f":"+-(AZ75<0)*AZ75*(AZ6<='Project Summary'!$Q$8)","v":0},{"$f":"+-(BA75<0)*BA75*(BA6<='Project Summary'!$Q$8)","v":0},{"$f":"+-(BB75<0)*BB75*(BB6<='Project Summary'!$Q$8)","v":0},{"$f":"+-(BC75<0)*BC75*(BC6<='Project Summary'!$Q$8)","v":0},{"$f":"+-(BD75<0)*BD75*(BD6<='Project Summary'!$Q$8)","v":0},{"$f":"+-(BE75<0)*BE75*(BE6<='Project Summary'!$Q$8)","v":0},{"$f":"+-(BF75<0)*BF75*(BF6<='Project Summary'!$Q$8)","v":0},{"$f":"+-(BG75<0)*BG75*(BG6<='Project Summary'!$Q$8)","v":0},{"$f":"+-(BH75<0)*BH75*(BH6<='Project Summary'!$Q$8)","v":0},{"$f":"+-(BI75<0)*BI75*(BI6<='Project Summary'!$Q$8)","v":0},{"$f":"+-(BJ75<0)*BJ75*(BJ6<='Project Summary'!$Q$8)","v":0},{"$f":"+-(BK75<0)*BK75*(BK6<='Project Summary'!$Q$8)","v":0},{"$f":"+-(BL75<0)*BL75*(BL6<='Project Summary'!$Q$8)","v":0},{"$f":"+-(BM75<0)*BM75*(BM6<='Project Summary'!$Q$8)","v":0},{"$f":"+-(BN75<0)*BN75*(BN6<='Project Summary'!$Q$8)","v":0},{"$f":"+-(BO75<0)*BO75*(BO6<='Project Summary'!$Q$8)","v":0},{"$f":"+-(BP75<0)*BP75*(BP6<='Project Summary'!$Q$8)","v":0},{"$f":"+-(BQ75<0)*BQ75*(BQ6<='Project Summary'!$Q$8)","v":0},{"$f":"+-(BR75<0)*BR75*(BR6<='Project Summary'!$Q$8)","v":0},{"$f":"+-(BS75<0)*BS75*(BS6<='Project Summary'!$Q$8)","v":0},{"$f":"+-(BT75<0)*BT75*(BT6<='Project Summary'!$Q$8)","v":0},{"$f":"+-(BU75<0)*BU75*(BU6<='Project Summary'!$Q$8)","v":0},{"$f":"+-(BV75<0)*BV75*(BV6<='Project Summary'!$Q$8)","v":0},{"$f":"+-(BW75<0)*BW75*(BW6<='Project Summary'!$Q$8)","v":0},{"$f":"+-(BX75<0)*BX75*(BX6<='Project Summary'!$Q$8)","v":0},{"$f":"+-(BY75<0)*BY75*(BY6<='Project Summary'!$Q$8)","v":0},{"$f":"+-(BZ75<0)*BZ75*(BZ6<='Project Summary'!$Q$8)","v":0},{"$f":"+-(CA75<0)*CA75*(CA6<='Project Summary'!$Q$8)","v":0},{"$f":"+-(CB75<0)*CB75*(CB6<='Project Summary'!$Q$8)","v":0},{"$f":"+-(CC75<0)*CC75*(CC6<='Project Summary'!$Q$8)","v":0},{"$f":"+-(CD75<0)*CD75*(CD6<='Project Summary'!$Q$8)","v":0},{"$f":"+-(CE75<0)*CE75*(CE6<='Project Summary'!$Q$8)","v":0},{"$f":"+-(CF75<0)*CF75*(CF6<='Project Summary'!$Q$8)","v":0},{"$f":"+-(CG75<0)*CG75*(CG6<='Project Summary'!$Q$8)","v":0},{"$f":"+-(CH75<0)*CH75*(CH6<='Project Summary'!$Q$8)","v":0},{"$f":"+-(CI75<0)*CI75*(CI6<='Project Summary'!$Q$8)","v":0},{"$f":"+-(CJ75<0)*CJ75*(CJ6<='Project Summary'!$Q$8)","v":0},{"$f":"+-(CK75<0)*CK75*(CK6<='Project Summary'!$Q$8)","v":0},{"$f":"+-(CL75<0)*CL75*(CL6<='Project Summary'!$Q$8)","v":0},{"$f":"+-(CM75<0)*CM75*(CM6<='Project Summary'!$Q$8)","v":0},{"$f":"+-(CN75<0)*CN75*(CN6<='Project Summary'!$Q$8)","v":0},{"$f":"+-(CO75<0)*CO75*(CO6<='Project Summary'!$Q$8)","v":0},{"$f":"+-(CP75<0)*CP75*(CP6<='Project Summary'!$Q$8)","v":0},{"$f":"+-(CQ75<0)*CQ75*(CQ6<='Project Summary'!$Q$8)","v":0},{"$f":"+-(CR75<0)*CR75*(CR6<='Project Summary'!$Q$8)","v":0},{"$f":"+-(CS75<0)*CS75*(CS6<='Project Summary'!$Q$8)","v":0},{"$f":"+-(CT75<0)*CT75*(CT6<='Project Summary'!$Q$8)","v":0},{"$f":"+-(CU75<0)*CU75*(CU6<='Project Summary'!$Q$8)","v":0},{"$f":"+-(CV75<0)*CV75*(CV6<='Project Summary'!$Q$8)","v":0},{"$f":"+-(CW75<0)*CW75*(CW6<='Project Summary'!$Q$8)","v":0},{"$f":"+-(CX75<0)*CX75*(CX6<='Project Summary'!$Q$8)","v":0},{"$f":"+-(CY75<0)*CY75*(CY6<='Project Summary'!$Q$8)","v":0},{"$f":"+-(CZ75<0)*CZ75*(CZ6<='Project Summary'!$Q$8)","v":0},{"$f":"+-(DA75<0)*DA75*(DA6<='Project Summary'!$Q$8)","v":0},{"$f":"+-(DB75<0)*DB75*(DB6<='Project Summary'!$Q$8)","v":0},{"$f":"+-(DC75<0)*DC75*(DC6<='Project Summary'!$Q$8)","v":0},{"$f":"+-(DD75<0)*DD75*(DD6<='Project Summary'!$Q$8)","v":0},{"$f":"+-(DE75<0)*DE75*(DE6<='Project Summary'!$Q$8)","v":0},{"$f":"+-(DF75<0)*DF75*(DF6<='Project Summary'!$Q$8)","v":0},{"$f":"+-(DG75<0)*DG75*(DG6<='Project Summary'!$Q$8)","v":0},{"$f":"+-(DH75<0)*DH75*(DH6<='Project Summary'!$Q$8)","v":0},{"$f":"+-(DI75<0)*DI75*(DI6<='Project Summary'!$Q$8)","v":0},{"$f":"+-(DJ75<0)*DJ75*(DJ6<='Project Summary'!$Q$8)","v":0},{"$f":"+-(DK75<0)*DK75*(DK6<='Project Summary'!$Q$8)","v":0},{"$f":"+-(DL75<0)*DL75*(DL6<='Project Summary'!$Q$8)","v":0},{"$f":"+-(DM75<0)*DM75*(DM6<='Project Summary'!$Q$8)","v":0},{"$f":"+-(DN75<0)*DN75*(DN6<='Project Summary'!$Q$8)","v":0},{"$f":"+-(DO75<0)*DO75*(DO6<='Project Summary'!$Q$8)","v":0},{"$f":"+-(DP75<0)*DP75*(DP6<='Project Summary'!$Q$8)","v":0},{"$f":"+-(DQ75<0)*DQ75*(DQ6<='Project Summary'!$Q$8)","v":0},{"$f":"+-(DR75<0)*DR75*(DR6<='Project Summary'!$Q$8)","v":0},{"$f":"+-(DS75<0)*DS75*(DS6<='Project Summary'!$Q$8)","v":0},{"$f":"+-(DT75<0)*DT75*(DT6<='Project Summary'!$Q$8)","v":0},{"$f":"+-(DU75<0)*DU75*(DU6<='Project Summary'!$Q$8)","v":0},{"$f":"+-(DV75<0)*DV75*(DV6<='Project Summary'!$Q$8)","v":0},{"$f":"+-(DW75<0)*DW75*(DW6<='Project Summary'!$Q$8)","v":0},{"$f":"+-(DX75<0)*DX75*(DX6<='Project Summary'!$Q$8)","v":0},{"$f":"+-(DY75<0)*DY75*(DY6<='Project Summary'!$Q$8)","v":0},{"$f":"+-(DZ75<0)*DZ75*(DZ6<='Project Summary'!$Q$8)","v":0},{"$f":"+-(EA75<0)*EA75*(EA6<='Project Summary'!$Q$8)","v":0},{"$f":"+-(EB75<0)*EB75*(EB6<='Project Summary'!$Q$8)","v":0},{"$f":"+-(EC75<0)*EC75*(EC6<='Project Summary'!$Q$8)","v":0},{"$f":"+-(ED75<0)*ED75*(ED6<='Project Summary'!$Q$8)","v":0},{"$f":"+-(EE75<0)*EE75*(EE6<='Project Summary'!$Q$8)","v":0},{"$f":"+-(EF75<0)*EF75*(EF6<='Project Summary'!$Q$8)","v":0},{"$f":"+-(EG75<0)*EG75*(EG6<='Project Summary'!$Q$8)","v":0}]
[null,"Cumulative Equity",null,null,{"$f":"+SUM($E$81:E81)","v":4369999.9999999991},{"$f":"+SUM($E$81:F81)","v":4369999.9999999991},{"$f":"+SUM($E$81:G81)","v":4369999.9999999991},{"$f":"+SUM($E$81:H81)","v":4369999.9999999991},{"$f":"+SUM($E$81:I81)","v":4369999.9999999991},{"$f":"+SUM($E$81:J81)","v":4369999.9999999991},{"$f":"+SUM($E$81:K81)","v":4369999.9999999991},{"$f":"+SUM($E$81:L81)","v":4369999.9999999991},{"$f":"+SUM($E$81:M81)","v":4369999.9999999991},{"$f":"+SUM($E$81:N81)","v":4369999.9999999991},{"$f":"+SUM($E$81:O81)","v":4369999.9999999991},{"$f":"+SUM($E$81:P81)","v":4369999.9999999991},{"$f":"+SUM($E$81:Q81)","v":4369999.9999999991},{"$f":"+SUM($E$81:R81)","v":4369999.9999999991},{"$f":"+SUM($E$81:S81)","v":4369999.9999999991},{"$f":"+SUM($E$81:T81)","v":4369999.9999999991},{"$f":"+SUM($E$81:U81)","v":4369999.9999999991},{"$f":"+SUM($E$81:V81)","v":4369999.9999999991},{"$f":"+SUM($E$81:W81)","v":4369999.9999999991},{"$f":"+SUM($E$81:X81)","v":4369999.9999999991},{"$f":"+SUM($E$81:Y81)","v":4369999.9999999991},{"$f":"+SUM($E$81:Z81)","v":4369999.9999999991},{"$f":"+SUM($E$81:AA81)","v":4369999.9999999991},{"$f":"+SUM($E$81:AB81)","v":4369999.9999999991},{"$f":"+SUM($E$81:AC81)","v":4369999.9999999991},{"$f":"+SUM($E$81:AD81)","v":4369999.9999999991},{"$f":"+SUM($E$81:AE81)","v":4369999.9999999991},{"$f":"+SUM($E$81:AF81)","v":4369999.9999999991},{"$f":"+SUM($E$81:AG81)","v":4369999.9999999991},{"$f":"+SUM($E$81:AH81)","v":4369999.9999999991},{"$f":"+SUM($E$81:AI81)","v":4369999.9999999991},{"$f":"+SUM($E$81:AJ81)","v":4369999.9999999991},{"$f":"+SUM($E$81:AK81)","v":4369999.9999999991},{"$f":"+SUM($E$81:AL81)","v":4369999.9999999991},{"$f":"+SUM($E$81:AM81)","v":4369999.9999999991},{"$f":"+SUM($E$81:AN81)","v":4369999.9999999991},{"$f":"+SUM($E$81:AO81)","v":4369999.9999999991},{"$f":"+SUM($E$81:AP81)","v":4369999.9999999991},{"$f":"+SUM($E$81:AQ81)","v":4369999.9999999991},{"$f":"+SUM($E$81:AR81)","v":4369999.9999999991},{"$f":"+SUM($E$81:AS81)","v":4369999.9999999991},{"$f":"+SUM($E$81:AT81)","v":4369999.9999999991},{"$f":"+SUM($E$81:AU81)","v":4369999.9999999991},{"$f":"+SUM($E$81:AV81)","v":4369999.9999999991},{"$f":"+SUM($E$81:AW81)","v":4369999.9999999991},{"$f":"+SUM($E$81:AX81)","v":4369999.9999999991},{"$f":"+SUM($E$81:AY81)","v":4369999.9999999991},{"$f":"+SUM($E$81:AZ81)","v":4369999.9999999991},{"$f":"+SUM($E$81:BA81)","v":4369999.9999999991},{"$f":"+SUM($E$81:BB81)","v":4369999.9999999991},{"$f":"+SUM($E$81:BC81)","v":4369999.9999999991},{"$f":"+SUM($E$81:BD81)","v":4369999.9999999991},{"$f":"+SUM($E$81:BE81)","v":4369999.9999999991},{"$f":"+SUM($E$81:BF81)","v":4369999.9999999991},{"$f":"+SUM($E$81:BG81)","v":4369999.9999999991},{"$f":"+SUM($E$81:BH81)","v":4369999.9999999991},{"$f":"+SUM($E$81:BI81)","v":4369999.9999999991},{"$f":"+SUM($E$81:BJ81)","v":4369999.9999999991},{"$f":"+SUM($E$81:BK81)","v":4369999.9999999991},{"$f":"+SUM($E$81:BL81)","v":4369999.9999999991},{"$f":"+SUM($E$81:BM81)","v":4369999.9999999991},{"$f":"+SUM($E$81:BN81)","v":4369999.9999999991},{"$f":"+SUM($E$81:BO81)","v":4369999.9999999991},{"$f":"+SUM($E$81:BP81)","v":4369999.9999999991},{"$f":"+SUM($E$81:BQ81)","v":4369999.9999999991},{"$f":"+SUM($E$81:BR81)","v":4369999.9999999991},{"$f":"+SUM($E$81:BS81)","v":4369999.9999999991},{"$f":"+SUM($E$81:BT81)","v":4369999.9999999991},{"$f":"+SUM($E$81:BU81)","v":4369999.9999999991},{"$f":"+SUM($E$81:BV81)","v":4369999.9999999991},{"$f":"+SUM($E$81:BW81)","v":4369999.9999999991},{"$f":"+SUM($E$81:BX81)","v":4369999.9999999991},{"$f":"+SUM($E$81:BY81)","v":4369999.9999999991},{"$f":"+SUM($E$81:BZ81)","v":4369999.9999999991},{"$f":"+SUM($E$81:CA81)","v":4369999.9999999991},{"$f":"+SUM($E$81:CB81)","v":4369999.9999999991},{"$f":"+SUM($E$81:CC81)","v":4369999.9999999991},{"$f":"+SUM($E$81:CD81)","v":4369999.9999999991},{"$f":"+SUM($E$81:CE81)","v":4369999.9999999991},{"$f":"+SUM($E$81:CF81)","v":4369999.9999999991},{"$f":"+SUM($E$81:CG81)","v":4369999.9999999991},{"$f":"+SUM($E$81:CH81)","v":4369999.9999999991},{"$f":"+SUM($E$81:CI81)","v":4369999.9999999991},{"$f":"+SUM($E$81:CJ81)","v":4369999.9999999991},{"$f":"+SUM($E$81:CK81)","v":4369999.9999999991},{"$f":"+SUM($E$81:CL81)","v":4369999.9999999991},{"$f":"+SUM($E$81:CM81)","v":4369999.9999999991},{"$f":"+SUM($E$81:CN81)","v":4369999.9999999991},{"$f":"+SUM($E$81:CO81)","v":4369999.9999999991},{"$f":"+SUM($E$81:CP81)","v":4369999.9999999991},{"$f":"+SUM($E$81:CQ81)","v":4369999.9999999991},{"$f":"+SUM($E$81:CR81)","v":4369999.9999999991},{"$f":"+SUM($E$81:CS81)","v":4369999.9999999991},{"$f":"+SUM($E$81:CT81)","v":4369999.9999999991},{"$f":"+SUM($E$81:CU81)","v":4369999.9999999991},{"$f":"+SUM($E$81:CV81)","v":4369999.9999999991},{"$f":"+SUM($E$81:CW81)","v":4369999.9999999991},{"$f":"+SUM($E$81:CX81)","v":4369999.9999999991},{"$f":"+SUM($E$81:CY81)","v":4369999.9999999991},{"$f":"+SUM($E$81:CZ81)","v":4369999.9999999991},{"$f":"+SUM($E$81:DA81)","v":4369999.9999999991},{"$f":"+SUM($E$81:DB81)","v":4369999.9999999991},{"$f":"+SUM($E$81:DC81)","v":4369999.9999999991},{"$f":"+SUM($E$81:DD81)","v":4369999.9999999991},{"$f":"+SUM($E$81:DE81)","v":4369999.9999999991},{"$f":"+SUM($E$81:DF81)","v":4369999.9999999991},{"$f":"+SUM($E$81:DG81)","v":4369999.9999999991},{"$f":"+SUM($E$81:DH81)","v":4369999.9999999991},{"$f":"+SUM($E$81:DI81)","v":4369999.9999999991},{"$f":"+SUM($E$81:DJ81)","v":4369999.9999999991},{"$f":"+SUM($E$81:DK81)","v":4369999.9999999991},{"$f":"+SUM($E$81:DL81)","v":4369999.9999999991},{"$f":"+SUM($E$81:DM81)","v":4369999.9999999991},{"$f":"+SUM($E$81:DN81)","v":4369999.9999999991},{"$f":"+SUM($E$81:DO81)","v":4369999.9999999991},{"$f":"+SUM($E$81:DP81)","v":4369999.9999999991},{"$f":"+SUM($E$81:DQ81)","v":4369999.9999999991},{"$f":"+SUM($E$81:DR81)","v":4369999.9999999991},{"$f":"+SUM($E$81:DS81)","v":4369999.9999999991},{"$f":"+SUM($E$81:DT81)","v":4369999.9999999991},{"$f":"+SUM($E$81:DU81)","v":4369999.9999999991},{"$f":"+SUM($E$81:DV81)","v":4369999.9999999991},{"$f":"+SUM($E$81:DW81)","v":4369999.9999999991},{"$f":"+SUM($E$81:DX81)","v":4369999.9999999991},{"$f":"+SUM($E$81:DY81)","v":4369999.9999999991},{"$f":"+SUM($E$81:DZ81)","v":4369999.9999999991},{"$f":"+SUM($E$81:EA81)","v":4369999.9999999991},{"$f":"+SUM($E$81:EB81)","v":4369999.9999999991},{"$f":"+SUM($E$81:EC81)","v":4369999.9999999991},{"$f":"+SUM($E$81:ED81)","v":4369999.9999999991},{"$f":"+SUM($E$81:EE81)","v":4369999.9999999991},{"$f":"+SUM($E$81:EF81)","v":4369999.9999999991},{"$f":"+SUM($E$81:EG81)","v":4369999.9999999991}]
[]
[null,"ACQUISITION FINANCING"]
[null,"Loan Funding",null,null,{"$f":"+'Project Summary'!$J$59","v":7475000.0000000009},0,0,0,0,0,0,0,0,0,0,0,0,0,0,0,0,0,0,0,0,0,0,0,0,0,0,0,0,0,0,0,0,0,0,0,0,0,0,0,0,0,0,0,0,0,0,0,0,0,0,0,0,0,0,0,0,0,0,0,0,0,0,0,0,0,0,0,0,0,0,0,0,0,0,0,0,0,0,0,0,0,0,0,0,0,0,0,0,0,0,0,0,0,0,0,0,0,0,0,0,0,0,0,0,0,0,0,0,0,0,0,0,0,0,0,0,0,0,0,0,0,0,0,0,0,0,0,0,0,0,0,0]
[null,"Beginning Balance",null,null,null,{"$f":"+E91","v":7475000.0000000009},{"$f":"+F91","v":7461778.1662920564},7448505.0979784932,7435180.5965252146,7421804.4626288051,7408376.496213547,7394896.4964284301,7381364.2616441455,7367779.5894500716,7354142.2766512455,7340452.1192653244,7326708.9125195332,7312912.4508476015,7299062.5278866915,7285158.9364743074,7271201.4686452001,7257189.9156282553,7243124.0678433701,7229003.7148983181,7214828.645585604,7200598.6478793034,7186313.5089318911,7171973.0150710577,7157576.9517965131,7143125.10377678,7128617.2548459703,7114053.1880005533,7099432.6853961106,7084755.5283440761,7070021.4973084647,7055230.3719025906,7040381.9308857685,7025475.9521600064,7010512.2127666818,6995490.4888832076,6980410.5558196856,6965272.188015542,6950075.1590361577,6934819.2415694781,6919504.207422615,6904129.8275184333,6888695.8718921226,6873202.1096877595,6857648.3091548551,6842034.2376448857,6826359.661607815,6810624.3465886004,6794828.057223686,6778970.5572374826,6763051.6094388328,6747070.9757174635,6731028.4170404235,6714923.69344851,6698756.5640526786,6682526.787030438,6666234.1196222361,6649878.3181278277,6633459.1379026286,6616976.3333540568,6600429.6579378592,6583818.8641544236,6567143.7035450768,6550403.9266883694,6533599.2831963422,6516729.5217107832,{"$f":"+BR91","v":6499794.389899468},6482793.634452384,6465727.0010779426,6448594.2344991751,6431395.0784499142,6414129.2756709624,6396796.5679062428,6379396.6958989343,6361929.399387598,6344394.4171022801,6326791.486760607,6309120.3450638596,6291380.7276930371,6273572.3693049029,6255695.0035280148,6237748.3629587414,6219732.1791572617,6201646.1826435514,6183490.1028933506,0,0,0,0,0,0,0,0,0,0,0,0,0,0,0,0,0,0,0,0,0,0,0,0,0,0,0,0,0,0,0,0,0,0,0,0,0,0,0,0,0,0,0,0,0,{"$f":"+ED91","v":0},0,0]
[null,"Payment",null,null,null,{"$f":"+-('Project Summary'!$J$63=\"Yes\")*('Monthly CF'!F5<='Project Summary'!$J$64)*'Monthly CF'!F86*'Project Summary'!$J$62/12+('Project Summary'!$J$63=\"Yes\")*('Monthly CF'!F5>'Project Summary'!$J$64)*(F6<='Project Summary'!$Q$8)*PMT('Project Summary'!$J$62/12,'Project Summary'!$J$65*12,SUM($E$85:F85),0)+('Project Summary'!$J$63=\"No\")*(F6<='Project Summary'!$Q$8)*PMT('Project Summary'!$J$62/12,'Project Summary'!$J$65*12,SUM($E$85:F85),0)","v":-42187.458707944796},{"$f":"+-('Project Summary'!$J$63=\"Yes\")*('Monthly CF'!G5<='Project Summary'!$J$64)*'Monthly CF'!G86*'Project Summary'!$J$62/12+('Project Summary'!$J$63=\"Yes\")*('Monthly CF'!G5>'Project Summary'!$J$64)*(G6<='Project Summary'!$Q$8)*PMT('Project Summary'!$J$62/12,'Project Summary'!$J$65*12,SUM($E$85:G85),0)+('Project Summary'!$J$63=\"No\")*(G6<='Project Summary'!$Q$8)*PMT('Project Summary'!$J$62/12,'Project Summary'!$J$65*12,SUM($E$85:G85),0)","v":-42187.458707944796},{"$f":"+-('Project Summary'!$J$63=\"Yes\")*('Monthly CF'!H5<='Project Summary'!$J$64)*'Monthly CF'!H86*'Project Summary'!$J$62/12+('Project Summary'!$J$63=\"Yes\")*('Monthly CF'!H5>'Project Summary'!$J$64)*(H6<='Project Summary'!$Q$8)*PMT('Project Summary'!$J$62/12,'Project Summary'!$J$65*12,SUM($E$85:H85),0)+('Project Summary'!$J$63=\"No\")*(H6<='Project Summary'!$Q$8)*PMT('Project Summary'!$J$62/12,'Project Summary'!$J$65*12,SUM($E$85:H85),0)","v":-42187.458707944796},{"$f":"+-('Project Summary'!$J$63=\"Yes\")*('Monthly CF'!I5<='Project Summary'!$J$64)*'Monthly CF'!I86*'Project Summary'!$J$62/12+('Project Summary'!$J$63=\"Yes\")*('Monthly CF'!I5>'Project Summary'!$J$64)*(I6<='Project Summary'!$Q$8)*PMT('Project Summary'!$J$62/12,'Project Summary'!$J$65*12,SUM($E$85:I85),0)+('Project Summary'!$J$63=\"No\")*(I6<='Project Summary'!$Q$8)*PMT('Project Summary'!$J$62/12,'Project Summary'!$J$65*12,SUM($E$85:I85),0)","v":-42187.458707944796},{"$f":"+-('Project Summary'!$J$63=\"Yes\")*('Monthly CF'!J5<='Project Summary'!$J$64)*'Monthly CF'!J86*'Project Summary'!$J$62/12+('Project Summary'!$J$63=\"Yes\")*('Monthly CF'!J5>'Project Summary'!$J$64)*(J6<='Project Summary'!$Q$8)*PMT('Project Summary'!$J$62/12,'Project Summary'!$J$65*12,SUM($E$85:J85),0)+('Project Summary'!$J$63=\"No\")*(J6<='Project Summary'!$Q$8)*PMT('Project Summary'!$J$62/12,'Project Summary'!$J$65*12,SUM($E$85:J85),0)","v":-42187.458707944796},{"$f":"+-('Project Summary'!$J$63=\"Yes\")*('Monthly CF'!K5<='Project Summary'!$J$64)*'Monthly CF'!K86*'Project Summary'!$J$62/12+('Project Summary'!$J$63=\"Yes\")*('Monthly CF'!K5>'Project Summary'!$J$64)*(K6<='Project Summary'!$Q$8)*PMT('Project Summary'!$J$62/12,'Project Summary'!$J$65*12,SUM($E$85:K85),0)+('Project Summary'!$J$63=\"No\")*(K6<='Project Summary'!$Q$8)*PMT('Project Summary'!$J$62/12,'Project Summary'!$J$65*12,SUM($E$85:K85),0)","v":-42187.458707944796},{"$f":"+-('Project Summary'!$J$63=\"Yes\")*('Monthly CF'!L5<='Project Summary'!$J$64)*'Monthly CF'!L86*'Project Summary'!$J$62/12+('Project Summary'!$J$63=\"Yes\")*('Monthly CF'!L5>'Project Summary'!$J$64)*(L6<='Project Summary'!$Q$8)*PMT('Project Summary'!$J$62/12,'Project Summary'!$J$65*12,SUM($E$85:L85),0)+('Project Summary'!$J$63=\"No\")*(L6<='Project Summary'!$Q$8)*PMT('Project Summary'!$J$62/12,'Project Summary'!$J$65*12,SUM($E$85:L85),0)","v":-42187.458707944796},{"$f":"+-('Project Summary'!$J$63=\"Yes\")*('Monthly CF'!M5<='Project Summary'!$J$64)*'Monthly CF'!M86*'Project Summary'!$J$62/12+('Project Summary'!$J$63=\"Yes\")*('Monthly CF'!M5>'Project Summary'!$J$64)*(M6<='Project Summary'!$Q$8)*PMT('Project Summary'!$J$62/12,'Project Summary'!$J$65*12,SUM($E$85:M85),0)+('Project Summary'!$J$63=\"No\")*(M6<='Project Summary'!$Q$8)*PMT('Project Summary'!$J$62/12,'Project Summary'!$J$65*12,SUM($E$85:M85),0)","v":-42187.458707944796},{"$f":"+-('Project Summary'!$J$63=\"Yes\")*('Monthly CF'!N5<='Project Summary'!$J$64)*'Monthly CF'!N86*'Project Summary'!$J$62/12+('Project Summary'!$J$63=\"Yes\")*('Monthly CF'!N5>'Project Summary'!$J$64)*(N6<='Project Summary'!$Q$8)*PMT('Project Summary'!$J$62/12,'Project Summary'!$J$65*12,SUM($E$85:N85),0)+('Project Summary'!$J$63=\"No\")*(N6<='Project Summary'!$Q$8)*PMT('Project Summary'!$J$62/12,'Project Summary'!$J$65*12,SUM($E$85:N85),0)","v":-42187.458707944796},{"$f":"+-('Project Summary'!$J$63=\"Yes\")*('Monthly CF'!O5<='Project Summary'!$J$64)*'Monthly CF'!O86*'Project Summary'!$J$62/12+('Project Summary'!$J$63=\"Yes\")*('Monthly CF'!O5>'Project Summary'!$J$64)*(O6<='Project Summary'!$Q$8)*PMT('Project Summary'!$J$62/12,'Project Summary'!$J$65*12,SUM($E$85:O85),0)+('Project Summary'!$J$63=\"No\")*(O6<='Project Summary'!$Q$8)*PMT('Project Summary'!$J$62/12,'Project Summary'!$J$65*12,SUM($E$85:O85),0)","v":-42187.458707944796},{"$f":"+-('Project Summary'!$J$63=\"Yes\")*('Monthly CF'!P5<='Project Summary'!$J$64)*'Monthly CF'!P86*'Project Summary'!$J$62/12+('Project Summary'!$J$63=\"Yes\")*('Monthly CF'!P5>'Project Summary'!$J$64)*(P6<='Project Summary'!$Q$8)*PMT('Project Summary'!$J$62/12,'Project Summary'!$J$65*12,SUM($E$85:P85),0)+('Project Summary'!$J$63=\"No\")*(P6<='Project Summary'!$Q$8)*PMT('Project Summary'!$J$62/12,'Project Summary'!$J$65*12,SUM($E$85:P85),0)","v":-42187.458707944796},{"$f":"+-('Project Summary'!$J$63=\"Yes\")*('Monthly CF'!Q5<='Project Summary'!$J$64)*'Monthly CF'!Q86*'Project Summary'!$J$62/12+('Project Summary'!$J$63=\"Yes\")*('Monthly CF'!Q5>'Project Summary'!$J$64)*(Q6<='Project Summary'!$Q$8)*PMT('Project Summary'!$J$62/12,'Project Summary'!$J$65*12,SUM($E$85:Q85),0)+('Project Summary'!$J$63=\"No\")*(Q6<='Project Summary'!$Q$8)*PMT('Project Summary'!$J$62/12,'Project Summary'!$J$65*12,SUM($E$85:Q85),0)","v":-42187.458707944796},{"$f":"+-('Project Summary'!$J$63=\"Yes\")*('Monthly CF'!R5<='Project Summary'!$J$64)*'Monthly CF'!R86*'Project Summary'!$J$62/12+('Project Summary'!$J$63=\"Yes\")*('Monthly CF'!R5>'Project Summary'!$J$64)*(R6<='Project Summary'!$Q$8)*PMT('Project Summary'!$J$62/12,'Project Summary'!$J$65*12,SUM($E$85:R85),0)+('Project Summary'!$J$63=\"No\")*(R6<='Project Summary'!$Q$8)*PMT('Project Summary'!$J$62/12,'Project Summary'!$J$65*12,SUM($E$85:R85),0)","v":-42187.458707944796},{"$f":"+-('Project Summary'!$J$63=\"Yes\")*('Monthly CF'!S5<='Project Summary'!$J$64)*'Monthly CF'!S86*'Project Summary'!$J$62/12+('Project Summary'!$J$63=\"Yes\")*('Monthly CF'!S5>'Project Summary'!$J$64)*(S6<='Project Summary'!$Q$8)*PMT('Project Summary'!$J$62/12,'Project Summary'!$J$65*12,SUM($E$85:S85),0)+('Project Summary'!$J$63=\"No\")*(S6<='Project Summary'!$Q$8)*PMT('Project Summary'!$J$62/12,'Project Summary'!$J$65*12,SUM($E$85:S85),0)","v":-42187.458707944796},{"$f":"+-('Project Summary'!$J$63=\"Yes\")*('Monthly CF'!T5<='Project Summary'!$J$64)*'Monthly CF'!T86*'Project Summary'!$J$62/12+('Project Summary'!$J$63=\"Yes\")*('Monthly CF'!T5>'Project Summary'!$J$64)*(T6<='Project Summary'!$Q$8)*PMT('Project Summary'!$J$62/12,'Project Summary'!$J$65*12,SUM($E$85:T85),0)+('Project Summary'!$J$63=\"No\")*(T6<='Project Summary'!$Q$8)*PMT('Project Summary'!$J$62/12,'Project Summary'!$J$65*12,SUM($E$85:T85),0)","v":-42187.458707944796},{"$f":"+-('Project Summary'!$J$63=\"Yes\")*('Monthly CF'!U5<='Project Summary'!$J$64)*'Monthly CF'!U86*'Project Summary'!$J$62/12+('Project Summary'!$J$63=\"Yes\")*('Monthly CF'!U5>'Project Summary'!$J$64)*(U6<='Project Summary'!$Q$8)*PMT('Project Summary'!$J$62/12,'Project Summary'!$J$65*12,SUM($E$85:U85),0)+('Project Summary'!$J$63=\"No\")*(U6<='Project Summary'!$Q$8)*PMT('Project Summary'!$J$62/12,'Project Summary'!$J$65*12,SUM($E$85:U85),0)","v":-42187.458707944796},{"$f":"+-('Project Summary'!$J$63=\"Yes\")*('Monthly CF'!V5<='Project Summary'!$J$64)*'Monthly CF'!V86*'Project Summary'!$J$62/12+('Project Summary'!$J$63=\"Yes\")*('Monthly CF'!V5>'Project Summary'!$J$64)*(V6<='Project Summary'!$Q$8)*PMT('Project Summary'!$J$62/12,'Project Summary'!$J$65*12,SUM($E$85:V85),0)+('Project Summary'!$J$63=\"No\")*(V6<='Project Summary'!$Q$8)*PMT('Project Summary'!$J$62/12,'Project Summary'!$J$65*12,SUM($E$85:V85),0)","v":-42187.458707944796},{"$f":"+-('Project Summary'!$J$63=\"Yes\")*('Monthly CF'!W5<='Project Summary'!$J$64)*'Monthly CF'!W86*'Project Summary'!$J$62/12+('Project Summary'!$J$63=\"Yes\")*('Monthly CF'!W5>'Project Summary'!$J$64)*(W6<='Project Summary'!$Q$8)*PMT('Project Summary'!$J$62/12,'Project Summary'!$J$65*12,SUM($E$85:W85),0)+('Project Summary'!$J$63=\"No\")*(W6<='Project Summary'!$Q$8)*PMT('Project Summary'!$J$62/12,'Project Summary'!$J$65*12,SUM($E$85:W85),0)","v":-42187.458707944796},{"$f":"+-('Project Summary'!$J$63=\"Yes\")*('Monthly CF'!X5<='Project Summary'!$J$64)*'Monthly CF'!X86*'Project Summary'!$J$62/12+('Project Summary'!$J$63=\"Yes\")*('Monthly CF'!X5>'Project Summary'!$J$64)*(X6<='Project Summary'!$Q$8)*PMT('Project Summary'!$J$62/12,'Project Summary'!$J$65*12,SUM($E$85:X85),0)+('Project Summary'!$J$63=\"No\")*(X6<='Project Summary'!$Q$8)*PMT('Project Summary'!$J$62/12,'Project Summary'!$J$65*12,SUM($E$85:X85),0)","v":-42187.458707944796},{"$f":"+-('Project Summary'!$J$63=\"Yes\")*('Monthly CF'!Y5<='Project Summary'!$J$64)*'Monthly CF'!Y86*'Project Summary'!$J$62/12+('Project Summary'!$J$63=\"Yes\")*('Monthly CF'!Y5>'Project Summary'!$J$64)*(Y6<='Project Summary'!$Q$8)*PMT('Project Summary'!$J$62/12,'Project Summary'!$J$65*12,SUM($E$85:Y85),0)+('Project Summary'!$J$63=\"No\")*(Y6<='Project Summary'!$Q$8)*PMT('Project Summary'!$J$62/12,'Project Summary'!$J$65*12,SUM($E$85:Y85),0)","v":-42187.458707944796},{"$f":"+-('Project Summary'!$J$63=\"Yes\")*('Monthly CF'!Z5<='Project Summary'!$J$64)*'Monthly CF'!Z86*'Project Summary'!$J$62/12+('Project Summary'!$J$63=\"Yes\")*('Monthly CF'!Z5>'Project Summary'!$J$64)*(Z6<='Project Summary'!$Q$8)*PMT('Project Summary'!$J$62/12,'Project Summary'!$J$65*12,SUM($E$85:Z85),0)+('Project Summary'!$J$63=\"No\")*(Z6<='Project Summary'!$Q$8)*PMT('Project Summary'!$J$62/12,'Project Summary'!$J$65*12,SUM($E$85:Z85),0)","v":-42187.458707944796},{"$f":"+-('Project Summary'!$J$63=\"Yes\")*('Monthly CF'!AA5<='Project Summary'!$J$64)*'Monthly CF'!AA86*'Project Summary'!$J$62/12+('Project Summary'!$J$63=\"Yes\")*('Monthly CF'!AA5>'Project Summary'!$J$64)*(AA6<='Project Summary'!$Q$8)*PMT('Project Summary'!$J$62/12,'Project Summary'!$J$65*12,SUM($E$85:AA85),0)+('Project Summary'!$J$63=\"No\")*(AA6<='Project Summary'!$Q$8)*PMT('Project Summary'!$J$62/12,'Project Summary'!$J$65*12,SUM($E$85:AA85),0)","v":-42187.458707944796},{"$f":"+-('Project Summary'!$J$63=\"Yes\")*('Monthly CF'!AB5<='Project Summary'!$J$64)*'Monthly CF'!AB86*'Project Summary'!$J$62/12+('Project Summary'!$J$63=\"Yes\")*('Monthly CF'!AB5>'Project Summary'!$J$64)*(AB6<='Project Summary'!$Q$8)*PMT('Project Summary'!$J$62/12,'Project Summary'!$J$65*12,SUM($E$85:AB85),0)+('Project Summary'!$J$63=\"No\")*(AB6<='Project Summary'!$Q$8)*PMT('Project Summary'!$J$62/12,'Project Summary'!$J$65*12,SUM($E$85:AB85),0)","v":-42187.458707944796},{"$f":"+-('Project Summary'!$J$63=\"Yes\")*('Monthly CF'!AC5<='Project Summary'!$J$64)*'Monthly CF'!AC86*'Project Summary'!$J$62/12+('Project Summary'!$J$63=\"Yes\")*('Monthly CF'!AC5>'Project Summary'!$J$64)*(AC6<='Project Summary'!$Q$8)*PMT('Project Summary'!$J$62/12,'Project Summary'!$J$65*12,SUM($E$85:AC85),0)+('Project Summary'!$J$63=\"No\")*(AC6<='Project Summary'!$Q$8)*PMT('Project Summary'!$J$62/12,'Project Summary'!$J$65*12,SUM($E$85:AC85),0)","v":-42187.458707944796},{"$f":"+-('Project Summary'!$J$63=\"Yes\")*('Monthly CF'!AD5<='Project Summary'!$J$64)*'Monthly CF'!AD86*'Project Summary'!$J$62/12+('Project Summary'!$J$63=\"Yes\")*('Monthly CF'!AD5>'Project Summary'!$J$64)*(AD6<='Project Summary'!$Q$8)*PMT('Project Summary'!$J$62/12,'Project Summary'!$J$65*12,SUM($E$85:AD85),0)+('Project Summary'!$J$63=\"No\")*(AD6<='Project Summary'!$Q$8)*PMT('Project Summary'!$J$62/12,'Project Summary'!$J$65*12,SUM($E$85:AD85),0)","v":-42187.458707944796},{"$f":"+-('Project Summary'!$J$63=\"Yes\")*('Monthly CF'!AE5<='Project Summary'!$J$64)*'Monthly CF'!AE86*'Project Summary'!$J$62/12+('Project Summary'!$J$63=\"Yes\")*('Monthly CF'!AE5>'Project Summary'!$J$64)*(AE6<='Project Summary'!$Q$8)*PMT('Project Summary'!$J$62/12,'Project Summary'!$J$65*12,SUM($E$85:AE85),0)+('Project Summary'!$J$63=\"No\")*(AE6<='Project Summary'!$Q$8)*PMT('Project Summary'!$J$62/12,'Project Summary'!$J$65*12,SUM($E$85:AE85),0)","v":-42187.458707944796},{"$f":"+-('Project Summary'!$J$63=\"Yes\")*('Monthly CF'!AF5<='Project Summary'!$J$64)*'Monthly CF'!AF86*'Project Summary'!$J$62/12+('Project Summary'!$J$63=\"Yes\")*('Monthly CF'!AF5>'Project Summary'!$J$64)*(AF6<='Project Summary'!$Q$8)*PMT('Project Summary'!$J$62/12,'Project Summary'!$J$65*12,SUM($E$85:AF85),0)+('Project Summary'!$J$63=\"No\")*(AF6<='Project Summary'!$Q$8)*PMT('Project Summary'!$J$62/12,'Project Summary'!$J$65*12,SUM($E$85:AF85),0)","v":-42187.458707944796},{"$f":"+-('Project Summary'!$J$63=\"Yes\")*('Monthly CF'!AG5<='Project Summary'!$J$64)*'Monthly CF'!AG86*'Project Summary'!$J$62/12+('Project Summary'!$J$63=\"Yes\")*('Monthly CF'!AG5>'Project Summary'!$J$64)*(AG6<='Project Summary'!$Q$8)*PMT('Project Summary'!$J$62/12,'Project Summary'!$J$65*12,SUM($E$85:AG85),0)+('Project Summary'!$J$63=\"No\")*(AG6<='Project Summary'!$Q$8)*PMT('Project Summary'!$J$62/12,'Project Summary'!$J$65*12,SUM($E$85:AG85),0)","v":-42187.458707944796},{"$f":"+-('Project Summary'!$J$63=\"Yes\")*('Monthly CF'!AH5<='Project Summary'!$J$64)*'Monthly CF'!AH86*'Project Summary'!$J$62/12+('Project Summary'!$J$63=\"Yes\")*('Monthly CF'!AH5>'Project Summary'!$J$64)*(AH6<='Project Summary'!$Q$8)*PMT('Project Summary'!$J$62/12,'Project Summary'!$J$65*12,SUM($E$85:AH85),0)+('Project Summary'!$J$63=\"No\")*(AH6<='Project Summary'!$Q$8)*PMT('Project Summary'!$J$62/12,'Project Summary'!$J$65*12,SUM($E$85:AH85),0)","v":-42187.458707944796},{"$f":"+-('Project Summary'!$J$63=\"Yes\")*('Monthly CF'!AI5<='Project Summary'!$J$64)*'Monthly CF'!AI86*'Project Summary'!$J$62/12+('Project Summary'!$J$63=\"Yes\")*('Monthly CF'!AI5>'Project Summary'!$J$64)*(AI6<='Project Summary'!$Q$8)*PMT('Project Summary'!$J$62/12,'Project Summary'!$J$65*12,SUM($E$85:AI85),0)+('Project Summary'!$J$63=\"No\")*(AI6<='Project Summary'!$Q$8)*PMT('Project Summary'!$J$62/12,'Project Summary'!$J$65*12,SUM($E$85:AI85),0)","v":-42187.458707944796},{"$f":"+-('Project Summary'!$J$63=\"Yes\")*('Monthly CF'!AJ5<='Project Summary'!$J$64)*'Monthly CF'!AJ86*'Project Summary'!$J$62/12+('Project Summary'!$J$63=\"Yes\")*('Monthly CF'!AJ5>'Project Summary'!$J$64)*(AJ6<='Project Summary'!$Q$8)*PMT('Project Summary'!$J$62/12,'Project Summary'!$J$65*12,SUM($E$85:AJ85),0)+('Project Summary'!$J$63=\"No\")*(AJ6<='Project Summary'!$Q$8)*PMT('Project Summary'!$J$62/12,'Project Summary'!$J$65*12,SUM($E$85:AJ85),0)","v":-42187.458707944796},{"$f":"+-('Project Summary'!$J$63=\"Yes\")*('Monthly CF'!AK5<='Project Summary'!$J$64)*'Monthly CF'!AK86*'Project Summary'!$J$62/12+('Project Summary'!$J$63=\"Yes\")*('Monthly CF'!AK5>'Project Summary'!$J$64)*(AK6<='Project Summary'!$Q$8)*PMT('Project Summary'!$J$62/12,'Project Summary'!$J$65*12,SUM($E$85:AK85),0)+('Project Summary'!$J$63=\"No\")*(AK6<='Project Summary'!$Q$8)*PMT('Project Summary'!$J$62/12,'Project Summary'!$J$65*12,SUM($E$85:AK85),0)","v":-42187.458707944796},{"$f":"+-('Project Summary'!$J$63=\"Yes\")*('Monthly CF'!AL5<='Project Summary'!$J$64)*'Monthly CF'!AL86*'Project Summary'!$J$62/12+('Project Summary'!$J$63=\"Yes\")*('Monthly CF'!AL5>'Project Summary'!$J$64)*(AL6<='Project Summary'!$Q$8)*PMT('Project Summary'!$J$62/12,'Project Summary'!$J$65*12,SUM($E$85:AL85),0)+('Project Summary'!$J$63=\"No\")*(AL6<='Project Summary'!$Q$8)*PMT('Project Summary'!$J$62/12,'Project Summary'!$J$65*12,SUM($E$85:AL85),0)","v":-42187.458707944796},{"$f":"+-('Project Summary'!$J$63=\"Yes\")*('Monthly CF'!AM5<='Project Summary'!$J$64)*'Monthly CF'!AM86*'Project Summary'!$J$62/12+('Project Summary'!$J$63=\"Yes\")*('Monthly CF'!AM5>'Project Summary'!$J$64)*(AM6<='Project Summary'!$Q$8)*PMT('Project Summary'!$J$62/12,'Project Summary'!$J$65*12,SUM($E$85:AM85),0)+('Project Summary'!$J$63=\"No\")*(AM6<='Project Summary'!$Q$8)*PMT('Project Summary'!$J$62/12,'Project Summary'!$J$65*12,SUM($E$85:AM85),0)","v":-42187.458707944796},{"$f":"+-('Project Summary'!$J$63=\"Yes\")*('Monthly CF'!AN5<='Project Summary'!$J$64)*'Monthly CF'!AN86*'Project Summary'!$J$62/12+('Project Summary'!$J$63=\"Yes\")*('Monthly CF'!AN5>'Project Summary'!$J$64)*(AN6<='Project Summary'!$Q$8)*PMT('Project Summary'!$J$62/12,'Project Summary'!$J$65*12,SUM($E$85:AN85),0)+('Project Summary'!$J$63=\"No\")*(AN6<='Project Summary'!$Q$8)*PMT('Project Summary'!$J$62/12,'Project Summary'!$J$65*12,SUM($E$85:AN85),0)","v":-42187.458707944796},{"$f":"+-('Project Summary'!$J$63=\"Yes\")*('Monthly CF'!AO5<='Project Summary'!$J$64)*'Monthly CF'!AO86*'Project Summary'!$J$62/12+('Project Summary'!$J$63=\"Yes\")*('Monthly CF'!AO5>'Project Summary'!$J$64)*(AO6<='Project Summary'!$Q$8)*PMT('Project Summary'!$J$62/12,'Project Summary'!$J$65*12,SUM($E$85:AO85),0)+('Project Summary'!$J$63=\"No\")*(AO6<='Project Summary'!$Q$8)*PMT('Project Summary'!$J$62/12,'Project Summary'!$J$65*12,SUM($E$85:AO85),0)","v":-42187.458707944796},{"$f":"+-('Project Summary'!$J$63=\"Yes\")*('Monthly CF'!AP5<='Project Summary'!$J$64)*'Monthly CF'!AP86*'Project Summary'!$J$62/12+('Project Summary'!$J$63=\"Yes\")*('Monthly CF'!AP5>'Project Summary'!$J$64)*(AP6<='Project Summary'!$Q$8)*PMT('Project Summary'!$J$62/12,'Project Summary'!$J$65*12,SUM($E$85:AP85),0)+('Project Summary'!$J$63=\"No\")*(AP6<='Project Summary'!$Q$8)*PMT('Project Summary'!$J$62/12,'Project Summary'!$J$65*12,SUM($E$85:AP85),0)","v":-42187.458707944796},{"$f":"+-('Project Summary'!$J$63=\"Yes\")*('Monthly CF'!AQ5<='Project Summary'!$J$64)*'Monthly CF'!AQ86*'Project Summary'!$J$62/12+('Project Summary'!$J$63=\"Yes\")*('Monthly CF'!AQ5>'Project Summary'!$J$64)*(AQ6<='Project Summary'!$Q$8)*PMT('Project Summary'!$J$62/12,'Project Summary'!$J$65*12,SUM($E$85:AQ85),0)+('Project Summary'!$J$63=\"No\")*(AQ6<='Project Summary'!$Q$8)*PMT('Project Summary'!$J$62/12,'Project Summary'!$J$65*12,SUM($E$85:AQ85),0)","v":-42187.458707944796},{"$f":"+-('Project Summary'!$J$63=\"Yes\")*('Monthly CF'!AR5<='Project Summary'!$J$64)*'Monthly CF'!AR86*'Project Summary'!$J$62/12+('Project Summary'!$J$63=\"Yes\")*('Monthly CF'!AR5>'Project Summary'!$J$64)*(AR6<='Project Summary'!$Q$8)*PMT('Project Summary'!$J$62/12,'Project Summary'!$J$65*12,SUM($E$85:AR85),0)+('Project Summary'!$J$63=\"No\")*(AR6<='Project Summary'!$Q$8)*PMT('Project Summary'!$J$62/12,'Project Summary'!$J$65*12,SUM($E$85:AR85),0)","v":-42187.458707944796},{"$f":"+-('Project Summary'!$J$63=\"Yes\")*('Monthly CF'!AS5<='Project Summary'!$J$64)*'Monthly CF'!AS86*'Project Summary'!$J$62/12+('Project Summary'!$J$63=\"Yes\")*('Monthly CF'!AS5>'Project Summary'!$J$64)*(AS6<='Project Summary'!$Q$8)*PMT('Project Summary'!$J$62/12,'Project Summary'!$J$65*12,SUM($E$85:AS85),0)+('Project Summary'!$J$63=\"No\")*(AS6<='Project Summary'!$Q$8)*PMT('Project Summary'!$J$62/12,'Project Summary'!$J$65*12,SUM($E$85:AS85),0)","v":-42187.458707944796},{"$f":"+-('Project Summary'!$J$63=\"Yes\")*('Monthly CF'!AT5<='Project Summary'!$J$64)*'Monthly CF'!AT86*'Project Summary'!$J$62/12+('Project Summary'!$J$63=\"Yes\")*('Monthly CF'!AT5>'Project Summary'!$J$64)*(AT6<='Project Summary'!$Q$8)*PMT('Project Summary'!$J$62/12,'Project Summary'!$J$65*12,SUM($E$85:AT85),0)+('Project Summary'!$J$63=\"No\")*(AT6<='Project Summary'!$Q$8)*PMT('Project Summary'!$J$62/12,'Project Summary'!$J$65*12,SUM($E$85:AT85),0)","v":-42187.458707944796},{"$f":"+-('Project Summary'!$J$63=\"Yes\")*('Monthly CF'!AU5<='Project Summary'!$J$64)*'Monthly CF'!AU86*'Project Summary'!$J$62/12+('Project Summary'!$J$63=\"Yes\")*('Monthly CF'!AU5>'Project Summary'!$J$64)*(AU6<='Project Summary'!$Q$8)*PMT('Project Summary'!$J$62/12,'Project Summary'!$J$65*12,SUM($E$85:AU85),0)+('Project Summary'!$J$63=\"No\")*(AU6<='Project Summary'!$Q$8)*PMT('Project Summary'!$J$62/12,'Project Summary'!$J$65*12,SUM($E$85:AU85),0)","v":-42187.458707944796},{"$f":"+-('Project Summary'!$J$63=\"Yes\")*('Monthly CF'!AV5<='Project Summary'!$J$64)*'Monthly CF'!AV86*'Project Summary'!$J$62/12+('Project Summary'!$J$63=\"Yes\")*('Monthly CF'!AV5>'Project Summary'!$J$64)*(AV6<='Project Summary'!$Q$8)*PMT('Project Summary'!$J$62/12,'Project Summary'!$J$65*12,SUM($E$85:AV85),0)+('Project Summary'!$J$63=\"No\")*(AV6<='Project Summary'!$Q$8)*PMT('Project Summary'!$J$62/12,'Project Summary'!$J$65*12,SUM($E$85:AV85),0)","v":-42187.458707944796},{"$f":"+-('Project Summary'!$J$63=\"Yes\")*('Monthly CF'!AW5<='Project Summary'!$J$64)*'Monthly CF'!AW86*'Project Summary'!$J$62/12+('Project Summary'!$J$63=\"Yes\")*('Monthly CF'!AW5>'Project Summary'!$J$64)*(AW6<='Project Summary'!$Q$8)*PMT('Project Summary'!$J$62/12,'Project Summary'!$J$65*12,SUM($E$85:AW85),0)+('Project Summary'!$J$63=\"No\")*(AW6<='Project Summary'!$Q$8)*PMT('Project Summary'!$J$62/12,'Project Summary'!$J$65*12,SUM($E$85:AW85),0)","v":-42187.458707944796},{"$f":"+-('Project Summary'!$J$63=\"Yes\")*('Monthly CF'!AX5<='Project Summary'!$J$64)*'Monthly CF'!AX86*'Project Summary'!$J$62/12+('Project Summary'!$J$63=\"Yes\")*('Monthly CF'!AX5>'Project Summary'!$J$64)*(AX6<='Project Summary'!$Q$8)*PMT('Project Summary'!$J$62/12,'Project Summary'!$J$65*12,SUM($E$85:AX85),0)+('Project Summary'!$J$63=\"No\")*(AX6<='Project Summary'!$Q$8)*PMT('Project Summary'!$J$62/12,'Project Summary'!$J$65*12,SUM($E$85:AX85),0)","v":-42187.458707944796},{"$f":"+-('Project Summary'!$J$63=\"Yes\")*('Monthly CF'!AY5<='Project Summary'!$J$64)*'Monthly CF'!AY86*'Project Summary'!$J$62/12+('Project Summary'!$J$63=\"Yes\")*('Monthly CF'!AY5>'Project Summary'!$J$64)*(AY6<='Project Summary'!$Q$8)*PMT('Project Summary'!$J$62/12,'Project Summary'!$J$65*12,SUM($E$85:AY85),0)+('Project Summary'!$J$63=\"No\")*(AY6<='Project Summary'!$Q$8)*PMT('Project Summary'!$J$62/12,'Project Summary'!$J$65*12,SUM($E$85:AY85),0)","v":-42187.458707944796},{"$f":"+-('Project Summary'!$J$63=\"Yes\")*('Monthly CF'!AZ5<='Project Summary'!$J$64)*'Monthly CF'!AZ86*'Project Summary'!$J$62/12+('Project Summary'!$J$63=\"Yes\")*('Monthly CF'!AZ5>'Project Summary'!$J$64)*(AZ6<='Project Summary'!$Q$8)*PMT('Project Summary'!$J$62/12,'Project Summary'!$J$65*12,SUM($E$85:AZ85),0)+('Project Summary'!$J$63=\"No\")*(AZ6<='Project Summary'!$Q$8)*PMT('Project Summary'!$J$62/12,'Project Summary'!$J$65*12,SUM($E$85:AZ85),0)","v":-42187.458707944796},{"$f":"+-('Project Summary'!$J$63=\"Yes\")*('Monthly CF'!BA5<='Project Summary'!$J$64)*'Monthly CF'!BA86*'Project Summary'!$J$62/12+('Project Summary'!$J$63=\"Yes\")*('Monthly CF'!BA5>'Project Summary'!$J$64)*(BA6<='Project Summary'!$Q$8)*PMT('Project Summary'!$J$62/12,'Project Summary'!$J$65*12,SUM($E$85:BA85),0)+('Project Summary'!$J$63=\"No\")*(BA6<='Project Summary'!$Q$8)*PMT('Project Summary'!$J$62/12,'Project Summary'!$J$65*12,SUM($E$85:BA85),0)","v":-42187.458707944796},{"$f":"+-('Project Summary'!$J$63=\"Yes\")*('Monthly CF'!BB5<='Project Summary'!$J$64)*'Monthly CF'!BB86*'Project Summary'!$J$62/12+('Project Summary'!$J$63=\"Yes\")*('Monthly CF'!BB5>'Project Summary'!$J$64)*(BB6<='Project Summary'!$Q$8)*PMT('Project Summary'!$J$62/12,'Project Summary'!$J$65*12,SUM($E$85:BB85),0)+('Project Summary'!$J$63=\"No\")*(BB6<='Project Summary'!$Q$8)*PMT('Project Summary'!$J$62/12,'Project Summary'!$J$65*12,SUM($E$85:BB85),0)","v":-42187.458707944796},{"$f":"+-('Project Summary'!$J$63=\"Yes\")*('Monthly CF'!BC5<='Project Summary'!$J$64)*'Monthly CF'!BC86*'Project Summary'!$J$62/12+('Project Summary'!$J$63=\"Yes\")*('Monthly CF'!BC5>'Project Summary'!$J$64)*(BC6<='Project Summary'!$Q$8)*PMT('Project Summary'!$J$62/12,'Project Summary'!$J$65*12,SUM($E$85:BC85),0)+('Project Summary'!$J$63=\"No\")*(BC6<='Project Summary'!$Q$8)*PMT('Project Summary'!$J$62/12,'Project Summary'!$J$65*12,SUM($E$85:BC85),0)","v":-42187.458707944796},{"$f":"+-('Project Summary'!$J$63=\"Yes\")*('Monthly CF'!BD5<='Project Summary'!$J$64)*'Monthly CF'!BD86*'Project Summary'!$J$62/12+('Project Summary'!$J$63=\"Yes\")*('Monthly CF'!BD5>'Project Summary'!$J$64)*(BD6<='Project Summary'!$Q$8)*PMT('Project Summary'!$J$62/12,'Project Summary'!$J$65*12,SUM($E$85:BD85),0)+('Project Summary'!$J$63=\"No\")*(BD6<='Project Summary'!$Q$8)*PMT('Project Summary'!$J$62/12,'Project Summary'!$J$65*12,SUM($E$85:BD85),0)","v":-42187.458707944796},{"$f":"+-('Project Summary'!$J$63=\"Yes\")*('Monthly CF'!BE5<='Project Summary'!$J$64)*'Monthly CF'!BE86*'Project Summary'!$J$62/12+('Project Summary'!$J$63=\"Yes\")*('Monthly CF'!BE5>'Project Summary'!$J$64)*(BE6<='Project Summary'!$Q$8)*PMT('Project Summary'!$J$62/12,'Project Summary'!$J$65*12,SUM($E$85:BE85),0)+('Project Summary'!$J$63=\"No\")*(BE6<='Project Summary'!$Q$8)*PMT('Project Summary'!$J$62/12,'Project Summary'!$J$65*12,SUM($E$85:BE85),0)","v":-42187.458707944796},{"$f":"+-('Project Summary'!$J$63=\"Yes\")*('Monthly CF'!BF5<='Project Summary'!$J$64)*'Monthly CF'!BF86*'Project Summary'!$J$62/12+('Project Summary'!$J$63=\"Yes\")*('Monthly CF'!BF5>'Project Summary'!$J$64)*(BF6<='Project Summary'!$Q$8)*PMT('Project Summary'!$J$62/12,'Project Summary'!$J$65*12,SUM($E$85:BF85),0)+('Project Summary'!$J$63=\"No\")*(BF6<='Project Summary'!$Q$8)*PMT('Project Summary'!$J$62/12,'Project Summary'!$J$65*12,SUM($E$85:BF85),0)","v":-42187.458707944796},{"$f":"+-('Project Summary'!$J$63=\"Yes\")*('Monthly CF'!BG5<='Project Summary'!$J$64)*'Monthly CF'!BG86*'Project Summary'!$J$62/12+('Project Summary'!$J$63=\"Yes\")*('Monthly CF'!BG5>'Project Summary'!$J$64)*(BG6<='Project Summary'!$Q$8)*PMT('Project Summary'!$J$62/12,'Project Summary'!$J$65*12,SUM($E$85:BG85),0)+('Project Summary'!$J$63=\"No\")*(BG6<='Project Summary'!$Q$8)*PMT('Project Summary'!$J$62/12,'Project Summary'!$J$65*12,SUM($E$85:BG85),0)","v":-42187.458707944796},{"$f":"+-('Project Summary'!$J$63=\"Yes\")*('Monthly CF'!BH5<='Project Summary'!$J$64)*'Monthly CF'!BH86*'Project Summary'!$J$62/12+('Project Summary'!$J$63=\"Yes\")*('Monthly CF'!BH5>'Project Summary'!$J$64)*(BH6<='Project Summary'!$Q$8)*PMT('Project Summary'!$J$62/12,'Project Summary'!$J$65*12,SUM($E$85:BH85),0)+('Project Summary'!$J$63=\"No\")*(BH6<='Project Summary'!$Q$8)*PMT('Project Summary'!$J$62/12,'Project Summary'!$J$65*12,SUM($E$85:BH85),0)","v":-42187.458707944796},{"$f":"+-('Project Summary'!$J$63=\"Yes\")*('Monthly CF'!BI5<='Project Summary'!$J$64)*'Monthly CF'!BI86*'Project Summary'!$J$62/12+('Project Summary'!$J$63=\"Yes\")*('Monthly CF'!BI5>'Project Summary'!$J$64)*(BI6<='Project Summary'!$Q$8)*PMT('Project Summary'!$J$62/12,'Project Summary'!$J$65*12,SUM($E$85:BI85),0)+('Project Summary'!$J$63=\"No\")*(BI6<='Project Summary'!$Q$8)*PMT('Project Summary'!$J$62/12,'Project Summary'!$J$65*12,SUM($E$85:BI85),0)","v":-42187.458707944796},{"$f":"+-('Project Summary'!$J$63=\"Yes\")*('Monthly CF'!BJ5<='Project Summary'!$J$64)*'Monthly CF'!BJ86*'Project Summary'!$J$62/12+('Project Summary'!$J$63=\"Yes\")*('Monthly CF'!BJ5>'Project Summary'!$J$64)*(BJ6<='Project Summary'!$Q$8)*PMT('Project Summary'!$J$62/12,'Project Summary'!$J$65*12,SUM($E$85:BJ85),0)+('Project Summary'!$J$63=\"No\")*(BJ6<='Project Summary'!$Q$8)*PMT('Project Summary'!$J$62/12,'Project Summary'!$J$65*12,SUM($E$85:BJ85),0)","v":-42187.458707944796},{"$f":"+-('Project Summary'!$J$63=\"Yes\")*('Monthly CF'!BK5<='Project Summary'!$J$64)*'Monthly CF'!BK86*'Project Summary'!$J$62/12+('Project Summary'!$J$63=\"Yes\")*('Monthly CF'!BK5>'Project Summary'!$J$64)*(BK6<='Project Summary'!$Q$8)*PMT('Project Summary'!$J$62/12,'Project Summary'!$J$65*12,SUM($E$85:BK85),0)+('Project Summary'!$J$63=\"No\")*(BK6<='Project Summary'!$Q$8)*PMT('Project Summary'!$J$62/12,'Project Summary'!$J$65*12,SUM($E$85:BK85),0)","v":-42187.458707944796},{"$f":"+-('Project Summary'!$J$63=\"Yes\")*('Monthly CF'!BL5<='Project Summary'!$J$64)*'Monthly CF'!BL86*'Project Summary'!$J$62/12+('Project Summary'!$J$63=\"Yes\")*('Monthly CF'!BL5>'Project Summary'!$J$64)*(BL6<='Project Summary'!$Q$8)*PMT('Project Summary'!$J$62/12,'Project Summary'!$J$65*12,SUM($E$85:BL85),0)+('Project Summary'!$J$63=\"No\")*(BL6<='Project Summary'!$Q$8)*PMT('Project Summary'!$J$62/12,'Project Summary'!$J$65*12,SUM($E$85:BL85),0)","v":-42187.458707944796},{"$f":"+-('Project Summary'!$J$63=\"Yes\")*('Monthly CF'!BM5<='Project Summary'!$J$64)*'Monthly CF'!BM86*'Project Summary'!$J$62/12+('Project Summary'!$J$63=\"Yes\")*('Monthly CF'!BM5>'Project Summary'!$J$64)*(BM6<='Project Summary'!$Q$8)*PMT('Project Summary'!$J$62/12,'Project Summary'!$J$65*12,SUM($E$85:BM85),0)+('Project Summary'!$J$63=\"No\")*(BM6<='Project Summary'!$Q$8)*PMT('Project Summary'!$J$62/12,'Project Summary'!$J$65*12,SUM($E$85:BM85),0)","v":-42187.458707944796},{"$f":"+-('Project Summary'!$J$63=\"Yes\")*('Monthly CF'!BN5<='Project Summary'!$J$64)*'Monthly CF'!BN86*'Project Summary'!$J$62/12+('Project Summary'!$J$63=\"Yes\")*('Monthly CF'!BN5>'Project Summary'!$J$64)*(BN6<='Project Summary'!$Q$8)*PMT('Project Summary'!$J$62/12,'Project Summary'!$J$65*12,SUM($E$85:BN85),0)+('Project Summary'!$J$63=\"No\")*(BN6<='Project Summary'!$Q$8)*PMT('Project Summary'!$J$62/12,'Project Summary'!$J$65*12,SUM($E$85:BN85),0)","v":-42187.458707944796},{"$f":"+-('Project Summary'!$J$63=\"Yes\")*('Monthly CF'!BO5<='Project Summary'!$J$64)*'Monthly CF'!BO86*'Project Summary'!$J$62/12+('Project Summary'!$J$63=\"Yes\")*('Monthly CF'!BO5>'Project Summary'!$J$64)*(BO6<='Project Summary'!$Q$8)*PMT('Project Summary'!$J$62/12,'Project Summary'!$J$65*12,SUM($E$85:BO85),0)+('Project Summary'!$J$63=\"No\")*(BO6<='Project Summary'!$Q$8)*PMT('Project Summary'!$J$62/12,'Project Summary'!$J$65*12,SUM($E$85:BO85),0)","v":-42187.458707944796},{"$f":"+-('Project Summary'!$J$63=\"Yes\")*('Monthly CF'!BP5<='Project Summary'!$J$64)*'Monthly CF'!BP86*'Project Summary'!$J$62/12+('Project Summary'!$J$63=\"Yes\")*('Monthly CF'!BP5>'Project Summary'!$J$64)*(BP6<='Project Summary'!$Q$8)*PMT('Project Summary'!$J$62/12,'Project Summary'!$J$65*12,SUM($E$85:BP85),0)+('Project Summary'!$J$63=\"No\")*(BP6<='Project Summary'!$Q$8)*PMT('Project Summary'!$J$62/12,'Project Summary'!$J$65*12,SUM($E$85:BP85),0)","v":-42187.458707944796},{"$f":"+-('Project Summary'!$J$63=\"Yes\")*('Monthly CF'!BQ5<='Project Summary'!$J$64)*'Monthly CF'!BQ86*'Project Summary'!$J$62/12+('Project Summary'!$J$63=\"Yes\")*('Monthly CF'!BQ5>'Project Summary'!$J$64)*(BQ6<='Project Summary'!$Q$8)*PMT('Project Summary'!$J$62/12,'Project Summary'!$J$65*12,SUM($E$85:BQ85),0)+('Project Summary'!$J$63=\"No\")*(BQ6<='Project Summary'!$Q$8)*PMT('Project Summary'!$J$62/12,'Project Summary'!$J$65*12,SUM($E$85:BQ85),0)","v":-42187.458707944796},{"$f":"+-('Project Summary'!$J$63=\"Yes\")*('Monthly CF'!BR5<='Project Summary'!$J$64)*'Monthly CF'!BR86*'Project Summary'!$J$62/12+('Project Summary'!$J$63=\"Yes\")*('Monthly CF'!BR5>'Project Summary'!$J$64)*(BR6<='Project Summary'!$Q$8)*PMT('Project Summary'!$J$62/12,'Project Summary'!$J$65*12,SUM($E$85:BR85),0)+('Project Summary'!$J$63=\"No\")*(BR6<='Project Summary'!$Q$8)*PMT('Project Summary'!$J$62/12,'Project Summary'!$J$65*12,SUM($E$85:BR85),0)","v":-42187.458707944796},{"$f":"+-('Project Summary'!$J$63=\"Yes\")*('Monthly CF'!BS5<='Project Summary'!$J$64)*'Monthly CF'!BS86*'Project Summary'!$J$62/12+('Project Summary'!$J$63=\"Yes\")*('Monthly CF'!BS5>'Project Summary'!$J$64)*(BS6<='Project Summary'!$Q$8)*PMT('Project Summary'!$J$62/12,'Project Summary'!$J$65*12,SUM($E$85:BS85),0)+('Project Summary'!$J$63=\"No\")*(BS6<='Project Summary'!$Q$8)*PMT('Project Summary'!$J$62/12,'Project Summary'!$J$65*12,SUM($E$85:BS85),0)","v":-42187.458707944796},{"$f":"+-('Project Summary'!$J$63=\"Yes\")*('Monthly CF'!BT5<='Project Summary'!$J$64)*'Monthly CF'!BT86*'Project Summary'!$J$62/12+('Project Summary'!$J$63=\"Yes\")*('Monthly CF'!BT5>'Project Summary'!$J$64)*(BT6<='Project Summary'!$Q$8)*PMT('Project Summary'!$J$62/12,'Project Summary'!$J$65*12,SUM($E$85:BT85),0)+('Project Summary'!$J$63=\"No\")*(BT6<='Project Summary'!$Q$8)*PMT('Project Summary'!$J$62/12,'Project Summary'!$J$65*12,SUM($E$85:BT85),0)","v":-42187.458707944796},{"$f":"+-('Project Summary'!$J$63=\"Yes\")*('Monthly CF'!BU5<='Project Summary'!$J$64)*'Monthly CF'!BU86*'Project Summary'!$J$62/12+('Project Summary'!$J$63=\"Yes\")*('Monthly CF'!BU5>'Project Summary'!$J$64)*(BU6<='Project Summary'!$Q$8)*PMT('Project Summary'!$J$62/12,'Project Summary'!$J$65*12,SUM($E$85:BU85),0)+('Project Summary'!$J$63=\"No\")*(BU6<='Project Summary'!$Q$8)*PMT('Project Summary'!$J$62/12,'Project Summary'!$J$65*12,SUM($E$85:BU85),0)","v":-42187.458707944796},{"$f":"+-('Project Summary'!$J$63=\"Yes\")*('Monthly CF'!BV5<='Project Summary'!$J$64)*'Monthly CF'!BV86*'Project Summary'!$J$62/12+('Project Summary'!$J$63=\"Yes\")*('Monthly CF'!BV5>'Project Summary'!$J$64)*(BV6<='Project Summary'!$Q$8)*PMT('Project Summary'!$J$62/12,'Project Summary'!$J$65*12,SUM($E$85:BV85),0)+('Project Summary'!$J$63=\"No\")*(BV6<='Project Summary'!$Q$8)*PMT('Project Summary'!$J$62/12,'Project Summary'!$J$65*12,SUM($E$85:BV85),0)","v":-42187.458707944796},{"$f":"+-('Project Summary'!$J$63=\"Yes\")*('Monthly CF'!BW5<='Project Summary'!$J$64)*'Monthly CF'!BW86*'Project Summary'!$J$62/12+('Project Summary'!$J$63=\"Yes\")*('Monthly CF'!BW5>'Project Summary'!$J$64)*(BW6<='Project Summary'!$Q$8)*PMT('Project Summary'!$J$62/12,'Project Summary'!$J$65*12,SUM($E$85:BW85),0)+('Project Summary'!$J$63=\"No\")*(BW6<='Project Summary'!$Q$8)*PMT('Project Summary'!$J$62/12,'Project Summary'!$J$65*12,SUM($E$85:BW85),0)","v":-42187.458707944796},{"$f":"+-('Project Summary'!$J$63=\"Yes\")*('Monthly CF'!BX5<='Project Summary'!$J$64)*'Monthly CF'!BX86*'Project Summary'!$J$62/12+('Project Summary'!$J$63=\"Yes\")*('Monthly CF'!BX5>'Project Summary'!$J$64)*(BX6<='Project Summary'!$Q$8)*PMT('Project Summary'!$J$62/12,'Project Summary'!$J$65*12,SUM($E$85:BX85),0)+('Project Summary'!$J$63=\"No\")*(BX6<='Project Summary'!$Q$8)*PMT('Project Summary'!$J$62/12,'Project Summary'!$J$65*12,SUM($E$85:BX85),0)","v":-42187.458707944796},{"$f":"+-('Project Summary'!$J$63=\"Yes\")*('Monthly CF'!BY5<='Project Summary'!$J$64)*'Monthly CF'!BY86*'Project Summary'!$J$62/12+('Project Summary'!$J$63=\"Yes\")*('Monthly CF'!BY5>'Project Summary'!$J$64)*(BY6<='Project Summary'!$Q$8)*PMT('Project Summary'!$J$62/12,'Project Summary'!$J$65*12,SUM($E$85:BY85),0)+('Project Summary'!$J$63=\"No\")*(BY6<='Project Summary'!$Q$8)*PMT('Project Summary'!$J$62/12,'Project Summary'!$J$65*12,SUM($E$85:BY85),0)","v":-42187.458707944796},{"$f":"+-('Project Summary'!$J$63=\"Yes\")*('Monthly CF'!BZ5<='Project Summary'!$J$64)*'Monthly CF'!BZ86*'Project Summary'!$J$62/12+('Project Summary'!$J$63=\"Yes\")*('Monthly CF'!BZ5>'Project Summary'!$J$64)*(BZ6<='Project Summary'!$Q$8)*PMT('Project Summary'!$J$62/12,'Project Summary'!$J$65*12,SUM($E$85:BZ85),0)+('Project Summary'!$J$63=\"No\")*(BZ6<='Project Summary'!$Q$8)*PMT('Project Summary'!$J$62/12,'Project Summary'!$J$65*12,SUM($E$85:BZ85),0)","v":-42187.458707944796},{"$f":"+-('Project Summary'!$J$63=\"Yes\")*('Monthly CF'!CA5<='Project Summary'!$J$64)*'Monthly CF'!CA86*'Project Summary'!$J$62/12+('Project Summary'!$J$63=\"Yes\")*('Monthly CF'!CA5>'Project Summary'!$J$64)*(CA6<='Project Summary'!$Q$8)*PMT('Project Summary'!$J$62/12,'Project Summary'!$J$65*12,SUM($E$85:CA85),0)+('Project Summary'!$J$63=\"No\")*(CA6<='Project Summary'!$Q$8)*PMT('Project Summary'!$J$62/12,'Project Summary'!$J$65*12,SUM($E$85:CA85),0)","v":-42187.458707944796},{"$f":"+-('Project Summary'!$J$63=\"Yes\")*('Monthly CF'!CB5<='Project Summary'!$J$64)*'Monthly CF'!CB86*'Project Summary'!$J$62/12+('Project Summary'!$J$63=\"Yes\")*('Monthly CF'!CB5>'Project Summary'!$J$64)*(CB6<='Project Summary'!$Q$8)*PMT('Project Summary'!$J$62/12,'Project Summary'!$J$65*12,SUM($E$85:CB85),0)+('Project Summary'!$J$63=\"No\")*(CB6<='Project Summary'!$Q$8)*PMT('Project Summary'!$J$62/12,'Project Summary'!$J$65*12,SUM($E$85:CB85),0)","v":-42187.458707944796},{"$f":"+-('Project Summary'!$J$63=\"Yes\")*('Monthly CF'!CC5<='Project Summary'!$J$64)*'Monthly CF'!CC86*'Project Summary'!$J$62/12+('Project Summary'!$J$63=\"Yes\")*('Monthly CF'!CC5>'Project Summary'!$J$64)*(CC6<='Project Summary'!$Q$8)*PMT('Project Summary'!$J$62/12,'Project Summary'!$J$65*12,SUM($E$85:CC85),0)+('Project Summary'!$J$63=\"No\")*(CC6<='Project Summary'!$Q$8)*PMT('Project Summary'!$J$62/12,'Project Summary'!$J$65*12,SUM($E$85:CC85),0)","v":-42187.458707944796},{"$f":"+-('Project Summary'!$J$63=\"Yes\")*('Monthly CF'!CD5<='Project Summary'!$J$64)*'Monthly CF'!CD86*'Project Summary'!$J$62/12+('Project Summary'!$J$63=\"Yes\")*('Monthly CF'!CD5>'Project Summary'!$J$64)*(CD6<='Project Summary'!$Q$8)*PMT('Project Summary'!$J$62/12,'Project Summary'!$J$65*12,SUM($E$85:CD85),0)+('Project Summary'!$J$63=\"No\")*(CD6<='Project Summary'!$Q$8)*PMT('Project Summary'!$J$62/12,'Project Summary'!$J$65*12,SUM($E$85:CD85),0)","v":-42187.458707944796},{"$f":"+-('Project Summary'!$J$63=\"Yes\")*('Monthly CF'!CE5<='Project Summary'!$J$64)*'Monthly CF'!CE86*'Project Summary'!$J$62/12+('Project Summary'!$J$63=\"Yes\")*('Monthly CF'!CE5>'Project Summary'!$J$64)*(CE6<='Project Summary'!$Q$8)*PMT('Project Summary'!$J$62/12,'Project Summary'!$J$65*12,SUM($E$85:CE85),0)+('Project Summary'!$J$63=\"No\")*(CE6<='Project Summary'!$Q$8)*PMT('Project Summary'!$J$62/12,'Project Summary'!$J$65*12,SUM($E$85:CE85),0)","v":-42187.458707944796},{"$f":"+-('Project Summary'!$J$63=\"Yes\")*('Monthly CF'!CF5<='Project Summary'!$J$64)*'Monthly CF'!CF86*'Project Summary'!$J$62/12+('Project Summary'!$J$63=\"Yes\")*('Monthly CF'!CF5>'Project Summary'!$J$64)*(CF6<='Project Summary'!$Q$8)*PMT('Project Summary'!$J$62/12,'Project Summary'!$J$65*12,SUM($E$85:CF85),0)+('Project Summary'!$J$63=\"No\")*(CF6<='Project Summary'!$Q$8)*PMT('Project Summary'!$J$62/12,'Project Summary'!$J$65*12,SUM($E$85:CF85),0)","v":-42187.458707944796},{"$f":"+-('Project Summary'!$J$63=\"Yes\")*('Monthly CF'!CG5<='Project Summary'!$J$64)*'Monthly CF'!CG86*'Project Summary'!$J$62/12+('Project Summary'!$J$63=\"Yes\")*('Monthly CF'!CG5>'Project Summary'!$J$64)*(CG6<='Project Summary'!$Q$8)*PMT('Project Summary'!$J$62/12,'Project Summary'!$J$65*12,SUM($E$85:CG85),0)+('Project Summary'!$J$63=\"No\")*(CG6<='Project Summary'!$Q$8)*PMT('Project Summary'!$J$62/12,'Project Summary'!$J$65*12,SUM($E$85:CG85),0)","v":-42187.458707944796},{"$f":"+-('Project Summary'!$J$63=\"Yes\")*('Monthly CF'!CH5<='Project Summary'!$J$64)*'Monthly CF'!CH86*'Project Summary'!$J$62/12+('Project Summary'!$J$63=\"Yes\")*('Monthly CF'!CH5>'Project Summary'!$J$64)*(CH6<='Project Summary'!$Q$8)*PMT('Project Summary'!$J$62/12,'Project Summary'!$J$65*12,SUM($E$85:CH85),0)+('Project Summary'!$J$63=\"No\")*(CH6<='Project Summary'!$Q$8)*PMT('Project Summary'!$J$62/12,'Project Summary'!$J$65*12,SUM($E$85:CH85),0)","v":-42187.458707944796},{"$f":"+-('Project Summary'!$J$63=\"Yes\")*('Monthly CF'!CI5<='Project Summary'!$J$64)*'Monthly CF'!CI86*'Project Summary'!$J$62/12+('Project Summary'!$J$63=\"Yes\")*('Monthly CF'!CI5>'Project Summary'!$J$64)*(CI6<='Project Summary'!$Q$8)*PMT('Project Summary'!$J$62/12,'Project Summary'!$J$65*12,SUM($E$85:CI85),0)+('Project Summary'!$J$63=\"No\")*(CI6<='Project Summary'!$Q$8)*PMT('Project Summary'!$J$62/12,'Project Summary'!$J$65*12,SUM($E$85:CI85),0)","v":-42187.458707944796},{"$f":"+-('Project Summary'!$J$63=\"Yes\")*('Monthly CF'!CJ5<='Project Summary'!$J$64)*'Monthly CF'!CJ86*'Project Summary'!$J$62/12+('Project Summary'!$J$63=\"Yes\")*('Monthly CF'!CJ5>'Project Summary'!$J$64)*(CJ6<='Project Summary'!$Q$8)*PMT('Project Summary'!$J$62/12,'Project Summary'!$J$65*12,SUM($E$85:CJ85),0)+('Project Summary'!$J$63=\"No\")*(CJ6<='Project Summary'!$Q$8)*PMT('Project Summary'!$J$62/12,'Project Summary'!$J$65*12,SUM($E$85:CJ85),0)","v":-42187.458707944796},{"$f":"+-('Project Summary'!$J$63=\"Yes\")*('Monthly CF'!CK5<='Project Summary'!$J$64)*'Monthly CF'!CK86*'Project Summary'!$J$62/12+('Project Summary'!$J$63=\"Yes\")*('Monthly CF'!CK5>'Project Summary'!$J$64)*(CK6<='Project Summary'!$Q$8)*PMT('Project Summary'!$J$62/12,'Project Summary'!$J$65*12,SUM($E$85:CK85),0)+('Project Summary'!$J$63=\"No\")*(CK6<='Project Summary'!$Q$8)*PMT('Project Summary'!$J$62/12,'Project Summary'!$J$65*12,SUM($E$85:CK85),0)","v":-42187.458707944796},{"$f":"+-('Project Summary'!$J$63=\"Yes\")*('Monthly CF'!CL5<='Project Summary'!$J$64)*'Monthly CF'!CL86*'Project Summary'!$J$62/12+('Project Summary'!$J$63=\"Yes\")*('Monthly CF'!CL5>'Project Summary'!$J$64)*(CL6<='Project Summary'!$Q$8)*PMT('Project Summary'!$J$62/12,'Project Summary'!$J$65*12,SUM($E$85:CL85),0)+('Project Summary'!$J$63=\"No\")*(CL6<='Project Summary'!$Q$8)*PMT('Project Summary'!$J$62/12,'Project Summary'!$J$65*12,SUM($E$85:CL85),0)","v":0},{"$f":"+-('Project Summary'!$J$63=\"Yes\")*('Monthly CF'!CM5<='Project Summary'!$J$64)*'Monthly CF'!CM86*'Project Summary'!$J$62/12+('Project Summary'!$J$63=\"Yes\")*('Monthly CF'!CM5>'Project Summary'!$J$64)*(CM6<='Project Summary'!$Q$8)*PMT('Project Summary'!$J$62/12,'Project Summary'!$J$65*12,SUM($E$85:CM85),0)+('Project Summary'!$J$63=\"No\")*(CM6<='Project Summary'!$Q$8)*PMT('Project Summary'!$J$62/12,'Project Summary'!$J$65*12,SUM($E$85:CM85),0)","v":0},{"$f":"+-('Project Summary'!$J$63=\"Yes\")*('Monthly CF'!CN5<='Project Summary'!$J$64)*'Monthly CF'!CN86*'Project Summary'!$J$62/12+('Project Summary'!$J$63=\"Yes\")*('Monthly CF'!CN5>'Project Summary'!$J$64)*(CN6<='Project Summary'!$Q$8)*PMT('Project Summary'!$J$62/12,'Project Summary'!$J$65*12,SUM($E$85:CN85),0)+('Project Summary'!$J$63=\"No\")*(CN6<='Project Summary'!$Q$8)*PMT('Project Summary'!$J$62/12,'Project Summary'!$J$65*12,SUM($E$85:CN85),0)","v":0},{"$f":"+-('Project Summary'!$J$63=\"Yes\")*('Monthly CF'!CO5<='Project Summary'!$J$64)*'Monthly CF'!CO86*'Project Summary'!$J$62/12+('Project Summary'!$J$63=\"Yes\")*('Monthly CF'!CO5>'Project Summary'!$J$64)*(CO6<='Project Summary'!$Q$8)*PMT('Project Summary'!$J$62/12,'Project Summary'!$J$65*12,SUM($E$85:CO85),0)+('Project Summary'!$J$63=\"No\")*(CO6<='Project Summary'!$Q$8)*PMT('Project Summary'!$J$62/12,'Project Summary'!$J$65*12,SUM($E$85:CO85),0)","v":0},{"$f":"+-('Project Summary'!$J$63=\"Yes\")*('Monthly CF'!CP5<='Project Summary'!$J$64)*'Monthly CF'!CP86*'Project Summary'!$J$62/12+('Project Summary'!$J$63=\"Yes\")*('Monthly CF'!CP5>'Project Summary'!$J$64)*(CP6<='Project Summary'!$Q$8)*PMT('Project Summary'!$J$62/12,'Project Summary'!$J$65*12,SUM($E$85:CP85),0)+('Project Summary'!$J$63=\"No\")*(CP6<='Project Summary'!$Q$8)*PMT('Project Summary'!$J$62/12,'Project Summary'!$J$65*12,SUM($E$85:CP85),0)","v":0},{"$f":"+-('Project Summary'!$J$63=\"Yes\")*('Monthly CF'!CQ5<='Project Summary'!$J$64)*'Monthly CF'!CQ86*'Project Summary'!$J$62/12+('Project Summary'!$J$63=\"Yes\")*('Monthly CF'!CQ5>'Project Summary'!$J$64)*(CQ6<='Project Summary'!$Q$8)*PMT('Project Summary'!$J$62/12,'Project Summary'!$J$65*12,SUM($E$85:CQ85),0)+('Project Summary'!$J$63=\"No\")*(CQ6<='Project Summary'!$Q$8)*PMT('Project Summary'!$J$62/12,'Project Summary'!$J$65*12,SUM($E$85:CQ85),0)","v":0},{"$f":"+-('Project Summary'!$J$63=\"Yes\")*('Monthly CF'!CR5<='Project Summary'!$J$64)*'Monthly CF'!CR86*'Project Summary'!$J$62/12+('Project Summary'!$J$63=\"Yes\")*('Monthly CF'!CR5>'Project Summary'!$J$64)*(CR6<='Project Summary'!$Q$8)*PMT('Project Summary'!$J$62/12,'Project Summary'!$J$65*12,SUM($E$85:CR85),0)+('Project Summary'!$J$63=\"No\")*(CR6<='Project Summary'!$Q$8)*PMT('Project Summary'!$J$62/12,'Project Summary'!$J$65*12,SUM($E$85:CR85),0)","v":0},{"$f":"+-('Project Summary'!$J$63=\"Yes\")*('Monthly CF'!CS5<='Project Summary'!$J$64)*'Monthly CF'!CS86*'Project Summary'!$J$62/12+('Project Summary'!$J$63=\"Yes\")*('Monthly CF'!CS5>'Project Summary'!$J$64)*(CS6<='Project Summary'!$Q$8)*PMT('Project Summary'!$J$62/12,'Project Summary'!$J$65*12,SUM($E$85:CS85),0)+('Project Summary'!$J$63=\"No\")*(CS6<='Project Summary'!$Q$8)*PMT('Project Summary'!$J$62/12,'Project Summary'!$J$65*12,SUM($E$85:CS85),0)","v":0},{"$f":"+-('Project Summary'!$J$63=\"Yes\")*('Monthly CF'!CT5<='Project Summary'!$J$64)*'Monthly CF'!CT86*'Project Summary'!$J$62/12+('Project Summary'!$J$63=\"Yes\")*('Monthly CF'!CT5>'Project Summary'!$J$64)*(CT6<='Project Summary'!$Q$8)*PMT('Project Summary'!$J$62/12,'Project Summary'!$J$65*12,SUM($E$85:CT85),0)+('Project Summary'!$J$63=\"No\")*(CT6<='Project Summary'!$Q$8)*PMT('Project Summary'!$J$62/12,'Project Summary'!$J$65*12,SUM($E$85:CT85),0)","v":0},{"$f":"+-('Project Summary'!$J$63=\"Yes\")*('Monthly CF'!CU5<='Project Summary'!$J$64)*'Monthly CF'!CU86*'Project Summary'!$J$62/12+('Project Summary'!$J$63=\"Yes\")*('Monthly CF'!CU5>'Project Summary'!$J$64)*(CU6<='Project Summary'!$Q$8)*PMT('Project Summary'!$J$62/12,'Project Summary'!$J$65*12,SUM($E$85:CU85),0)+('Project Summary'!$J$63=\"No\")*(CU6<='Project Summary'!$Q$8)*PMT('Project Summary'!$J$62/12,'Project Summary'!$J$65*12,SUM($E$85:CU85),0)","v":0},{"$f":"+-('Project Summary'!$J$63=\"Yes\")*('Monthly CF'!CV5<='Project Summary'!$J$64)*'Monthly CF'!CV86*'Project Summary'!$J$62/12+('Project Summary'!$J$63=\"Yes\")*('Monthly CF'!CV5>'Project Summary'!$J$64)*(CV6<='Project Summary'!$Q$8)*PMT('Project Summary'!$J$62/12,'Project Summary'!$J$65*12,SUM($E$85:CV85),0)+('Project Summary'!$J$63=\"No\")*(CV6<='Project Summary'!$Q$8)*PMT('Project Summary'!$J$62/12,'Project Summary'!$J$65*12,SUM($E$85:CV85),0)","v":0},{"$f":"+-('Project Summary'!$J$63=\"Yes\")*('Monthly CF'!CW5<='Project Summary'!$J$64)*'Monthly CF'!CW86*'Project Summary'!$J$62/12+('Project Summary'!$J$63=\"Yes\")*('Monthly CF'!CW5>'Project Summary'!$J$64)*(CW6<='Project Summary'!$Q$8)*PMT('Project Summary'!$J$62/12,'Project Summary'!$J$65*12,SUM($E$85:CW85),0)+('Project Summary'!$J$63=\"No\")*(CW6<='Project Summary'!$Q$8)*PMT('Project Summary'!$J$62/12,'Project Summary'!$J$65*12,SUM($E$85:CW85),0)","v":0},{"$f":"+-('Project Summary'!$J$63=\"Yes\")*('Monthly CF'!CX5<='Project Summary'!$J$64)*'Monthly CF'!CX86*'Project Summary'!$J$62/12+('Project Summary'!$J$63=\"Yes\")*('Monthly CF'!CX5>'Project Summary'!$J$64)*(CX6<='Project Summary'!$Q$8)*PMT('Project Summary'!$J$62/12,'Project Summary'!$J$65*12,SUM($E$85:CX85),0)+('Project Summary'!$J$63=\"No\")*(CX6<='Project Summary'!$Q$8)*PMT('Project Summary'!$J$62/12,'Project Summary'!$J$65*12,SUM($E$85:CX85),0)","v":0},{"$f":"+-('Project Summary'!$J$63=\"Yes\")*('Monthly CF'!CY5<='Project Summary'!$J$64)*'Monthly CF'!CY86*'Project Summary'!$J$62/12+('Project Summary'!$J$63=\"Yes\")*('Monthly CF'!CY5>'Project Summary'!$J$64)*(CY6<='Project Summary'!$Q$8)*PMT('Project Summary'!$J$62/12,'Project Summary'!$J$65*12,SUM($E$85:CY85),0)+('Project Summary'!$J$63=\"No\")*(CY6<='Project Summary'!$Q$8)*PMT('Project Summary'!$J$62/12,'Project Summary'!$J$65*12,SUM($E$85:CY85),0)","v":0},{"$f":"+-('Project Summary'!$J$63=\"Yes\")*('Monthly CF'!CZ5<='Project Summary'!$J$64)*'Monthly CF'!CZ86*'Project Summary'!$J$62/12+('Project Summary'!$J$63=\"Yes\")*('Monthly CF'!CZ5>'Project Summary'!$J$64)*(CZ6<='Project Summary'!$Q$8)*PMT('Project Summary'!$J$62/12,'Project Summary'!$J$65*12,SUM($E$85:CZ85),0)+('Project Summary'!$J$63=\"No\")*(CZ6<='Project Summary'!$Q$8)*PMT('Project Summary'!$J$62/12,'Project Summary'!$J$65*12,SUM($E$85:CZ85),0)","v":0},{"$f":"+-('Project Summary'!$J$63=\"Yes\")*('Monthly CF'!DA5<='Project Summary'!$J$64)*'Monthly CF'!DA86*'Project Summary'!$J$62/12+('Project Summary'!$J$63=\"Yes\")*('Monthly CF'!DA5>'Project Summary'!$J$64)*(DA6<='Project Summary'!$Q$8)*PMT('Project Summary'!$J$62/12,'Project Summary'!$J$65*12,SUM($E$85:DA85),0)+('Project Summary'!$J$63=\"No\")*(DA6<='Project Summary'!$Q$8)*PMT('Project Summary'!$J$62/12,'Project Summary'!$J$65*12,SUM($E$85:DA85),0)","v":0},{"$f":"+-('Project Summary'!$J$63=\"Yes\")*('Monthly CF'!DB5<='Project Summary'!$J$64)*'Monthly CF'!DB86*'Project Summary'!$J$62/12+('Project Summary'!$J$63=\"Yes\")*('Monthly CF'!DB5>'Project Summary'!$J$64)*(DB6<='Project Summary'!$Q$8)*PMT('Project Summary'!$J$62/12,'Project Summary'!$J$65*12,SUM($E$85:DB85),0)+('Project Summary'!$J$63=\"No\")*(DB6<='Project Summary'!$Q$8)*PMT('Project Summary'!$J$62/12,'Project Summary'!$J$65*12,SUM($E$85:DB85),0)","v":0},{"$f":"+-('Project Summary'!$J$63=\"Yes\")*('Monthly CF'!DC5<='Project Summary'!$J$64)*'Monthly CF'!DC86*'Project Summary'!$J$62/12+('Project Summary'!$J$63=\"Yes\")*('Monthly CF'!DC5>'Project Summary'!$J$64)*(DC6<='Project Summary'!$Q$8)*PMT('Project Summary'!$J$62/12,'Project Summary'!$J$65*12,SUM($E$85:DC85),0)+('Project Summary'!$J$63=\"No\")*(DC6<='Project Summary'!$Q$8)*PMT('Project Summary'!$J$62/12,'Project Summary'!$J$65*12,SUM($E$85:DC85),0)","v":0},{"$f":"+-('Project Summary'!$J$63=\"Yes\")*('Monthly CF'!DD5<='Project Summary'!$J$64)*'Monthly CF'!DD86*'Project Summary'!$J$62/12+('Project Summary'!$J$63=\"Yes\")*('Monthly CF'!DD5>'Project Summary'!$J$64)*(DD6<='Project Summary'!$Q$8)*PMT('Project Summary'!$J$62/12,'Project Summary'!$J$65*12,SUM($E$85:DD85),0)+('Project Summary'!$J$63=\"No\")*(DD6<='Project Summary'!$Q$8)*PMT('Project Summary'!$J$62/12,'Project Summary'!$J$65*12,SUM($E$85:DD85),0)","v":0},{"$f":"+-('Project Summary'!$J$63=\"Yes\")*('Monthly CF'!DE5<='Project Summary'!$J$64)*'Monthly CF'!DE86*'Project Summary'!$J$62/12+('Project Summary'!$J$63=\"Yes\")*('Monthly CF'!DE5>'Project Summary'!$J$64)*(DE6<='Project Summary'!$Q$8)*PMT('Project Summary'!$J$62/12,'Project Summary'!$J$65*12,SUM($E$85:DE85),0)+('Project Summary'!$J$63=\"No\")*(DE6<='Project Summary'!$Q$8)*PMT('Project Summary'!$J$62/12,'Project Summary'!$J$65*12,SUM($E$85:DE85),0)","v":0},{"$f":"+-('Project Summary'!$J$63=\"Yes\")*('Monthly CF'!DF5<='Project Summary'!$J$64)*'Monthly CF'!DF86*'Project Summary'!$J$62/12+('Project Summary'!$J$63=\"Yes\")*('Monthly CF'!DF5>'Project Summary'!$J$64)*(DF6<='Project Summary'!$Q$8)*PMT('Project Summary'!$J$62/12,'Project Summary'!$J$65*12,SUM($E$85:DF85),0)+('Project Summary'!$J$63=\"No\")*(DF6<='Project Summary'!$Q$8)*PMT('Project Summary'!$J$62/12,'Project Summary'!$J$65*12,SUM($E$85:DF85),0)","v":0},{"$f":"+-('Project Summary'!$J$63=\"Yes\")*('Monthly CF'!DG5<='Project Summary'!$J$64)*'Monthly CF'!DG86*'Project Summary'!$J$62/12+('Project Summary'!$J$63=\"Yes\")*('Monthly CF'!DG5>'Project Summary'!$J$64)*(DG6<='Project Summary'!$Q$8)*PMT('Project Summary'!$J$62/12,'Project Summary'!$J$65*12,SUM($E$85:DG85),0)+('Project Summary'!$J$63=\"No\")*(DG6<='Project Summary'!$Q$8)*PMT('Project Summary'!$J$62/12,'Project Summary'!$J$65*12,SUM($E$85:DG85),0)","v":0},{"$f":"+-('Project Summary'!$J$63=\"Yes\")*('Monthly CF'!DH5<='Project Summary'!$J$64)*'Monthly CF'!DH86*'Project Summary'!$J$62/12+('Project Summary'!$J$63=\"Yes\")*('Monthly CF'!DH5>'Project Summary'!$J$64)*(DH6<='Project Summary'!$Q$8)*PMT('Project Summary'!$J$62/12,'Project Summary'!$J$65*12,SUM($E$85:DH85),0)+('Project Summary'!$J$63=\"No\")*(DH6<='Project Summary'!$Q$8)*PMT('Project Summary'!$J$62/12,'Project Summary'!$J$65*12,SUM($E$85:DH85),0)","v":0},{"$f":"+-('Project Summary'!$J$63=\"Yes\")*('Monthly CF'!DI5<='Project Summary'!$J$64)*'Monthly CF'!DI86*'Project Summary'!$J$62/12+('Project Summary'!$J$63=\"Yes\")*('Monthly CF'!DI5>'Project Summary'!$J$64)*(DI6<='Project Summary'!$Q$8)*PMT('Project Summary'!$J$62/12,'Project Summary'!$J$65*12,SUM($E$85:DI85),0)+('Project Summary'!$J$63=\"No\")*(DI6<='Project Summary'!$Q$8)*PMT('Project Summary'!$J$62/12,'Project Summary'!$J$65*12,SUM($E$85:DI85),0)","v":0},{"$f":"+-('Project Summary'!$J$63=\"Yes\")*('Monthly CF'!DJ5<='Project Summary'!$J$64)*'Monthly CF'!DJ86*'Project Summary'!$J$62/12+('Project Summary'!$J$63=\"Yes\")*('Monthly CF'!DJ5>'Project Summary'!$J$64)*(DJ6<='Project Summary'!$Q$8)*PMT('Project Summary'!$J$62/12,'Project Summary'!$J$65*12,SUM($E$85:DJ85),0)+('Project Summary'!$J$63=\"No\")*(DJ6<='Project Summary'!$Q$8)*PMT('Project Summary'!$J$62/12,'Project Summary'!$J$65*12,SUM($E$85:DJ85),0)","v":0},{"$f":"+-('Project Summary'!$J$63=\"Yes\")*('Monthly CF'!DK5<='Project Summary'!$J$64)*'Monthly CF'!DK86*'Project Summary'!$J$62/12+('Project Summary'!$J$63=\"Yes\")*('Monthly CF'!DK5>'Project Summary'!$J$64)*(DK6<='Project Summary'!$Q$8)*PMT('Project Summary'!$J$62/12,'Project Summary'!$J$65*12,SUM($E$85:DK85),0)+('Project Summary'!$J$63=\"No\")*(DK6<='Project Summary'!$Q$8)*PMT('Project Summary'!$J$62/12,'Project Summary'!$J$65*12,SUM($E$85:DK85),0)","v":0},{"$f":"+-('Project Summary'!$J$63=\"Yes\")*('Monthly CF'!DL5<='Project Summary'!$J$64)*'Monthly CF'!DL86*'Project Summary'!$J$62/12+('Project Summary'!$J$63=\"Yes\")*('Monthly CF'!DL5>'Project Summary'!$J$64)*(DL6<='Project Summary'!$Q$8)*PMT('Project Summary'!$J$62/12,'Project Summary'!$J$65*12,SUM($E$85:DL85),0)+('Project Summary'!$J$63=\"No\")*(DL6<='Project Summary'!$Q$8)*PMT('Project Summary'!$J$62/12,'Project Summary'!$J$65*12,SUM($E$85:DL85),0)","v":0},{"$f":"+-('Project Summary'!$J$63=\"Yes\")*('Monthly CF'!DM5<='Project Summary'!$J$64)*'Monthly CF'!DM86*'Project Summary'!$J$62/12+('Project Summary'!$J$63=\"Yes\")*('Monthly CF'!DM5>'Project Summary'!$J$64)*(DM6<='Project Summary'!$Q$8)*PMT('Project Summary'!$J$62/12,'Project Summary'!$J$65*12,SUM($E$85:DM85),0)+('Project Summary'!$J$63=\"No\")*(DM6<='Project Summary'!$Q$8)*PMT('Project Summary'!$J$62/12,'Project Summary'!$J$65*12,SUM($E$85:DM85),0)","v":0},{"$f":"+-('Project Summary'!$J$63=\"Yes\")*('Monthly CF'!DN5<='Project Summary'!$J$64)*'Monthly CF'!DN86*'Project Summary'!$J$62/12+('Project Summary'!$J$63=\"Yes\")*('Monthly CF'!DN5>'Project Summary'!$J$64)*(DN6<='Project Summary'!$Q$8)*PMT('Project Summary'!$J$62/12,'Project Summary'!$J$65*12,SUM($E$85:DN85),0)+('Project Summary'!$J$63=\"No\")*(DN6<='Project Summary'!$Q$8)*PMT('Project Summary'!$J$62/12,'Project Summary'!$J$65*12,SUM($E$85:DN85),0)","v":0},{"$f":"+-('Project Summary'!$J$63=\"Yes\")*('Monthly CF'!DO5<='Project Summary'!$J$64)*'Monthly CF'!DO86*'Project Summary'!$J$62/12+('Project Summary'!$J$63=\"Yes\")*('Monthly CF'!DO5>'Project Summary'!$J$64)*(DO6<='Project Summary'!$Q$8)*PMT('Project Summary'!$J$62/12,'Project Summary'!$J$65*12,SUM($E$85:DO85),0)+('Project Summary'!$J$63=\"No\")*(DO6<='Project Summary'!$Q$8)*PMT('Project Summary'!$J$62/12,'Project Summary'!$J$65*12,SUM($E$85:DO85),0)","v":0},{"$f":"+-('Project Summary'!$J$63=\"Yes\")*('Monthly CF'!DP5<='Project Summary'!$J$64)*'Monthly CF'!DP86*'Project Summary'!$J$62/12+('Project Summary'!$J$63=\"Yes\")*('Monthly CF'!DP5>'Project Summary'!$J$64)*(DP6<='Project Summary'!$Q$8)*PMT('Project Summary'!$J$62/12,'Project Summary'!$J$65*12,SUM($E$85:DP85),0)+('Project Summary'!$J$63=\"No\")*(DP6<='Project Summary'!$Q$8)*PMT('Project Summary'!$J$62/12,'Project Summary'!$J$65*12,SUM($E$85:DP85),0)","v":0},{"$f":"+-('Project Summary'!$J$63=\"Yes\")*('Monthly CF'!DQ5<='Project Summary'!$J$64)*'Monthly CF'!DQ86*'Project Summary'!$J$62/12+('Project Summary'!$J$63=\"Yes\")*('Monthly CF'!DQ5>'Project Summary'!$J$64)*(DQ6<='Project Summary'!$Q$8)*PMT('Project Summary'!$J$62/12,'Project Summary'!$J$65*12,SUM($E$85:DQ85),0)+('Project Summary'!$J$63=\"No\")*(DQ6<='Project Summary'!$Q$8)*PMT('Project Summary'!$J$62/12,'Project Summary'!$J$65*12,SUM($E$85:DQ85),0)","v":0},{"$f":"+-('Project Summary'!$J$63=\"Yes\")*('Monthly CF'!DR5<='Project Summary'!$J$64)*'Monthly CF'!DR86*'Project Summary'!$J$62/12+('Project Summary'!$J$63=\"Yes\")*('Monthly CF'!DR5>'Project Summary'!$J$64)*(DR6<='Project Summary'!$Q$8)*PMT('Project Summary'!$J$62/12,'Project Summary'!$J$65*12,SUM($E$85:DR85),0)+('Project Summary'!$J$63=\"No\")*(DR6<='Project Summary'!$Q$8)*PMT('Project Summary'!$J$62/12,'Project Summary'!$J$65*12,SUM($E$85:DR85),0)","v":0},{"$f":"+-('Project Summary'!$J$63=\"Yes\")*('Monthly CF'!DS5<='Project Summary'!$J$64)*'Monthly CF'!DS86*'Project Summary'!$J$62/12+('Project Summary'!$J$63=\"Yes\")*('Monthly CF'!DS5>'Project Summary'!$J$64)*(DS6<='Project Summary'!$Q$8)*PMT('Project Summary'!$J$62/12,'Project Summary'!$J$65*12,SUM($E$85:DS85),0)+('Project Summary'!$J$63=\"No\")*(DS6<='Project Summary'!$Q$8)*PMT('Project Summary'!$J$62/12,'Project Summary'!$J$65*12,SUM($E$85:DS85),0)","v":0},{"$f":"+-('Project Summary'!$J$63=\"Yes\")*('Monthly CF'!DT5<='Project Summary'!$J$64)*'Monthly CF'!DT86*'Project Summary'!$J$62/12+('Project Summary'!$J$63=\"Yes\")*('Monthly CF'!DT5>'Project Summary'!$J$64)*(DT6<='Project Summary'!$Q$8)*PMT('Project Summary'!$J$62/12,'Project Summary'!$J$65*12,SUM($E$85:DT85),0)+('Project Summary'!$J$63=\"No\")*(DT6<='Project Summary'!$Q$8)*PMT('Project Summary'!$J$62/12,'Project Summary'!$J$65*12,SUM($E$85:DT85),0)","v":0},{"$f":"+-('Project Summary'!$J$63=\"Yes\")*('Monthly CF'!DU5<='Project Summary'!$J$64)*'Monthly CF'!DU86*'Project Summary'!$J$62/12+('Project Summary'!$J$63=\"Yes\")*('Monthly CF'!DU5>'Project Summary'!$J$64)*(DU6<='Project Summary'!$Q$8)*PMT('Project Summary'!$J$62/12,'Project Summary'!$J$65*12,SUM($E$85:DU85),0)+('Project Summary'!$J$63=\"No\")*(DU6<='Project Summary'!$Q$8)*PMT('Project Summary'!$J$62/12,'Project Summary'!$J$65*12,SUM($E$85:DU85),0)","v":0},{"$f":"+-('Project Summary'!$J$63=\"Yes\")*('Monthly CF'!DV5<='Project Summary'!$J$64)*'Monthly CF'!DV86*'Project Summary'!$J$62/12+('Project Summary'!$J$63=\"Yes\")*('Monthly CF'!DV5>'Project Summary'!$J$64)*(DV6<='Project Summary'!$Q$8)*PMT('Project Summary'!$J$62/12,'Project Summary'!$J$65*12,SUM($E$85:DV85),0)+('Project Summary'!$J$63=\"No\")*(DV6<='Project Summary'!$Q$8)*PMT('Project Summary'!$J$62/12,'Project Summary'!$J$65*12,SUM($E$85:DV85),0)","v":0},{"$f":"+-('Project Summary'!$J$63=\"Yes\")*('Monthly CF'!DW5<='Project Summary'!$J$64)*'Monthly CF'!DW86*'Project Summary'!$J$62/12+('Project Summary'!$J$63=\"Yes\")*('Monthly CF'!DW5>'Project Summary'!$J$64)*(DW6<='Project Summary'!$Q$8)*PMT('Project Summary'!$J$62/12,'Project Summary'!$J$65*12,SUM($E$85:DW85),0)+('Project Summary'!$J$63=\"No\")*(DW6<='Project Summary'!$Q$8)*PMT('Project Summary'!$J$62/12,'Project Summary'!$J$65*12,SUM($E$85:DW85),0)","v":0},{"$f":"+-('Project Summary'!$J$63=\"Yes\")*('Monthly CF'!DX5<='Project Summary'!$J$64)*'Monthly CF'!DX86*'Project Summary'!$J$62/12+('Project Summary'!$J$63=\"Yes\")*('Monthly CF'!DX5>'Project Summary'!$J$64)*(DX6<='Project Summary'!$Q$8)*PMT('Project Summary'!$J$62/12,'Project Summary'!$J$65*12,SUM($E$85:DX85),0)+('Project Summary'!$J$63=\"No\")*(DX6<='Project Summary'!$Q$8)*PMT('Project Summary'!$J$62/12,'Project Summary'!$J$65*12,SUM($E$85:DX85),0)","v":0},{"$f":"+-('Project Summary'!$J$63=\"Yes\")*('Monthly CF'!DY5<='Project Summary'!$J$64)*'Monthly CF'!DY86*'Project Summary'!$J$62/12+('Project Summary'!$J$63=\"Yes\")*('Monthly CF'!DY5>'Project Summary'!$J$64)*(DY6<='Project Summary'!$Q$8)*PMT('Project Summary'!$J$62/12,'Project Summary'!$J$65*12,SUM($E$85:DY85),0)+('Project Summary'!$J$63=\"No\")*(DY6<='Project Summary'!$Q$8)*PMT('Project Summary'!$J$62/12,'Project Summary'!$J$65*12,SUM($E$85:DY85),0)","v":0},{"$f":"+-('Project Summary'!$J$63=\"Yes\")*('Monthly CF'!DZ5<='Project Summary'!$J$64)*'Monthly CF'!DZ86*'Project Summary'!$J$62/12+('Project Summary'!$J$63=\"Yes\")*('Monthly CF'!DZ5>'Project Summary'!$J$64)*(DZ6<='Project Summary'!$Q$8)*PMT('Project Summary'!$J$62/12,'Project Summary'!$J$65*12,SUM($E$85:DZ85),0)+('Project Summary'!$J$63=\"No\")*(DZ6<='Project Summary'!$Q$8)*PMT('Project Summary'!$J$62/12,'Project Summary'!$J$65*12,SUM($E$85:DZ85),0)","v":0},{"$f":"+-('Project Summary'!$J$63=\"Yes\")*('Monthly CF'!EA5<='Project Summary'!$J$64)*'Monthly CF'!EA86*'Project Summary'!$J$62/12+('Project Summary'!$J$63=\"Yes\")*('Monthly CF'!EA5>'Project Summary'!$J$64)*(EA6<='Project Summary'!$Q$8)*PMT('Project Summary'!$J$62/12,'Project Summary'!$J$65*12,SUM($E$85:EA85),0)+('Project Summary'!$J$63=\"No\")*(EA6<='Project Summary'!$Q$8)*PMT('Project Summary'!$J$62/12,'Project Summary'!$J$65*12,SUM($E$85:EA85),0)","v":0},{"$f":"+-('Project Summary'!$J$63=\"Yes\")*('Monthly CF'!EB5<='Project Summary'!$J$64)*'Monthly CF'!EB86*'Project Summary'!$J$62/12+('Project Summary'!$J$63=\"Yes\")*('Monthly CF'!EB5>'Project Summary'!$J$64)*(EB6<='Project Summary'!$Q$8)*PMT('Project Summary'!$J$62/12,'Project Summary'!$J$65*12,SUM($E$85:EB85),0)+('Project Summary'!$J$63=\"No\")*(EB6<='Project Summary'!$Q$8)*PMT('Project Summary'!$J$62/12,'Project Summary'!$J$65*12,SUM($E$85:EB85),0)","v":0},{"$f":"+-('Project Summary'!$J$63=\"Yes\")*('Monthly CF'!EC5<='Project Summary'!$J$64)*'Monthly CF'!EC86*'Project Summary'!$J$62/12+('Project Summary'!$J$63=\"Yes\")*('Monthly CF'!EC5>'Project Summary'!$J$64)*(EC6<='Project Summary'!$Q$8)*PMT('Project Summary'!$J$62/12,'Project Summary'!$J$65*12,SUM($E$85:EC85),0)+('Project Summary'!$J$63=\"No\")*(EC6<='Project Summary'!$Q$8)*PMT('Project Summary'!$J$62/12,'Project Summary'!$J$65*12,SUM($E$85:EC85),0)","v":0},{"$f":"+-('Project Summary'!$J$63=\"Yes\")*('Monthly CF'!ED5<='Project Summary'!$J$64)*'Monthly CF'!ED86*'Project Summary'!$J$62/12+('Project Summary'!$J$63=\"Yes\")*('Monthly CF'!ED5>'Project Summary'!$J$64)*(ED6<='Project Summary'!$Q$8)*PMT('Project Summary'!$J$62/12,'Project Summary'!$J$65*12,SUM($E$85:ED85),0)+('Project Summary'!$J$63=\"No\")*(ED6<='Project Summary'!$Q$8)*PMT('Project Summary'!$J$62/12,'Project Summary'!$J$65*12,SUM($E$85:ED85),0)","v":0},{"$f":"+-('Project Summary'!$J$63=\"Yes\")*('Monthly CF'!EE5<='Project Summary'!$J$64)*'Monthly CF'!EE86*'Project Summary'!$J$62/12+('Project Summary'!$J$63=\"Yes\")*('Monthly CF'!EE5>'Project Summary'!$J$64)*(EE6<='Project Summary'!$Q$8)*PMT('Project Summary'!$J$62/12,'Project Summary'!$J$65*12,SUM($E$85:EE85),0)+('Project Summary'!$J$63=\"No\")*(EE6<='Project Summary'!$Q$8)*PMT('Project Summary'!$J$62/12,'Project Summary'!$J$65*12,SUM($E$85:EE85),0)","v":0},{"$f":"+-('Project Summary'!$J$63=\"Yes\")*('Monthly CF'!EF5<='Project Summary'!$J$64)*'Monthly CF'!EF86*'Project Summary'!$J$62/12+('Project Summary'!$J$63=\"Yes\")*('Monthly CF'!EF5>'Project Summary'!$J$64)*(EF6<='Project Summary'!$Q$8)*PMT('Project Summary'!$J$62/12,'Project Summary'!$J$65*12,SUM($E$85:EF85),0)+('Project Summary'!$J$63=\"No\")*(EF6<='Project Summary'!$Q$8)*PMT('Project Summary'!$J$62/12,'Project Summary'!$J$65*12,SUM($E$85:EF85),0)","v":0},{"$f":"+-('Project Summary'!$J$63=\"Yes\")*('Monthly CF'!EG5<='Project Summary'!$J$64)*'Monthly CF'!EG86*'Project Summary'!$J$62/12+('Project Summary'!$J$63=\"Yes\")*('Monthly CF'!EG5>'Project Summary'!$J$64)*(EG6<='Project Summary'!$Q$8)*PMT('Project Summary'!$J$62/12,'Project Summary'!$J$65*12,SUM($E$85:EG85),0)+('Project Summary'!$J$63=\"No\")*(EG6<='Project Summary'!$Q$8)*PMT('Project Summary'!$J$62/12,'Project Summary'!$J$65*12,SUM($E$85:EG85),0)","v":0}]
[null,"Interest",null,null,null,{"$f":"+F86*'Project Summary'!$J$62/12","v":28965.625000000004},{"$f":"+G86*'Project Summary'!$J$62/12","v":28914.390394381717},{"$f":"+H86*'Project Summary'!$J$62/12","v":28862.95725466666},{"$f":"+I86*'Project Summary'!$J$62/12","v":28811.324811535207},{"$f":"+J86*'Project Summary'!$J$62/12","v":28759.492292686617},{"$f":"+K86*'Project Summary'!$J$62/12","v":28707.458922827496},{"$f":"+L86*'Project Summary'!$J$62/12","v":28655.223923660164},{"$f":"+M86*'Project Summary'!$J$62/12","v":28602.786513871062},{"$f":"+N86*'Project Summary'!$J$62/12","v":28550.14590911903},{"$f":"+O86*'Project Summary'!$J$62/12","v":28497.301322023577},{"$f":"+P86*'Project Summary'!$J$62/12","v":28444.251962153136},{"$f":"+Q86*'Project Summary'!$J$62/12","v":28390.997036013188},{"$f":"+R86*'Project Summary'!$J$62/12","v":28337.535747034457},{"$f":"+S86*'Project Summary'!$J$62/12","v":28283.867295560933},{"$f":"+T86*'Project Summary'!$J$62/12","v":28229.99087883794},{"$f":"+U86*'Project Summary'!$J$62/12","v":28175.905691000153},{"$f":"+V86*'Project Summary'!$J$62/12","v":28121.610923059488},{"$f":"+W86*'Project Summary'!$J$62/12","v":28067.105762893058},{"$f":"+X86*'Project Summary'!$J$62/12","v":28012.389395230985},{"$f":"+Y86*'Project Summary'!$J$62/12","v":27957.461001644217},{"$f":"+Z86*'Project Summary'!$J$62/12","v":27902.319760532304},{"$f":"+AA86*'Project Summary'!$J$62/12","v":27846.964847111074},{"$f":"+AB86*'Project Summary'!$J$62/12","v":27791.39543340035},{"$f":"+AC86*'Project Summary'!$J$62/12","v":27735.610688211487},{"$f":"+AD86*'Project Summary'!$J$62/12","v":27679.609777135021},{"$f":"+AE86*'Project Summary'!$J$62/12","v":27623.391862528137},{"$f":"+AF86*'Project Summary'!$J$62/12","v":27566.956103502143},{"$f":"+AG86*'Project Summary'!$J$62/12","v":27510.301655909931},{"$f":"+AH86*'Project Summary'!$J$62/12","v":27453.427672333291},{"$f":"+AI86*'Project Summary'!$J$62/12","v":27396.333302070299},{"$f":"+AJ86*'Project Summary'!$J$62/12","v":27339.017691122539},{"$f":"+AK86*'Project Summary'!$J$62/12","v":27281.479982182354},{"$f":"+AL86*'Project Summary'!$J$62/12","v":27223.719314620026},{"$f":"+AM86*'Project Summary'!$J$62/12","v":27165.734824470888},{"$f":"+AN86*'Project Summary'!$J$62/12","v":27107.525644422432},{"$f":"+AO86*'Project Summary'!$J$62/12","v":27049.09090380128},{"$f":"+AP86*'Project Summary'!$J$62/12","v":26990.429728560226},{"$f":"+AQ86*'Project Summary'!$J$62/12","v":26931.541241265109},{"$f":"+AR86*'Project Summary'!$J$62/12","v":26872.424561081727},{"$f":"+AS86*'Project Summary'!$J$62/12","v":26813.078803762633},{"$f":"+AT86*'Project Summary'!$J$62/12","v":26753.503081633928},{"$f":"+AU86*'Project Summary'!$J$62/12","v":26693.696503581974},{"$f":"+AV86*'Project Summary'!$J$62/12","v":26633.658175040069},{"$f":"+AW86*'Project Summary'!$J$62/12","v":26573.387197975066},{"$f":"+AX86*'Project Summary'!$J$62/12","v":26512.882670873933},{"$f":"+AY86*'Project Summary'!$J$62/12","v":26452.143688730284},{"$f":"+AZ86*'Project Summary'!$J$62/12","v":26391.169343030826},{"$f":"+BA86*'Project Summary'!$J$62/12","v":26329.958721741783},{"$f":"+BB86*'Project Summary'!$J$62/12","v":26268.510909295244},{"$f":"+BC86*'Project Summary'!$J$62/12","v":26206.824986575477},{"$f":"+BD86*'Project Summary'!$J$62/12","v":26144.900030905173},{"$f":"+BE86*'Project Summary'!$J$62/12","v":26082.735116031643},{"$f":"+BF86*'Project Summary'!$J$62/12","v":26020.329312112979},{"$f":"+BG86*'Project Summary'!$J$62/12","v":25957.68168570413},{"$f":"+BH86*'Project Summary'!$J$62/12","v":25894.791299742948},{"$f":"+BI86*'Project Summary'!$J$62/12","v":25831.657213536164},{"$f":"+BJ86*'Project Summary'!$J$62/12","v":25768.278482745332},{"$f":"+BK86*'Project Summary'!$J$62/12","v":25704.654159372687},{"$f":"+BL86*'Project Summary'!$J$62/12","v":25640.783291746968},{"$f":"+BM86*'Project Summary'!$J$62/12","v":25576.664924509201},{"$f":"+BN86*'Project Summary'!$J$62/12","v":25512.298098598392},{"$f":"+BO86*'Project Summary'!$J$62/12","v":25447.681851237172},{"$f":"+BP86*'Project Summary'!$J$62/12","v":25382.815215917431},{"$f":"+BQ86*'Project Summary'!$J$62/12","v":25317.697222385828},{"$f":"+BR86*'Project Summary'!$J$62/12","v":25252.326896629285},{"$f":"+BS86*'Project Summary'!$J$62/12","v":25186.703260860439},{"$f":"+BT86*'Project Summary'!$J$62/12","v":25120.825333502988},{"$f":"+BU86*'Project Summary'!$J$62/12","v":25054.692129177027},{"$f":"+BV86*'Project Summary'!$J$62/12","v":24988.302658684304},{"$f":"+BW86*'Project Summary'!$J$62/12","v":24921.655928993419},{"$f":"+BX86*'Project Summary'!$J$62/12","v":24854.750943224979},{"$f":"+BY86*'Project Summary'!$J$62/12","v":24787.58670063669},{"$f":"+BZ86*'Project Summary'!$J$62/12","v":24720.162196608373},{"$f":"+CA86*'Project Summary'!$J$62/12","v":24652.476422626944},{"$f":"+CB86*'Project Summary'!$J$62/12","v":24584.528366271334},{"$f":"+CC86*'Project Summary'!$J$62/12","v":24516.317011197349},{"$f":"+CD86*'Project Summary'!$J$62/12","v":24447.841337122456},{"$f":"+CE86*'Project Summary'!$J$62/12","v":24379.100319810517},{"$f":"+CF86*'Project Summary'!$J$62/12","v":24310.092931056497},{"$f":"+CG86*'Project Summary'!$J$62/12","v":24240.81813867106},{"$f":"+CH86*'Project Summary'!$J$62/12","v":24171.274906465125},{"$f":"+CI86*'Project Summary'!$J$62/12","v":24101.462194234391},{"$f":"+CJ86*'Project Summary'!$J$62/12","v":24031.37895774376},{"$f":"+CK86*'Project Summary'!$J$62/12","v":23961.024148711735},{"$f":"+CL86*'Project Summary'!$J$62/12","v":0},{"$f":"+CM86*'Project Summary'!$J$62/12","v":0},{"$f":"+CN86*'Project Summary'!$J$62/12","v":0},{"$f":"+CO86*'Project Summary'!$J$62/12","v":0},{"$f":"+CP86*'Project Summary'!$J$62/12","v":0},{"$f":"+CQ86*'Project Summary'!$J$62/12","v":0},{"$f":"+CR86*'Project Summary'!$J$62/12","v":0},{"$f":"+CS86*'Project Summary'!$J$62/12","v":0},{"$f":"+CT86*'Project Summary'!$J$62/12","v":0},{"$f":"+CU86*'Project Summary'!$J$62/12","v":0},{"$f":"+CV86*'Project Summary'!$J$62/12","v":0},{"$f":"+CW86*'Project Summary'!$J$62/12","v":0},{"$f":"+CX86*'Project Summary'!$J$62/12","v":0},{"$f":"+CY86*'Project Summary'!$J$62/12","v":0},{"$f":"+CZ86*'Project Summary'!$J$62/12","v":0},{"$f":"+DA86*'Project Summary'!$J$62/12","v":0},{"$f":"+DB86*'Project Summary'!$J$62/12","v":0},{"$f":"+DC86*'Project Summary'!$J$62/12","v":0},{"$f":"+DD86*'Project Summary'!$J$62/12","v":0},{"$f":"+DE86*'Project Summary'!$J$62/12","v":0},{"$f":"+DF86*'Project Summary'!$J$62/12","v":0},{"$f":"+DG86*'Project Summary'!$J$62/12","v":0},{"$f":"+DH86*'Project Summary'!$J$62/12","v":0},{"$f":"+DI86*'Project Summary'!$J$62/12","v":0},{"$f":"+DJ86*'Project Summary'!$J$62/12","v":0},{"$f":"+DK86*'Project Summary'!$J$62/12","v":0},{"$f":"+DL86*'Project Summary'!$J$62/12","v":0},{"$f":"+DM86*'Project Summary'!$J$62/12","v":0},{"$f":"+DN86*'Project Summary'!$J$62/12","v":0},{"$f":"+DO86*'Project Summary'!$J$62/12","v":0},{"$f":"+DP86*'Project Summary'!$J$62/12","v":0},{"$f":"+DQ86*'Project Summary'!$J$62/12","v":0},{"$f":"+DR86*'Project Summary'!$J$62/12","v":0},{"$f":"+DS86*'Project Summary'!$J$62/12","v":0},{"$f":"+DT86*'Project Summary'!$J$62/12","v":0},{"$f":"+DU86*'Project Summary'!$J$62/12","v":0},{"$f":"+DV86*'Project Summary'!$J$62/12","v":0},{"$f":"+DW86*'Project Summary'!$J$62/12","v":0},{"$f":"+DX86*'Project Summary'!$J$62/12","v":0},{"$f":"+DY86*'Project Summary'!$J$62/12","v":0},{"$f":"+DZ86*'Project Summary'!$J$62/12","v":0},{"$f":"+EA86*'Project Summary'!$J$62/12","v":0},{"$f":"+EB86*'Project Summary'!$J$62/12","v":0},{"$f":"+EC86*'Project Summary'!$J$62/12","v":0},{"$f":"+ED86*'Project Summary'!$J$62/12","v":0},{"$f":"+EE86*'Project Summary'!$J$62/12","v":0},{"$f":"+EF86*'Project Summary'!$J$62/12","v":0},{"$f":"+EG86*'Project Summary'!$J$62/12","v":0}]
[null,"Principal",null,null,null,{"$f":"+F87+F88","v":-13221.833707944792},{"$f":"+G87+G88","v":-13273.068313563079},-13324.501453278135,-13376.133896409588,-13427.966415258179,-13479.999785117299,-13532.234784284632,-13584.672194073733,-13637.312798825766,-13690.157385921219,-13743.20674579166,-13796.461671931607,-13849.922960910339,-13903.591412383863,-13957.467829106856,-14011.553016944643,-14065.847784885307,-14120.352945051738,-14175.069312713811,-14229.997706300579,-14285.138947412492,-14340.493860833722,-14396.063274544445,-14451.848019733308,-14507.848930809774,-14564.066845416659,-14620.502604442652,-14677.157052034865,-14734.031035611504,-14791.125405874496,-14848.441016822257,-14905.978725762441,-14963.739393324769,-15021.723883473907,-15079.933063522363,-15138.367804143516,-15197.02897938457,-15255.917466679686,-15315.034146863069,-15374.379904182162,-15433.955626310868,-15493.762204362822,-15553.800532904726,-15614.07150996973,-15674.576037070863,-15735.315019214511,-15796.28936491397,-15857.499986203013,-15918.947798649551,-15980.633721369319,-16042.558677039622,-16104.723591913153,-16167.129395831817,-16229.777022240665,-16292.667408201847,-16355.801494408632,-16419.180225199463,-16482.804548572109,-16546.675416197828,-16610.793783435594,-16675.160609346403,-16739.776856707624,-16804.643492027364,-16869.761485558967,-16935.13181131551,{"$f":"+BS87+BS88","v":-17000.755447084357},-17066.633374441808,-17132.766578767769,-17199.156049260491,-17265.802778951376,-17332.707764719817,-17399.872007308106,-17467.296511336423,-17534.982285317852,-17602.930341673462,-17671.141696747447,-17739.61737082234,-17808.358388134278,-17877.365776888299,-17946.640569273735,-18016.18380147967,-18085.996513710405,-18156.079750201035,-18226.434559233061,0,0,0,0,0,0,0,0,0,0,0,0,0,0,0,0,0,0,0,0,0,0,0,0,0,0,0,0,0,0,0,0,0,0,0,0,0,0,0,0,0,0,0,0,0,{"$f":"+EE87+EE88","v":0},0,0]
[null,"Repayment",null,null,null,{"$f":"+(F6='Project Summary'!$Q$8)*(-'Monthly CF'!F86-'Monthly CF'!F89)","v":0},{"$f":"+(G6='Project Summary'!$Q$8)*(-'Monthly CF'!G86-'Monthly CF'!G89)","v":0},{"$f":"+(H6='Project Summary'!$Q$8)*(-'Monthly CF'!H86-'Monthly CF'!H89)","v":0},{"$f":"+(I6='Project Summary'!$Q$8)*(-'Monthly CF'!I86-'Monthly CF'!I89)","v":0},{"$f":"+(J6='Project Summary'!$Q$8)*(-'Monthly CF'!J86-'Monthly CF'!J89)","v":0},{"$f":"+(K6='Project Summary'!$Q$8)*(-'Monthly CF'!K86-'Monthly CF'!K89)","v":0},{"$f":"+(L6='Project Summary'!$Q$8)*(-'Monthly CF'!L86-'Monthly CF'!L89)","v":0},{"$f":"+(M6='Project Summary'!$Q$8)*(-'Monthly CF'!M86-'Monthly CF'!M89)","v":0},{"$f":"+(N6='Project Summary'!$Q$8)*(-'Monthly CF'!N86-'Monthly CF'!N89)","v":0},{"$f":"+(O6='Project Summary'!$Q$8)*(-'Monthly CF'!O86-'Monthly CF'!O89)","v":0},{"$f":"+(P6='Project Summary'!$Q$8)*(-'Monthly CF'!P86-'Monthly CF'!P89)","v":0},{"$f":"+(Q6='Project Summary'!$Q$8)*(-'Monthly CF'!Q86-'Monthly CF'!Q89)","v":0},{"$f":"+(R6='Project Summary'!$Q$8)*(-'Monthly CF'!R86-'Monthly CF'!R89)","v":0},{"$f":"+(S6='Project Summary'!$Q$8)*(-'Monthly CF'!S86-'Monthly CF'!S89)","v":0},{"$f":"+(T6='Project Summary'!$Q$8)*(-'Monthly CF'!T86-'Monthly CF'!T89)","v":0},{"$f":"+(U6='Project Summary'!$Q$8)*(-'Monthly CF'!U86-'Monthly CF'!U89)","v":0},{"$f":"+(V6='Project Summary'!$Q$8)*(-'Monthly CF'!V86-'Monthly CF'!V89)","v":0},{"$f":"+(W6='Project Summary'!$Q$8)*(-'Monthly CF'!W86-'Monthly CF'!W89)","v":0},{"$f":"+(X6='Project Summary'!$Q$8)*(-'Monthly CF'!X86-'Monthly CF'!X89)","v":0},{"$f":"+(Y6='Project Summary'!$Q$8)*(-'Monthly CF'!Y86-'Monthly CF'!Y89)","v":0},{"$f":"+(Z6='Project Summary'!$Q$8)*(-'Monthly CF'!Z86-'Monthly CF'!Z89)","v":0},{"$f":"+(AA6='Project Summary'!$Q$8)*(-'Monthly CF'!AA86-'Monthly CF'!AA89)","v":0},{"$f":"+(AB6='Project Summary'!$Q$8)*(-'Monthly CF'!AB86-'Monthly CF'!AB89)","v":0},{"$f":"+(AC6='Project Summary'!$Q$8)*(-'Monthly CF'!AC86-'Monthly CF'!AC89)","v":0},{"$f":"+(AD6='Project Summary'!$Q$8)*(-'Monthly CF'!AD86-'Monthly CF'!AD89)","v":0},{"$f":"+(AE6='Project Summary'!$Q$8)*(-'Monthly CF'!AE86-'Monthly CF'!AE89)","v":0},{"$f":"+(AF6='Project Summary'!$Q$8)*(-'Monthly CF'!AF86-'Monthly CF'!AF89)","v":0},{"$f":"+(AG6='Project Summary'!$Q$8)*(-'Monthly CF'!AG86-'Monthly CF'!AG89)","v":0},{"$f":"+(AH6='Project Summary'!$Q$8)*(-'Monthly CF'!AH86-'Monthly CF'!AH89)","v":0},{"$f":"+(AI6='Project Summary'!$Q$8)*(-'Monthly CF'!AI86-'Monthly CF'!AI89)","v":0},{"$f":"+(AJ6='Project Summary'!$Q$8)*(-'Monthly CF'!AJ86-'Monthly CF'!AJ89)","v":0},{"$f":"+(AK6='Project Summary'!$Q$8)*(-'Monthly CF'!AK86-'Monthly CF'!AK89)","v":0},{"$f":"+(AL6='Project Summary'!$Q$8)*(-'Monthly CF'!AL86-'Monthly CF'!AL89)","v":0},{"$f":"+(AM6='Project Summary'!$Q$8)*(-'Monthly CF'!AM86-'Monthly CF'!AM89)","v":0},{"$f":"+(AN6='Project Summary'!$Q$8)*(-'Monthly CF'!AN86-'Monthly CF'!AN89)","v":0},{"$f":"+(AO6='Project Summary'!$Q$8)*(-'Monthly CF'!AO86-'Monthly CF'!AO89)","v":0},{"$f":"+(AP6='Project Summary'!$Q$8)*(-'Monthly CF'!AP86-'Monthly CF'!AP89)","v":0},{"$f":"+(AQ6='Project Summary'!$Q$8)*(-'Monthly CF'!AQ86-'Monthly CF'!AQ89)","v":0},{"$f":"+(AR6='Project Summary'!$Q$8)*(-'Monthly CF'!AR86-'Monthly CF'!AR89)","v":0},{"$f":"+(AS6='Project Summary'!$Q$8)*(-'Monthly CF'!AS86-'Monthly CF'!AS89)","v":0},{"$f":"+(AT6='Project Summary'!$Q$8)*(-'Monthly CF'!AT86-'Monthly CF'!AT89)","v":0},{"$f":"+(AU6='Project Summary'!$Q$8)*(-'Monthly CF'!AU86-'Monthly CF'!AU89)","v":0},{"$f":"+(AV6='Project Summary'!$Q$8)*(-'Monthly CF'!AV86-'Monthly CF'!AV89)","v":0},{"$f":"+(AW6='Project Summary'!$Q$8)*(-'Monthly CF'!AW86-'Monthly CF'!AW89)","v":0},{"$f":"+(AX6='Project Summary'!$Q$8)*(-'Monthly CF'!AX86-'Monthly CF'!AX89)","v":0},{"$f":"+(AY6='Project Summary'!$Q$8)*(-'Monthly CF'!AY86-'Monthly CF'!AY89)","v":0},{"$f":"+(AZ6='Project Summary'!$Q$8)*(-'Monthly CF'!AZ86-'Monthly CF'!AZ89)","v":0},{"$f":"+(BA6='Project Summary'!$Q$8)*(-'Monthly CF'!BA86-'Monthly CF'!BA89)","v":0},{"$f":"+(BB6='Project Summary'!$Q$8)*(-'Monthly CF'!BB86-'Monthly CF'!BB89)","v":0},{"$f":"+(BC6='Project Summary'!$Q$8)*(-'Monthly CF'!BC86-'Monthly CF'!BC89)","v":0},{"$f":"+(BD6='Project Summary'!$Q$8)*(-'Monthly CF'!BD86-'Monthly CF'!BD89)","v":0},{"$f":"+(BE6='Project Summary'!$Q$8)*(-'Monthly CF'!BE86-'Monthly CF'!BE89)","v":0},{"$f":"+(BF6='Project Summary'!$Q$8)*(-'Monthly CF'!BF86-'Monthly CF'!BF89)","v":0},{"$f":"+(BG6='Project Summary'!$Q$8)*(-'Monthly CF'!BG86-'Monthly CF'!BG89)","v":0},{"$f":"+(BH6='Project Summary'!$Q$8)*(-'Monthly CF'!BH86-'Monthly CF'!BH89)","v":0},{"$f":"+(BI6='Project Summary'!$Q$8)*(-'Monthly CF'!BI86-'Monthly CF'!BI89)","v":0},{"$f":"+(BJ6='Project Summary'!$Q$8)*(-'Monthly CF'!BJ86-'Monthly CF'!BJ89)","v":0},{"$f":"+(BK6='Project Summary'!$Q$8)*(-'Monthly CF'!BK86-'Monthly CF'!BK89)","v":0},{"$f":"+(BL6='Project Summary'!$Q$8)*(-'Monthly CF'!BL86-'Monthly CF'!BL89)","v":0},{"$f":"+(BM6='Project Summary'!$Q$8)*(-'Monthly CF'!BM86-'Monthly CF'!BM89)","v":0},{"$f":"+(BN6='Project Summary'!$Q$8)*(-'Monthly CF'!BN86-'Monthly CF'!BN89)","v":0},{"$f":"+(BO6='Project Summary'!$Q$8)*(-'Monthly CF'!BO86-'Monthly CF'!BO89)","v":0},{"$f":"+(BP6='Project Summary'!$Q$8)*(-'Monthly CF'!BP86-'Monthly CF'!BP89)","v":0},{"$f":"+(BQ6='Project Summary'!$Q$8)*(-'Monthly CF'!BQ86-'Monthly CF'!BQ89)","v":0},{"$f":"+(BR6='Project Summary'!$Q$8)*(-'Monthly CF'!BR86-'Monthly CF'!BR89)","v":0},{"$f":"+(BS6='Project Summary'!$Q$8)*(-'Monthly CF'!BS86-'Monthly CF'!BS89)","v":0},{"$f":"+(BT6='Project Summary'!$Q$8)*(-'Monthly CF'!BT86-'Monthly CF'!BT89)","v":0},{"$f":"+(BU6='Project Summary'!$Q$8)*(-'Monthly CF'!BU86-'Monthly CF'!BU89)","v":0},{"$f":"+(BV6='Project Summary'!$Q$8)*(-'Monthly CF'!BV86-'Monthly CF'!BV89)","v":0},{"$f":"+(BW6='Project Summary'!$Q$8)*(-'Monthly CF'!BW86-'Monthly CF'!BW89)","v":0},{"$f":"+(BX6='Project Summary'!$Q$8)*(-'Monthly CF'!BX86-'Monthly CF'!BX89)","v":0},{"$f":"+(BY6='Project Summary'!$Q$8)*(-'Monthly CF'!BY86-'Monthly CF'!BY89)","v":0},{"$f":"+(BZ6='Project Summary'!$Q$8)*(-'Monthly CF'!BZ86-'Monthly CF'!BZ89)","v":0},{"$f":"+(CA6='Project Summary'!$Q$8)*(-'Monthly CF'!CA86-'Monthly CF'!CA89)","v":0},{"$f":"+(CB6='Project Summary'!$Q$8)*(-'Monthly CF'!CB86-'Monthly CF'!CB89)","v":0},{"$f":"+(CC6='Project Summary'!$Q$8)*(-'Monthly CF'!CC86-'Monthly CF'!CC89)","v":0},{"$f":"+(CD6='Project Summary'!$Q$8)*(-'Monthly CF'!CD86-'Monthly CF'!CD89)","v":0},{"$f":"+(CE6='Project Summary'!$Q$8)*(-'Monthly CF'!CE86-'Monthly CF'!CE89)","v":0},{"$f":"+(CF6='Project Summary'!$Q$8)*(-'Monthly CF'!CF86-'Monthly CF'!CF89)","v":0},{"$f":"+(CG6='Project Summary'!$Q$8)*(-'Monthly CF'!CG86-'Monthly CF'!CG89)","v":0},{"$f":"+(CH6='Project Summary'!$Q$8)*(-'Monthly CF'!CH86-'Monthly CF'!CH89)","v":0},{"$f":"+(CI6='Project Summary'!$Q$8)*(-'Monthly CF'!CI86-'Monthly CF'!CI89)","v":0},{"$f":"+(CJ6='Project Summary'!$Q$8)*(-'Monthly CF'!CJ86-'Monthly CF'!CJ89)","v":0},{"$f":"+(CK6='Project Summary'!$Q$8)*(-'Monthly CF'!CK86-'Monthly CF'!CK89)","v":-6165263.6683341172},{"$f":"+(CL6='Project Summary'!$Q$8)*(-'Monthly CF'!CL86-'Monthly CF'!CL89)","v":0},{"$f":"+(CM6='Project Summary'!$Q$8)*(-'Monthly CF'!CM86-'Monthly CF'!CM89)","v":0},{"$f":"+(CN6='Project Summary'!$Q$8)*(-'Monthly CF'!CN86-'Monthly CF'!CN89)","v":0},{"$f":"+(CO6='Project Summary'!$Q$8)*(-'Monthly CF'!CO86-'Monthly CF'!CO89)","v":0},{"$f":"+(CP6='Project Summary'!$Q$8)*(-'Monthly CF'!CP86-'Monthly CF'!CP89)","v":0},{"$f":"+(CQ6='Project Summary'!$Q$8)*(-'Monthly CF'!CQ86-'Monthly CF'!CQ89)","v":0},{"$f":"+(CR6='Project Summary'!$Q$8)*(-'Monthly CF'!CR86-'Monthly CF'!CR89)","v":0},{"$f":"+(CS6='Project Summary'!$Q$8)*(-'Monthly CF'!CS86-'Monthly CF'!CS89)","v":0},{"$f":"+(CT6='Project Summary'!$Q$8)*(-'Monthly CF'!CT86-'Monthly CF'!CT89)","v":0},{"$f":"+(CU6='Project Summary'!$Q$8)*(-'Monthly CF'!CU86-'Monthly CF'!CU89)","v":0},{"$f":"+(CV6='Project Summary'!$Q$8)*(-'Monthly CF'!CV86-'Monthly CF'!CV89)","v":0},{"$f":"+(CW6='Project Summary'!$Q$8)*(-'Monthly CF'!CW86-'Monthly CF'!CW89)","v":0},{"$f":"+(CX6='Project Summary'!$Q$8)*(-'Monthly CF'!CX86-'Monthly CF'!CX89)","v":0},{"$f":"+(CY6='Project Summary'!$Q$8)*(-'Monthly CF'!CY86-'Monthly CF'!CY89)","v":0},{"$f":"+(CZ6='Project Summary'!$Q$8)*(-'Monthly CF'!CZ86-'Monthly CF'!CZ89)","v":0},{"$f":"+(DA6='Project Summary'!$Q$8)*(-'Monthly CF'!DA86-'Monthly CF'!DA89)","v":0},{"$f":"+(DB6='Project Summary'!$Q$8)*(-'Monthly CF'!DB86-'Monthly CF'!DB89)","v":0},{"$f":"+(DC6='Project Summary'!$Q$8)*(-'Monthly CF'!DC86-'Monthly CF'!DC89)","v":0},{"$f":"+(DD6='Project Summary'!$Q$8)*(-'Monthly CF'!DD86-'Monthly CF'!DD89)","v":0},{"$f":"+(DE6='Project Summary'!$Q$8)*(-'Monthly CF'!DE86-'Monthly CF'!DE89)","v":0},{"$f":"+(DF6='Project Summary'!$Q$8)*(-'Monthly CF'!DF86-'Monthly CF'!DF89)","v":0},{"$f":"+(DG6='Project Summary'!$Q$8)*(-'Monthly CF'!DG86-'Monthly CF'!DG89)","v":0},{"$f":"+(DH6='Project Summary'!$Q$8)*(-'Monthly CF'!DH86-'Monthly CF'!DH89)","v":0},{"$f":"+(DI6='Project Summary'!$Q$8)*(-'Monthly CF'!DI86-'Monthly CF'!DI89)","v":0},{"$f":"+(DJ6='Project Summary'!$Q$8)*(-'Monthly CF'!DJ86-'Monthly CF'!DJ89)","v":0},{"$f":"+(DK6='Project Summary'!$Q$8)*(-'Monthly CF'!DK86-'Monthly CF'!DK89)","v":0},{"$f":"+(DL6='Project Summary'!$Q$8)*(-'Monthly CF'!DL86-'Monthly CF'!DL89)","v":0},{"$f":"+(DM6='Project Summary'!$Q$8)*(-'Monthly CF'!DM86-'Monthly CF'!DM89)","v":0},{"$f":"+(DN6='Project Summary'!$Q$8)*(-'Monthly CF'!DN86-'Monthly CF'!DN89)","v":0},{"$f":"+(DO6='Project Summary'!$Q$8)*(-'Monthly CF'!DO86-'Monthly CF'!DO89)","v":0},{"$f":"+(DP6='Project Summary'!$Q$8)*(-'Monthly CF'!DP86-'Monthly CF'!DP89)","v":0},{"$f":"+(DQ6='Project Summary'!$Q$8)*(-'Monthly CF'!DQ86-'Monthly CF'!DQ89)","v":0},{"$f":"+(DR6='Project Summary'!$Q$8)*(-'Monthly CF'!DR86-'Monthly CF'!DR89)","v":0},{"$f":"+(DS6='Project Summary'!$Q$8)*(-'Monthly CF'!DS86-'Monthly CF'!DS89)","v":0},{"$f":"+(DT6='Project Summary'!$Q$8)*(-'Monthly CF'!DT86-'Monthly CF'!DT89)","v":0},{"$f":"+(DU6='Project Summary'!$Q$8)*(-'Monthly CF'!DU86-'Monthly CF'!DU89)","v":0},{"$f":"+(DV6='Project Summary'!$Q$8)*(-'Monthly CF'!DV86-'Monthly CF'!DV89)","v":0},{"$f":"+(DW6='Project Summary'!$Q$8)*(-'Monthly CF'!DW86-'Monthly CF'!DW89)","v":0},{"$f":"+(DX6='Project Summary'!$Q$8)*(-'Monthly CF'!DX86-'Monthly CF'!DX89)","v":0},{"$f":"+(DY6='Project Summary'!$Q$8)*(-'Monthly CF'!DY86-'Monthly CF'!DY89)","v":0},{"$f":"+(DZ6='Project Summary'!$Q$8)*(-'Monthly CF'!DZ86-'Monthly CF'!DZ89)","v":0},{"$f":"+(EA6='Project Summary'!$Q$8)*(-'Monthly CF'!EA86-'Monthly CF'!EA89)","v":0},{"$f":"+(EB6='Project Summary'!$Q$8)*(-'Monthly CF'!EB86-'Monthly CF'!EB89)","v":0},{"$f":"+(EC6='Project Summary'!$Q$8)*(-'Monthly CF'!EC86-'Monthly CF'!EC89)","v":0},{"$f":"+(ED6='Project Summary'!$Q$8)*(-'Monthly CF'!ED86-'Monthly CF'!ED89)","v":0},{"$f":"+(EE6='Project Summary'!$Q$8)*(-'Monthly CF'!EE86-'Monthly CF'!EE89)","v":0},{"$f":"+(EF6='Project Summary'!$Q$8)*(-'Monthly CF'!EF86-'Monthly CF'!EF89)","v":0},{"$f":"+(EG6='Project Summary'!$Q$8)*(-'Monthly CF'!EG86-'Monthly CF'!EG89)","v":0}]
[null,"Ending Balance",null,null,{"$f":"+E85+E86+E89+E90","v":7475000.0000000009},7461778.1662920564,7448505.0979784932,7435180.5965252146,7421804.4626288051,7408376.496213547,7394896.4964284301,7381364.2616441455,7367779.5894500716,7354142.2766512455,7340452.1192653244,7326708.9125195332,7312912.4508476015,7299062.5278866915,7285158.9364743074,7271201.4686452001,7257189.9156282553,7243124.0678433701,7229003.7148983181,7214828.645585604,7200598.6478793034,7186313.5089318911,7171973.0150710577,7157576.9517965131,7143125.10377678,7128617.2548459703,7114053.1880005533,7099432.6853961106,7084755.5283440761,7070021.4973084647,7055230.3719025906,7040381.9308857685,7025475.9521600064,7010512.2127666818,6995490.4888832076,6980410.5558196856,6965272.188015542,6950075.1590361577,6934819.2415694781,6919504.207422615,6904129.8275184333,6888695.8718921226,6873202.1096877595,6857648.3091548551,6842034.2376448857,6826359.661607815,6810624.3465886004,6794828.057223686,6778970.5572374826,6763051.6094388328,6747070.9757174635,6731028.4170404235,6714923.69344851,6698756.5640526786,6682526.787030438,6666234.1196222361,6649878.3181278277,6633459.1379026286,6616976.3333540568,6600429.6579378592,6583818.8641544236,6567143.7035450768,6550403.9266883694,6533599.2831963422,{"$f":"+BQ85+BQ86+BQ89+BQ90","v":6516729.5217107832},6499794.389899468,6482793.634452384,6465727.0010779426,6448594.2344991751,6431395.0784499142,6414129.2756709624,6396796.5679062428,6379396.6958989343,6361929.399387598,6344394.4171022801,6326791.486760607,6309120.3450638596,6291380.7276930371,6273572.3693049029,6255695.0035280148,6237748.3629587414,6219732.1791572617,6201646.1826435514,6183490.1028933506,0,0,0,0,0,0,0,0,0,0,0,0,0,0,0,0,0,0,0,0,0,0,0,0,0,0,0,0,0,0,0,{"$f":"+DP85+DP86+DP89+DP90","v":0},{"$f":"+DQ85+DQ86+DQ89+DQ90","v":0},0,0,0,0,0,0,0,0,0,0,0,0,0,0,0,0]
[]
[null,"CAPITALIZED OPERATING SHORTFALL",null,null,{"$f":"-(E49<0)*E49","v":0},0,0,0,0,0,0,0,0,0,0,0,0,0,0,0,0,0,0,0,0,0,0,0,0,0,0,0,0,0,0,0,{"$f":"-(AK49<0)*AK49","v":0},0,0,0,0,0,0,0,0,0,0,0,0,0,0,0,0,0,0,0,0,0,0,0,0,0,0,0,0,0,0,0,{"$f":"-(BQ49<0)*BQ49","v":0},0,0,0,0,0,0,0,0,0,0,0,0,0,0,0,0,0,0,0,0,0,0,0,0,0,0,0,0,0,0,0,{"$f":"-(CW49<0)*CW49","v":0},0,0,0,0,0,0,0,0,0,0,0,0,0,0,0,0,0,0,0,0,0,0,0,0,0,0,0,0,0,0,0,0,0,0,0,0]
[null,"INTEREST RESERVE",null,null,{"$f":"+IF((E70+E71)<0,-E73,IF((E70+E71)<-E73,-(E73+(E70+E71)),0))","v":0},{"$f":"+IF((F70+F71)<0,-F73,IF((F70+F71)<-F73,-(F73+(F70+F71)),0))","v":0},{"$f":"+IF((G70+G71)<0,-G73,IF((G70+G71)<-G73,-(G73+(G70+G71)),0))","v":0},{"$f":"+IF((H70+H71)<0,-H73,IF((H70+H71)<-H73,-(H73+(H70+H71)),0))","v":0},0,0,0,0,0,0,0,0,0,0,0,0,0,0,0,0,0,0,0,0,0,0,0,0,0,0,0,0,0,0,0,0,0,0,0,0,0,0,0,0,0,0,0,0,0,0,0,0,0,0,0,0,0,0,0,0,0,0,0,0,0,{"$f":"+IF((BR70+BR71)<0,-BR73,IF((BR70+BR71)<-BR73,-(BR73+(BR70+BR71)),0))","v":0},0,0,0,0,0,0,0,0,0,0,0,0,0,0,0,0,0,0,0,0,0,0,0,0,0,0,0,0,0,0,0,0,0,0,0,0,0,0,0,0,0,0,0,0,0,0,0,0,0,0,0,0,0,0,0,0,0,0,0,0,0,0,0,{"$f":"+IF((ED70+ED71)<0,-ED73,IF((ED70+ED71)<-ED73,-(ED73+(ED70+ED71)),0))","v":0},0,0,0]
[]
[null,"Last Dollar Basis at Stabilization",null,null,{"$f":"+(E6='Project Summary'!$J$15)*SUM(-'Monthly CF'!$E$70,-'Monthly CF'!$E$72,'Monthly CF'!E$56:$F56,E$93:$F93,E$94:$F94)","v":0},{"$f":"+(F6='Project Summary'!$J$15)*SUM(-'Monthly CF'!$E$70,-'Monthly CF'!$E$72,'Monthly CF'!F$56:$F56,F$93:$F93,F$94:$F94)","v":0},{"$f":"+(G6='Project Summary'!$J$15)*SUM(-'Monthly CF'!$E$70,-'Monthly CF'!$E$72,'Monthly CF'!$F$56:G56,$F$93:G93,$F$94:G94)","v":0},{"$f":"+(H6='Project Summary'!$J$15)*SUM(-'Monthly CF'!$E$70,-'Monthly CF'!$E$72,'Monthly CF'!$F$56:H56,$F$93:H93,$F$94:H94)","v":0},{"$f":"+(I6='Project Summary'!$J$15)*SUM(-'Monthly CF'!$E$70,-'Monthly CF'!$E$72,'Monthly CF'!$F$56:I56,$F$93:I93,$F$94:I94)","v":0},{"$f":"+(J6='Project Summary'!$J$15)*SUM(-'Monthly CF'!$E$70,-'Monthly CF'!$E$72,'Monthly CF'!$F$56:J56,$F$93:J93,$F$94:J94)","v":0},{"$f":"+(K6='Project Summary'!$J$15)*SUM(-'Monthly CF'!$E$70,-'Monthly CF'!$E$72,'Monthly CF'!$F$56:K56,$F$93:K93,$F$94:K94)","v":0},{"$f":"+(L6='Project Summary'!$J$15)*SUM(-'Monthly CF'!$E$70,-'Monthly CF'!$E$72,'Monthly CF'!$F$56:L56,$F$93:L93,$F$94:L94)","v":0},{"$f":"+(M6='Project Summary'!$J$15)*SUM(-'Monthly CF'!$E$70,-'Monthly CF'!$E$72,'Monthly CF'!$F$56:M56,$F$93:M93,$F$94:M94)","v":0},{"$f":"+(N6='Project Summary'!$J$15)*SUM(-'Monthly CF'!$E$70,-'Monthly CF'!$E$72,'Monthly CF'!$F$56:N56,$F$93:N93,$F$94:N94)","v":0},{"$f":"+(O6='Project Summary'!$J$15)*SUM(-'Monthly CF'!$E$70,-'Monthly CF'!$E$72,'Monthly CF'!$F$56:O56,$F$93:O93,$F$94:O94)","v":0},{"$f":"+(P6='Project Summary'!$J$15)*SUM(-'Monthly CF'!$E$70,-'Monthly CF'!$E$72,'Monthly CF'!$F$56:P56,$F$93:P93,$F$94:P94)","v":0},{"$f":"+(Q6='Project Summary'!$J$15)*SUM(-'Monthly CF'!$E$70,-'Monthly CF'!$E$72,'Monthly CF'!$F$56:Q56,$F$93:Q93,$F$94:Q94)","v":0},{"$f":"+(R6='Project Summary'!$J$15)*SUM(-'Monthly CF'!$E$70,-'Monthly CF'!$E$72,'Monthly CF'!$F$56:R56,$F$93:R93,$F$94:R94)","v":0},{"$f":"+(S6='Project Summary'!$J$15)*SUM(-'Monthly CF'!$E$70,-'Monthly CF'!$E$72,'Monthly CF'!$F$56:S56,$F$93:S93,$F$94:S94)","v":0},{"$f":"+(T6='Project Summary'!$J$15)*SUM(-'Monthly CF'!$E$70,-'Monthly CF'!$E$72,'Monthly CF'!$F$56:T56,$F$93:T93,$F$94:T94)","v":0},{"$f":"+(U6='Project Summary'!$J$15)*SUM(-'Monthly CF'!$E$70,-'Monthly CF'!$E$72,'Monthly CF'!$F$56:U56,$F$93:U93,$F$94:U94)","v":0},{"$f":"+(V6='Project Summary'!$J$15)*SUM(-'Monthly CF'!$E$70,-'Monthly CF'!$E$72,'Monthly CF'!$F$56:V56,$F$93:V93,$F$94:V94)","v":11911557.949999994},{"$f":"+(W6='Project Summary'!$J$15)*SUM(-'Monthly CF'!$E$70,-'Monthly CF'!$E$72,'Monthly CF'!$F$56:W56,$F$93:W93,$F$94:W94)","v":0},{"$f":"+(X6='Project Summary'!$J$15)*SUM(-'Monthly CF'!$E$70,-'Monthly CF'!$E$72,'Monthly CF'!$F$56:X56,$F$93:X93,$F$94:X94)","v":0},{"$f":"+(Y6='Project Summary'!$J$15)*SUM(-'Monthly CF'!$E$70,-'Monthly CF'!$E$72,'Monthly CF'!$F$56:Y56,$F$93:Y93,$F$94:Y94)","v":0},{"$f":"+(Z6='Project Summary'!$J$15)*SUM(-'Monthly CF'!$E$70,-'Monthly CF'!$E$72,'Monthly CF'!$F$56:Z56,$F$93:Z93,$F$94:Z94)","v":0},{"$f":"+(AA6='Project Summary'!$J$15)*SUM(-'Monthly CF'!$E$70,-'Monthly CF'!$E$72,'Monthly CF'!$F$56:AA56,$F$93:AA93,$F$94:AA94)","v":0},{"$f":"+(AB6='Project Summary'!$J$15)*SUM(-'Monthly CF'!$E$70,-'Monthly CF'!$E$72,'Monthly CF'!$F$56:AB56,$F$93:AB93,$F$94:AB94)","v":0},{"$f":"+(AC6='Project Summary'!$J$15)*SUM(-'Monthly CF'!$E$70,-'Monthly CF'!$E$72,'Monthly CF'!$F$56:AC56,$F$93:AC93,$F$94:AC94)","v":0},{"$f":"+(AD6='Project Summary'!$J$15)*SUM(-'Monthly CF'!$E$70,-'Monthly CF'!$E$72,'Monthly CF'!$F$56:AD56,$F$93:AD93,$F$94:AD94)","v":0},{"$f":"+(AE6='Project Summary'!$J$15)*SUM(-'Monthly CF'!$E$70,-'Monthly CF'!$E$72,'Monthly CF'!$F$56:AE56,$F$93:AE93,$F$94:AE94)","v":0},{"$f":"+(AF6='Project Summary'!$J$15)*SUM(-'Monthly CF'!$E$70,-'Monthly CF'!$E$72,'Monthly CF'!$F$56:AF56,$F$93:AF93,$F$94:AF94)","v":0},{"$f":"+(AG6='Project Summary'!$J$15)*SUM(-'Monthly CF'!$E$70,-'Monthly CF'!$E$72,'Monthly CF'!$F$56:AG56,$F$93:AG93,$F$94:AG94)","v":0},{"$f":"+(AH6='Project Summary'!$J$15)*SUM(-'Monthly CF'!$E$70,-'Monthly CF'!$E$72,'Monthly CF'!$F$56:AH56,$F$93:AH93,$F$94:AH94)","v":0},{"$f":"+(AI6='Project Summary'!$J$15)*SUM(-'Monthly CF'!$E$70,-'Monthly CF'!$E$72,'Monthly CF'!$F$56:AI56,$F$93:AI93,$F$94:AI94)","v":0},{"$f":"+(AJ6='Project Summary'!$J$15)*SUM(-'Monthly CF'!$E$70,-'Monthly CF'!$E$72,'Monthly CF'!$F$56:AJ56,$F$93:AJ93,$F$94:AJ94)","v":0},{"$f":"+(AK6='Project Summary'!$J$15)*SUM(-'Monthly CF'!$E$70,-'Monthly CF'!$E$72,'Monthly CF'!$F$56:AK56,$F$93:AK93,$F$94:AK94)","v":0},{"$f":"+(AL6='Project Summary'!$J$15)*SUM(-'Monthly CF'!$E$70,-'Monthly CF'!$E$72,'Monthly CF'!$F$56:AL56,$F$93:AL93,$F$94:AL94)","v":0},{"$f":"+(AM6='Project Summary'!$J$15)*SUM(-'Monthly CF'!$E$70,-'Monthly CF'!$E$72,'Monthly CF'!$F$56:AM56,$F$93:AM93,$F$94:AM94)","v":0},{"$f":"+(AN6='Project Summary'!$J$15)*SUM(-'Monthly CF'!$E$70,-'Monthly CF'!$E$72,'Monthly CF'!$F$56:AN56,$F$93:AN93,$F$94:AN94)","v":0},{"$f":"+(AO6='Project Summary'!$J$15)*SUM(-'Monthly CF'!$E$70,-'Monthly CF'!$E$72,'Monthly CF'!$F$56:AO56,$F$93:AO93,$F$94:AO94)","v":0},{"$f":"+(AP6='Project Summary'!$J$15)*SUM(-'Monthly CF'!$E$70,-'Monthly CF'!$E$72,'Monthly CF'!$F$56:AP56,$F$93:AP93,$F$94:AP94)","v":0},{"$f":"+(AQ6='Project Summary'!$J$15)*SUM(-'Monthly CF'!$E$70,-'Monthly CF'!$E$72,'Monthly CF'!$F$56:AQ56,$F$93:AQ93,$F$94:AQ94)","v":0},{"$f":"+(AR6='Project Summary'!$J$15)*SUM(-'Monthly CF'!$E$70,-'Monthly CF'!$E$72,'Monthly CF'!$F$56:AR56,$F$93:AR93,$F$94:AR94)","v":0},{"$f":"+(AS6='Project Summary'!$J$15)*SUM(-'Monthly CF'!$E$70,-'Monthly CF'!$E$72,'Monthly CF'!$F$56:AS56,$F$93:AS93,$F$94:AS94)","v":0},{"$f":"+(AT6='Project Summary'!$J$15)*SUM(-'Monthly CF'!$E$70,-'Monthly CF'!$E$72,'Monthly CF'!$F$56:AT56,$F$93:AT93,$F$94:AT94)","v":0},{"$f":"+(AU6='Project Summary'!$J$15)*SUM(-'Monthly CF'!$E$70,-'Monthly CF'!$E$72,'Monthly CF'!$F$56:AU56,$F$93:AU93,$F$94:AU94)","v":0},{"$f":"+(AV6='Project Summary'!$J$15)*SUM(-'Monthly CF'!$E$70,-'Monthly CF'!$E$72,'Monthly CF'!$F$56:AV56,$F$93:AV93,$F$94:AV94)","v":0},{"$f":"+(AW6='Project Summary'!$J$15)*SUM(-'Monthly CF'!$E$70,-'Monthly CF'!$E$72,'Monthly CF'!$F$56:AW56,$F$93:AW93,$F$94:AW94)","v":0},{"$f":"+(AX6='Project Summary'!$J$15)*SUM(-'Monthly CF'!$E$70,-'Monthly CF'!$E$72,'Monthly CF'!$F$56:AX56,$F$93:AX93,$F$94:AX94)","v":0},{"$f":"+(AY6='Project Summary'!$J$15)*SUM(-'Monthly CF'!$E$70,-'Monthly CF'!$E$72,'Monthly CF'!$F$56:AY56,$F$93:AY93,$F$94:AY94)","v":0},{"$f":"+(AZ6='Project Summary'!$J$15)*SUM(-'Monthly CF'!$E$70,-'Monthly CF'!$E$72,'Monthly CF'!$F$56:AZ56,$F$93:AZ93,$F$94:AZ94)","v":0},{"$f":"+(BA6='Project Summary'!$J$15)*SUM(-'Monthly CF'!$E$70,-'Monthly CF'!$E$72,'Monthly CF'!$F$56:BA56,$F$93:BA93,$F$94:BA94)","v":0},{"$f":"+(BB6='Project Summary'!$J$15)*SUM(-'Monthly CF'!$E$70,-'Monthly CF'!$E$72,'Monthly CF'!$F$56:BB56,$F$93:BB93,$F$94:BB94)","v":0},{"$f":"+(BC6='Project Summary'!$J$15)*SUM(-'Monthly CF'!$E$70,-'Monthly CF'!$E$72,'Monthly CF'!$F$56:BC56,$F$93:BC93,$F$94:BC94)","v":0},{"$f":"+(BD6='Project Summary'!$J$15)*SUM(-'Monthly CF'!$E$70,-'Monthly CF'!$E$72,'Monthly CF'!$F$56:BD56,$F$93:BD93,$F$94:BD94)","v":0},{"$f":"+(BE6='Project Summary'!$J$15)*SUM(-'Monthly CF'!$E$70,-'Monthly CF'!$E$72,'Monthly CF'!$F$56:BE56,$F$93:BE93,$F$94:BE94)","v":0},{"$f":"+(BF6='Project Summary'!$J$15)*SUM(-'Monthly CF'!$E$70,-'Monthly CF'!$E$72,'Monthly CF'!$F$56:BF56,$F$93:BF93,$F$94:BF94)","v":0},{"$f":"+(BG6='Project Summary'!$J$15)*SUM(-'Monthly CF'!$E$70,-'Monthly CF'!$E$72,'Monthly CF'!$F$56:BG56,$F$93:BG93,$F$94:BG94)","v":0},{"$f":"+(BH6='Project Summary'!$J$15)*SUM(-'Monthly CF'!$E$70,-'Monthly CF'!$E$72,'Monthly CF'!$F$56:BH56,$F$93:BH93,$F$94:BH94)","v":0},{"$f":"+(BI6='Project Summary'!$J$15)*SUM(-'Monthly CF'!$E$70,-'Monthly CF'!$E$72,'Monthly CF'!$F$56:BI56,$F$93:BI93,$F$94:BI94)","v":0},{"$f":"+(BJ6='Project Summary'!$J$15)*SUM(-'Monthly CF'!$E$70,-'Monthly CF'!$E$72,'Monthly CF'!$F$56:BJ56,$F$93:BJ93,$F$94:BJ94)","v":0},{"$f":"+(BK6='Project Summary'!$J$15)*SUM(-'Monthly CF'!$E$70,-'Monthly CF'!$E$72,'Monthly CF'!$F$56:BK56,$F$93:BK93,$F$94:BK94)","v":0},{"$f":"+(BL6='Project Summary'!$J$15)*SUM(-'Monthly CF'!$E$70,-'Monthly CF'!$E$72,'Monthly CF'!$F$56:BL56,$F$93:BL93,$F$94:BL94)","v":0},{"$f":"+(BM6='Project Summary'!$J$15)*SUM(-'Monthly CF'!$E$70,-'Monthly CF'!$E$72,'Monthly CF'!$F$56:BM56,$F$93:BM93,$F$94:BM94)","v":0},{"$f":"+(BN6='Project Summary'!$J$15)*SUM(-'Monthly CF'!$E$70,-'Monthly CF'!$E$72,'Monthly CF'!$F$56:BN56,$F$93:BN93,$F$94:BN94)","v":0},{"$f":"+(BO6='Project Summary'!$J$15)*SUM(-'Monthly CF'!$E$70,-'Monthly CF'!$E$72,'Monthly CF'!$F$56:BO56,$F$93:BO93,$F$94:BO94)","v":0},{"$f":"+(BP6='Project Summary'!$J$15)*SUM(-'Monthly CF'!$E$70,-'Monthly CF'!$E$72,'Monthly CF'!$F$56:BP56,$F$93:BP93,$F$94:BP94)","v":0},{"$f":"+(BQ6='Project Summary'!$J$15)*SUM(-'Monthly CF'!$E$70,-'Monthly CF'!$E$72,'Monthly CF'!$F$56:BQ56,$F$93:BQ93,$F$94:BQ94)","v":0},{"$f":"+(BR6='Project Summary'!$J$15)*SUM(-'Monthly CF'!$E$70,-'Monthly CF'!$E$72,'Monthly CF'!$F$56:BR56,$F$93:BR93,$F$94:BR94)","v":0},{"$f":"+(BS6='Project Summary'!$J$15)*SUM(-'Monthly CF'!$E$70,-'Monthly CF'!$E$72,'Monthly CF'!$F$56:BS56,$F$93:BS93,$F$94:BS94)","v":0},{"$f":"+(BT6='Project Summary'!$J$15)*SUM(-'Monthly CF'!$E$70,-'Monthly CF'!$E$72,'Monthly CF'!$F$56:BT56,$F$93:BT93,$F$94:BT94)","v":0},{"$f":"+(BU6='Project Summary'!$J$15)*SUM(-'Monthly CF'!$E$70,-'Monthly CF'!$E$72,'Monthly CF'!$F$56:BU56,$F$93:BU93,$F$94:BU94)","v":0},{"$f":"+(BV6='Project Summary'!$J$15)*SUM(-'Monthly CF'!$E$70,-'Monthly CF'!$E$72,'Monthly CF'!$F$56:BV56,$F$93:BV93,$F$94:BV94)","v":0},{"$f":"+(BW6='Project Summary'!$J$15)*SUM(-'Monthly CF'!$E$70,-'Monthly CF'!$E$72,'Monthly CF'!$F$56:BW56,$F$93:BW93,$F$94:BW94)","v":0},{"$f":"+(BX6='Project Summary'!$J$15)*SUM(-'Monthly CF'!$E$70,-'Monthly CF'!$E$72,'Monthly CF'!$F$56:BX56,$F$93:BX93,$F$94:BX94)","v":0},{"$f":"+(BY6='Project Summary'!$J$15)*SUM(-'Monthly CF'!$E$70,-'Monthly CF'!$E$72,'Monthly CF'!$F$56:BY56,$F$93:BY93,$F$94:BY94)","v":0},{"$f":"+(BZ6='Project Summary'!$J$15)*SUM(-'Monthly CF'!$E$70,-'Monthly CF'!$E$72,'Monthly CF'!$F$56:BZ56,$F$93:BZ93,$F$94:BZ94)","v":0},{"$f":"+(CA6='Project Summary'!$J$15)*SUM(-'Monthly CF'!$E$70,-'Monthly CF'!$E$72,'Monthly CF'!$F$56:CA56,$F$93:CA93,$F$94:CA94)","v":0},{"$f":"+(CB6='Project Summary'!$J$15)*SUM(-'Monthly CF'!$E$70,-'Monthly CF'!$E$72,'Monthly CF'!$F$56:CB56,$F$93:CB93,$F$94:CB94)","v":0},{"$f":"+(CC6='Project Summary'!$J$15)*SUM(-'Monthly CF'!$E$70,-'Monthly CF'!$E$72,'Monthly CF'!$F$56:CC56,$F$93:CC93,$F$94:CC94)","v":0},{"$f":"+(CD6='Project Summary'!$J$15)*SUM(-'Monthly CF'!$E$70,-'Monthly CF'!$E$72,'Monthly CF'!$F$56:CD56,$F$93:CD93,$F$94:CD94)","v":0},{"$f":"+(CE6='Project Summary'!$J$15)*SUM(-'Monthly CF'!$E$70,-'Monthly CF'!$E$72,'Monthly CF'!$F$56:CE56,$F$93:CE93,$F$94:CE94)","v":0},{"$f":"+(CF6='Project Summary'!$J$15)*SUM(-'Monthly CF'!$E$70,-'Monthly CF'!$E$72,'Monthly CF'!$F$56:CF56,$F$93:CF93,$F$94:CF94)","v":0},{"$f":"+(CG6='Project Summary'!$J$15)*SUM(-'Monthly CF'!$E$70,-'Monthly CF'!$E$72,'Monthly CF'!$F$56:CG56,$F$93:CG93,$F$94:CG94)","v":0},{"$f":"+(CH6='Project Summary'!$J$15)*SUM(-'Monthly CF'!$E$70,-'Monthly CF'!$E$72,'Monthly CF'!$F$56:CH56,$F$93:CH93,$F$94:CH94)","v":0},{"$f":"+(CI6='Project Summary'!$J$15)*SUM(-'Monthly CF'!$E$70,-'Monthly CF'!$E$72,'Monthly CF'!$F$56:CI56,$F$93:CI93,$F$94:CI94)","v":0},{"$f":"+(CJ6='Project Summary'!$J$15)*SUM(-'Monthly CF'!$E$70,-'Monthly CF'!$E$72,'Monthly CF'!$F$56:CJ56,$F$93:CJ93,$F$94:CJ94)","v":0},{"$f":"+(CK6='Project Summary'!$J$15)*SUM(-'Monthly CF'!$E$70,-'Monthly CF'!$E$72,'Monthly CF'!$F$56:CK56,$F$93:CK93,$F$94:CK94)","v":0},{"$f":"+(CL6='Project Summary'!$J$15)*SUM(-'Monthly CF'!$E$70,-'Monthly CF'!$E$72,'Monthly CF'!$F$56:CL56,$F$93:CL93,$F$94:CL94)","v":0},{"$f":"+(CM6='Project Summary'!$J$15)*SUM(-'Monthly CF'!$E$70,-'Monthly CF'!$E$72,'Monthly CF'!$F$56:CM56,$F$93:CM93,$F$94:CM94)","v":0},{"$f":"+(CN6='Project Summary'!$J$15)*SUM(-'Monthly CF'!$E$70,-'Monthly CF'!$E$72,'Monthly CF'!$F$56:CN56,$F$93:CN93,$F$94:CN94)","v":0},{"$f":"+(CO6='Project Summary'!$J$15)*SUM(-'Monthly CF'!$E$70,-'Monthly CF'!$E$72,'Monthly CF'!$F$56:CO56,$F$93:CO93,$F$94:CO94)","v":0},{"$f":"+(CP6='Project Summary'!$J$15)*SUM(-'Monthly CF'!$E$70,-'Monthly CF'!$E$72,'Monthly CF'!$F$56:CP56,$F$93:CP93,$F$94:CP94)","v":0},{"$f":"+(CQ6='Project Summary'!$J$15)*SUM(-'Monthly CF'!$E$70,-'Monthly CF'!$E$72,'Monthly CF'!$F$56:CQ56,$F$93:CQ93,$F$94:CQ94)","v":0},{"$f":"+(CR6='Project Summary'!$J$15)*SUM(-'Monthly CF'!$E$70,-'Monthly CF'!$E$72,'Monthly CF'!$F$56:CR56,$F$93:CR93,$F$94:CR94)","v":0},{"$f":"+(CS6='Project Summary'!$J$15)*SUM(-'Monthly CF'!$E$70,-'Monthly CF'!$E$72,'Monthly CF'!$F$56:CS56,$F$93:CS93,$F$94:CS94)","v":0},{"$f":"+(CT6='Project Summary'!$J$15)*SUM(-'Monthly CF'!$E$70,-'Monthly CF'!$E$72,'Monthly CF'!$F$56:CT56,$F$93:CT93,$F$94:CT94)","v":0},{"$f":"+(CU6='Project Summary'!$J$15)*SUM(-'Monthly CF'!$E$70,-'Monthly CF'!$E$72,'Monthly CF'!$F$56:CU56,$F$93:CU93,$F$94:CU94)","v":0},{"$f":"+(CV6='Project Summary'!$J$15)*SUM(-'Monthly CF'!$E$70,-'Monthly CF'!$E$72,'Monthly CF'!$F$56:CV56,$F$93:CV93,$F$94:CV94)","v":0},{"$f":"+(CW6='Project Summary'!$J$15)*SUM(-'Monthly CF'!$E$70,-'Monthly CF'!$E$72,'Monthly CF'!$F$56:CW56,$F$93:CW93,$F$94:CW94)","v":0},{"$f":"+(CX6='Project Summary'!$J$15)*SUM(-'Monthly CF'!$E$70,-'Monthly CF'!$E$72,'Monthly CF'!$F$56:CX56,$F$93:CX93,$F$94:CX94)","v":0},{"$f":"+(CY6='Project Summary'!$J$15)*SUM(-'Monthly CF'!$E$70,-'Monthly CF'!$E$72,'Monthly CF'!$F$56:CY56,$F$93:CY93,$F$94:CY94)","v":0},{"$f":"+(CZ6='Project Summary'!$J$15)*SUM(-'Monthly CF'!$E$70,-'Monthly CF'!$E$72,'Monthly CF'!$F$56:CZ56,$F$93:CZ93,$F$94:CZ94)","v":0},{"$f":"+(DA6='Project Summary'!$J$15)*SUM(-'Monthly CF'!$E$70,-'Monthly CF'!$E$72,'Monthly CF'!$F$56:DA56,$F$93:DA93,$F$94:DA94)","v":0},{"$f":"+(DB6='Project Summary'!$J$15)*SUM(-'Monthly CF'!$E$70,-'Monthly CF'!$E$72,'Monthly CF'!$F$56:DB56,$F$93:DB93,$F$94:DB94)","v":0},{"$f":"+(DC6='Project Summary'!$J$15)*SUM(-'Monthly CF'!$E$70,-'Monthly CF'!$E$72,'Monthly CF'!$F$56:DC56,$F$93:DC93,$F$94:DC94)","v":0},{"$f":"+(DD6='Project Summary'!$J$15)*SUM(-'Monthly CF'!$E$70,-'Monthly CF'!$E$72,'Monthly CF'!$F$56:DD56,$F$93:DD93,$F$94:DD94)","v":0},{"$f":"+(DE6='Project Summary'!$J$15)*SUM(-'Monthly CF'!$E$70,-'Monthly CF'!$E$72,'Monthly CF'!$F$56:DE56,$F$93:DE93,$F$94:DE94)","v":0},{"$f":"+(DF6='Project Summary'!$J$15)*SUM(-'Monthly CF'!$E$70,-'Monthly CF'!$E$72,'Monthly CF'!$F$56:DF56,$F$93:DF93,$F$94:DF94)","v":0},{"$f":"+(DG6='Project Summary'!$J$15)*SUM(-'Monthly CF'!$E$70,-'Monthly CF'!$E$72,'Monthly CF'!$F$56:DG56,$F$93:DG93,$F$94:DG94)","v":0},{"$f":"+(DH6='Project Summary'!$J$15)*SUM(-'Monthly CF'!$E$70,-'Monthly CF'!$E$72,'Monthly CF'!$F$56:DH56,$F$93:DH93,$F$94:DH94)","v":0},{"$f":"+(DI6='Project Summary'!$J$15)*SUM(-'Monthly CF'!$E$70,-'Monthly CF'!$E$72,'Monthly CF'!$F$56:DI56,$F$93:DI93,$F$94:DI94)","v":0},{"$f":"+(DJ6='Project Summary'!$J$15)*SUM(-'Monthly CF'!$E$70,-'Monthly CF'!$E$72,'Monthly CF'!$F$56:DJ56,$F$93:DJ93,$F$94:DJ94)","v":0},{"$f":"+(DK6='Project Summary'!$J$15)*SUM(-'Monthly CF'!$E$70,-'Monthly CF'!$E$72,'Monthly CF'!$F$56:DK56,$F$93:DK93,$F$94:DK94)","v":0},{"$f":"+(DL6='Project Summary'!$J$15)*SUM(-'Monthly CF'!$E$70,-'Monthly CF'!$E$72,'Monthly CF'!$F$56:DL56,$F$93:DL93,$F$94:DL94)","v":0},{"$f":"+(DM6='Project Summary'!$J$15)*SUM(-'Monthly CF'!$E$70,-'Monthly CF'!$E$72,'Monthly CF'!$F$56:DM56,$F$93:DM93,$F$94:DM94)","v":0},{"$f":"+(DN6='Project Summary'!$J$15)*SUM(-'Monthly CF'!$E$70,-'Monthly CF'!$E$72,'Monthly CF'!$F$56:DN56,$F$93:DN93,$F$94:DN94)","v":0},{"$f":"+(DO6='Project Summary'!$J$15)*SUM(-'Monthly CF'!$E$70,-'Monthly CF'!$E$72,'Monthly CF'!$F$56:DO56,$F$93:DO93,$F$94:DO94)","v":0},{"$f":"+(DP6='Project Summary'!$J$15)*SUM(-'Monthly CF'!$E$70,-'Monthly CF'!$E$72,'Monthly CF'!$F$56:DP56,$F$93:DP93,$F$94:DP94)","v":0},{"$f":"+(DQ6='Project Summary'!$J$15)*SUM(-'Monthly CF'!$E$70,-'Monthly CF'!$E$72,'Monthly CF'!$F$56:DQ56,$F$93:DQ93,$F$94:DQ94)","v":0},{"$f":"+(DR6='Project Summary'!$J$15)*SUM(-'Monthly CF'!$E$70,-'Monthly CF'!$E$72,'Monthly CF'!$F$56:DR56,$F$93:DR93,$F$94:DR94)","v":0},{"$f":"+(DS6='Project Summary'!$J$15)*SUM(-'Monthly CF'!$E$70,-'Monthly CF'!$E$72,'Monthly CF'!$F$56:DS56,$F$93:DS93,$F$94:DS94)","v":0},{"$f":"+(DT6='Project Summary'!$J$15)*SUM(-'Monthly CF'!$E$70,-'Monthly CF'!$E$72,'Monthly CF'!$F$56:DT56,$F$93:DT93,$F$94:DT94)","v":0},{"$f":"+(DU6='Project Summary'!$J$15)*SUM(-'Monthly CF'!$E$70,-'Monthly CF'!$E$72,'Monthly CF'!$F$56:DU56,$F$93:DU93,$F$94:DU94)","v":0},{"$f":"+(DV6='Project Summary'!$J$15)*SUM(-'Monthly CF'!$E$70,-'Monthly CF'!$E$72,'Monthly CF'!$F$56:DV56,$F$93:DV93,$F$94:DV94)","v":0},{"$f":"+(DW6='Project Summary'!$J$15)*SUM(-'Monthly CF'!$E$70,-'Monthly CF'!$E$72,'Monthly CF'!$F$56:DW56,$F$93:DW93,$F$94:DW94)","v":0},{"$f":"+(DX6='Project Summary'!$J$15)*SUM(-'Monthly CF'!$E$70,-'Monthly CF'!$E$72,'Monthly CF'!$F$56:DX56,$F$93:DX93,$F$94:DX94)","v":0},{"$f":"+(DY6='Project Summary'!$J$15)*SUM(-'Monthly CF'!$E$70,-'Monthly CF'!$E$72,'Monthly CF'!$F$56:DY56,$F$93:DY93,$F$94:DY94)","v":0},{"$f":"+(DZ6='Project Summary'!$J$15)*SUM(-'Monthly CF'!$E$70,-'Monthly CF'!$E$72,'Monthly CF'!$F$56:DZ56,$F$93:DZ93,$F$94:DZ94)","v":0},{"$f":"+(EA6='Project Summary'!$J$15)*SUM(-'Monthly CF'!$E$70,-'Monthly CF'!$E$72,'Monthly CF'!$F$56:EA56,$F$93:EA93,$F$94:EA94)","v":0},{"$f":"+(EB6='Project Summary'!$J$15)*SUM(-'Monthly CF'!$E$70,-'Monthly CF'!$E$72,'Monthly CF'!$F$56:EB56,$F$93:EB93,$F$94:EB94)","v":0},{"$f":"+(EC6='Project Summary'!$J$15)*SUM(-'Monthly CF'!$E$70,-'Monthly CF'!$E$72,'Monthly CF'!$F$56:EC56,$F$93:EC93,$F$94:EC94)","v":0},{"$f":"+(ED6='Project Summary'!$J$15)*SUM(-'Monthly CF'!$E$70,-'Monthly CF'!$E$72,'Monthly CF'!$F$56:ED56,$F$93:ED93,$F$94:ED94)","v":0},{"$f":"+(EE6='Project Summary'!$J$15)*SUM(-'Monthly CF'!$E$70,-'Monthly CF'!$E$72,'Monthly CF'!$F$56:EE56,$F$93:EE93,$F$94:EE94)","v":0},{"$f":"+(EF6='Project Summary'!$J$15)*SUM(-'Monthly CF'!$E$70,-'Monthly CF'!$E$72,'Monthly CF'!$F$56:EF56,$F$93:EF93,$F$94:EF94)","v":0},{"$f":"+(EG6='Project Summary'!$J$15)*SUM(-'Monthly CF'!$E$70,-'Monthly CF'!$E$72,'Monthly CF'!$F$56:EG56,$F$93:EG93,$F$94:EG94)","v":0}]
[null,"NTM Opex at Stabilization",null,null,{"$f":"+(E6='Project Summary'!$J$15)*SUM('Monthly CF'!F47:Q47)","v":0},{"$f":"+(F6='Project Summary'!$J$15)*SUM('Monthly CF'!G47:R47)","v":0},{"$f":"+(G6='Project Summary'!$J$15)*SUM('Monthly CF'!H47:S47)","v":0},{"$f":"+(H6='Project Summary'!$J$15)*SUM('Monthly CF'!I47:T47)","v":0},{"$f":"+(I6='Project Summary'!$J$15)*SUM('Monthly CF'!J47:U47)","v":0},{"$f":"+(J6='Project Summary'!$J$15)*SUM('Monthly CF'!K47:V47)","v":0},{"$f":"+(K6='Project Summary'!$J$15)*SUM('Monthly CF'!L47:W47)","v":0},{"$f":"+(L6='Project Summary'!$J$15)*SUM('Monthly CF'!M47:X47)","v":0},{"$f":"+(M6='Project Summary'!$J$15)*SUM('Monthly CF'!N47:Y47)","v":0},{"$f":"+(N6='Project Summary'!$J$15)*SUM('Monthly CF'!O47:Z47)","v":0},{"$f":"+(O6='Project Summary'!$J$15)*SUM('Monthly CF'!P47:AA47)","v":0},{"$f":"+(P6='Project Summary'!$J$15)*SUM('Monthly CF'!Q47:AB47)","v":0},{"$f":"+(Q6='Project Summary'!$J$15)*SUM('Monthly CF'!R47:AC47)","v":0},{"$f":"+(R6='Project Summary'!$J$15)*SUM('Monthly CF'!S47:AD47)","v":0},{"$f":"+(S6='Project Summary'!$J$15)*SUM('Monthly CF'!T47:AE47)","v":0},{"$f":"+(T6='Project Summary'!$J$15)*SUM('Monthly CF'!U47:AF47)","v":0},{"$f":"+(U6='Project Summary'!$J$15)*SUM('Monthly CF'!V47:AG47)","v":0},{"$f":"+(V6='Project Summary'!$J$15)*SUM('Monthly CF'!W47:AH47)","v":-423793.19889999984},{"$f":"+(W6='Project Summary'!$J$15)*SUM('Monthly CF'!X47:AI47)","v":0},{"$f":"+(X6='Project Summary'!$J$15)*SUM('Monthly CF'!Y47:AJ47)","v":0},{"$f":"+(Y6='Project Summary'!$J$15)*SUM('Monthly CF'!Z47:AK47)","v":0},{"$f":"+(Z6='Project Summary'!$J$15)*SUM('Monthly CF'!AA47:AL47)","v":0},{"$f":"+(AA6='Project Summary'!$J$15)*SUM('Monthly CF'!AB47:AM47)","v":0},{"$f":"+(AB6='Project Summary'!$J$15)*SUM('Monthly CF'!AC47:AN47)","v":0},{"$f":"+(AC6='Project Summary'!$J$15)*SUM('Monthly CF'!AD47:AO47)","v":0},{"$f":"+(AD6='Project Summary'!$J$15)*SUM('Monthly CF'!AE47:AP47)","v":0},{"$f":"+(AE6='Project Summary'!$J$15)*SUM('Monthly CF'!AF47:AQ47)","v":0},{"$f":"+(AF6='Project Summary'!$J$15)*SUM('Monthly CF'!AG47:AR47)","v":0},{"$f":"+(AG6='Project Summary'!$J$15)*SUM('Monthly CF'!AH47:AS47)","v":0},{"$f":"+(AH6='Project Summary'!$J$15)*SUM('Monthly CF'!AI47:AT47)","v":0},{"$f":"+(AI6='Project Summary'!$J$15)*SUM('Monthly CF'!AJ47:AU47)","v":0},{"$f":"+(AJ6='Project Summary'!$J$15)*SUM('Monthly CF'!AK47:AV47)","v":0},{"$f":"+(AK6='Project Summary'!$J$15)*SUM('Monthly CF'!AL47:AW47)","v":0},{"$f":"+(AL6='Project Summary'!$J$15)*SUM('Monthly CF'!AM47:AX47)","v":0},{"$f":"+(AM6='Project Summary'!$J$15)*SUM('Monthly CF'!AN47:AY47)","v":0},{"$f":"+(AN6='Project Summary'!$J$15)*SUM('Monthly CF'!AO47:AZ47)","v":0},{"$f":"+(AO6='Project Summary'!$J$15)*SUM('Monthly CF'!AP47:BA47)","v":0},{"$f":"+(AP6='Project Summary'!$J$15)*SUM('Monthly CF'!AQ47:BB47)","v":0},{"$f":"+(AQ6='Project Summary'!$J$15)*SUM('Monthly CF'!AR47:BC47)","v":0},{"$f":"+(AR6='Project Summary'!$J$15)*SUM('Monthly CF'!AS47:BD47)","v":0},{"$f":"+(AS6='Project Summary'!$J$15)*SUM('Monthly CF'!AT47:BE47)","v":0},{"$f":"+(AT6='Project Summary'!$J$15)*SUM('Monthly CF'!AU47:BF47)","v":0},{"$f":"+(AU6='Project Summary'!$J$15)*SUM('Monthly CF'!AV47:BG47)","v":0},{"$f":"+(AV6='Project Summary'!$J$15)*SUM('Monthly CF'!AW47:BH47)","v":0},{"$f":"+(AW6='Project Summary'!$J$15)*SUM('Monthly CF'!AX47:BI47)","v":0},{"$f":"+(AX6='Project Summary'!$J$15)*SUM('Monthly CF'!AY47:BJ47)","v":0},{"$f":"+(AY6='Project Summary'!$J$15)*SUM('Monthly CF'!AZ47:BK47)","v":0},{"$f":"+(AZ6='Project Summary'!$J$15)*SUM('Monthly CF'!BA47:BL47)","v":0},{"$f":"+(BA6='Project Summary'!$J$15)*SUM('Monthly CF'!BB47:BM47)","v":0},{"$f":"+(BB6='Project Summary'!$J$15)*SUM('Monthly CF'!BC47:BN47)","v":0},{"$f":"+(BC6='Project Summary'!$J$15)*SUM('Monthly CF'!BD47:BO47)","v":0},{"$f":"+(BD6='Project Summary'!$J$15)*SUM('Monthly CF'!BE47:BP47)","v":0},{"$f":"+(BE6='Project Summary'!$J$15)*SUM('Monthly CF'!BF47:BQ47)","v":0},{"$f":"+(BF6='Project Summary'!$J$15)*SUM('Monthly CF'!BG47:BR47)","v":0},{"$f":"+(BG6='Project Summary'!$J$15)*SUM('Monthly CF'!BH47:BS47)","v":0},{"$f":"+(BH6='Project Summary'!$J$15)*SUM('Monthly CF'!BI47:BT47)","v":0},{"$f":"+(BI6='Project Summary'!$J$15)*SUM('Monthly CF'!BJ47:BU47)","v":0},{"$f":"+(BJ6='Project Summary'!$J$15)*SUM('Monthly CF'!BK47:BV47)","v":0},{"$f":"+(BK6='Project Summary'!$J$15)*SUM('Monthly CF'!BL47:BW47)","v":0},{"$f":"+(BL6='Project Summary'!$J$15)*SUM('Monthly CF'!BM47:BX47)","v":0},{"$f":"+(BM6='Project Summary'!$J$15)*SUM('Monthly CF'!BN47:BY47)","v":0},{"$f":"+(BN6='Project Summary'!$J$15)*SUM('Monthly CF'!BO47:BZ47)","v":0},{"$f":"+(BO6='Project Summary'!$J$15)*SUM('Monthly CF'!BP47:CA47)","v":0},{"$f":"+(BP6='Project Summary'!$J$15)*SUM('Monthly CF'!BQ47:CB47)","v":0},{"$f":"+(BQ6='Project Summary'!$J$15)*SUM('Monthly CF'!BR47:CC47)","v":0},{"$f":"+(BR6='Project Summary'!$J$15)*SUM('Monthly CF'!BS47:CD47)","v":0},{"$f":"+(BS6='Project Summary'!$J$15)*SUM('Monthly CF'!BT47:CE47)","v":0},{"$f":"+(BT6='Project Summary'!$J$15)*SUM('Monthly CF'!BU47:CF47)","v":0},{"$f":"+(BU6='Project Summary'!$J$15)*SUM('Monthly CF'!BV47:CG47)","v":0},{"$f":"+(BV6='Project Summary'!$J$15)*SUM('Monthly CF'!BW47:CH47)","v":0},{"$f":"+(BW6='Project Summary'!$J$15)*SUM('Monthly CF'!BX47:CI47)","v":0},{"$f":"+(BX6='Project Summary'!$J$15)*SUM('Monthly CF'!BY47:CJ47)","v":0},{"$f":"+(BY6='Project Summary'!$J$15)*SUM('Monthly CF'!BZ47:CK47)","v":0},{"$f":"+(BZ6='Project Summary'!$J$15)*SUM('Monthly CF'!CA47:CL47)","v":0},{"$f":"+(CA6='Project Summary'!$J$15)*SUM('Monthly CF'!CB47:CM47)","v":0},{"$f":"+(CB6='Project Summary'!$J$15)*SUM('Monthly CF'!CC47:CN47)","v":0},{"$f":"+(CC6='Project Summary'!$J$15)*SUM('Monthly CF'!CD47:CO47)","v":0},{"$f":"+(CD6='Project Summary'!$J$15)*SUM('Monthly CF'!CE47:CP47)","v":0},{"$f":"+(CE6='Project Summary'!$J$15)*SUM('Monthly CF'!CF47:CQ47)","v":0},{"$f":"+(CF6='Project Summary'!$J$15)*SUM('Monthly CF'!CG47:CR47)","v":0},{"$f":"+(CG6='Project Summary'!$J$15)*SUM('Monthly CF'!CH47:CS47)","v":0},{"$f":"+(CH6='Project Summary'!$J$15)*SUM('Monthly CF'!CI47:CT47)","v":0},{"$f":"+(CI6='Project Summary'!$J$15)*SUM('Monthly CF'!CJ47:CU47)","v":0},{"$f":"+(CJ6='Project Summary'!$J$15)*SUM('Monthly CF'!CK47:CV47)","v":0},{"$f":"+(CK6='Project Summary'!$J$15)*SUM('Monthly CF'!CL47:CW47)","v":0},{"$f":"+(CL6='Project Summary'!$J$15)*SUM('Monthly CF'!CM47:CX47)","v":0},{"$f":"+(CM6='Project Summary'!$J$15)*SUM('Monthly CF'!CN47:CY47)","v":0},{"$f":"+(CN6='Project Summary'!$J$15)*SUM('Monthly CF'!CO47:CZ47)","v":0},{"$f":"+(CO6='Project Summary'!$J$15)*SUM('Monthly CF'!CP47:DA47)","v":0},{"$f":"+(CP6='Project Summary'!$J$15)*SUM('Monthly CF'!CQ47:DB47)","v":0},{"$f":"+(CQ6='Project Summary'!$J$15)*SUM('Monthly CF'!CR47:DC47)","v":0},{"$f":"+(CR6='Project Summary'!$J$15)*SUM('Monthly CF'!CS47:DD47)","v":0},{"$f":"+(CS6='Project Summary'!$J$15)*SUM('Monthly CF'!CT47:DE47)","v":0},{"$f":"+(CT6='Project Summary'!$J$15)*SUM('Monthly CF'!CU47:DF47)","v":0},{"$f":"+(CU6='Project Summary'!$J$15)*SUM('Monthly CF'!CV47:DG47)","v":0},{"$f":"+(CV6='Project Summary'!$J$15)*SUM('Monthly CF'!CW47:DH47)","v":0},{"$f":"+(CW6='Project Summary'!$J$15)*SUM('Monthly CF'!CX47:DI47)","v":0},{"$f":"+(CX6='Project Summary'!$J$15)*SUM('Monthly CF'!CY47:DJ47)","v":0},{"$f":"+(CY6='Project Summary'!$J$15)*SUM('Monthly CF'!CZ47:DK47)","v":0},{"$f":"+(CZ6='Project Summary'!$J$15)*SUM('Monthly CF'!DA47:DL47)","v":0},{"$f":"+(DA6='Project Summary'!$J$15)*SUM('Monthly CF'!DB47:DM47)","v":0},{"$f":"+(DB6='Project Summary'!$J$15)*SUM('Monthly CF'!DC47:DN47)","v":0},{"$f":"+(DC6='Project Summary'!$J$15)*SUM('Monthly CF'!DD47:DO47)","v":0},{"$f":"+(DD6='Project Summary'!$J$15)*SUM('Monthly CF'!DE47:DP47)","v":0},{"$f":"+(DE6='Project Summary'!$J$15)*SUM('Monthly CF'!DF47:DQ47)","v":0},{"$f":"+(DF6='Project Summary'!$J$15)*SUM('Monthly CF'!DG47:DR47)","v":0},{"$f":"+(DG6='Project Summary'!$J$15)*SUM('Monthly CF'!DH47:DS47)","v":0},{"$f":"+(DH6='Project Summary'!$J$15)*SUM('Monthly CF'!DI47:DT47)","v":0},{"$f":"+(DI6='Project Summary'!$J$15)*SUM('Monthly CF'!DJ47:DU47)","v":0},{"$f":"+(DJ6='Project Summary'!$J$15)*SUM('Monthly CF'!DK47:DV47)","v":0},{"$f":"+(DK6='Project Summary'!$J$15)*SUM('Monthly CF'!DL47:DW47)","v":0},{"$f":"+(DL6='Project Summary'!$J$15)*SUM('Monthly CF'!DM47:DX47)","v":0},{"$f":"+(DM6='Project Summary'!$J$15)*SUM('Monthly CF'!DN47:DY47)","v":0},{"$f":"+(DN6='Project Summary'!$J$15)*SUM('Monthly CF'!DO47:DZ47)","v":0},{"$f":"+(DO6='Project Summary'!$J$15)*SUM('Monthly CF'!DP47:EA47)","v":0},{"$f":"+(DP6='Project Summary'!$J$15)*SUM('Monthly CF'!DQ47:EB47)","v":0},{"$f":"+(DQ6='Project Summary'!$J$15)*SUM('Monthly CF'!DR47:EC47)","v":0},{"$f":"+(DR6='Project Summary'!$J$15)*SUM('Monthly CF'!DS47:ED47)","v":0},{"$f":"+(DS6='Project Summary'!$J$15)*SUM('Monthly CF'!DT47:EE47)","v":0},{"$f":"+(DT6='Project Summary'!$J$15)*SUM('Monthly CF'!DU47:EF47)","v":0},{"$f":"+(DU6='Project Summary'!$J$15)*SUM('Monthly CF'!DV47:EG47)","v":0},{"$f":"+(DV6='Project Summary'!$J$15)*SUM('Monthly CF'!DW47:EH47)","v":0},{"$f":"+(DW6='Project Summary'!$J$15)*SUM('Monthly CF'!DX47:EI47)","v":0},{"$f":"+(DX6='Project Summary'!$J$15)*SUM('Monthly CF'!DY47:EJ47)","v":0},{"$f":"+(DY6='Project Summary'!$J$15)*SUM('Monthly CF'!DZ47:EK47)","v":0},{"$f":"+(DZ6='Project Summary'!$J$15)*SUM('Monthly CF'!EA47:EL47)","v":0},{"$f":"+(EA6='Project Summary'!$J$15)*SUM('Monthly CF'!EB47:EM47)","v":0},{"$f":"+(EB6='Project Summary'!$J$15)*SUM('Monthly CF'!EC47:EN47)","v":0},{"$f":"+(EC6='Project Summary'!$J$15)*SUM('Monthly CF'!ED47:EO47)","v":0},{"$f":"+(ED6='Project Summary'!$J$15)*SUM('Monthly CF'!EE47:EP47)","v":0},{"$f":"+(EE6='Project Summary'!$J$15)*SUM('Monthly CF'!EF47:EQ47)","v":0},{"$f":"+(EF6='Project Summary'!$J$15)*SUM('Monthly CF'!EG47:ER47)","v":0},{"$f":"+(EG6='Project Summary'!$J$15)*SUM('Monthly CF'!EH47:ES47)","v":0}]
[null,"NTM NOI at Stabilization",null,null,{"$f":"+(E6='Project Summary'!$J$15)*SUM('Monthly CF'!F49:Q49)","v":0},{"$f":"+(F6='Project Summary'!$J$15)*SUM('Monthly CF'!G49:R49)","v":0},{"$f":"+(G6='Project Summary'!$J$15)*SUM('Monthly CF'!H49:S49)","v":0},{"$f":"+(H6='Project Summary'!$J$15)*SUM('Monthly CF'!I49:T49)","v":0},{"$f":"+(I6='Project Summary'!$J$15)*SUM('Monthly CF'!J49:U49)","v":0},{"$f":"+(J6='Project Summary'!$J$15)*SUM('Monthly CF'!K49:V49)","v":0},{"$f":"+(K6='Project Summary'!$J$15)*SUM('Monthly CF'!L49:W49)","v":0},{"$f":"+(L6='Project Summary'!$J$15)*SUM('Monthly CF'!M49:X49)","v":0},{"$f":"+(M6='Project Summary'!$J$15)*SUM('Monthly CF'!N49:Y49)","v":0},{"$f":"+(N6='Project Summary'!$J$15)*SUM('Monthly CF'!O49:Z49)","v":0},{"$f":"+(O6='Project Summary'!$J$15)*SUM('Monthly CF'!P49:AA49)","v":0},{"$f":"+(P6='Project Summary'!$J$15)*SUM('Monthly CF'!Q49:AB49)","v":0},{"$f":"+(Q6='Project Summary'!$J$15)*SUM('Monthly CF'!R49:AC49)","v":0},{"$f":"+(R6='Project Summary'!$J$15)*SUM('Monthly CF'!S49:AD49)","v":0},{"$f":"+(S6='Project Summary'!$J$15)*SUM('Monthly CF'!T49:AE49)","v":0},{"$f":"+(T6='Project Summary'!$J$15)*SUM('Monthly CF'!U49:AF49)","v":0},{"$f":"+(U6='Project Summary'!$J$15)*SUM('Monthly CF'!V49:AG49)","v":0},{"$f":"+(V6='Project Summary'!$J$15)*SUM('Monthly CF'!W49:AH49)","v":1162762.7890989839},{"$f":"+(W6='Project Summary'!$J$15)*SUM('Monthly CF'!X49:AI49)","v":0},{"$f":"+(X6='Project Summary'!$J$15)*SUM('Monthly CF'!Y49:AJ49)","v":0},{"$f":"+(Y6='Project Summary'!$J$15)*SUM('Monthly CF'!Z49:AK49)","v":0},{"$f":"+(Z6='Project Summary'!$J$15)*SUM('Monthly CF'!AA49:AL49)","v":0},{"$f":"+(AA6='Project Summary'!$J$15)*SUM('Monthly CF'!AB49:AM49)","v":0},{"$f":"+(AB6='Project Summary'!$J$15)*SUM('Monthly CF'!AC49:AN49)","v":0},{"$f":"+(AC6='Project Summary'!$J$15)*SUM('Monthly CF'!AD49:AO49)","v":0},{"$f":"+(AD6='Project Summary'!$J$15)*SUM('Monthly CF'!AE49:AP49)","v":0},{"$f":"+(AE6='Project Summary'!$J$15)*SUM('Monthly CF'!AF49:AQ49)","v":0},{"$f":"+(AF6='Project Summary'!$J$15)*SUM('Monthly CF'!AG49:AR49)","v":0},{"$f":"+(AG6='Project Summary'!$J$15)*SUM('Monthly CF'!AH49:AS49)","v":0},{"$f":"+(AH6='Project Summary'!$J$15)*SUM('Monthly CF'!AI49:AT49)","v":0},{"$f":"+(AI6='Project Summary'!$J$15)*SUM('Monthly CF'!AJ49:AU49)","v":0},{"$f":"+(AJ6='Project Summary'!$J$15)*SUM('Monthly CF'!AK49:AV49)","v":0},{"$f":"+(AK6='Project Summary'!$J$15)*SUM('Monthly CF'!AL49:AW49)","v":0},{"$f":"+(AL6='Project Summary'!$J$15)*SUM('Monthly CF'!AM49:AX49)","v":0},{"$f":"+(AM6='Project Summary'!$J$15)*SUM('Monthly CF'!AN49:AY49)","v":0},{"$f":"+(AN6='Project Summary'!$J$15)*SUM('Monthly CF'!AO49:AZ49)","v":0},{"$f":"+(AO6='Project Summary'!$J$15)*SUM('Monthly CF'!AP49:BA49)","v":0},{"$f":"+(AP6='Project Summary'!$J$15)*SUM('Monthly CF'!AQ49:BB49)","v":0},{"$f":"+(AQ6='Project Summary'!$J$15)*SUM('Monthly CF'!AR49:BC49)","v":0},{"$f":"+(AR6='Project Summary'!$J$15)*SUM('Monthly CF'!AS49:BD49)","v":0},{"$f":"+(AS6='Project Summary'!$J$15)*SUM('Monthly CF'!AT49:BE49)","v":0},{"$f":"+(AT6='Project Summary'!$J$15)*SUM('Monthly CF'!AU49:BF49)","v":0},{"$f":"+(AU6='Project Summary'!$J$15)*SUM('Monthly CF'!AV49:BG49)","v":0},{"$f":"+(AV6='Project Summary'!$J$15)*SUM('Monthly CF'!AW49:BH49)","v":0},{"$f":"+(AW6='Project Summary'!$J$15)*SUM('Monthly CF'!AX49:BI49)","v":0},{"$f":"+(AX6='Project Summary'!$J$15)*SUM('Monthly CF'!AY49:BJ49)","v":0},{"$f":"+(AY6='Project Summary'!$J$15)*SUM('Monthly CF'!AZ49:BK49)","v":0},{"$f":"+(AZ6='Project Summary'!$J$15)*SUM('Monthly CF'!BA49:BL49)","v":0},{"$f":"+(BA6='Project Summary'!$J$15)*SUM('Monthly CF'!BB49:BM49)","v":0},{"$f":"+(BB6='Project Summary'!$J$15)*SUM('Monthly CF'!BC49:BN49)","v":0},{"$f":"+(BC6='Project Summary'!$J$15)*SUM('Monthly CF'!BD49:BO49)","v":0},{"$f":"+(BD6='Project Summary'!$J$15)*SUM('Monthly CF'!BE49:BP49)","v":0},{"$f":"+(BE6='Project Summary'!$J$15)*SUM('Monthly CF'!BF49:BQ49)","v":0},{"$f":"+(BF6='Project Summary'!$J$15)*SUM('Monthly CF'!BG49:BR49)","v":0},{"$f":"+(BG6='Project Summary'!$J$15)*SUM('Monthly CF'!BH49:BS49)","v":0},{"$f":"+(BH6='Project Summary'!$J$15)*SUM('Monthly CF'!BI49:BT49)","v":0},{"$f":"+(BI6='Project Summary'!$J$15)*SUM('Monthly CF'!BJ49:BU49)","v":0},{"$f":"+(BJ6='Project Summary'!$J$15)*SUM('Monthly CF'!BK49:BV49)","v":0},{"$f":"+(BK6='Project Summary'!$J$15)*SUM('Monthly CF'!BL49:BW49)","v":0},{"$f":"+(BL6='Project Summary'!$J$15)*SUM('Monthly CF'!BM49:BX49)","v":0},{"$f":"+(BM6='Project Summary'!$J$15)*SUM('Monthly CF'!BN49:BY49)","v":0},{"$f":"+(BN6='Project Summary'!$J$15)*SUM('Monthly CF'!BO49:BZ49)","v":0},{"$f":"+(BO6='Project Summary'!$J$15)*SUM('Monthly CF'!BP49:CA49)","v":0},{"$f":"+(BP6='Project Summary'!$J$15)*SUM('Monthly CF'!BQ49:CB49)","v":0},{"$f":"+(BQ6='Project Summary'!$J$15)*SUM('Monthly CF'!BR49:CC49)","v":0},{"$f":"+(BR6='Project Summary'!$J$15)*SUM('Monthly CF'!BS49:CD49)","v":0},{"$f":"+(BS6='Project Summary'!$J$15)*SUM('Monthly CF'!BT49:CE49)","v":0},{"$f":"+(BT6='Project Summary'!$J$15)*SUM('Monthly CF'!BU49:CF49)","v":0},{"$f":"+(BU6='Project Summary'!$J$15)*SUM('Monthly CF'!BV49:CG49)","v":0},{"$f":"+(BV6='Project Summary'!$J$15)*SUM('Monthly CF'!BW49:CH49)","v":0},{"$f":"+(BW6='Project Summary'!$J$15)*SUM('Monthly CF'!BX49:CI49)","v":0},{"$f":"+(BX6='Project Summary'!$J$15)*SUM('Monthly CF'!BY49:CJ49)","v":0},{"$f":"+(BY6='Project Summary'!$J$15)*SUM('Monthly CF'!BZ49:CK49)","v":0},{"$f":"+(BZ6='Project Summary'!$J$15)*SUM('Monthly CF'!CA49:CL49)","v":0},{"$f":"+(CA6='Project Summary'!$J$15)*SUM('Monthly CF'!CB49:CM49)","v":0},{"$f":"+(CB6='Project Summary'!$J$15)*SUM('Monthly CF'!CC49:CN49)","v":0},{"$f":"+(CC6='Project Summary'!$J$15)*SUM('Monthly CF'!CD49:CO49)","v":0},{"$f":"+(CD6='Project Summary'!$J$15)*SUM('Monthly CF'!CE49:CP49)","v":0},{"$f":"+(CE6='Project Summary'!$J$15)*SUM('Monthly CF'!CF49:CQ49)","v":0},{"$f":"+(CF6='Project Summary'!$J$15)*SUM('Monthly CF'!CG49:CR49)","v":0},{"$f":"+(CG6='Project Summary'!$J$15)*SUM('Monthly CF'!CH49:CS49)","v":0},{"$f":"+(CH6='Project Summary'!$J$15)*SUM('Monthly CF'!CI49:CT49)","v":0},{"$f":"+(CI6='Project Summary'!$J$15)*SUM('Monthly CF'!CJ49:CU49)","v":0},{"$f":"+(CJ6='Project Summary'!$J$15)*SUM('Monthly CF'!CK49:CV49)","v":0},{"$f":"+(CK6='Project Summary'!$J$15)*SUM('Monthly CF'!CL49:CW49)","v":0},{"$f":"+(CL6='Project Summary'!$J$15)*SUM('Monthly CF'!CM49:CX49)","v":0},{"$f":"+(CM6='Project Summary'!$J$15)*SUM('Monthly CF'!CN49:CY49)","v":0},{"$f":"+(CN6='Project Summary'!$J$15)*SUM('Monthly CF'!CO49:CZ49)","v":0},{"$f":"+(CO6='Project Summary'!$J$15)*SUM('Monthly CF'!CP49:DA49)","v":0},{"$f":"+(CP6='Project Summary'!$J$15)*SUM('Monthly CF'!CQ49:DB49)","v":0},{"$f":"+(CQ6='Project Summary'!$J$15)*SUM('Monthly CF'!CR49:DC49)","v":0},{"$f":"+(CR6='Project Summary'!$J$15)*SUM('Monthly CF'!CS49:DD49)","v":0},{"$f":"+(CS6='Project Summary'!$J$15)*SUM('Monthly CF'!CT49:DE49)","v":0},{"$f":"+(CT6='Project Summary'!$J$15)*SUM('Monthly CF'!CU49:DF49)","v":0},{"$f":"+(CU6='Project Summary'!$J$15)*SUM('Monthly CF'!CV49:DG49)","v":0},{"$f":"+(CV6='Project Summary'!$J$15)*SUM('Monthly CF'!CW49:DH49)","v":0},{"$f":"+(CW6='Project Summary'!$J$15)*SUM('Monthly CF'!CX49:DI49)","v":0},{"$f":"+(CX6='Project Summary'!$J$15)*SUM('Monthly CF'!CY49:DJ49)","v":0},{"$f":"+(CY6='Project Summary'!$J$15)*SUM('Monthly CF'!CZ49:DK49)","v":0},{"$f":"+(CZ6='Project Summary'!$J$15)*SUM('Monthly CF'!DA49:DL49)","v":0},{"$f":"+(DA6='Project Summary'!$J$15)*SUM('Monthly CF'!DB49:DM49)","v":0},{"$f":"+(DB6='Project Summary'!$J$15)*SUM('Monthly CF'!DC49:DN49)","v":0},{"$f":"+(DC6='Project Summary'!$J$15)*SUM('Monthly CF'!DD49:DO49)","v":0},{"$f":"+(DD6='Project Summary'!$J$15)*SUM('Monthly CF'!DE49:DP49)","v":0},{"$f":"+(DE6='Project Summary'!$J$15)*SUM('Monthly CF'!DF49:DQ49)","v":0},{"$f":"+(DF6='Project Summary'!$J$15)*SUM('Monthly CF'!DG49:DR49)","v":0},{"$f":"+(DG6='Project Summary'!$J$15)*SUM('Monthly CF'!DH49:DS49)","v":0},{"$f":"+(DH6='Project Summary'!$J$15)*SUM('Monthly CF'!DI49:DT49)","v":0},{"$f":"+(DI6='Project Summary'!$J$15)*SUM('Monthly CF'!DJ49:DU49)","v":0},{"$f":"+(DJ6='Project Summary'!$J$15)*SUM('Monthly CF'!DK49:DV49)","v":0},{"$f":"+(DK6='Project Summary'!$J$15)*SUM('Monthly CF'!DL49:DW49)","v":0},{"$f":"+(DL6='Project Summary'!$J$15)*SUM('Monthly CF'!DM49:DX49)","v":0},{"$f":"+(DM6='Project Summary'!$J$15)*SUM('Monthly CF'!DN49:DY49)","v":0},{"$f":"+(DN6='Project Summary'!$J$15)*SUM('Monthly CF'!DO49:DZ49)","v":0},{"$f":"+(DO6='Project Summary'!$J$15)*SUM('Monthly CF'!DP49:EA49)","v":0},{"$f":"+(DP6='Project Summary'!$J$15)*SUM('Monthly CF'!DQ49:EB49)","v":0},{"$f":"+(DQ6='Project Summary'!$J$15)*SUM('Monthly CF'!DR49:EC49)","v":0},{"$f":"+(DR6='Project Summary'!$J$15)*SUM('Monthly CF'!DS49:ED49)","v":0},{"$f":"+(DS6='Project Summary'!$J$15)*SUM('Monthly CF'!DT49:EE49)","v":0},{"$f":"+(DT6='Project Summary'!$J$15)*SUM('Monthly CF'!DU49:EF49)","v":0},{"$f":"+(DU6='Project Summary'!$J$15)*SUM('Monthly CF'!DV49:EG49)","v":0},{"$f":"+(DV6='Project Summary'!$J$15)*SUM('Monthly CF'!DW49:EH49)","v":0},{"$f":"+(DW6='Project Summary'!$J$15)*SUM('Monthly CF'!DX49:EI49)","v":0},{"$f":"+(DX6='Project Summary'!$J$15)*SUM('Monthly CF'!DY49:EJ49)","v":0},{"$f":"+(DY6='Project Summary'!$J$15)*SUM('Monthly CF'!DZ49:EK49)","v":0},{"$f":"+(DZ6='Project Summary'!$J$15)*SUM('Monthly CF'!EA49:EL49)","v":0},{"$f":"+(EA6='Project Summary'!$J$15)*SUM('Monthly CF'!EB49:EM49)","v":0},{"$f":"+(EB6='Project Summary'!$J$15)*SUM('Monthly CF'!EC49:EN49)","v":0},{"$f":"+(EC6='Project Summary'!$J$15)*SUM('Monthly CF'!ED49:EO49)","v":0},{"$f":"+(ED6='Project Summary'!$J$15)*SUM('Monthly CF'!EE49:EP49)","v":0},{"$f":"+(EE6='Project Summary'!$J$15)*SUM('Monthly CF'!EF49:EQ49)","v":0},{"$f":"+(EF6='Project Summary'!$J$15)*SUM('Monthly CF'!EG49:ER49)","v":0},{"$f":"+(EG6='Project Summary'!$J$15)*SUM('Monthly CF'!EH49:ES49)","v":0}]
[]
[null,"Levered Cash Flows",null,null,{"$f":"+(E75-E59-E74)","v":-4369999.9999999991},30912.007937189279,30912.007937189279,30912.007937189279,26483.759459851237,33773.759459851237,33773.759459851237,33773.759459851237,31313.621416885653,35363.621416885653,35571.954750218996,36592.788083552339,30228.255009708708,42812.505009708708,42812.505009708708,43236.171676375365,40784.08071508423,44421.813933577054,51021.813933577054,51021.813933577054,52571.813933577083,52571.813933577083,52571.813933577083,52571.813933577083,53526.58905591954,53526.58905591954,53526.58905591954,53526.58905591954,53659.922389252883,53659.922389252883,53659.922389252883,53659.922389252883,53920.255722586226,53920.255722586226,53920.255722586226,53920.255722586226,53859.940765265652,53859.940765265652,53859.940765265652,53859.940765265652,53859.940765265652,53859.940765265652,53859.940765265652,53859.940765265652,53859.940765265652,53859.940765265652,53859.940765265652,53859.940765265652,53797.816359225442,54714.483025892128,54714.483025892128,54714.483025892128,54714.483025892128,54714.483025892128,54714.483025892128,54714.483025892128,54714.483025892128,54714.483025892128,54714.483025892128,54714.483025892128,{"$f":"+(BM75-BM59-BM74)","v":54650.494887670706},{"$f":"+(BN75-BN59-BN74)","v":55400.494887670706},55400.494887670706,55400.494887670706,55400.494887670706,55400.494887670706,55400.494887670706,55400.494887670706,55400.494887670706,55400.494887670706,55692.161554337392,57162.161554337392,57096.253771969365,57429.253771969365,57429.253771969365,57429.253771969365,57429.253771969365,57429.253771969365,57429.253771969365,57429.253771969365,57429.253771969365,57429.253771969365,57429.253771969365,57429.253771969365,57361.368756130338,0,0,0,0,0,0,0,0,0,0,0,0,0,0,0,0,0,0,0,0,0,0,0,0,0,0,0,0,0,0,0,0,0,0,0,0,0,0,0,0,{"$f":"+(DZ75-DZ59-DZ74)","v":0},0,0,0,0,0,0,0]
[null,"Levered Net Sales Proceeds",null,null,{"$f":"+E59+E74","v":0},0,0,0,0,0,0,0,0,0,0,0,0,0,0,0,0,0,0,0,0,0,0,0,0,0,0,0,0,0,0,0,0,0,0,0,0,0,0,0,0,0,0,0,0,0,0,0,0,0,0,0,0,0,0,0,0,0,0,0,0,0,0,0,{"$f":"+BQ59+BQ74","v":0},0,0,0,0,0,0,0,0,0,0,0,0,0,0,0,0,0,0,{"$f":"+CJ59+CJ74","v":0},{"$f":"+CK59+CK74","v":8898479.9056978934},0,0,0,0,0,0,0,0,0,0,0,0,0,0,0,0,0,0,0,0,0,0,0,0,0,0,0,0,0,0,0,0,0,0,0,0,0,0,0,0,0,0,0,0,0,0,0,0]

{"sheet":"Argus-->","index":5,"n_rows":0,"n_cols":0,"rows_kept":0,"cut":false,"hidden":true,"merged":[]}

{"sheet":"LP Returns","index":6,"n_rows":59,"n_cols":94,"rows_kept":59,"cut":false,"hidden":false,"merged":[]}
[]
[null,"Woodforest LP Equity Returns"]
[null,"Year",0,1,2,3,4,5,6,7]
[null,"Equity In",{"$f":"+SUMIF($C$55:$CI$55,C3,$C$57:$CI$57)","v":-4369999.9999999991}]
[null,"Cash Flow from Operations",null,{"$f":"+SUMIF($C$55:$CI$55,D3,$C$57:$CI$57)","v":272727.91162975691},405947.18430128525,451332.29426626646,452380.01534400333,459556.86572073889,467988.52160877624,{"$f":"+SUMIF($C$55:$CI$55,J3,$C$57:$CI$57)+40200","v":482405.25404416397}]
[null,"Cash-on-Cash",null,{"$f":"+D5/$C$4*-1","v":6.2409133096054226E-2},9.2894092517456603E-2,0.10327970120509532,0.10351945431212893,0.10516175416950549,0.10709119487615019,0.11039021831674235]
[null,"Return of Equity",null,null,null,null,null,null,null,{"$f":"+C4*-1","v":4369999.9999999991},null,{"$f":"+(J7/2+J8)*0.2","v":808777.77842356334}]
[null,"Sale at 8% Cap Rate",null,null,null,null,null,null,null,{"$f":"+CI57-J7-40200","v":1858888.892117817},null,{"$f":"13173000*0.2","v":2634600}]
[null,"Sale at 7.8% Cap Rate",null,null,null,null,null,null,null,{"$f":"+('Monthly CF'!CK62+'Monthly CF'!CK74)*0.7-J7-40200","v":2089732.0448744297}]
[null,"Sale at 7.5% Cap Rate",null,null,null,null,null,null,null,{"$f":"+('Monthly CF'!CK63+'Monthly CF'!CK74)*0.7-J7-40200","v":2522356.7093827631}]
[null,"Total Distributable Proceeds at 8% Cap",{"$f":"+SUM(C$4:C$5,C$7:C$8)","v":-4369999.9999999991},{"$f":"+SUM(D$4:D$5,D$7:D$8)","v":272727.91162975691},{"$f":"+SUM(E$4:E$5,E$7:E$8)","v":405947.18430128525},451332.29426626646,452380.01534400333,459556.86572073889,467988.52160877624,6711294.14616198]
[null,"Total Distributable Proceeds at 7.8% Cap",{"$f":"+SUM(C$4:C$5,C$7,C$9)","v":-4369999.9999999991},272727.91162975691,405947.18430128525,451332.29426626646,452380.01534400333,459556.86572073889,467988.52160877624,{"$f":"+SUM(J$4:J$5,J$7,J$9)","v":6942137.2989185927}]
[null,"Total Distributable Proceeds at 7.5% Cap",-4369999.9999999991,272727.91162975691,405947.18430128525,451332.29426626646,452380.01534400333,459556.86572073889,467988.52160877624,{"$f":"+SUM(J$4:J$5,J$7,J$10)","v":7374761.9634269262}]
[null,"Return from Sale at 8.0% Cap",null,null,null,null,null,null,null,{"$f":"+J8/$J$7","v":0.42537503252123965}]
[null,"Return from Sale at 7.8% Cap",null,null,null,null,null,null,null,{"$f":"+J9/$J$7","v":0.47819955260284441}]
[null,"Return from Sale at 7.5% Cap",null,null,null,null,null,null,null,0.57719833166653634]
[]
[null,"Returns at 8% Cap Rate",null,"Returns at 7.8% Exit Cap Rate",null,null,"Returns at 7.5% Exit Cap Rate"]
[null,"Total IRR",{"$f":"+(1+IRR(C57:CI57))^12-1","v":0.13986752751085363},"Total IRR",null,{"$f":"+(1+IRR(C58:CI58))^12-1","v":0.1435021327349757},"Total IRR",null,{"$f":"+(1+IRR(C59:CI59))^12-1","v":0.1514755600503308}]
[null,"Total Equity Multiple",{"$f":"+SUM(D11:J11)/C11*-1","v":2.1101205810143728},"Total Equity Multiple",null,{"$f":"+SUM(D12:J12)/C12*-1","v":2.1629451010959779},"Total Equity Multiple",null,{"$f":"+SUM(D13:J13)/C13*-1","v":2.2619438801596692}]
[null,"Total Return per $100k",{"$f":"+C24/C11*-1*100000","v":211012.05810143729},"Total Return per $100k",null,{"$f":"+F20*100000","v":216294.51010959779},"Total Return per $100k",null,{"$f":"+I20*100000","v":226194.38801596692}]
[null,"Total Return per $250k",{"$f":"+$C$24/$C$11*-1*250000","v":527530.14525359322},"Total Return per $250k",null,{"$f":"+F20*250000","v":540736.27527399443},"Total Return per $250k",null,{"$f":"+I20*250000","v":565485.97003991727}]
[null,"Total Return per $500k",{"$f":"+$C$24/$C$11*-1*500000","v":1055060.2905071864},"Total Return per $500k",null,{"$f":"+F20*500000","v":1081472.5505479889},"Total Return per $500k",null,{"$f":"+I20*500000","v":1130971.9400798345}]
[null,"Total Deal Return",{"$f":"+SUM(D11:J11)","v":9221226.9390328079},"Total Deal Return",null,{"$f":"+SUM(D12:J12)","v":9452070.0917894207},"Total Deal Return",null,{"$f":"+SUM(D13:J13)","v":9884694.7562977523}]
[null,"Total Deal Return (%)",{"$f":"+C24/C11*-1","v":2.1101205810143728},"Total Deal Return (%)",null,{"$f":"+F24/C12*-1","v":2.1629451010959779},"Total Deal Return (%)",null,{"$f":"+I24/C13*-1","v":2.2619438801596692}]
[]
[]
[]
[]
[]
[]
[]
[]
[]
[]
[]
[]
[]
[]
[]
[]
[]
[]
[]
[]
[]
[]
[]
[]
[]
[]
[]
[]
[null,"LP Returns"]
[null,"Year",0,1,1,1,1,1,1,1,1,1,1,1,1,2,2,2,2,2,2,2,2,2,2,2,2,3,3,3,3,3,3,3,3,3,3,3,3,4,4,4,4,4,4,4,4,4,4,4,4,5,5,5,5,5,5,5,5,5,5,5,5,6,6,6,6,6,6,6,6,6,6,6,6,7,7,7,7,7,7,7,7,7,7,7,8]
[null,"Month",0,1,2,3,{"$f":"+F56+1","v":4},{"$f":"+G56+1","v":5},6,7,8,9,10,11,12,13,14,15,16,17,18,19,20,21,22,23,24,25,26,27,28,29,30,31,32,33,34,35,36,37,38,39,40,41,42,43,44,45,46,47,48,49,50,51,52,53,54,55,56,57,58,59,60,61,62,63,64,65,66,67,68,{"$f":"+BS56+1","v":69},70,71,72,73,74,75,76,77,78,79,80,81,82,83,84,85,86,87,88,89,90,91]
[null,"LP CF @ 8% cap",{"$f":"+Waterfall!$C$64+Waterfall!$C$74","v":-4369999.9999999991},{"$f":"+'Monthly CF'!F$75*0.7","v":21638.405556032492},{"$f":"+'Monthly CF'!G$75*0.7","v":21638.405556032492},{"$f":"+'Monthly CF'!H$75*0.7","v":21638.405556032492},{"$f":"+'Monthly CF'!I$75*0.7","v":18538.631621895864},{"$f":"+'Monthly CF'!J$75*0.7","v":23641.631621895864},{"$f":"+'Monthly CF'!K$75*0.7","v":23641.631621895864},{"$f":"+'Monthly CF'!L$75*0.7","v":23641.631621895864},{"$f":"+'Monthly CF'!M$75*0.7","v":21919.534991819957},{"$f":"+'Monthly CF'!N$75*0.7","v":24754.534991819957},{"$f":"+'Monthly CF'!O$75*0.7","v":24900.368325153297},{"$f":"+'Monthly CF'!P$75*0.7","v":25614.951658486636},{"$f":"+'Monthly CF'!Q$75*0.7","v":21159.778506796094},{"$f":"+'Monthly CF'!R$75*0.7","v":29968.753506796093},{"$f":"+'Monthly CF'!S$75*0.7","v":29968.753506796093},{"$f":"+'Monthly CF'!T$75*0.7","v":30265.320173462755},{"$f":"+'Monthly CF'!U$75*0.7","v":28548.856500558959},{"$f":"+'Monthly CF'!V$75*0.7","v":31095.269753503937},{"$f":"+'Monthly CF'!W$75*0.7","v":35715.269753503933},{"$f":"+'Monthly CF'!X$75*0.7","v":35715.269753503933},{"$f":"+'Monthly CF'!Y$75*0.7","v":36800.269753503955},{"$f":"+'Monthly CF'!Z$75*0.7","v":36800.269753503955},{"$f":"+'Monthly CF'!AA$75*0.7","v":36800.269753503955},{"$f":"+'Monthly CF'!AB$75*0.7","v":36800.269753503955},{"$f":"+'Monthly CF'!AC$75*0.7","v":37468.612339143678},{"$f":"+'Monthly CF'!AD$75*0.7","v":37468.612339143678},{"$f":"+'Monthly CF'!AE$75*0.7","v":37468.612339143678},{"$f":"+'Monthly CF'!AF$75*0.7","v":37468.612339143678},{"$f":"+'Monthly CF'!AG$75*0.7","v":37561.945672477013},{"$f":"+'Monthly CF'!AH$75*0.7","v":37561.945672477013},{"$f":"+'Monthly CF'!AI$75*0.7","v":37561.945672477013},{"$f":"+'Monthly CF'!AJ$75*0.7","v":37561.945672477013},{"$f":"+'Monthly CF'!AK$75*0.7","v":37744.179005810358},{"$f":"+'Monthly CF'!AL$75*0.7","v":37744.179005810358},{"$f":"+'Monthly CF'!AM$75*0.7","v":37744.179005810358},{"$f":"+'Monthly CF'!AN$75*0.7","v":37744.179005810358},{"$f":"+'Monthly CF'!AO$75*0.7","v":37701.958535685953},{"$f":"+'Monthly CF'!AP$75*0.7","v":37701.958535685953},{"$f":"+'Monthly CF'!AQ$75*0.7","v":37701.958535685953},{"$f":"+'Monthly CF'!AR$75*0.7","v":37701.958535685953},{"$f":"+'Monthly CF'!AS$75*0.7","v":37701.958535685953},{"$f":"+'Monthly CF'!AT$75*0.7","v":37701.958535685953},{"$f":"+'Monthly CF'!AU$75*0.7","v":37701.958535685953},{"$f":"+'Monthly CF'!AV$75*0.7","v":37701.958535685953},{"$f":"+'Monthly CF'!AW$75*0.7","v":37701.958535685953},{"$f":"+'Monthly CF'!AX$75*0.7","v":37701.958535685953},{"$f":"+'Monthly CF'!AY$75*0.7","v":37701.958535685953},{"$f":"+'Monthly CF'!AZ$75*0.7","v":37701.958535685953},{"$f":"+'Monthly CF'!BA$75*0.7","v":37658.471451457808},{"$f":"+'Monthly CF'!BB$75*0.7","v":38300.138118124487},{"$f":"+'Monthly CF'!BC$75*0.7","v":38300.138118124487},{"$f":"+'Monthly CF'!BD$75*0.7","v":38300.138118124487},{"$f":"+'Monthly CF'!BE$75*0.7","v":38300.138118124487},{"$f":"+'Monthly CF'!BF$75*0.7","v":38300.138118124487},{"$f":"+'Monthly CF'!BG$75*0.7","v":38300.138118124487},{"$f":"+'Monthly CF'!BH$75*0.7","v":38300.138118124487},{"$f":"+'Monthly CF'!BI$75*0.7","v":38300.138118124487},{"$f":"+'Monthly CF'!BJ$75*0.7","v":38300.138118124487},{"$f":"+'Monthly CF'!BK$75*0.7","v":38300.138118124487},{"$f":"+'Monthly CF'!BL$75*0.7","v":38300.138118124487},{"$f":"+'Monthly CF'!BM$75*0.7","v":38255.34642136949},{"$f":"+'Monthly CF'!BN$75*0.7","v":38780.34642136949},{"$f":"+'Monthly CF'!BO$75*0.7","v":38780.34642136949},{"$f":"+'Monthly CF'!BP$75*0.7","v":38780.34642136949},{"$f":"+'Monthly CF'!BQ$75*0.7","v":38780.34642136949},{"$f":"+'Monthly CF'!BR$75*0.7","v":38780.34642136949},{"$f":"+'Monthly CF'!BS$75*0.7","v":38780.34642136949},{"$f":"+'Monthly CF'!BT$75*0.7","v":38780.34642136949},{"$f":"+'Monthly CF'!BU$75*0.7","v":38780.34642136949},{"$f":"+'Monthly CF'!BV$75*0.7","v":38780.34642136949},{"$f":"+'Monthly CF'!BW$75*0.7","v":38984.513088036168},{"$f":"+'Monthly CF'!BX$75*0.7","v":40013.513088036168},{"$f":"+'Monthly CF'!BY$75*0.7","v":39967.377640378552},{"$f":"+'Monthly CF'!BZ$75*0.7","v":40200.477640378551},{"$f":"+'Monthly CF'!CA$75*0.7","v":40200.477640378551},{"$f":"+'Monthly CF'!CB$75*0.7","v":40200.477640378551},{"$f":"+'Monthly CF'!CC$75*0.7","v":40200.477640378551},{"$f":"+'Monthly CF'!CD$75*0.7","v":40200.477640378551},{"$f":"+'Monthly CF'!CE$75*0.7","v":40200.477640378551},{"$f":"+'Monthly CF'!CF$75*0.7","v":40200.477640378551},{"$f":"+'Monthly CF'!CG$75*0.7","v":40200.477640378551},{"$f":"+'Monthly CF'!CH$75*0.7","v":40200.477640378551},{"$f":"+'Monthly CF'!CI$75*0.7","v":40200.477640378551},{"$f":"+'Monthly CF'!CJ$75*0.7","v":40200.477640378551},{"$f":"+'Monthly CF'!CK$75*0.7","v":6269088.892117816}]
[null,"LP CF @ 7.8% cap",{"$f":"+Waterfall!$C$64+Waterfall!$C$74","v":-4369999.9999999991},{"$f":"+'Monthly CF'!F$75*0.7","v":21638.405556032492},{"$f":"+'Monthly CF'!G$75*0.7","v":21638.405556032492},{"$f":"+'Monthly CF'!H$75*0.7","v":21638.405556032492},{"$f":"+'Monthly CF'!I$75*0.7","v":18538.631621895864},{"$f":"+'Monthly CF'!J$75*0.7","v":23641.631621895864},{"$f":"+'Monthly CF'!K$75*0.7","v":23641.631621895864},{"$f":"+'Monthly CF'!L$75*0.7","v":23641.631621895864},{"$f":"+'Monthly CF'!M$75*0.7","v":21919.534991819957},{"$f":"+'Monthly CF'!N$75*0.7","v":24754.534991819957},{"$f":"+'Monthly CF'!O$75*0.7","v":24900.368325153297},{"$f":"+'Monthly CF'!P$75*0.7","v":25614.951658486636},{"$f":"+'Monthly CF'!Q$75*0.7","v":21159.778506796094},{"$f":"+'Monthly CF'!R$75*0.7","v":29968.753506796093},{"$f":"+'Monthly CF'!S$75*0.7","v":29968.753506796093},{"$f":"+'Monthly CF'!T$75*0.7","v":30265.320173462755},{"$f":"+'Monthly CF'!U$75*0.7","v":28548.856500558959},{"$f":"+'Monthly CF'!V$75*0.7","v":31095.269753503937},{"$f":"+'Monthly CF'!W$75*0.7","v":35715.269753503933},{"$f":"+'Monthly CF'!X$75*0.7","v":35715.269753503933},{"$f":"+'Monthly CF'!Y$75*0.7","v":36800.269753503955},{"$f":"+'Monthly CF'!Z$75*0.7","v":36800.269753503955},{"$f":"+'Monthly CF'!AA$75*0.7","v":36800.269753503955},{"$f":"+'Monthly CF'!AB$75*0.7","v":36800.269753503955},{"$f":"+'Monthly CF'!AC$75*0.7","v":37468.612339143678},{"$f":"+'Monthly CF'!AD$75*0.7","v":37468.612339143678},{"$f":"+'Monthly CF'!AE$75*0.7","v":37468.612339143678},{"$f":"+'Monthly CF'!AF$75*0.7","v":37468.612339143678},{"$f":"+'Monthly CF'!AG$75*0.7","v":37561.945672477013},{"$f":"+'Monthly CF'!AH$75*0.7","v":37561.945672477013},{"$f":"+'Monthly CF'!AI$75*0.7","v":37561.945672477013},{"$f":"+'Monthly CF'!AJ$75*0.7","v":37561.945672477013},{"$f":"+'Monthly CF'!AK$75*0.7","v":37744.179005810358},{"$f":"+'Monthly CF'!AL$75*0.7","v":37744.179005810358},{"$f":"+'Monthly CF'!AM$75*0.7","v":37744.179005810358},{"$f":"+'Monthly CF'!AN$75*0.7","v":37744.179005810358},{"$f":"+'Monthly CF'!AO$75*0.7","v":37701.958535685953},{"$f":"+'Monthly CF'!AP$75*0.7","v":37701.958535685953},{"$f":"+'Monthly CF'!AQ$75*0.7","v":37701.958535685953},{"$f":"+'Monthly CF'!AR$75*0.7","v":37701.958535685953},{"$f":"+'Monthly CF'!AS$75*0.7","v":37701.958535685953},{"$f":"+'Monthly CF'!AT$75*0.7","v":37701.958535685953},{"$f":"+'Monthly CF'!AU$75*0.7","v":37701.958535685953},{"$f":"+'Monthly CF'!AV$75*0.7","v":37701.958535685953},{"$f":"+'Monthly CF'!AW$75*0.7","v":37701.958535685953},{"$f":"+'Monthly CF'!AX$75*0.7","v":37701.958535685953},{"$f":"+'Monthly CF'!AY$75*0.7","v":37701.958535685953},{"$f":"+'Monthly CF'!AZ$75*0.7","v":37701.958535685953},{"$f":"+'Monthly CF'!BA$75*0.7","v":37658.471451457808},{"$f":"+'Monthly CF'!BB$75*0.7","v":38300.138118124487},{"$f":"+'Monthly CF'!BC$75*0.7","v":38300.138118124487},{"$f":"+'Monthly CF'!BD$75*0.7","v":38300.138118124487},{"$f":"+'Monthly CF'!BE$75*0.7","v":38300.138118124487},{"$f":"+'Monthly CF'!BF$75*0.7","v":38300.138118124487},{"$f":"+'Monthly CF'!BG$75*0.7","v":38300.138118124487},{"$f":"+'Monthly CF'!BH$75*0.7","v":38300.138118124487},{"$f":"+'Monthly CF'!BI$75*0.7","v":38300.138118124487},{"$f":"+'Monthly CF'!BJ$75*0.7","v":38300.138118124487},{"$f":"+'Monthly CF'!BK$75*0.7","v":38300.138118124487},{"$f":"+'Monthly CF'!BL$75*0.7","v":38300.138118124487},{"$f":"+'Monthly CF'!BM$75*0.7","v":38255.34642136949},{"$f":"+'Monthly CF'!BN$75*0.7","v":38780.34642136949},{"$f":"+'Monthly CF'!BO$75*0.7","v":38780.34642136949},{"$f":"+'Monthly CF'!BP$75*0.7","v":38780.34642136949},{"$f":"+'Monthly CF'!BQ$75*0.7","v":38780.34642136949},{"$f":"+'Monthly CF'!BR$75*0.7","v":38780.34642136949},{"$f":"+'Monthly CF'!BS$75*0.7","v":38780.34642136949},{"$f":"+'Monthly CF'!BT$75*0.7","v":38780.34642136949},{"$f":"+'Monthly CF'!BU$75*0.7","v":38780.34642136949},{"$f":"+'Monthly CF'!BV$75*0.7","v":38780.34642136949},{"$f":"+'Monthly CF'!BW$75*0.7","v":38984.513088036168},{"$f":"+'Monthly CF'!BX$75*0.7","v":40013.513088036168},{"$f":"+'Monthly CF'!BY$75*0.7","v":39967.377640378552},{"$f":"+'Monthly CF'!BZ$75*0.7","v":40200.477640378551},{"$f":"+'Monthly CF'!CA$75*0.7","v":40200.477640378551},{"$f":"+'Monthly CF'!CB$75*0.7","v":40200.477640378551},{"$f":"+'Monthly CF'!CC$75*0.7","v":40200.477640378551},{"$f":"+'Monthly CF'!CD$75*0.7","v":40200.477640378551},{"$f":"+'Monthly CF'!CE$75*0.7","v":40200.477640378551},{"$f":"+'Monthly CF'!CF$75*0.7","v":40200.477640378551},{"$f":"+'Monthly CF'!CG$75*0.7","v":40200.477640378551},{"$f":"+'Monthly CF'!CH$75*0.7","v":40200.477640378551},{"$f":"+'Monthly CF'!CI$75*0.7","v":40200.477640378551},{"$f":"+'Monthly CF'!CJ$75*0.7","v":40200.477640378551},{"$f":"+$J$7+J9","v":6459732.0448744288}]
[null,"LP CF @ 7.5% cap",{"$f":"+Waterfall!$C$64+Waterfall!$C$74","v":-4369999.9999999991},{"$f":"+'Monthly CF'!F$75*0.7","v":21638.405556032492},{"$f":"+'Monthly CF'!G$75*0.7","v":21638.405556032492},{"$f":"+'Monthly CF'!H$75*0.7","v":21638.405556032492},{"$f":"+'Monthly CF'!I$75*0.7","v":18538.631621895864},{"$f":"+'Monthly CF'!J$75*0.7","v":23641.631621895864},{"$f":"+'Monthly CF'!K$75*0.7","v":23641.631621895864},{"$f":"+'Monthly CF'!L$75*0.7","v":23641.631621895864},{"$f":"+'Monthly CF'!M$75*0.7","v":21919.534991819957},{"$f":"+'Monthly CF'!N$75*0.7","v":24754.534991819957},{"$f":"+'Monthly CF'!O$75*0.7","v":24900.368325153297},{"$f":"+'Monthly CF'!P$75*0.7","v":25614.951658486636},{"$f":"+'Monthly CF'!Q$75*0.7","v":21159.778506796094},{"$f":"+'Monthly CF'!R$75*0.7","v":29968.753506796093},{"$f":"+'Monthly CF'!S$75*0.7","v":29968.753506796093},{"$f":"+'Monthly CF'!T$75*0.7","v":30265.320173462755},{"$f":"+'Monthly CF'!U$75*0.7","v":28548.856500558959},{"$f":"+'Monthly CF'!V$75*0.7","v":31095.269753503937},{"$f":"+'Monthly CF'!W$75*0.7","v":35715.269753503933},{"$f":"+'Monthly CF'!X$75*0.7","v":35715.269753503933},{"$f":"+'Monthly CF'!Y$75*0.7","v":36800.269753503955},{"$f":"+'Monthly CF'!Z$75*0.7","v":36800.269753503955},{"$f":"+'Monthly CF'!AA$75*0.7","v":36800.269753503955},{"$f":"+'Monthly CF'!AB$75*0.7","v":36800.269753503955},{"$f":"+'Monthly CF'!AC$75*0.7","v":37468.612339143678},{"$f":"+'Monthly CF'!AD$75*0.7","v":37468.612339143678},{"$f":"+'Monthly CF'!AE$75*0.7","v":37468.612339143678},{"$f":"+'Monthly CF'!AF$75*0.7","v":37468.612339143678},{"$f":"+'Monthly CF'!AG$75*0.7","v":37561.945672477013},{"$f":"+'Monthly CF'!AH$75*0.7","v":37561.945672477013},{"$f":"+'Monthly CF'!AI$75*0.7","v":37561.945672477013},{"$f":"+'Monthly CF'!AJ$75*0.7","v":37561.945672477013},{"$f":"+'Monthly CF'!AK$75*0.7","v":37744.179005810358},{"$f":"+'Monthly CF'!AL$75*0.7","v":37744.179005810358},{"$f":"+'Monthly CF'!AM$75*0.7","v":37744.179005810358},{"$f":"+'Monthly CF'!AN$75*0.7","v":37744.179005810358},{"$f":"+'Monthly CF'!AO$75*0.7","v":37701.958535685953},{"$f":"+'Monthly CF'!AP$75*0.7","v":37701.958535685953},{"$f":"+'Monthly CF'!AQ$75*0.7","v":37701.958535685953},{"$f":"+'Monthly CF'!AR$75*0.7","v":37701.958535685953},{"$f":"+'Monthly CF'!AS$75*0.7","v":37701.958535685953},{"$f":"+'Monthly CF'!AT$75*0.7","v":37701.958535685953},{"$f":"+'Monthly CF'!AU$75*0.7","v":37701.958535685953},{"$f":"+'Monthly CF'!AV$75*0.7","v":37701.958535685953},{"$f":"+'Monthly CF'!AW$75*0.7","v":37701.958535685953},{"$f":"+'Monthly CF'!AX$75*0.7","v":37701.958535685953},{"$f":"+'Monthly CF'!AY$75*0.7","v":37701.958535685953},{"$f":"+'Monthly CF'!AZ$75*0.7","v":37701.958535685953},{"$f":"+'Monthly CF'!BA$75*0.7","v":37658.471451457808},{"$f":"+'Monthly CF'!BB$75*0.7","v":38300.138118124487},{"$f":"+'Monthly CF'!BC$75*0.7","v":38300.138118124487},{"$f":"+'Monthly CF'!BD$75*0.7","v":38300.138118124487},{"$f":"+'Monthly CF'!BE$75*0.7","v":38300.138118124487},{"$f":"+'Monthly CF'!BF$75*0.7","v":38300.138118124487},{"$f":"+'Monthly CF'!BG$75*0.7","v":38300.138118124487},{"$f":"+'Monthly CF'!BH$75*0.7","v":38300.138118124487},{"$f":"+'Monthly CF'!BI$75*0.7","v":38300.138118124487},{"$f":"+'Monthly CF'!BJ$75*0.7","v":38300.138118124487},{"$f":"+'Monthly CF'!BK$75*0.7","v":38300.138118124487},{"$f":"+'Monthly CF'!BL$75*0.7","v":38300.138118124487},{"$f":"+'Monthly CF'!BM$75*0.7","v":38255.34642136949},{"$f":"+'Monthly CF'!BN$75*0.7","v":38780.34642136949},{"$f":"+'Monthly CF'!BO$75*0.7","v":38780.34642136949},{"$f":"+'Monthly CF'!BP$75*0.7","v":38780.34642136949},{"$f":"+'Monthly CF'!BQ$75*0.7","v":38780.34642136949},{"$f":"+'Monthly CF'!BR$75*0.7","v":38780.34642136949},{"$f":"+'Monthly CF'!BS$75*0.7","v":38780.34642136949},{"$f":"+'Monthly CF'!BT$75*0.7","v":38780.34642136949},{"$f":"+'Monthly CF'!BU$75*0.7","v":38780.34642136949},{"$f":"+'Monthly CF'!BV$75*0.7","v":38780.34642136949},{"$f":"+'Monthly CF'!BW$75*0.7","v":38984.513088036168},{"$f":"+'Monthly CF'!BX$75*0.7","v":40013.513088036168},{"$f":"+'Monthly CF'!BY$75*0.7","v":39967.377640378552},{"$f":"+'Monthly CF'!BZ$75*0.7","v":40200.477640378551},{"$f":"+'Monthly CF'!CA$75*0.7","v":40200.477640378551},{"$f":"+'Monthly CF'!CB$75*0.7","v":40200.477640378551},{"$f":"+'Monthly CF'!CC$75*0.7","v":40200.477640378551},{"$f":"+'Monthly CF'!CD$75*0.7","v":40200.477640378551},{"$f":"+'Monthly CF'!CE$75*0.7","v":40200.477640378551},{"$f":"+'Monthly CF'!CF$75*0.7","v":40200.477640378551},{"$f":"+'Monthly CF'!CG$75*0.7","v":40200.477640378551},{"$f":"+'Monthly CF'!CH$75*0.7","v":40200.477640378551},{"$f":"+'Monthly CF'!CI$75*0.7","v":40200.477640378551},{"$f":"+'Monthly CF'!CJ$75*0.7","v":40200.477640378551},{"$f":"+$J$7+J10","v":6892356.7093827622}]

{"sheet":"Monthly Cash Flows","index":7,"n_rows":107,"n_cols":133,"rows_kept":107,"cut":false,"hidden":true,"merged":[]}
[]
[]
[]
[]
[]
[]
[]
[]
[null,null,null,"Schedule Of Prospective Cash Flow"]
[]
["YEAR",1,{"$f":"IF(MONTH($B$13)=MONTH(C$13),B11+1,B11)","v":1},{"$f":"IF(MONTH($B$13)=MONTH(D$13),C11+1,C11)","v":1},1,1,1,1,1,1,1,1,1,2,2,2,2,2,2,2,2,2,2,2,2,3,3,3,3,3,3,3,3,3,3,3,3,4,4,4,4,4,4,4,4,4,4,4,4,5,5,5,5,5,5,5,5,5,5,5,5,6,6,6,6,6,6,{"$f":"IF(MONTH($B$13)=MONTH(BP$13),BO11+1,BO11)","v":6},6,6,6,6,6,7,7,7,7,7,7,7,7,7,7,7,7,8,8,8,8,8,8,8,8,8,8,8,8,9,9,9,9,9,9,9,9,9,9,9,9,10,10,10,10,10,10,10,10,10,10,10,10,11,11,11,11,11,11,11,11,11,11,{"$f":"IF(MONTH($B$13)=MONTH(EB$13),EA11+1,EA11)","v":11},11]
["MONTH",1,{"$f":"B12+1","v":2},{"$f":"C12+1","v":3},4,5,6,7,8,9,10,11,12,13,14,15,16,17,18,19,20,21,22,23,24,25,26,27,28,29,30,31,32,33,34,35,36,37,38,39,40,41,42,43,44,45,46,47,48,49,50,51,52,53,54,55,56,57,58,59,60,61,62,63,64,65,66,{"$f":"BO12+1","v":67},68,69,70,71,72,73,74,75,76,77,78,79,80,81,82,83,84,85,86,87,88,89,90,91,92,93,94,95,96,97,98,99,100,101,102,103,104,105,106,107,108,109,110,111,112,113,114,115,116,117,118,119,120,121,122,123,124,125,126,127,128,129,130,{"$f":"EA12+1","v":131},{"$f":"EB12+1","v":132}]
["For the Months","2018-01-01",{"$f":"+EOMONTH(B13,1)","v":"2018-02-28"},{"$f":"+EOMONTH(C13,1)","v":"2018-03-31"},"2018-04-30","2018-05-31","2018-06-30","2018-07-31","2018-08-31","2018-09-30","2018-10-31","2018-11-30","2018-12-31","2019-01-31","2019-02-28","2019-03-31","2019-04-30","2019-05-31","2019-06-30","2019-07-31","2019-08-31","2019-09-30","2019-10-31","2019-11-30","2019-12-31","2020-01-31","2020-02-29","2020-03-31","2020-04-30","2020-05-31","2020-06-30","2020-07-31","2020-08-31","2020-09-30","2020-10-31","2020-11-30","2020-12-31","2021-01-31","2021-02-28","2021-03-31","2021-04-30","2021-05-31","2021-06-30","2021-07-31","2021-08-31","2021-09-30","2021-10-31","2021-11-30","2021-12-31","2022-01-31","2022-02-28","2022-03-31","2022-04-30","2022-05-31","2022-06-30","2022-07-31","2022-08-31","2022-09-30","2022-10-31","2022-11-30","2022-12-31","2023-01-31","2023-02-28","2023-03-31","2023-04-30","2023-05-31","2023-06-30",{"$f":"+EOMONTH(BO13,1)","v":"2023-07-31"},"2023-08-31","2023-09-30","2023-10-31","2023-11-30","2023-12-31","2024-01-31","2024-02-29","2024-03-31","2024-04-30","2024-05-31","2024-06-30","2024-07-31","2024-08-31","2024-09-30","2024-10-31","2024-11-30","2024-12-31","2025-01-31","2025-02-28","2025-03-31","2025-04-30","2025-05-31","2025-06-30","2025-07-31","2025-08-31","2025-09-30","2025-10-31","2025-11-30","2025-12-31","2026-01-31","2026-02-28","2026-03-31","2026-04-30","2026-05-31","2026-06-30","2026-07-31","2026-08-31","2026-09-30","2026-10-31","2026-11-30","2026-12-31","2027-01-31","2027-02-28","2027-03-31","2027-04-30","2027-05-31","2027-06-30","2027-07-31","2027-08-31","2027-09-30","2027-10-31","2027-11-30","2027-12-31","2028-01-31","2028-02-29","2028-03-31","2028-04-30","2028-05-31","2028-06-30","2028-07-31","2028-08-31","2028-09-30","2028-10-31",{"$f":"+EOMONTH(EA13,1)","v":"2028-11-30"},"2028-12-31"]
[null," __________"," __________"," __________"," __________"," __________"," __________"," __________"," __________"," __________"," __________"," __________"," __________"," __________"," __________"," __________"," __________"," __________"," __________"," __________"," __________"," __________"," __________"," __________"," __________"," __________"," __________"," __________"," __________"," __________"," __________"," __________"," __________"," __________"," __________"," __________"," __________"," __________"," __________"," __________"," __________"," __________"," __________"," __________"," __________"," __________"," __________"," __________"," __________"," __________"," __________"," __________"," __________"," __________"," __________"," __________"," __________"," __________"," __________"," __________"," __________"," __________"," __________"," __________"," __________"," __________"," __________"," __________"," __________"," __________"," __________"," __________"," __________"," __________"," __________"," __________"," __________"," __________"," __________"," __________"," __________"," __________"," __________"," __________"," __________"," __________"," __________"," __________"," __________"," __________"," __________"," __________"," __________"," __________"," __________"," __________"," __________"," __________"," __________"," __________"," __________"," __________"," __________"," __________"," __________"," __________"," __________"," __________"," __________"," __________"," __________"," __________"," __________"," __________"," __________"," __________"," __________"," __________"," __________"," __________"," __________"]
["Potential Gross Revenue"]
["  Base Rental Revenue",{"$f":"+'Scheduled Base Rental Revenue'!G39*SUM('Scheduled Base Rental Revenue'!$C$6:$C$37)/12","v":79581.658333333326},{"$f":"+'Scheduled Base Rental Revenue'!H39*SUM('Scheduled Base Rental Revenue'!$C$6:$C$37)/12","v":80144.15833333334},{"$f":"+'Scheduled Base Rental Revenue'!I39*SUM('Scheduled Base Rental Revenue'!$C$6:$C$37)/12","v":80144.15833333334},{"$f":"+'Scheduled Base Rental Revenue'!J39*SUM('Scheduled Base Rental Revenue'!$C$6:$C$37)/12","v":80144.15833333334},{"$f":"+'Scheduled Base Rental Revenue'!K39*SUM('Scheduled Base Rental Revenue'!$C$6:$C$37)/12","v":82469.15833333334},{"$f":"+'Scheduled Base Rental Revenue'!L39*SUM('Scheduled Base Rental Revenue'!$C$6:$C$37)/12","v":82469.15833333334},{"$f":"+'Scheduled Base Rental Revenue'!M39*SUM('Scheduled Base Rental Revenue'!$C$6:$C$37)/12","v":82469.15833333334},{"$f":"+'Scheduled Base Rental Revenue'!N39*SUM('Scheduled Base Rental Revenue'!$C$6:$C$37)/12","v":82469.15833333334},{"$f":"+'Scheduled Base Rental Revenue'!O39*SUM('Scheduled Base Rental Revenue'!$C$6:$C$37)/12","v":83760.824999999997},{"$f":"+'Scheduled Base Rental Revenue'!P39*SUM('Scheduled Base Rental Revenue'!$C$6:$C$37)/12","v":83760.824999999997},{"$f":"+'Scheduled Base Rental Revenue'!Q39*SUM('Scheduled Base Rental Revenue'!$C$6:$C$37)/12","v":83969.15833333334},{"$f":"+'Scheduled Base Rental Revenue'!R39*SUM('Scheduled Base Rental Revenue'!$C$6:$C$37)/12","v":84989.991666666683},{"$f":"+'Scheduled Base Rental Revenue'!S39*SUM('Scheduled Base Rental Revenue'!$C$6:$C$37)/12","v":89785.641666666663},{"$f":"+'Scheduled Base Rental Revenue'!T39*SUM('Scheduled Base Rental Revenue'!$C$6:$C$37)/12","v":90039.891666666663},{"$f":"+'Scheduled Base Rental Revenue'!U39*SUM('Scheduled Base Rental Revenue'!$C$6:$C$37)/12","v":90039.891666666663},{"$f":"+'Scheduled Base Rental Revenue'!V39*SUM('Scheduled Base Rental Revenue'!$C$6:$C$37)/12","v":90463.558333333334},{"$f":"+'Scheduled Base Rental Revenue'!W39*SUM('Scheduled Base Rental Revenue'!$C$6:$C$37)/12","v":91755.224999999991},{"$f":"+'Scheduled Base Rental Revenue'!X39*SUM('Scheduled Base Rental Revenue'!$C$6:$C$37)/12","v":97269.224999999991},{"$f":"+'Scheduled Base Rental Revenue'!Y39*SUM('Scheduled Base Rental Revenue'!$C$6:$C$37)/12","v":97269.224999999991},{"$f":"+'Scheduled Base Rental Revenue'!Z39*SUM('Scheduled Base Rental Revenue'!$C$6:$C$37)/12","v":97269.224999999991},{"$f":"+'Scheduled Base Rental Revenue'!AA39*SUM('Scheduled Base Rental Revenue'!$C$6:$C$37)/12","v":98819.224999999991},{"$f":"+'Scheduled Base Rental Revenue'!AB39*SUM('Scheduled Base Rental Revenue'!$C$6:$C$37)/12","v":98819.224999999991},{"$f":"+'Scheduled Base Rental Revenue'!AC39*SUM('Scheduled Base Rental Revenue'!$C$6:$C$37)/12","v":98819.224999999991},{"$f":"+'Scheduled Base Rental Revenue'!AD39*SUM('Scheduled Base Rental Revenue'!$C$6:$C$37)/12","v":98819.224999999991},{"$f":"+'Scheduled Base Rental Revenue'!AE39*SUM('Scheduled Base Rental Revenue'!$C$6:$C$37)/12","v":99832.558333333334},{"$f":"+'Scheduled Base Rental Revenue'!AF39*SUM('Scheduled Base Rental Revenue'!$C$6:$C$37)/12","v":99832.558333333334},{"$f":"+'Scheduled Base Rental Revenue'!AG39*SUM('Scheduled Base Rental Revenue'!$C$6:$C$37)/12","v":99832.558333333334},{"$f":"+'Scheduled Base Rental Revenue'!AH39*SUM('Scheduled Base Rental Revenue'!$C$6:$C$37)/12","v":99832.558333333334},{"$f":"+'Scheduled Base Rental Revenue'!AI39*SUM('Scheduled Base Rental Revenue'!$C$6:$C$37)/12","v":99965.891666666663},{"$f":"+'Scheduled Base Rental Revenue'!AJ39*SUM('Scheduled Base Rental Revenue'!$C$6:$C$37)/12","v":99965.891666666663},{"$f":"+'Scheduled Base Rental Revenue'!AK39*SUM('Scheduled Base Rental Revenue'!$C$6:$C$37)/12","v":99965.891666666663},{"$f":"+'Scheduled Base Rental Revenue'!AL39*SUM('Scheduled Base Rental Revenue'!$C$6:$C$37)/12","v":99965.891666666663},{"$f":"+'Scheduled Base Rental Revenue'!AM39*SUM('Scheduled Base Rental Revenue'!$C$6:$C$37)/12","v":100226.22499999999},{"$f":"+'Scheduled Base Rental Revenue'!AN39*SUM('Scheduled Base Rental Revenue'!$C$6:$C$37)/12","v":100226.22499999999},{"$f":"+'Scheduled Base Rental Revenue'!AO39*SUM('Scheduled Base Rental Revenue'!$C$6:$C$37)/12","v":100226.22499999999},{"$f":"+'Scheduled Base Rental Revenue'!AP39*SUM('Scheduled Base Rental Revenue'!$C$6:$C$37)/12","v":100226.22499999999},{"$f":"+'Scheduled Base Rental Revenue'!AQ39*SUM('Scheduled Base Rental Revenue'!$C$6:$C$37)/12","v":100226.22499999999},{"$f":"+'Scheduled Base Rental Revenue'!AR39*SUM('Scheduled Base Rental Revenue'!$C$6:$C$37)/12","v":100226.22499999999},{"$f":"+'Scheduled Base Rental Revenue'!AS39*SUM('Scheduled Base Rental Revenue'!$C$6:$C$37)/12","v":100226.22499999999},{"$f":"+'Scheduled Base Rental Revenue'!AT39*SUM('Scheduled Base Rental Revenue'!$C$6:$C$37)/12","v":100226.22499999999},{"$f":"+'Scheduled Base Rental Revenue'!AU39*SUM('Scheduled Base Rental Revenue'!$C$6:$C$37)/12","v":100226.22499999999},{"$f":"+'Scheduled Base Rental Revenue'!AV39*SUM('Scheduled Base Rental Revenue'!$C$6:$C$37)/12","v":100226.22499999999},{"$f":"+'Scheduled Base Rental Revenue'!AW39*SUM('Scheduled Base Rental Revenue'!$C$6:$C$37)/12","v":100226.22499999999},{"$f":"+'Scheduled Base Rental Revenue'!AX39*SUM('Scheduled Base Rental Revenue'!$C$6:$C$37)/12","v":100226.22499999999},{"$f":"+'Scheduled Base Rental Revenue'!AY39*SUM('Scheduled Base Rental Revenue'!$C$6:$C$37)/12","v":100226.22499999999},{"$f":"+'Scheduled Base Rental Revenue'!AZ39*SUM('Scheduled Base Rental Revenue'!$C$6:$C$37)/12","v":100226.22499999999},{"$f":"+'Scheduled Base Rental Revenue'!BA39*SUM('Scheduled Base Rental Revenue'!$C$6:$C$37)/12","v":100226.22499999999},{"$f":"+'Scheduled Base Rental Revenue'!BB39*SUM('Scheduled Base Rental Revenue'!$C$6:$C$37)/12","v":100226.22499999999},{"$f":"+'Scheduled Base Rental Revenue'!BC39*SUM('Scheduled Base Rental Revenue'!$C$6:$C$37)/12","v":100226.22499999999},{"$f":"+'Scheduled Base Rental Revenue'!BD39*SUM('Scheduled Base Rental Revenue'!$C$6:$C$37)/12","v":101142.89166666668},{"$f":"+'Scheduled Base Rental Revenue'!BE39*SUM('Scheduled Base Rental Revenue'!$C$6:$C$37)/12","v":101142.89166666668},{"$f":"+'Scheduled Base Rental Revenue'!BF39*SUM('Scheduled Base Rental Revenue'!$C$6:$C$37)/12","v":101142.89166666668},{"$f":"+'Scheduled Base Rental Revenue'!BG39*SUM('Scheduled Base Rental Revenue'!$C$6:$C$37)/12","v":101142.89166666668},{"$f":"+'Scheduled Base Rental Revenue'!BH39*SUM('Scheduled Base Rental Revenue'!$C$6:$C$37)/12","v":101142.89166666668},{"$f":"+'Scheduled Base Rental Revenue'!BI39*SUM('Scheduled Base Rental Revenue'!$C$6:$C$37)/12","v":101142.89166666668},{"$f":"+'Scheduled Base Rental Revenue'!BJ39*SUM('Scheduled Base Rental Revenue'!$C$6:$C$37)/12","v":101142.89166666668},{"$f":"+'Scheduled Base Rental Revenue'!BK39*SUM('Scheduled Base Rental Revenue'!$C$6:$C$37)/12","v":101142.89166666668},{"$f":"+'Scheduled Base Rental Revenue'!BL39*SUM('Scheduled Base Rental Revenue'!$C$6:$C$37)/12","v":101142.89166666668},{"$f":"+'Scheduled Base Rental Revenue'!BM39*SUM('Scheduled Base Rental Revenue'!$C$6:$C$37)/12","v":101142.89166666668},{"$f":"+'Scheduled Base Rental Revenue'!BN39*SUM('Scheduled Base Rental Revenue'!$C$6:$C$37)/12","v":101142.89166666668},{"$f":"+'Scheduled Base Rental Revenue'!BO39*SUM('Scheduled Base Rental Revenue'!$C$6:$C$37)/12","v":101142.89166666668},{"$f":"+'Scheduled Base Rental Revenue'!BP39*SUM('Scheduled Base Rental Revenue'!$C$6:$C$37)/12","v":101892.89166666668},{"$f":"+'Scheduled Base Rental Revenue'!BQ39*SUM('Scheduled Base Rental Revenue'!$C$6:$C$37)/12","v":101892.89166666668},{"$f":"+'Scheduled Base Rental Revenue'!BR39*SUM('Scheduled Base Rental Revenue'!$C$6:$C$37)/12","v":101892.89166666668},{"$f":"+'Scheduled Base Rental Revenue'!BS39*SUM('Scheduled Base Rental Revenue'!$C$6:$C$37)/12","v":101892.89166666668},{"$f":"+'Scheduled Base Rental Revenue'!BT39*SUM('Scheduled Base Rental Revenue'!$C$6:$C$37)/12","v":101892.89166666668},{"$f":"+'Scheduled Base Rental Revenue'!BU39*SUM('Scheduled Base Rental Revenue'!$C$6:$C$37)/12","v":101892.89166666668},{"$f":"+'Scheduled Base Rental Revenue'!BV39*SUM('Scheduled Base Rental Revenue'!$C$6:$C$37)/12","v":101892.89166666668},{"$f":"+'Scheduled Base Rental Revenue'!BW39*SUM('Scheduled Base Rental Revenue'!$C$6:$C$37)/12","v":101892.89166666668},{"$f":"+'Scheduled Base Rental Revenue'!BX39*SUM('Scheduled Base Rental Revenue'!$C$6:$C$37)/12","v":101892.89166666668},{"$f":"+'Scheduled Base Rental Revenue'!BY39*SUM('Scheduled Base Rental Revenue'!$C$6:$C$37)/12","v":102184.55833333335},{"$f":"+'Scheduled Base Rental Revenue'!BZ39*SUM('Scheduled Base Rental Revenue'!$C$6:$C$37)/12","v":103654.55833333335},{"$f":"+'Scheduled Base Rental Revenue'!CA39*SUM('Scheduled Base Rental Revenue'!$C$6:$C$37)/12","v":103654.55833333335},{"$f":"+'Scheduled Base Rental Revenue'!CB39*SUM('Scheduled Base Rental Revenue'!$C$6:$C$37)/12","v":103987.55833333335},{"$f":"+'Scheduled Base Rental Revenue'!CC39*SUM('Scheduled Base Rental Revenue'!$C$6:$C$37)/12","v":103987.55833333335},{"$f":"+'Scheduled Base Rental Revenue'!CD39*SUM('Scheduled Base Rental Revenue'!$C$6:$C$37)/12","v":103987.55833333335},{"$f":"+'Scheduled Base Rental Revenue'!CE39*SUM('Scheduled Base Rental Revenue'!$C$6:$C$37)/12","v":103987.55833333335},{"$f":"+'Scheduled Base Rental Revenue'!CF39*SUM('Scheduled Base Rental Revenue'!$C$6:$C$37)/12","v":103987.55833333335},{"$f":"+'Scheduled Base Rental Revenue'!CG39*SUM('Scheduled Base Rental Revenue'!$C$6:$C$37)/12","v":103987.55833333335},{"$f":"+'Scheduled Base Rental Revenue'!CH39*SUM('Scheduled Base Rental Revenue'!$C$6:$C$37)/12","v":103987.55833333335},{"$f":"+'Scheduled Base Rental Revenue'!CI39*SUM('Scheduled Base Rental Revenue'!$C$6:$C$37)/12","v":103987.55833333335},{"$f":"+'Scheduled Base Rental Revenue'!CJ39*SUM('Scheduled Base Rental Revenue'!$C$6:$C$37)/12","v":103987.55833333335},{"$f":"+'Scheduled Base Rental Revenue'!CK39*SUM('Scheduled Base Rental Revenue'!$C$6:$C$37)/12","v":103987.55833333335},{"$f":"+'Scheduled Base Rental Revenue'!CL39*SUM('Scheduled Base Rental Revenue'!$C$6:$C$37)/12","v":103987.55833333335},{"$f":"+'Scheduled Base Rental Revenue'!CM39*SUM('Scheduled Base Rental Revenue'!$C$6:$C$37)/12","v":103987.55833333335},{"$f":"+'Scheduled Base Rental Revenue'!CN39*SUM('Scheduled Base Rental Revenue'!$C$6:$C$37)/12","v":103987.55833333335},{"$f":"+'Scheduled Base Rental Revenue'!CO39*SUM('Scheduled Base Rental Revenue'!$C$6:$C$37)/12","v":103987.55833333335},{"$f":"+'Scheduled Base Rental Revenue'!CP39*SUM('Scheduled Base Rental Revenue'!$C$6:$C$37)/12","v":103987.55833333335},{"$f":"+'Scheduled Base Rental Revenue'!CQ39*SUM('Scheduled Base Rental Revenue'!$C$6:$C$37)/12","v":103987.55833333335},{"$f":"+'Scheduled Base Rental Revenue'!CR39*SUM('Scheduled Base Rental Revenue'!$C$6:$C$37)/12","v":103987.55833333335},{"$f":"+'Scheduled Base Rental Revenue'!CS39*SUM('Scheduled Base Rental Revenue'!$C$6:$C$37)/12","v":103987.55833333335},{"$f":"+'Scheduled Base Rental Revenue'!CT39*SUM('Scheduled Base Rental Revenue'!$C$6:$C$37)/12","v":103987.55833333335},{"$f":"+'Scheduled Base Rental Revenue'!CU39*SUM('Scheduled Base Rental Revenue'!$C$6:$C$37)/12","v":103987.55833333335},{"$f":"+'Scheduled Base Rental Revenue'!CV39*SUM('Scheduled Base Rental Revenue'!$C$6:$C$37)/12","v":103987.55833333335},{"$f":"+'Scheduled Base Rental Revenue'!CW39*SUM('Scheduled Base Rental Revenue'!$C$6:$C$37)/12","v":103987.55833333335},{"$f":"+'Scheduled Base Rental Revenue'!CX39*SUM('Scheduled Base Rental Revenue'!$C$6:$C$37)/12","v":103987.55833333335},{"$f":"+'Scheduled Base Rental Revenue'!CY39*SUM('Scheduled Base Rental Revenue'!$C$6:$C$37)/12","v":103987.55833333335},{"$f":"+'Scheduled Base Rental Revenue'!CZ39*SUM('Scheduled Base Rental Revenue'!$C$6:$C$37)/12","v":103987.55833333335},{"$f":"+'Scheduled Base Rental Revenue'!DA39*SUM('Scheduled Base Rental Revenue'!$C$6:$C$37)/12","v":103987.55833333335},{"$f":"+'Scheduled Base Rental Revenue'!DB39*SUM('Scheduled Base Rental Revenue'!$C$6:$C$37)/12","v":103987.55833333335},{"$f":"+'Scheduled Base Rental Revenue'!DC39*SUM('Scheduled Base Rental Revenue'!$C$6:$C$37)/12","v":103987.55833333335},{"$f":"+'Scheduled Base Rental Revenue'!DD39*SUM('Scheduled Base Rental Revenue'!$C$6:$C$37)/12","v":103987.55833333335},{"$f":"+'Scheduled Base Rental Revenue'!DE39*SUM('Scheduled Base Rental Revenue'!$C$6:$C$37)/12","v":103987.55833333335},{"$f":"+'Scheduled Base Rental Revenue'!DF39*SUM('Scheduled Base Rental Revenue'!$C$6:$C$37)/12","v":103987.55833333335},{"$f":"+'Scheduled Base Rental Revenue'!DG39*SUM('Scheduled Base Rental Revenue'!$C$6:$C$37)/12","v":103987.55833333335},{"$f":"+'Scheduled Base Rental Revenue'!DH39*SUM('Scheduled Base Rental Revenue'!$C$6:$C$37)/12","v":103987.55833333335},{"$f":"+'Scheduled Base Rental Revenue'!DI39*SUM('Scheduled Base Rental Revenue'!$C$6:$C$37)/12","v":103987.55833333335},{"$f":"+'Scheduled Base Rental Revenue'!DJ39*SUM('Scheduled Base Rental Revenue'!$C$6:$C$37)/12","v":103987.55833333335},{"$f":"+'Scheduled Base Rental Revenue'!DK39*SUM('Scheduled Base Rental Revenue'!$C$6:$C$37)/12","v":103987.55833333335},{"$f":"+'Scheduled Base Rental Revenue'!DL39*SUM('Scheduled Base Rental Revenue'!$C$6:$C$37)/12","v":104904.22500000002},{"$f":"+'Scheduled Base Rental Revenue'!DM39*SUM('Scheduled Base Rental Revenue'!$C$6:$C$37)/12","v":104904.22500000002},{"$f":"+'Scheduled Base Rental Revenue'!DN39*SUM('Scheduled Base Rental Revenue'!$C$6:$C$37)/12","v":104904.22500000002},{"$f":"+'Scheduled Base Rental Revenue'!DO39*SUM('Scheduled Base Rental Revenue'!$C$6:$C$37)/12","v":104904.22500000002},{"$f":"+'Scheduled Base Rental Revenue'!DP39*SUM('Scheduled Base Rental Revenue'!$C$6:$C$37)/12","v":104904.22500000002},{"$f":"+'Scheduled Base Rental Revenue'!DQ39*SUM('Scheduled Base Rental Revenue'!$C$6:$C$37)/12","v":104904.22500000002},{"$f":"+'Scheduled Base Rental Revenue'!DR39*SUM('Scheduled Base Rental Revenue'!$C$6:$C$37)/12","v":104904.22500000002},{"$f":"+'Scheduled Base Rental Revenue'!DS39*SUM('Scheduled Base Rental Revenue'!$C$6:$C$37)/12","v":104904.22500000002},{"$f":"+'Scheduled Base Rental Revenue'!DT39*SUM('Scheduled Base Rental Revenue'!$C$6:$C$37)/12","v":104904.22500000002},{"$f":"+'Scheduled Base Rental Revenue'!DU39*SUM('Scheduled Base Rental Revenue'!$C$6:$C$37)/12","v":104904.22500000002},{"$f":"+'Scheduled Base Rental Revenue'!DV39*SUM('Scheduled Base Rental Revenue'!$C$6:$C$37)/12","v":104904.22500000002},{"$f":"+'Scheduled Base Rental Revenue'!DW39*SUM('Scheduled Base Rental Revenue'!$C$6:$C$37)/12","v":104904.22500000002},{"$f":"+'Scheduled Base Rental Revenue'!DX39*SUM('Scheduled Base Rental Revenue'!$C$6:$C$37)/12","v":104904.22500000002},{"$f":"+'Scheduled Base Rental Revenue'!DY39*SUM('Scheduled Base Rental Revenue'!$C$6:$C$37)/12","v":104904.22500000002},{"$f":"+'Scheduled Base Rental Revenue'!DZ39*SUM('Scheduled Base Rental Revenue'!$C$6:$C$37)/12","v":104904.22500000002},{"$f":"+'Scheduled Base Rental Revenue'!EA39*SUM('Scheduled Base Rental Revenue'!$C$6:$C$37)/12","v":104904.22500000002},{"$f":"+'Scheduled Base Rental Revenue'!EB39*SUM('Scheduled Base Rental Revenue'!$C$6:$C$37)/12","v":104904.22500000002},{"$f":"+'Scheduled Base Rental Revenue'!EC39*SUM('Scheduled Base Rental Revenue'!$C$6:$C$37)/12","v":104904.22500000002},{"$f":"+'Scheduled Base Rental Revenue'!ED39*SUM('Scheduled Base Rental Revenue'!$C$6:$C$37)/12","v":104904.22500000002},{"$f":"+'Scheduled Base Rental Revenue'!EE39*SUM('Scheduled Base Rental Revenue'!$C$6:$C$37)/12","v":104904.22500000002},{"$f":"+'Scheduled Base Rental Revenue'!EF39*SUM('Scheduled Base Rental Revenue'!$C$6:$C$37)/12","v":104904.22500000002},{"$f":"+'Scheduled Base Rental Revenue'!EG39*SUM('Scheduled Base Rental Revenue'!$C$6:$C$37)/12","v":104904.22500000002},{"$f":"+'Scheduled Base Rental Revenue'!EH39*SUM('Scheduled Base Rental Revenue'!$C$6:$C$37)/12","v":104904.22500000002}]
["  Absorption & Turnover Vacancy"]
[null," ___________"," ___________"," ___________"," ___________"," ___________"," ___________"," ___________"," ___________"," ___________"," ___________"," ___________"," ___________"," ___________"," ___________"," ___________"," ___________"," ___________"," ___________"," ___________"," ___________"," ___________"," ___________"," ___________"," ___________"," ___________"," ___________"," ___________"," ___________"," ___________"," ___________"," ___________"," ___________"," ___________"," ___________"," ___________"," ___________"," ___________"," ___________"," ___________"," ___________"," ___________"," ___________"," ___________"," ___________"," ___________"," ___________"," ___________"," ___________"," ___________"," ___________"," ___________"," ___________"," ___________"," ___________"," ___________"," ___________"," ___________"," ___________"," ___________"," ___________"," ___________"," ___________"," ___________"," ___________"," ___________"," ___________"," ___________"," ___________"," ___________"," ___________"," ___________"," ___________"," ___________"," ___________"," ___________"," ___________"," ___________"," ___________"," ___________"," ___________"," ___________"," ___________"," ___________"," ___________"," ___________"," ___________"," ___________"," ___________"," ___________"," ___________"," ___________"," ___________"," ___________"," ___________"," ___________"," ___________"," ___________"," ___________"," ___________"," ___________"," ___________"," ___________"," ___________"," ___________"," ___________"," ___________"," ___________"," ___________"," ___________"," ___________"," ___________"," ___________"," ___________"," ___________"," ___________"," ___________"," ___________"," ___________"," ___________"," ___________"," ___________"," ___________"," ___________"," ___________"," ___________"," ___________"," ___________"," ___________"," ___________"," ___________"," ___________"," ___________"]
["  Scheduled Base Rental Revenue",{"$f":"+SUM(B16:B17)","v":79581.658333333326},{"$f":"+SUM(C16:C17)","v":80144.15833333334},80144.15833333334,80144.15833333334,82469.15833333334,82469.15833333334,82469.15833333334,82469.15833333334,83760.824999999997,83760.824999999997,83969.15833333334,84989.991666666683,89785.641666666663,90039.891666666663,90039.891666666663,90463.558333333334,91755.224999999991,97269.224999999991,97269.224999999991,97269.224999999991,98819.224999999991,98819.224999999991,98819.224999999991,98819.224999999991,99832.558333333334,99832.558333333334,99832.558333333334,99832.558333333334,99965.891666666663,99965.891666666663,99965.891666666663,99965.891666666663,100226.22499999999,100226.22499999999,100226.22499999999,100226.22499999999,100226.22499999999,100226.22499999999,100226.22499999999,100226.22499999999,100226.22499999999,100226.22499999999,100226.22499999999,100226.22499999999,100226.22499999999,100226.22499999999,100226.22499999999,100226.22499999999,100226.22499999999,101142.89166666668,101142.89166666668,101142.89166666668,101142.89166666668,101142.89166666668,101142.89166666668,101142.89166666668,101142.89166666668,101142.89166666668,101142.89166666668,101142.89166666668,101142.89166666668,101892.89166666668,101892.89166666668,101892.89166666668,101892.89166666668,{"$f":"+SUM(BO16:BO17)","v":101892.89166666668},101892.89166666668,101892.89166666668,101892.89166666668,101892.89166666668,102184.55833333335,103654.55833333335,103654.55833333335,103987.55833333335,103987.55833333335,103987.55833333335,103987.55833333335,103987.55833333335,103987.55833333335,103987.55833333335,103987.55833333335,103987.55833333335,103987.55833333335,103987.55833333335,103987.55833333335,103987.55833333335,103987.55833333335,103987.55833333335,103987.55833333335,103987.55833333335,103987.55833333335,103987.55833333335,103987.55833333335,103987.55833333335,103987.55833333335,103987.55833333335,103987.55833333335,103987.55833333335,103987.55833333335,103987.55833333335,103987.55833333335,103987.55833333335,103987.55833333335,103987.55833333335,103987.55833333335,103987.55833333335,103987.55833333335,103987.55833333335,103987.55833333335,104904.22500000002,104904.22500000002,104904.22500000002,104904.22500000002,104904.22500000002,104904.22500000002,104904.22500000002,104904.22500000002,104904.22500000002,104904.22500000002,104904.22500000002,104904.22500000002,104904.22500000002,104904.22500000002,104904.22500000002,104904.22500000002,104904.22500000002,104904.22500000002,104904.22500000002,104904.22500000002,{"$f":"+SUM(EA16:EA17)","v":104904.22500000002},104904.22500000002,104904.22500000002]
[]
["  Expense Reimbursement Revenue"]
["Management Fee",{"$f":"+B48*SUMIF(Occupancy!$B$24:$EC$24,'Monthly Cash Flows'!B$12,Occupancy!$B$25:$EC$25)/'Project Summary'!$J$12","v":2913.5649273604554},{"$f":"+C48*SUMIF(Occupancy!$B$24:$EC$24,'Monthly Cash Flows'!C$12,Occupancy!$B$25:$EC$25)/'Project Summary'!$J$12","v":2913.5649273604554},{"$f":"+D48*SUMIF(Occupancy!$B$24:$EC$24,'Monthly Cash Flows'!D$12,Occupancy!$B$25:$EC$25)/'Project Summary'!$J$12","v":2913.5649273604554},{"$f":"+E48*SUMIF(Occupancy!$B$24:$EC$24,'Monthly Cash Flows'!E$12,Occupancy!$B$25:$EC$25)/'Project Summary'!$J$12","v":2913.5649273604554},{"$f":"+F48*SUMIF(Occupancy!$B$24:$EC$24,'Monthly Cash Flows'!F$12,Occupancy!$B$25:$EC$25)/'Project Summary'!$J$12","v":2967.9022068710947},{"$f":"+G48*SUMIF(Occupancy!$B$24:$EC$24,'Monthly Cash Flows'!G$12,Occupancy!$B$25:$EC$25)/'Project Summary'!$J$12","v":2967.9022068710947},{"$f":"+H48*SUMIF(Occupancy!$B$24:$EC$24,'Monthly Cash Flows'!H$12,Occupancy!$B$25:$EC$25)/'Project Summary'!$J$12","v":2967.9022068710947},{"$f":"+I48*SUMIF(Occupancy!$B$24:$EC$24,'Monthly Cash Flows'!I$12,Occupancy!$B$25:$EC$25)/'Project Summary'!$J$12","v":2967.9022068710947},{"$f":"+J48*SUMIF(Occupancy!$B$24:$EC$24,'Monthly Cash Flows'!J$12,Occupancy!$B$25:$EC$25)/'Project Summary'!$J$12","v":2998.0895843770049},{"$f":"+K48*SUMIF(Occupancy!$B$24:$EC$24,'Monthly Cash Flows'!K$12,Occupancy!$B$25:$EC$25)/'Project Summary'!$J$12","v":2998.0895843770049},{"$f":"+L48*SUMIF(Occupancy!$B$24:$EC$24,'Monthly Cash Flows'!L$12,Occupancy!$B$25:$EC$25)/'Project Summary'!$J$12","v":2998.0895843770049},{"$f":"+M48*SUMIF(Occupancy!$B$24:$EC$24,'Monthly Cash Flows'!M$12,Occupancy!$B$25:$EC$25)/'Project Summary'!$J$12","v":2998.0895843770049},{"$f":"+N48*SUMIF(Occupancy!$B$24:$EC$24,'Monthly Cash Flows'!N$12,Occupancy!$B$25:$EC$25)/'Project Summary'!$J$12","v":3218.6228669988841},{"$f":"+O48*SUMIF(Occupancy!$B$24:$EC$24,'Monthly Cash Flows'!O$12,Occupancy!$B$25:$EC$25)/'Project Summary'!$J$12","v":3218.6228669988841},{"$f":"+P48*SUMIF(Occupancy!$B$24:$EC$24,'Monthly Cash Flows'!P$12,Occupancy!$B$25:$EC$25)/'Project Summary'!$J$12","v":3218.6228669988841},{"$f":"+Q48*SUMIF(Occupancy!$B$24:$EC$24,'Monthly Cash Flows'!Q$12,Occupancy!$B$25:$EC$25)/'Project Summary'!$J$12","v":3218.6228669988841},{"$f":"+R48*SUMIF(Occupancy!$B$24:$EC$24,'Monthly Cash Flows'!R$12,Occupancy!$B$25:$EC$25)/'Project Summary'!$J$12","v":3249.7158658299718},{"$f":"+S48*SUMIF(Occupancy!$B$24:$EC$24,'Monthly Cash Flows'!S$12,Occupancy!$B$25:$EC$25)/'Project Summary'!$J$12","v":3318.1204632583649},{"$f":"+T48*SUMIF(Occupancy!$B$24:$EC$24,'Monthly Cash Flows'!T$12,Occupancy!$B$25:$EC$25)/'Project Summary'!$J$12","v":3318.1204632583649},{"$f":"+U48*SUMIF(Occupancy!$B$24:$EC$24,'Monthly Cash Flows'!U$12,Occupancy!$B$25:$EC$25)/'Project Summary'!$J$12","v":3318.1204632583649},{"$f":"+V48*SUMIF(Occupancy!$B$24:$EC$24,'Monthly Cash Flows'!V$12,Occupancy!$B$25:$EC$25)/'Project Summary'!$J$12","v":3318.1204632583649},{"$f":"+W48*SUMIF(Occupancy!$B$24:$EC$24,'Monthly Cash Flows'!W$12,Occupancy!$B$25:$EC$25)/'Project Summary'!$J$12","v":3318.1204632583649},{"$f":"+X48*SUMIF(Occupancy!$B$24:$EC$24,'Monthly Cash Flows'!X$12,Occupancy!$B$25:$EC$25)/'Project Summary'!$J$12","v":3318.1204632583649},{"$f":"+Y48*SUMIF(Occupancy!$B$24:$EC$24,'Monthly Cash Flows'!Y$12,Occupancy!$B$25:$EC$25)/'Project Summary'!$J$12","v":3318.1204632583649},{"$f":"+Z48*SUMIF(Occupancy!$B$24:$EC$24,'Monthly Cash Flows'!Z$12,Occupancy!$B$25:$EC$25)/'Project Summary'!$J$12","v":3417.664077156116},{"$f":"+AA48*SUMIF(Occupancy!$B$24:$EC$24,'Monthly Cash Flows'!AA$12,Occupancy!$B$25:$EC$25)/'Project Summary'!$J$12","v":3417.664077156116},{"$f":"+AB48*SUMIF(Occupancy!$B$24:$EC$24,'Monthly Cash Flows'!AB$12,Occupancy!$B$25:$EC$25)/'Project Summary'!$J$12","v":3417.664077156116},{"$f":"+AC48*SUMIF(Occupancy!$B$24:$EC$24,'Monthly Cash Flows'!AC$12,Occupancy!$B$25:$EC$25)/'Project Summary'!$J$12","v":3417.664077156116},{"$f":"+AD48*SUMIF(Occupancy!$B$24:$EC$24,'Monthly Cash Flows'!AD$12,Occupancy!$B$25:$EC$25)/'Project Summary'!$J$12","v":3417.664077156116},{"$f":"+AE48*SUMIF(Occupancy!$B$24:$EC$24,'Monthly Cash Flows'!AE$12,Occupancy!$B$25:$EC$25)/'Project Summary'!$J$12","v":3417.664077156116},{"$f":"+AF48*SUMIF(Occupancy!$B$24:$EC$24,'Monthly Cash Flows'!AF$12,Occupancy!$B$25:$EC$25)/'Project Summary'!$J$12","v":3417.664077156116},{"$f":"+AG48*SUMIF(Occupancy!$B$24:$EC$24,'Monthly Cash Flows'!AG$12,Occupancy!$B$25:$EC$25)/'Project Summary'!$J$12","v":3417.664077156116},{"$f":"+AH48*SUMIF(Occupancy!$B$24:$EC$24,'Monthly Cash Flows'!AH$12,Occupancy!$B$25:$EC$25)/'Project Summary'!$J$12","v":3417.664077156116},{"$f":"+AI48*SUMIF(Occupancy!$B$24:$EC$24,'Monthly Cash Flows'!AI$12,Occupancy!$B$25:$EC$25)/'Project Summary'!$J$12","v":3417.664077156116},{"$f":"+AJ48*SUMIF(Occupancy!$B$24:$EC$24,'Monthly Cash Flows'!AJ$12,Occupancy!$B$25:$EC$25)/'Project Summary'!$J$12","v":3417.664077156116},{"$f":"+AK48*SUMIF(Occupancy!$B$24:$EC$24,'Monthly Cash Flows'!AK$12,Occupancy!$B$25:$EC$25)/'Project Summary'!$J$12","v":3417.664077156116},{"$f":"+AL48*SUMIF(Occupancy!$B$24:$EC$24,'Monthly Cash Flows'!AL$12,Occupancy!$B$25:$EC$25)/'Project Summary'!$J$12","v":3520.1939994707996},{"$f":"+AM48*SUMIF(Occupancy!$B$24:$EC$24,'Monthly Cash Flows'!AM$12,Occupancy!$B$25:$EC$25)/'Project Summary'!$J$12","v":3520.1939994707996},{"$f":"+AN48*SUMIF(Occupancy!$B$24:$EC$24,'Monthly Cash Flows'!AN$12,Occupancy!$B$25:$EC$25)/'Project Summary'!$J$12","v":3520.1939994707996},{"$f":"+AO48*SUMIF(Occupancy!$B$24:$EC$24,'Monthly Cash Flows'!AO$12,Occupancy!$B$25:$EC$25)/'Project Summary'!$J$12","v":3520.1939994707996},{"$f":"+AP48*SUMIF(Occupancy!$B$24:$EC$24,'Monthly Cash Flows'!AP$12,Occupancy!$B$25:$EC$25)/'Project Summary'!$J$12","v":3520.1939994707996},{"$f":"+AQ48*SUMIF(Occupancy!$B$24:$EC$24,'Monthly Cash Flows'!AQ$12,Occupancy!$B$25:$EC$25)/'Project Summary'!$J$12","v":3520.1939994707996},{"$f":"+AR48*SUMIF(Occupancy!$B$24:$EC$24,'Monthly Cash Flows'!AR$12,Occupancy!$B$25:$EC$25)/'Project Summary'!$J$12","v":3520.1939994707996},{"$f":"+AS48*SUMIF(Occupancy!$B$24:$EC$24,'Monthly Cash Flows'!AS$12,Occupancy!$B$25:$EC$25)/'Project Summary'!$J$12","v":3520.1939994707996},{"$f":"+AT48*SUMIF(Occupancy!$B$24:$EC$24,'Monthly Cash Flows'!AT$12,Occupancy!$B$25:$EC$25)/'Project Summary'!$J$12","v":3520.1939994707996},{"$f":"+AU48*SUMIF(Occupancy!$B$24:$EC$24,'Monthly Cash Flows'!AU$12,Occupancy!$B$25:$EC$25)/'Project Summary'!$J$12","v":3520.1939994707996},{"$f":"+AV48*SUMIF(Occupancy!$B$24:$EC$24,'Monthly Cash Flows'!AV$12,Occupancy!$B$25:$EC$25)/'Project Summary'!$J$12","v":3520.1939994707996},{"$f":"+AW48*SUMIF(Occupancy!$B$24:$EC$24,'Monthly Cash Flows'!AW$12,Occupancy!$B$25:$EC$25)/'Project Summary'!$J$12","v":3520.1939994707996},{"$f":"+AX48*SUMIF(Occupancy!$B$24:$EC$24,'Monthly Cash Flows'!AX$12,Occupancy!$B$25:$EC$25)/'Project Summary'!$J$12","v":3625.7998194549232},{"$f":"+AY48*SUMIF(Occupancy!$B$24:$EC$24,'Monthly Cash Flows'!AY$12,Occupancy!$B$25:$EC$25)/'Project Summary'!$J$12","v":3625.7998194549232},{"$f":"+AZ48*SUMIF(Occupancy!$B$24:$EC$24,'Monthly Cash Flows'!AZ$12,Occupancy!$B$25:$EC$25)/'Project Summary'!$J$12","v":3625.7998194549232},{"$f":"+BA48*SUMIF(Occupancy!$B$24:$EC$24,'Monthly Cash Flows'!BA$12,Occupancy!$B$25:$EC$25)/'Project Summary'!$J$12","v":3625.7998194549232},{"$f":"+BB48*SUMIF(Occupancy!$B$24:$EC$24,'Monthly Cash Flows'!BB$12,Occupancy!$B$25:$EC$25)/'Project Summary'!$J$12","v":3625.7998194549232},{"$f":"+BC48*SUMIF(Occupancy!$B$24:$EC$24,'Monthly Cash Flows'!BC$12,Occupancy!$B$25:$EC$25)/'Project Summary'!$J$12","v":3625.7998194549232},{"$f":"+BD48*SUMIF(Occupancy!$B$24:$EC$24,'Monthly Cash Flows'!BD$12,Occupancy!$B$25:$EC$25)/'Project Summary'!$J$12","v":3625.7998194549232},{"$f":"+BE48*SUMIF(Occupancy!$B$24:$EC$24,'Monthly Cash Flows'!BE$12,Occupancy!$B$25:$EC$25)/'Project Summary'!$J$12","v":3625.7998194549232},{"$f":"+BF48*SUMIF(Occupancy!$B$24:$EC$24,'Monthly Cash Flows'!BF$12,Occupancy!$B$25:$EC$25)/'Project Summary'!$J$12","v":3625.7998194549232},{"$f":"+BG48*SUMIF(Occupancy!$B$24:$EC$24,'Monthly Cash Flows'!BG$12,Occupancy!$B$25:$EC$25)/'Project Summary'!$J$12","v":3625.7998194549232},{"$f":"+BH48*SUMIF(Occupancy!$B$24:$EC$24,'Monthly Cash Flows'!BH$12,Occupancy!$B$25:$EC$25)/'Project Summary'!$J$12","v":3625.7998194549232},{"$f":"+BI48*SUMIF(Occupancy!$B$24:$EC$24,'Monthly Cash Flows'!BI$12,Occupancy!$B$25:$EC$25)/'Project Summary'!$J$12","v":3625.7998194549232},{"$f":"+BJ48*SUMIF(Occupancy!$B$24:$EC$24,'Monthly Cash Flows'!BJ$12,Occupancy!$B$25:$EC$25)/'Project Summary'!$J$12","v":3734.5738140385711},{"$f":"+BK48*SUMIF(Occupancy!$B$24:$EC$24,'Monthly Cash Flows'!BK$12,Occupancy!$B$25:$EC$25)/'Project Summary'!$J$12","v":3734.5738140385711},{"$f":"+BL48*SUMIF(Occupancy!$B$24:$EC$24,'Monthly Cash Flows'!BL$12,Occupancy!$B$25:$EC$25)/'Project Summary'!$J$12","v":3734.5738140385711},{"$f":"+BM48*SUMIF(Occupancy!$B$24:$EC$24,'Monthly Cash Flows'!BM$12,Occupancy!$B$25:$EC$25)/'Project Summary'!$J$12","v":3734.5738140385711},{"$f":"+BN48*SUMIF(Occupancy!$B$24:$EC$24,'Monthly Cash Flows'!BN$12,Occupancy!$B$25:$EC$25)/'Project Summary'!$J$12","v":3734.5738140385711},{"$f":"+BO48*SUMIF(Occupancy!$B$24:$EC$24,'Monthly Cash Flows'!BO$12,Occupancy!$B$25:$EC$25)/'Project Summary'!$J$12","v":3734.5738140385711},{"$f":"+BP48*SUMIF(Occupancy!$B$24:$EC$24,'Monthly Cash Flows'!BP$12,Occupancy!$B$25:$EC$25)/'Project Summary'!$J$12","v":3734.5738140385711},{"$f":"+BQ48*SUMIF(Occupancy!$B$24:$EC$24,'Monthly Cash Flows'!BQ$12,Occupancy!$B$25:$EC$25)/'Project Summary'!$J$12","v":3734.5738140385711},{"$f":"+BR48*SUMIF(Occupancy!$B$24:$EC$24,'Monthly Cash Flows'!BR$12,Occupancy!$B$25:$EC$25)/'Project Summary'!$J$12","v":3734.5738140385711},{"$f":"+BS48*SUMIF(Occupancy!$B$24:$EC$24,'Monthly Cash Flows'!BS$12,Occupancy!$B$25:$EC$25)/'Project Summary'!$J$12","v":3734.5738140385711},{"$f":"+BT48*SUMIF(Occupancy!$B$24:$EC$24,'Monthly Cash Flows'!BT$12,Occupancy!$B$25:$EC$25)/'Project Summary'!$J$12","v":3734.5738140385711},{"$f":"+BU48*SUMIF(Occupancy!$B$24:$EC$24,'Monthly Cash Flows'!BU$12,Occupancy!$B$25:$EC$25)/'Project Summary'!$J$12","v":3734.5738140385711},{"$f":"+BV48*SUMIF(Occupancy!$B$24:$EC$24,'Monthly Cash Flows'!BV$12,Occupancy!$B$25:$EC$25)/'Project Summary'!$J$12","v":3846.6110284597275},{"$f":"+BW48*SUMIF(Occupancy!$B$24:$EC$24,'Monthly Cash Flows'!BW$12,Occupancy!$B$25:$EC$25)/'Project Summary'!$J$12","v":3846.6110284597275},{"$f":"+BX48*SUMIF(Occupancy!$B$24:$EC$24,'Monthly Cash Flows'!BX$12,Occupancy!$B$25:$EC$25)/'Project Summary'!$J$12","v":3846.6110284597275},{"$f":"+BY48*SUMIF(Occupancy!$B$24:$EC$24,'Monthly Cash Flows'!BY$12,Occupancy!$B$25:$EC$25)/'Project Summary'!$J$12","v":3846.6110284597275},{"$f":"+BZ48*SUMIF(Occupancy!$B$24:$EC$24,'Monthly Cash Flows'!BZ$12,Occupancy!$B$25:$EC$25)/'Project Summary'!$J$12","v":3846.6110284597275},{"$f":"+CA48*SUMIF(Occupancy!$B$24:$EC$24,'Monthly Cash Flows'!CA$12,Occupancy!$B$25:$EC$25)/'Project Summary'!$J$12","v":3846.6110284597275},{"$f":"+CB48*SUMIF(Occupancy!$B$24:$EC$24,'Monthly Cash Flows'!CB$12,Occupancy!$B$25:$EC$25)/'Project Summary'!$J$12","v":3846.6110284597275},{"$f":"+CC48*SUMIF(Occupancy!$B$24:$EC$24,'Monthly Cash Flows'!CC$12,Occupancy!$B$25:$EC$25)/'Project Summary'!$J$12","v":3846.6110284597275},{"$f":"+CD48*SUMIF(Occupancy!$B$24:$EC$24,'Monthly Cash Flows'!CD$12,Occupancy!$B$25:$EC$25)/'Project Summary'!$J$12","v":3846.6110284597275},{"$f":"+CE48*SUMIF(Occupancy!$B$24:$EC$24,'Monthly Cash Flows'!CE$12,Occupancy!$B$25:$EC$25)/'Project Summary'!$J$12","v":3846.6110284597275},{"$f":"+CF48*SUMIF(Occupancy!$B$24:$EC$24,'Monthly Cash Flows'!CF$12,Occupancy!$B$25:$EC$25)/'Project Summary'!$J$12","v":3846.6110284597275},{"$f":"+CG48*SUMIF(Occupancy!$B$24:$EC$24,'Monthly Cash Flows'!CG$12,Occupancy!$B$25:$EC$25)/'Project Summary'!$J$12","v":3846.6110284597275},{"$f":"+CH48*SUMIF(Occupancy!$B$24:$EC$24,'Monthly Cash Flows'!CH$12,Occupancy!$B$25:$EC$25)/'Project Summary'!$J$12","v":3962.0093593135198},{"$f":"+CI48*SUMIF(Occupancy!$B$24:$EC$24,'Monthly Cash Flows'!CI$12,Occupancy!$B$25:$EC$25)/'Project Summary'!$J$12","v":3962.0093593135198},{"$f":"+CJ48*SUMIF(Occupancy!$B$24:$EC$24,'Monthly Cash Flows'!CJ$12,Occupancy!$B$25:$EC$25)/'Project Summary'!$J$12","v":3962.0093593135198},{"$f":"+CK48*SUMIF(Occupancy!$B$24:$EC$24,'Monthly Cash Flows'!CK$12,Occupancy!$B$25:$EC$25)/'Project Summary'!$J$12","v":3962.0093593135198},{"$f":"+CL48*SUMIF(Occupancy!$B$24:$EC$24,'Monthly Cash Flows'!CL$12,Occupancy!$B$25:$EC$25)/'Project Summary'!$J$12","v":3962.0093593135198},{"$f":"+CM48*SUMIF(Occupancy!$B$24:$EC$24,'Monthly Cash Flows'!CM$12,Occupancy!$B$25:$EC$25)/'Project Summary'!$J$12","v":3962.0093593135198},{"$f":"+CN48*SUMIF(Occupancy!$B$24:$EC$24,'Monthly Cash Flows'!CN$12,Occupancy!$B$25:$EC$25)/'Project Summary'!$J$12","v":3962.0093593135198},{"$f":"+CO48*SUMIF(Occupancy!$B$24:$EC$24,'Monthly Cash Flows'!CO$12,Occupancy!$B$25:$EC$25)/'Project Summary'!$J$12","v":3962.0093593135198},{"$f":"+CP48*SUMIF(Occupancy!$B$24:$EC$24,'Monthly Cash Flows'!CP$12,Occupancy!$B$25:$EC$25)/'Project Summary'!$J$12","v":3962.0093593135198},{"$f":"+CQ48*SUMIF(Occupancy!$B$24:$EC$24,'Monthly Cash Flows'!CQ$12,Occupancy!$B$25:$EC$25)/'Project Summary'!$J$12","v":3962.0093593135198},{"$f":"+CR48*SUMIF(Occupancy!$B$24:$EC$24,'Monthly Cash Flows'!CR$12,Occupancy!$B$25:$EC$25)/'Project Summary'!$J$12","v":3962.0093593135198},{"$f":"+CS48*SUMIF(Occupancy!$B$24:$EC$24,'Monthly Cash Flows'!CS$12,Occupancy!$B$25:$EC$25)/'Project Summary'!$J$12","v":3962.0093593135198},{"$f":"+CT48*SUMIF(Occupancy!$B$24:$EC$24,'Monthly Cash Flows'!CT$12,Occupancy!$B$25:$EC$25)/'Project Summary'!$J$12","v":4080.8696400929257},{"$f":"+CU48*SUMIF(Occupancy!$B$24:$EC$24,'Monthly Cash Flows'!CU$12,Occupancy!$B$25:$EC$25)/'Project Summary'!$J$12","v":4080.8696400929257},{"$f":"+CV48*SUMIF(Occupancy!$B$24:$EC$24,'Monthly Cash Flows'!CV$12,Occupancy!$B$25:$EC$25)/'Project Summary'!$J$12","v":4080.8696400929257},{"$f":"+CW48*SUMIF(Occupancy!$B$24:$EC$24,'Monthly Cash Flows'!CW$12,Occupancy!$B$25:$EC$25)/'Project Summary'!$J$12","v":4080.8696400929257},{"$f":"+CX48*SUMIF(Occupancy!$B$24:$EC$24,'Monthly Cash Flows'!CX$12,Occupancy!$B$25:$EC$25)/'Project Summary'!$J$12","v":4080.8696400929257},{"$f":"+CY48*SUMIF(Occupancy!$B$24:$EC$24,'Monthly Cash Flows'!CY$12,Occupancy!$B$25:$EC$25)/'Project Summary'!$J$12","v":4080.8696400929257},{"$f":"+CZ48*SUMIF(Occupancy!$B$24:$EC$24,'Monthly Cash Flows'!CZ$12,Occupancy!$B$25:$EC$25)/'Project Summary'!$J$12","v":4080.8696400929257},{"$f":"+DA48*SUMIF(Occupancy!$B$24:$EC$24,'Monthly Cash Flows'!DA$12,Occupancy!$B$25:$EC$25)/'Project Summary'!$J$12","v":4080.8696400929257},{"$f":"+DB48*SUMIF(Occupancy!$B$24:$EC$24,'Monthly Cash Flows'!DB$12,Occupancy!$B$25:$EC$25)/'Project Summary'!$J$12","v":4080.8696400929257},{"$f":"+DC48*SUMIF(Occupancy!$B$24:$EC$24,'Monthly Cash Flows'!DC$12,Occupancy!$B$25:$EC$25)/'Project Summary'!$J$12","v":4080.8696400929257},{"$f":"+DD48*SUMIF(Occupancy!$B$24:$EC$24,'Monthly Cash Flows'!DD$12,Occupancy!$B$25:$EC$25)/'Project Summary'!$J$12","v":4080.8696400929257},{"$f":"+DE48*SUMIF(Occupancy!$B$24:$EC$24,'Monthly Cash Flows'!DE$12,Occupancy!$B$25:$EC$25)/'Project Summary'!$J$12","v":4080.8696400929257},{"$f":"+DF48*SUMIF(Occupancy!$B$24:$EC$24,'Monthly Cash Flows'!DF$12,Occupancy!$B$25:$EC$25)/'Project Summary'!$J$12","v":4203.2957292957135},{"$f":"+DG48*SUMIF(Occupancy!$B$24:$EC$24,'Monthly Cash Flows'!DG$12,Occupancy!$B$25:$EC$25)/'Project Summary'!$J$12","v":4203.2957292957135},{"$f":"+DH48*SUMIF(Occupancy!$B$24:$EC$24,'Monthly Cash Flows'!DH$12,Occupancy!$B$25:$EC$25)/'Project Summary'!$J$12","v":4203.2957292957135},{"$f":"+DI48*SUMIF(Occupancy!$B$24:$EC$24,'Monthly Cash Flows'!DI$12,Occupancy!$B$25:$EC$25)/'Project Summary'!$J$12","v":4203.2957292957135},{"$f":"+DJ48*SUMIF(Occupancy!$B$24:$EC$24,'Monthly Cash Flows'!DJ$12,Occupancy!$B$25:$EC$25)/'Project Summary'!$J$12","v":4203.2957292957135},{"$f":"+DK48*SUMIF(Occupancy!$B$24:$EC$24,'Monthly Cash Flows'!DK$12,Occupancy!$B$25:$EC$25)/'Project Summary'!$J$12","v":4203.2957292957135},{"$f":"+DL48*SUMIF(Occupancy!$B$24:$EC$24,'Monthly Cash Flows'!DL$12,Occupancy!$B$25:$EC$25)/'Project Summary'!$J$12","v":4203.2957292957135},{"$f":"+DM48*SUMIF(Occupancy!$B$24:$EC$24,'Monthly Cash Flows'!DM$12,Occupancy!$B$25:$EC$25)/'Project Summary'!$J$12","v":4203.2957292957135},{"$f":"+DN48*SUMIF(Occupancy!$B$24:$EC$24,'Monthly Cash Flows'!DN$12,Occupancy!$B$25:$EC$25)/'Project Summary'!$J$12","v":4203.2957292957135},{"$f":"+DO48*SUMIF(Occupancy!$B$24:$EC$24,'Monthly Cash Flows'!DO$12,Occupancy!$B$25:$EC$25)/'Project Summary'!$J$12","v":4203.2957292957135},{"$f":"+DP48*SUMIF(Occupancy!$B$24:$EC$24,'Monthly Cash Flows'!DP$12,Occupancy!$B$25:$EC$25)/'Project Summary'!$J$12","v":4203.2957292957135},{"$f":"+DQ48*SUMIF(Occupancy!$B$24:$EC$24,'Monthly Cash Flows'!DQ$12,Occupancy!$B$25:$EC$25)/'Project Summary'!$J$12","v":4203.2957292957135},{"$f":"+DR48*SUMIF(Occupancy!$B$24:$EC$24,'Monthly Cash Flows'!DR$12,Occupancy!$B$25:$EC$25)/'Project Summary'!$J$12","v":4329.3946011745847},{"$f":"+DS48*SUMIF(Occupancy!$B$24:$EC$24,'Monthly Cash Flows'!DS$12,Occupancy!$B$25:$EC$25)/'Project Summary'!$J$12","v":4329.3946011745847},{"$f":"+DT48*SUMIF(Occupancy!$B$24:$EC$24,'Monthly Cash Flows'!DT$12,Occupancy!$B$25:$EC$25)/'Project Summary'!$J$12","v":4329.3946011745847},{"$f":"+DU48*SUMIF(Occupancy!$B$24:$EC$24,'Monthly Cash Flows'!DU$12,Occupancy!$B$25:$EC$25)/'Project Summary'!$J$12","v":4329.3946011745847},{"$f":"+DV48*SUMIF(Occupancy!$B$24:$EC$24,'Monthly Cash Flows'!DV$12,Occupancy!$B$25:$EC$25)/'Project Summary'!$J$12","v":4329.3946011745847},{"$f":"+DW48*SUMIF(Occupancy!$B$24:$EC$24,'Monthly Cash Flows'!DW$12,Occupancy!$B$25:$EC$25)/'Project Summary'!$J$12","v":4329.3946011745847},{"$f":"+DX48*SUMIF(Occupancy!$B$24:$EC$24,'Monthly Cash Flows'!DX$12,Occupancy!$B$25:$EC$25)/'Project Summary'!$J$12","v":4329.3946011745847},{"$f":"+DY48*SUMIF(Occupancy!$B$24:$EC$24,'Monthly Cash Flows'!DY$12,Occupancy!$B$25:$EC$25)/'Project Summary'!$J$12","v":4329.3946011745847},{"$f":"+DZ48*SUMIF(Occupancy!$B$24:$EC$24,'Monthly Cash Flows'!DZ$12,Occupancy!$B$25:$EC$25)/'Project Summary'!$J$12","v":4329.3946011745847},{"$f":"+EA48*SUMIF(Occupancy!$B$24:$EC$24,'Monthly Cash Flows'!EA$12,Occupancy!$B$25:$EC$25)/'Project Summary'!$J$12","v":4329.3946011745847},{"$f":"+EB48*SUMIF(Occupancy!$B$24:$EC$24,'Monthly Cash Flows'!EB$12,Occupancy!$B$25:$EC$25)/'Project Summary'!$J$12","v":4329.3946011745847},{"$f":"+EC48*SUMIF(Occupancy!$B$24:$EC$24,'Monthly Cash Flows'!EC$12,Occupancy!$B$25:$EC$25)/'Project Summary'!$J$12","v":4329.3946011745847}]
["Water & Sewer",{"$f":"+B49*SUMIF(Occupancy!$B$24:$EC$24,'Monthly Cash Flows'!B$12,Occupancy!$B$25:$EC$25)/'Project Summary'!$J$12","v":451.55767658923725},{"$f":"+C49*SUMIF(Occupancy!$B$24:$EC$24,'Monthly Cash Flows'!C$12,Occupancy!$B$25:$EC$25)/'Project Summary'!$J$12","v":451.55767658923725},{"$f":"+D49*SUMIF(Occupancy!$B$24:$EC$24,'Monthly Cash Flows'!D$12,Occupancy!$B$25:$EC$25)/'Project Summary'!$J$12","v":451.55767658923725},{"$f":"+E49*SUMIF(Occupancy!$B$24:$EC$24,'Monthly Cash Flows'!E$12,Occupancy!$B$25:$EC$25)/'Project Summary'!$J$12","v":451.55767658923725},{"$f":"+F49*SUMIF(Occupancy!$B$24:$EC$24,'Monthly Cash Flows'!F$12,Occupancy!$B$25:$EC$25)/'Project Summary'!$J$12","v":459.97911777889101},{"$f":"+G49*SUMIF(Occupancy!$B$24:$EC$24,'Monthly Cash Flows'!G$12,Occupancy!$B$25:$EC$25)/'Project Summary'!$J$12","v":459.97911777889101},{"$f":"+H49*SUMIF(Occupancy!$B$24:$EC$24,'Monthly Cash Flows'!H$12,Occupancy!$B$25:$EC$25)/'Project Summary'!$J$12","v":459.97911777889101},{"$f":"+I49*SUMIF(Occupancy!$B$24:$EC$24,'Monthly Cash Flows'!I$12,Occupancy!$B$25:$EC$25)/'Project Summary'!$J$12","v":459.97911777889101},{"$f":"+J49*SUMIF(Occupancy!$B$24:$EC$24,'Monthly Cash Flows'!J$12,Occupancy!$B$25:$EC$25)/'Project Summary'!$J$12","v":464.65769621758761},{"$f":"+K49*SUMIF(Occupancy!$B$24:$EC$24,'Monthly Cash Flows'!K$12,Occupancy!$B$25:$EC$25)/'Project Summary'!$J$12","v":464.65769621758761},{"$f":"+L49*SUMIF(Occupancy!$B$24:$EC$24,'Monthly Cash Flows'!L$12,Occupancy!$B$25:$EC$25)/'Project Summary'!$J$12","v":464.65769621758761},{"$f":"+M49*SUMIF(Occupancy!$B$24:$EC$24,'Monthly Cash Flows'!M$12,Occupancy!$B$25:$EC$25)/'Project Summary'!$J$12","v":464.65769621758761},{"$f":"+N49*SUMIF(Occupancy!$B$24:$EC$24,'Monthly Cash Flows'!N$12,Occupancy!$B$25:$EC$25)/'Project Summary'!$J$12","v":498.83695742991659},{"$f":"+O49*SUMIF(Occupancy!$B$24:$EC$24,'Monthly Cash Flows'!O$12,Occupancy!$B$25:$EC$25)/'Project Summary'!$J$12","v":498.83695742991659},{"$f":"+P49*SUMIF(Occupancy!$B$24:$EC$24,'Monthly Cash Flows'!P$12,Occupancy!$B$25:$EC$25)/'Project Summary'!$J$12","v":498.83695742991659},{"$f":"+Q49*SUMIF(Occupancy!$B$24:$EC$24,'Monthly Cash Flows'!Q$12,Occupancy!$B$25:$EC$25)/'Project Summary'!$J$12","v":498.83695742991659},{"$f":"+R49*SUMIF(Occupancy!$B$24:$EC$24,'Monthly Cash Flows'!R$12,Occupancy!$B$25:$EC$25)/'Project Summary'!$J$12","v":503.65589322177408},{"$f":"+S49*SUMIF(Occupancy!$B$24:$EC$24,'Monthly Cash Flows'!S$12,Occupancy!$B$25:$EC$25)/'Project Summary'!$J$12","v":514.25755196386046},{"$f":"+T49*SUMIF(Occupancy!$B$24:$EC$24,'Monthly Cash Flows'!T$12,Occupancy!$B$25:$EC$25)/'Project Summary'!$J$12","v":514.25755196386046},{"$f":"+U49*SUMIF(Occupancy!$B$24:$EC$24,'Monthly Cash Flows'!U$12,Occupancy!$B$25:$EC$25)/'Project Summary'!$J$12","v":514.25755196386046},{"$f":"+V49*SUMIF(Occupancy!$B$24:$EC$24,'Monthly Cash Flows'!V$12,Occupancy!$B$25:$EC$25)/'Project Summary'!$J$12","v":514.25755196386046},{"$f":"+W49*SUMIF(Occupancy!$B$24:$EC$24,'Monthly Cash Flows'!W$12,Occupancy!$B$25:$EC$25)/'Project Summary'!$J$12","v":514.25755196386046},{"$f":"+X49*SUMIF(Occupancy!$B$24:$EC$24,'Monthly Cash Flows'!X$12,Occupancy!$B$25:$EC$25)/'Project Summary'!$J$12","v":514.25755196386046},{"$f":"+Y49*SUMIF(Occupancy!$B$24:$EC$24,'Monthly Cash Flows'!Y$12,Occupancy!$B$25:$EC$25)/'Project Summary'!$J$12","v":514.25755196386046},{"$f":"+Z49*SUMIF(Occupancy!$B$24:$EC$24,'Monthly Cash Flows'!Z$12,Occupancy!$B$25:$EC$25)/'Project Summary'!$J$12","v":529.68527852277634},{"$f":"+AA49*SUMIF(Occupancy!$B$24:$EC$24,'Monthly Cash Flows'!AA$12,Occupancy!$B$25:$EC$25)/'Project Summary'!$J$12","v":529.68527852277634},{"$f":"+AB49*SUMIF(Occupancy!$B$24:$EC$24,'Monthly Cash Flows'!AB$12,Occupancy!$B$25:$EC$25)/'Project Summary'!$J$12","v":529.68527852277634},{"$f":"+AC49*SUMIF(Occupancy!$B$24:$EC$24,'Monthly Cash Flows'!AC$12,Occupancy!$B$25:$EC$25)/'Project Summary'!$J$12","v":529.68527852277634},{"$f":"+AD49*SUMIF(Occupancy!$B$24:$EC$24,'Monthly Cash Flows'!AD$12,Occupancy!$B$25:$EC$25)/'Project Summary'!$J$12","v":529.68527852277634},{"$f":"+AE49*SUMIF(Occupancy!$B$24:$EC$24,'Monthly Cash Flows'!AE$12,Occupancy!$B$25:$EC$25)/'Project Summary'!$J$12","v":529.68527852277634},{"$f":"+AF49*SUMIF(Occupancy!$B$24:$EC$24,'Monthly Cash Flows'!AF$12,Occupancy!$B$25:$EC$25)/'Project Summary'!$J$12","v":529.68527852277634},{"$f":"+AG49*SUMIF(Occupancy!$B$24:$EC$24,'Monthly Cash Flows'!AG$12,Occupancy!$B$25:$EC$25)/'Project Summary'!$J$12","v":529.68527852277634},{"$f":"+AH49*SUMIF(Occupancy!$B$24:$EC$24,'Monthly Cash Flows'!AH$12,Occupancy!$B$25:$EC$25)/'Project Summary'!$J$12","v":529.68527852277634},{"$f":"+AI49*SUMIF(Occupancy!$B$24:$EC$24,'Monthly Cash Flows'!AI$12,Occupancy!$B$25:$EC$25)/'Project Summary'!$J$12","v":529.68527852277634},{"$f":"+AJ49*SUMIF(Occupancy!$B$24:$EC$24,'Monthly Cash Flows'!AJ$12,Occupancy!$B$25:$EC$25)/'Project Summary'!$J$12","v":529.68527852277634},{"$f":"+AK49*SUMIF(Occupancy!$B$24:$EC$24,'Monthly Cash Flows'!AK$12,Occupancy!$B$25:$EC$25)/'Project Summary'!$J$12","v":529.68527852277634},{"$f":"+AL49*SUMIF(Occupancy!$B$24:$EC$24,'Monthly Cash Flows'!AL$12,Occupancy!$B$25:$EC$25)/'Project Summary'!$J$12","v":545.57583687845965},{"$f":"+AM49*SUMIF(Occupancy!$B$24:$EC$24,'Monthly Cash Flows'!AM$12,Occupancy!$B$25:$EC$25)/'Project Summary'!$J$12","v":545.57583687845965},{"$f":"+AN49*SUMIF(Occupancy!$B$24:$EC$24,'Monthly Cash Flows'!AN$12,Occupancy!$B$25:$EC$25)/'Project Summary'!$J$12","v":545.57583687845965},{"$f":"+AO49*SUMIF(Occupancy!$B$24:$EC$24,'Monthly Cash Flows'!AO$12,Occupancy!$B$25:$EC$25)/'Project Summary'!$J$12","v":545.57583687845965},{"$f":"+AP49*SUMIF(Occupancy!$B$24:$EC$24,'Monthly Cash Flows'!AP$12,Occupancy!$B$25:$EC$25)/'Project Summary'!$J$12","v":545.57583687845965},{"$f":"+AQ49*SUMIF(Occupancy!$B$24:$EC$24,'Monthly Cash Flows'!AQ$12,Occupancy!$B$25:$EC$25)/'Project Summary'!$J$12","v":545.57583687845965},{"$f":"+AR49*SUMIF(Occupancy!$B$24:$EC$24,'Monthly Cash Flows'!AR$12,Occupancy!$B$25:$EC$25)/'Project Summary'!$J$12","v":545.57583687845965},{"$f":"+AS49*SUMIF(Occupancy!$B$24:$EC$24,'Monthly Cash Flows'!AS$12,Occupancy!$B$25:$EC$25)/'Project Summary'!$J$12","v":545.57583687845965},{"$f":"+AT49*SUMIF(Occupancy!$B$24:$EC$24,'Monthly Cash Flows'!AT$12,Occupancy!$B$25:$EC$25)/'Project Summary'!$J$12","v":545.57583687845965},{"$f":"+AU49*SUMIF(Occupancy!$B$24:$EC$24,'Monthly Cash Flows'!AU$12,Occupancy!$B$25:$EC$25)/'Project Summary'!$J$12","v":545.57583687845965},{"$f":"+AV49*SUMIF(Occupancy!$B$24:$EC$24,'Monthly Cash Flows'!AV$12,Occupancy!$B$25:$EC$25)/'Project Summary'!$J$12","v":545.57583687845965},{"$f":"+AW49*SUMIF(Occupancy!$B$24:$EC$24,'Monthly Cash Flows'!AW$12,Occupancy!$B$25:$EC$25)/'Project Summary'!$J$12","v":545.57583687845965},{"$f":"+AX49*SUMIF(Occupancy!$B$24:$EC$24,'Monthly Cash Flows'!AX$12,Occupancy!$B$25:$EC$25)/'Project Summary'!$J$12","v":561.94311198481341},{"$f":"+AY49*SUMIF(Occupancy!$B$24:$EC$24,'Monthly Cash Flows'!AY$12,Occupancy!$B$25:$EC$25)/'Project Summary'!$J$12","v":561.94311198481341},{"$f":"+AZ49*SUMIF(Occupancy!$B$24:$EC$24,'Monthly Cash Flows'!AZ$12,Occupancy!$B$25:$EC$25)/'Project Summary'!$J$12","v":561.94311198481341},{"$f":"+BA49*SUMIF(Occupancy!$B$24:$EC$24,'Monthly Cash Flows'!BA$12,Occupancy!$B$25:$EC$25)/'Project Summary'!$J$12","v":561.94311198481341},{"$f":"+BB49*SUMIF(Occupancy!$B$24:$EC$24,'Monthly Cash Flows'!BB$12,Occupancy!$B$25:$EC$25)/'Project Summary'!$J$12","v":561.94311198481341},{"$f":"+BC49*SUMIF(Occupancy!$B$24:$EC$24,'Monthly Cash Flows'!BC$12,Occupancy!$B$25:$EC$25)/'Project Summary'!$J$12","v":561.94311198481341},{"$f":"+BD49*SUMIF(Occupancy!$B$24:$EC$24,'Monthly Cash Flows'!BD$12,Occupancy!$B$25:$EC$25)/'Project Summary'!$J$12","v":561.94311198481341},{"$f":"+BE49*SUMIF(Occupancy!$B$24:$EC$24,'Monthly Cash Flows'!BE$12,Occupancy!$B$25:$EC$25)/'Project Summary'!$J$12","v":561.94311198481341},{"$f":"+BF49*SUMIF(Occupancy!$B$24:$EC$24,'Monthly Cash Flows'!BF$12,Occupancy!$B$25:$EC$25)/'Project Summary'!$J$12","v":561.94311198481341},{"$f":"+BG49*SUMIF(Occupancy!$B$24:$EC$24,'Monthly Cash Flows'!BG$12,Occupancy!$B$25:$EC$25)/'Project Summary'!$J$12","v":561.94311198481341},{"$f":"+BH49*SUMIF(Occupancy!$B$24:$EC$24,'Monthly Cash Flows'!BH$12,Occupancy!$B$25:$EC$25)/'Project Summary'!$J$12","v":561.94311198481341},{"$f":"+BI49*SUMIF(Occupancy!$B$24:$EC$24,'Monthly Cash Flows'!BI$12,Occupancy!$B$25:$EC$25)/'Project Summary'!$J$12","v":561.94311198481341},{"$f":"+BJ49*SUMIF(Occupancy!$B$24:$EC$24,'Monthly Cash Flows'!BJ$12,Occupancy!$B$25:$EC$25)/'Project Summary'!$J$12","v":578.80140534435782},{"$f":"+BK49*SUMIF(Occupancy!$B$24:$EC$24,'Monthly Cash Flows'!BK$12,Occupancy!$B$25:$EC$25)/'Project Summary'!$J$12","v":578.80140534435782},{"$f":"+BL49*SUMIF(Occupancy!$B$24:$EC$24,'Monthly Cash Flows'!BL$12,Occupancy!$B$25:$EC$25)/'Project Summary'!$J$12","v":578.80140534435782},{"$f":"+BM49*SUMIF(Occupancy!$B$24:$EC$24,'Monthly Cash Flows'!BM$12,Occupancy!$B$25:$EC$25)/'Project Summary'!$J$12","v":578.80140534435782},{"$f":"+BN49*SUMIF(Occupancy!$B$24:$EC$24,'Monthly Cash Flows'!BN$12,Occupancy!$B$25:$EC$25)/'Project Summary'!$J$12","v":578.80140534435782},{"$f":"+BO49*SUMIF(Occupancy!$B$24:$EC$24,'Monthly Cash Flows'!BO$12,Occupancy!$B$25:$EC$25)/'Project Summary'!$J$12","v":578.80140534435782},{"$f":"+BP49*SUMIF(Occupancy!$B$24:$EC$24,'Monthly Cash Flows'!BP$12,Occupancy!$B$25:$EC$25)/'Project Summary'!$J$12","v":578.80140534435782},{"$f":"+BQ49*SUMIF(Occupancy!$B$24:$EC$24,'Monthly Cash Flows'!BQ$12,Occupancy!$B$25:$EC$25)/'Project Summary'!$J$12","v":578.80140534435782},{"$f":"+BR49*SUMIF(Occupancy!$B$24:$EC$24,'Monthly Cash Flows'!BR$12,Occupancy!$B$25:$EC$25)/'Project Summary'!$J$12","v":578.80140534435782},{"$f":"+BS49*SUMIF(Occupancy!$B$24:$EC$24,'Monthly Cash Flows'!BS$12,Occupancy!$B$25:$EC$25)/'Project Summary'!$J$12","v":578.80140534435782},{"$f":"+BT49*SUMIF(Occupancy!$B$24:$EC$24,'Monthly Cash Flows'!BT$12,Occupancy!$B$25:$EC$25)/'Project Summary'!$J$12","v":578.80140534435782},{"$f":"+BU49*SUMIF(Occupancy!$B$24:$EC$24,'Monthly Cash Flows'!BU$12,Occupancy!$B$25:$EC$25)/'Project Summary'!$J$12","v":578.80140534435782},{"$f":"+BV49*SUMIF(Occupancy!$B$24:$EC$24,'Monthly Cash Flows'!BV$12,Occupancy!$B$25:$EC$25)/'Project Summary'!$J$12","v":596.16544750468859},{"$f":"+BW49*SUMIF(Occupancy!$B$24:$EC$24,'Monthly Cash Flows'!BW$12,Occupancy!$B$25:$EC$25)/'Project Summary'!$J$12","v":596.16544750468859},{"$f":"+BX49*SUMIF(Occupancy!$B$24:$EC$24,'Monthly Cash Flows'!BX$12,Occupancy!$B$25:$EC$25)/'Project Summary'!$J$12","v":596.16544750468859},{"$f":"+BY49*SUMIF(Occupancy!$B$24:$EC$24,'Monthly Cash Flows'!BY$12,Occupancy!$B$25:$EC$25)/'Project Summary'!$J$12","v":596.16544750468859},{"$f":"+BZ49*SUMIF(Occupancy!$B$24:$EC$24,'Monthly Cash Flows'!BZ$12,Occupancy!$B$25:$EC$25)/'Project Summary'!$J$12","v":596.16544750468859},{"$f":"+CA49*SUMIF(Occupancy!$B$24:$EC$24,'Monthly Cash Flows'!CA$12,Occupancy!$B$25:$EC$25)/'Project Summary'!$J$12","v":596.16544750468859},{"$f":"+CB49*SUMIF(Occupancy!$B$24:$EC$24,'Monthly Cash Flows'!CB$12,Occupancy!$B$25:$EC$25)/'Project Summary'!$J$12","v":596.16544750468859},{"$f":"+CC49*SUMIF(Occupancy!$B$24:$EC$24,'Monthly Cash Flows'!CC$12,Occupancy!$B$25:$EC$25)/'Project Summary'!$J$12","v":596.16544750468859},{"$f":"+CD49*SUMIF(Occupancy!$B$24:$EC$24,'Monthly Cash Flows'!CD$12,Occupancy!$B$25:$EC$25)/'Project Summary'!$J$12","v":596.16544750468859},{"$f":"+CE49*SUMIF(Occupancy!$B$24:$EC$24,'Monthly Cash Flows'!CE$12,Occupancy!$B$25:$EC$25)/'Project Summary'!$J$12","v":596.16544750468859},{"$f":"+CF49*SUMIF(Occupancy!$B$24:$EC$24,'Monthly Cash Flows'!CF$12,Occupancy!$B$25:$EC$25)/'Project Summary'!$J$12","v":596.16544750468859},{"$f":"+CG49*SUMIF(Occupancy!$B$24:$EC$24,'Monthly Cash Flows'!CG$12,Occupancy!$B$25:$EC$25)/'Project Summary'!$J$12","v":596.16544750468859},{"$f":"+CH49*SUMIF(Occupancy!$B$24:$EC$24,'Monthly Cash Flows'!CH$12,Occupancy!$B$25:$EC$25)/'Project Summary'!$J$12","v":614.05041092982913},{"$f":"+CI49*SUMIF(Occupancy!$B$24:$EC$24,'Monthly Cash Flows'!CI$12,Occupancy!$B$25:$EC$25)/'Project Summary'!$J$12","v":614.05041092982913},{"$f":"+CJ49*SUMIF(Occupancy!$B$24:$EC$24,'Monthly Cash Flows'!CJ$12,Occupancy!$B$25:$EC$25)/'Project Summary'!$J$12","v":614.05041092982913},{"$f":"+CK49*SUMIF(Occupancy!$B$24:$EC$24,'Monthly Cash Flows'!CK$12,Occupancy!$B$25:$EC$25)/'Project Summary'!$J$12","v":614.05041092982913},{"$f":"+CL49*SUMIF(Occupancy!$B$24:$EC$24,'Monthly Cash Flows'!CL$12,Occupancy!$B$25:$EC$25)/'Project Summary'!$J$12","v":614.05041092982913},{"$f":"+CM49*SUMIF(Occupancy!$B$24:$EC$24,'Monthly Cash Flows'!CM$12,Occupancy!$B$25:$EC$25)/'Project Summary'!$J$12","v":614.05041092982913},{"$f":"+CN49*SUMIF(Occupancy!$B$24:$EC$24,'Monthly Cash Flows'!CN$12,Occupancy!$B$25:$EC$25)/'Project Summary'!$J$12","v":614.05041092982913},{"$f":"+CO49*SUMIF(Occupancy!$B$24:$EC$24,'Monthly Cash Flows'!CO$12,Occupancy!$B$25:$EC$25)/'Project Summary'!$J$12","v":614.05041092982913},{"$f":"+CP49*SUMIF(Occupancy!$B$24:$EC$24,'Monthly Cash Flows'!CP$12,Occupancy!$B$25:$EC$25)/'Project Summary'!$J$12","v":614.05041092982913},{"$f":"+CQ49*SUMIF(Occupancy!$B$24:$EC$24,'Monthly Cash Flows'!CQ$12,Occupancy!$B$25:$EC$25)/'Project Summary'!$J$12","v":614.05041092982913},{"$f":"+CR49*SUMIF(Occupancy!$B$24:$EC$24,'Monthly Cash Flows'!CR$12,Occupancy!$B$25:$EC$25)/'Project Summary'!$J$12","v":614.05041092982913},{"$f":"+CS49*SUMIF(Occupancy!$B$24:$EC$24,'Monthly Cash Flows'!CS$12,Occupancy!$B$25:$EC$25)/'Project Summary'!$J$12","v":614.05041092982913},{"$f":"+CT49*SUMIF(Occupancy!$B$24:$EC$24,'Monthly Cash Flows'!CT$12,Occupancy!$B$25:$EC$25)/'Project Summary'!$J$12","v":632.47192325772414},{"$f":"+CU49*SUMIF(Occupancy!$B$24:$EC$24,'Monthly Cash Flows'!CU$12,Occupancy!$B$25:$EC$25)/'Project Summary'!$J$12","v":632.47192325772414},{"$f":"+CV49*SUMIF(Occupancy!$B$24:$EC$24,'Monthly Cash Flows'!CV$12,Occupancy!$B$25:$EC$25)/'Project Summary'!$J$12","v":632.47192325772414},{"$f":"+CW49*SUMIF(Occupancy!$B$24:$EC$24,'Monthly Cash Flows'!CW$12,Occupancy!$B$25:$EC$25)/'Project Summary'!$J$12","v":632.47192325772414},{"$f":"+CX49*SUMIF(Occupancy!$B$24:$EC$24,'Monthly Cash Flows'!CX$12,Occupancy!$B$25:$EC$25)/'Project Summary'!$J$12","v":632.47192325772414},{"$f":"+CY49*SUMIF(Occupancy!$B$24:$EC$24,'Monthly Cash Flows'!CY$12,Occupancy!$B$25:$EC$25)/'Project Summary'!$J$12","v":632.47192325772414},{"$f":"+CZ49*SUMIF(Occupancy!$B$24:$EC$24,'Monthly Cash Flows'!CZ$12,Occupancy!$B$25:$EC$25)/'Project Summary'!$J$12","v":632.47192325772414},{"$f":"+DA49*SUMIF(Occupancy!$B$24:$EC$24,'Monthly Cash Flows'!DA$12,Occupancy!$B$25:$EC$25)/'Project Summary'!$J$12","v":632.47192325772414},{"$f":"+DB49*SUMIF(Occupancy!$B$24:$EC$24,'Monthly Cash Flows'!DB$12,Occupancy!$B$25:$EC$25)/'Project Summary'!$J$12","v":632.47192325772414},{"$f":"+DC49*SUMIF(Occupancy!$B$24:$EC$24,'Monthly Cash Flows'!DC$12,Occupancy!$B$25:$EC$25)/'Project Summary'!$J$12","v":632.47192325772414},{"$f":"+DD49*SUMIF(Occupancy!$B$24:$EC$24,'Monthly Cash Flows'!DD$12,Occupancy!$B$25:$EC$25)/'Project Summary'!$J$12","v":632.47192325772414},{"$f":"+DE49*SUMIF(Occupancy!$B$24:$EC$24,'Monthly Cash Flows'!DE$12,Occupancy!$B$25:$EC$25)/'Project Summary'!$J$12","v":632.47192325772414},{"$f":"+DF49*SUMIF(Occupancy!$B$24:$EC$24,'Monthly Cash Flows'!DF$12,Occupancy!$B$25:$EC$25)/'Project Summary'!$J$12","v":651.44608095545584},{"$f":"+DG49*SUMIF(Occupancy!$B$24:$EC$24,'Monthly Cash Flows'!DG$12,Occupancy!$B$25:$EC$25)/'Project Summary'!$J$12","v":651.44608095545584},{"$f":"+DH49*SUMIF(Occupancy!$B$24:$EC$24,'Monthly Cash Flows'!DH$12,Occupancy!$B$25:$EC$25)/'Project Summary'!$J$12","v":651.44608095545584},{"$f":"+DI49*SUMIF(Occupancy!$B$24:$EC$24,'Monthly Cash Flows'!DI$12,Occupancy!$B$25:$EC$25)/'Project Summary'!$J$12","v":651.44608095545584},{"$f":"+DJ49*SUMIF(Occupancy!$B$24:$EC$24,'Monthly Cash Flows'!DJ$12,Occupancy!$B$25:$EC$25)/'Project Summary'!$J$12","v":651.44608095545584},{"$f":"+DK49*SUMIF(Occupancy!$B$24:$EC$24,'Monthly Cash Flows'!DK$12,Occupancy!$B$25:$EC$25)/'Project Summary'!$J$12","v":651.44608095545584},{"$f":"+DL49*SUMIF(Occupancy!$B$24:$EC$24,'Monthly Cash Flows'!DL$12,Occupancy!$B$25:$EC$25)/'Project Summary'!$J$12","v":651.44608095545584},{"$f":"+DM49*SUMIF(Occupancy!$B$24:$EC$24,'Monthly Cash Flows'!DM$12,Occupancy!$B$25:$EC$25)/'Project Summary'!$J$12","v":651.44608095545584},{"$f":"+DN49*SUMIF(Occupancy!$B$24:$EC$24,'Monthly Cash Flows'!DN$12,Occupancy!$B$25:$EC$25)/'Project Summary'!$J$12","v":651.44608095545584},{"$f":"+DO49*SUMIF(Occupancy!$B$24:$EC$24,'Monthly Cash Flows'!DO$12,Occupancy!$B$25:$EC$25)/'Project Summary'!$J$12","v":651.44608095545584},{"$f":"+DP49*SUMIF(Occupancy!$B$24:$EC$24,'Monthly Cash Flows'!DP$12,Occupancy!$B$25:$EC$25)/'Project Summary'!$J$12","v":651.44608095545584},{"$f":"+DQ49*SUMIF(Occupancy!$B$24:$EC$24,'Monthly Cash Flows'!DQ$12,Occupancy!$B$25:$EC$25)/'Project Summary'!$J$12","v":651.44608095545584},{"$f":"+DR49*SUMIF(Occupancy!$B$24:$EC$24,'Monthly Cash Flows'!DR$12,Occupancy!$B$25:$EC$25)/'Project Summary'!$J$12","v":670.98946338411952},{"$f":"+DS49*SUMIF(Occupancy!$B$24:$EC$24,'Monthly Cash Flows'!DS$12,Occupancy!$B$25:$EC$25)/'Project Summary'!$J$12","v":670.98946338411952},{"$f":"+DT49*SUMIF(Occupancy!$B$24:$EC$24,'Monthly Cash Flows'!DT$12,Occupancy!$B$25:$EC$25)/'Project Summary'!$J$12","v":670.98946338411952},{"$f":"+DU49*SUMIF(Occupancy!$B$24:$EC$24,'Monthly Cash Flows'!DU$12,Occupancy!$B$25:$EC$25)/'Project Summary'!$J$12","v":670.98946338411952},{"$f":"+DV49*SUMIF(Occupancy!$B$24:$EC$24,'Monthly Cash Flows'!DV$12,Occupancy!$B$25:$EC$25)/'Project Summary'!$J$12","v":670.98946338411952},{"$f":"+DW49*SUMIF(Occupancy!$B$24:$EC$24,'Monthly Cash Flows'!DW$12,Occupancy!$B$25:$EC$25)/'Project Summary'!$J$12","v":670.98946338411952},{"$f":"+DX49*SUMIF(Occupancy!$B$24:$EC$24,'Monthly Cash Flows'!DX$12,Occupancy!$B$25:$EC$25)/'Project Summary'!$J$12","v":670.98946338411952},{"$f":"+DY49*SUMIF(Occupancy!$B$24:$EC$24,'Monthly Cash Flows'!DY$12,Occupancy!$B$25:$EC$25)/'Project Summary'!$J$12","v":670.98946338411952},{"$f":"+DZ49*SUMIF(Occupancy!$B$24:$EC$24,'Monthly Cash Flows'!DZ$12,Occupancy!$B$25:$EC$25)/'Project Summary'!$J$12","v":670.98946338411952},{"$f":"+EA49*SUMIF(Occupancy!$B$24:$EC$24,'Monthly Cash Flows'!EA$12,Occupancy!$B$25:$EC$25)/'Project Summary'!$J$12","v":670.98946338411952},{"$f":"+EB49*SUMIF(Occupancy!$B$24:$EC$24,'Monthly Cash Flows'!EB$12,Occupancy!$B$25:$EC$25)/'Project Summary'!$J$12","v":670.98946338411952},{"$f":"+EC49*SUMIF(Occupancy!$B$24:$EC$24,'Monthly Cash Flows'!EC$12,Occupancy!$B$25:$EC$25)/'Project Summary'!$J$12","v":670.98946338411952}]
["Electricity",{"$f":"+B50*SUMIF(Occupancy!$B$24:$EC$24,'Monthly Cash Flows'!B$12,Occupancy!$B$25:$EC$25)/'Project Summary'!$J$12","v":1582.5018324676353},{"$f":"+C50*SUMIF(Occupancy!$B$24:$EC$24,'Monthly Cash Flows'!C$12,Occupancy!$B$25:$EC$25)/'Project Summary'!$J$12","v":1582.5018324676353},{"$f":"+D50*SUMIF(Occupancy!$B$24:$EC$24,'Monthly Cash Flows'!D$12,Occupancy!$B$25:$EC$25)/'Project Summary'!$J$12","v":1582.5018324676353},{"$f":"+E50*SUMIF(Occupancy!$B$24:$EC$24,'Monthly Cash Flows'!E$12,Occupancy!$B$25:$EC$25)/'Project Summary'!$J$12","v":1582.5018324676353},{"$f":"+F50*SUMIF(Occupancy!$B$24:$EC$24,'Monthly Cash Flows'!F$12,Occupancy!$B$25:$EC$25)/'Project Summary'!$J$12","v":1612.0151079705749},{"$f":"+G50*SUMIF(Occupancy!$B$24:$EC$24,'Monthly Cash Flows'!G$12,Occupancy!$B$25:$EC$25)/'Project Summary'!$J$12","v":1612.0151079705749},{"$f":"+H50*SUMIF(Occupancy!$B$24:$EC$24,'Monthly Cash Flows'!H$12,Occupancy!$B$25:$EC$25)/'Project Summary'!$J$12","v":1612.0151079705749},{"$f":"+I50*SUMIF(Occupancy!$B$24:$EC$24,'Monthly Cash Flows'!I$12,Occupancy!$B$25:$EC$25)/'Project Summary'!$J$12","v":1612.0151079705749},{"$f":"+J50*SUMIF(Occupancy!$B$24:$EC$24,'Monthly Cash Flows'!J$12,Occupancy!$B$25:$EC$25)/'Project Summary'!$J$12","v":1628.4113721388749},{"$f":"+K50*SUMIF(Occupancy!$B$24:$EC$24,'Monthly Cash Flows'!K$12,Occupancy!$B$25:$EC$25)/'Project Summary'!$J$12","v":1628.4113721388749},{"$f":"+L50*SUMIF(Occupancy!$B$24:$EC$24,'Monthly Cash Flows'!L$12,Occupancy!$B$25:$EC$25)/'Project Summary'!$J$12","v":1628.4113721388749},{"$f":"+M50*SUMIF(Occupancy!$B$24:$EC$24,'Monthly Cash Flows'!M$12,Occupancy!$B$25:$EC$25)/'Project Summary'!$J$12","v":1628.4113721388749},{"$f":"+N50*SUMIF(Occupancy!$B$24:$EC$24,'Monthly Cash Flows'!N$12,Occupancy!$B$25:$EC$25)/'Project Summary'!$J$12","v":1748.1939520951066},{"$f":"+O50*SUMIF(Occupancy!$B$24:$EC$24,'Monthly Cash Flows'!O$12,Occupancy!$B$25:$EC$25)/'Project Summary'!$J$12","v":1748.1939520951066},{"$f":"+P50*SUMIF(Occupancy!$B$24:$EC$24,'Monthly Cash Flows'!P$12,Occupancy!$B$25:$EC$25)/'Project Summary'!$J$12","v":1748.1939520951066},{"$f":"+Q50*SUMIF(Occupancy!$B$24:$EC$24,'Monthly Cash Flows'!Q$12,Occupancy!$B$25:$EC$25)/'Project Summary'!$J$12","v":1748.1939520951066},{"$f":"+R50*SUMIF(Occupancy!$B$24:$EC$24,'Monthly Cash Flows'!R$12,Occupancy!$B$25:$EC$25)/'Project Summary'!$J$12","v":1765.0821041884553},{"$f":"+S50*SUMIF(Occupancy!$B$24:$EC$24,'Monthly Cash Flows'!S$12,Occupancy!$B$25:$EC$25)/'Project Summary'!$J$12","v":1802.2360387938231},{"$f":"+T50*SUMIF(Occupancy!$B$24:$EC$24,'Monthly Cash Flows'!T$12,Occupancy!$B$25:$EC$25)/'Project Summary'!$J$12","v":1802.2360387938231},{"$f":"+U50*SUMIF(Occupancy!$B$24:$EC$24,'Monthly Cash Flows'!U$12,Occupancy!$B$25:$EC$25)/'Project Summary'!$J$12","v":1802.2360387938231},{"$f":"+V50*SUMIF(Occupancy!$B$24:$EC$24,'Monthly Cash Flows'!V$12,Occupancy!$B$25:$EC$25)/'Project Summary'!$J$12","v":1802.2360387938231},{"$f":"+W50*SUMIF(Occupancy!$B$24:$EC$24,'Monthly Cash Flows'!W$12,Occupancy!$B$25:$EC$25)/'Project Summary'!$J$12","v":1802.2360387938231},{"$f":"+X50*SUMIF(Occupancy!$B$24:$EC$24,'Monthly Cash Flows'!X$12,Occupancy!$B$25:$EC$25)/'Project Summary'!$J$12","v":1802.2360387938231},{"$f":"+Y50*SUMIF(Occupancy!$B$24:$EC$24,'Monthly Cash Flows'!Y$12,Occupancy!$B$25:$EC$25)/'Project Summary'!$J$12","v":1802.2360387938231},{"$f":"+Z50*SUMIF(Occupancy!$B$24:$EC$24,'Monthly Cash Flows'!Z$12,Occupancy!$B$25:$EC$25)/'Project Summary'!$J$12","v":1856.303119957638},{"$f":"+AA50*SUMIF(Occupancy!$B$24:$EC$24,'Monthly Cash Flows'!AA$12,Occupancy!$B$25:$EC$25)/'Project Summary'!$J$12","v":1856.303119957638},{"$f":"+AB50*SUMIF(Occupancy!$B$24:$EC$24,'Monthly Cash Flows'!AB$12,Occupancy!$B$25:$EC$25)/'Project Summary'!$J$12","v":1856.303119957638},{"$f":"+AC50*SUMIF(Occupancy!$B$24:$EC$24,'Monthly Cash Flows'!AC$12,Occupancy!$B$25:$EC$25)/'Project Summary'!$J$12","v":1856.303119957638},{"$f":"+AD50*SUMIF(Occupancy!$B$24:$EC$24,'Monthly Cash Flows'!AD$12,Occupancy!$B$25:$EC$25)/'Project Summary'!$J$12","v":1856.303119957638},{"$f":"+AE50*SUMIF(Occupancy!$B$24:$EC$24,'Monthly Cash Flows'!AE$12,Occupancy!$B$25:$EC$25)/'Project Summary'!$J$12","v":1856.303119957638},{"$f":"+AF50*SUMIF(Occupancy!$B$24:$EC$24,'Monthly Cash Flows'!AF$12,Occupancy!$B$25:$EC$25)/'Project Summary'!$J$12","v":1856.303119957638},{"$f":"+AG50*SUMIF(Occupancy!$B$24:$EC$24,'Monthly Cash Flows'!AG$12,Occupancy!$B$25:$EC$25)/'Project Summary'!$J$12","v":1856.303119957638},{"$f":"+AH50*SUMIF(Occupancy!$B$24:$EC$24,'Monthly Cash Flows'!AH$12,Occupancy!$B$25:$EC$25)/'Project Summary'!$J$12","v":1856.303119957638},{"$f":"+AI50*SUMIF(Occupancy!$B$24:$EC$24,'Monthly Cash Flows'!AI$12,Occupancy!$B$25:$EC$25)/'Project Summary'!$J$12","v":1856.303119957638},{"$f":"+AJ50*SUMIF(Occupancy!$B$24:$EC$24,'Monthly Cash Flows'!AJ$12,Occupancy!$B$25:$EC$25)/'Project Summary'!$J$12","v":1856.303119957638},{"$f":"+AK50*SUMIF(Occupancy!$B$24:$EC$24,'Monthly Cash Flows'!AK$12,Occupancy!$B$25:$EC$25)/'Project Summary'!$J$12","v":1856.303119957638},{"$f":"+AL50*SUMIF(Occupancy!$B$24:$EC$24,'Monthly Cash Flows'!AL$12,Occupancy!$B$25:$EC$25)/'Project Summary'!$J$12","v":1911.992213556367},{"$f":"+AM50*SUMIF(Occupancy!$B$24:$EC$24,'Monthly Cash Flows'!AM$12,Occupancy!$B$25:$EC$25)/'Project Summary'!$J$12","v":1911.992213556367},{"$f":"+AN50*SUMIF(Occupancy!$B$24:$EC$24,'Monthly Cash Flows'!AN$12,Occupancy!$B$25:$EC$25)/'Project Summary'!$J$12","v":1911.992213556367},{"$f":"+AO50*SUMIF(Occupancy!$B$24:$EC$24,'Monthly Cash Flows'!AO$12,Occupancy!$B$25:$EC$25)/'Project Summary'!$J$12","v":1911.992213556367},{"$f":"+AP50*SUMIF(Occupancy!$B$24:$EC$24,'Monthly Cash Flows'!AP$12,Occupancy!$B$25:$EC$25)/'Project Summary'!$J$12","v":1911.992213556367},{"$f":"+AQ50*SUMIF(Occupancy!$B$24:$EC$24,'Monthly Cash Flows'!AQ$12,Occupancy!$B$25:$EC$25)/'Project Summary'!$J$12","v":1911.992213556367},{"$f":"+AR50*SUMIF(Occupancy!$B$24:$EC$24,'Monthly Cash Flows'!AR$12,Occupancy!$B$25:$EC$25)/'Project Summary'!$J$12","v":1911.992213556367},{"$f":"+AS50*SUMIF(Occupancy!$B$24:$EC$24,'Monthly Cash Flows'!AS$12,Occupancy!$B$25:$EC$25)/'Project Summary'!$J$12","v":1911.992213556367},{"$f":"+AT50*SUMIF(Occupancy!$B$24:$EC$24,'Monthly Cash Flows'!AT$12,Occupancy!$B$25:$EC$25)/'Project Summary'!$J$12","v":1911.992213556367},{"$f":"+AU50*SUMIF(Occupancy!$B$24:$EC$24,'Monthly Cash Flows'!AU$12,Occupancy!$B$25:$EC$25)/'Project Summary'!$J$12","v":1911.992213556367},{"$f":"+AV50*SUMIF(Occupancy!$B$24:$EC$24,'Monthly Cash Flows'!AV$12,Occupancy!$B$25:$EC$25)/'Project Summary'!$J$12","v":1911.992213556367},{"$f":"+AW50*SUMIF(Occupancy!$B$24:$EC$24,'Monthly Cash Flows'!AW$12,Occupancy!$B$25:$EC$25)/'Project Summary'!$J$12","v":1911.992213556367},{"$f":"+AX50*SUMIF(Occupancy!$B$24:$EC$24,'Monthly Cash Flows'!AX$12,Occupancy!$B$25:$EC$25)/'Project Summary'!$J$12","v":1969.3519799630581},{"$f":"+AY50*SUMIF(Occupancy!$B$24:$EC$24,'Monthly Cash Flows'!AY$12,Occupancy!$B$25:$EC$25)/'Project Summary'!$J$12","v":1969.3519799630581},{"$f":"+AZ50*SUMIF(Occupancy!$B$24:$EC$24,'Monthly Cash Flows'!AZ$12,Occupancy!$B$25:$EC$25)/'Project Summary'!$J$12","v":1969.3519799630581},{"$f":"+BA50*SUMIF(Occupancy!$B$24:$EC$24,'Monthly Cash Flows'!BA$12,Occupancy!$B$25:$EC$25)/'Project Summary'!$J$12","v":1969.3519799630581},{"$f":"+BB50*SUMIF(Occupancy!$B$24:$EC$24,'Monthly Cash Flows'!BB$12,Occupancy!$B$25:$EC$25)/'Project Summary'!$J$12","v":1969.3519799630581},{"$f":"+BC50*SUMIF(Occupancy!$B$24:$EC$24,'Monthly Cash Flows'!BC$12,Occupancy!$B$25:$EC$25)/'Project Summary'!$J$12","v":1969.3519799630581},{"$f":"+BD50*SUMIF(Occupancy!$B$24:$EC$24,'Monthly Cash Flows'!BD$12,Occupancy!$B$25:$EC$25)/'Project Summary'!$J$12","v":1969.3519799630581},{"$f":"+BE50*SUMIF(Occupancy!$B$24:$EC$24,'Monthly Cash Flows'!BE$12,Occupancy!$B$25:$EC$25)/'Project Summary'!$J$12","v":1969.3519799630581},{"$f":"+BF50*SUMIF(Occupancy!$B$24:$EC$24,'Monthly Cash Flows'!BF$12,Occupancy!$B$25:$EC$25)/'Project Summary'!$J$12","v":1969.3519799630581},{"$f":"+BG50*SUMIF(Occupancy!$B$24:$EC$24,'Monthly Cash Flows'!BG$12,Occupancy!$B$25:$EC$25)/'Project Summary'!$J$12","v":1969.3519799630581},{"$f":"+BH50*SUMIF(Occupancy!$B$24:$EC$24,'Monthly Cash Flows'!BH$12,Occupancy!$B$25:$EC$25)/'Project Summary'!$J$12","v":1969.3519799630581},{"$f":"+BI50*SUMIF(Occupancy!$B$24:$EC$24,'Monthly Cash Flows'!BI$12,Occupancy!$B$25:$EC$25)/'Project Summary'!$J$12","v":1969.3519799630581},{"$f":"+BJ50*SUMIF(Occupancy!$B$24:$EC$24,'Monthly Cash Flows'!BJ$12,Occupancy!$B$25:$EC$25)/'Project Summary'!$J$12","v":2028.4325393619501},{"$f":"+BK50*SUMIF(Occupancy!$B$24:$EC$24,'Monthly Cash Flows'!BK$12,Occupancy!$B$25:$EC$25)/'Project Summary'!$J$12","v":2028.4325393619501},{"$f":"+BL50*SUMIF(Occupancy!$B$24:$EC$24,'Monthly Cash Flows'!BL$12,Occupancy!$B$25:$EC$25)/'Project Summary'!$J$12","v":2028.4325393619501},{"$f":"+BM50*SUMIF(Occupancy!$B$24:$EC$24,'Monthly Cash Flows'!BM$12,Occupancy!$B$25:$EC$25)/'Project Summary'!$J$12","v":2028.4325393619501},{"$f":"+BN50*SUMIF(Occupancy!$B$24:$EC$24,'Monthly Cash Flows'!BN$12,Occupancy!$B$25:$EC$25)/'Project Summary'!$J$12","v":2028.4325393619501},{"$f":"+BO50*SUMIF(Occupancy!$B$24:$EC$24,'Monthly Cash Flows'!BO$12,Occupancy!$B$25:$EC$25)/'Project Summary'!$J$12","v":2028.4325393619501},{"$f":"+BP50*SUMIF(Occupancy!$B$24:$EC$24,'Monthly Cash Flows'!BP$12,Occupancy!$B$25:$EC$25)/'Project Summary'!$J$12","v":2028.4325393619501},{"$f":"+BQ50*SUMIF(Occupancy!$B$24:$EC$24,'Monthly Cash Flows'!BQ$12,Occupancy!$B$25:$EC$25)/'Project Summary'!$J$12","v":2028.4325393619501},{"$f":"+BR50*SUMIF(Occupancy!$B$24:$EC$24,'Monthly Cash Flows'!BR$12,Occupancy!$B$25:$EC$25)/'Project Summary'!$J$12","v":2028.4325393619501},{"$f":"+BS50*SUMIF(Occupancy!$B$24:$EC$24,'Monthly Cash Flows'!BS$12,Occupancy!$B$25:$EC$25)/'Project Summary'!$J$12","v":2028.4325393619501},{"$f":"+BT50*SUMIF(Occupancy!$B$24:$EC$24,'Monthly Cash Flows'!BT$12,Occupancy!$B$25:$EC$25)/'Project Summary'!$J$12","v":2028.4325393619501},{"$f":"+BU50*SUMIF(Occupancy!$B$24:$EC$24,'Monthly Cash Flows'!BU$12,Occupancy!$B$25:$EC$25)/'Project Summary'!$J$12","v":2028.4325393619501},{"$f":"+BV50*SUMIF(Occupancy!$B$24:$EC$24,'Monthly Cash Flows'!BV$12,Occupancy!$B$25:$EC$25)/'Project Summary'!$J$12","v":2089.2855155428088},{"$f":"+BW50*SUMIF(Occupancy!$B$24:$EC$24,'Monthly Cash Flows'!BW$12,Occupancy!$B$25:$EC$25)/'Project Summary'!$J$12","v":2089.2855155428088},{"$f":"+BX50*SUMIF(Occupancy!$B$24:$EC$24,'Monthly Cash Flows'!BX$12,Occupancy!$B$25:$EC$25)/'Project Summary'!$J$12","v":2089.2855155428088},{"$f":"+BY50*SUMIF(Occupancy!$B$24:$EC$24,'Monthly Cash Flows'!BY$12,Occupancy!$B$25:$EC$25)/'Project Summary'!$J$12","v":2089.2855155428088},{"$f":"+BZ50*SUMIF(Occupancy!$B$24:$EC$24,'Monthly Cash Flows'!BZ$12,Occupancy!$B$25:$EC$25)/'Project Summary'!$J$12","v":2089.2855155428088},{"$f":"+CA50*SUMIF(Occupancy!$B$24:$EC$24,'Monthly Cash Flows'!CA$12,Occupancy!$B$25:$EC$25)/'Project Summary'!$J$12","v":2089.2855155428088},{"$f":"+CB50*SUMIF(Occupancy!$B$24:$EC$24,'Monthly Cash Flows'!CB$12,Occupancy!$B$25:$EC$25)/'Project Summary'!$J$12","v":2089.2855155428088},{"$f":"+CC50*SUMIF(Occupancy!$B$24:$EC$24,'Monthly Cash Flows'!CC$12,Occupancy!$B$25:$EC$25)/'Project Summary'!$J$12","v":2089.2855155428088},{"$f":"+CD50*SUMIF(Occupancy!$B$24:$EC$24,'Monthly Cash Flows'!CD$12,Occupancy!$B$25:$EC$25)/'Project Summary'!$J$12","v":2089.2855155428088},{"$f":"+CE50*SUMIF(Occupancy!$B$24:$EC$24,'Monthly Cash Flows'!CE$12,Occupancy!$B$25:$EC$25)/'Project Summary'!$J$12","v":2089.2855155428088},{"$f":"+CF50*SUMIF(Occupancy!$B$24:$EC$24,'Monthly Cash Flows'!CF$12,Occupancy!$B$25:$EC$25)/'Project Summary'!$J$12","v":2089.2855155428088},{"$f":"+CG50*SUMIF(Occupancy!$B$24:$EC$24,'Monthly Cash Flows'!CG$12,Occupancy!$B$25:$EC$25)/'Project Summary'!$J$12","v":2089.2855155428088},{"$f":"+CH50*SUMIF(Occupancy!$B$24:$EC$24,'Monthly Cash Flows'!CH$12,Occupancy!$B$25:$EC$25)/'Project Summary'!$J$12","v":2151.9640810090932},{"$f":"+CI50*SUMIF(Occupancy!$B$24:$EC$24,'Monthly Cash Flows'!CI$12,Occupancy!$B$25:$EC$25)/'Project Summary'!$J$12","v":2151.9640810090932},{"$f":"+CJ50*SUMIF(Occupancy!$B$24:$EC$24,'Monthly Cash Flows'!CJ$12,Occupancy!$B$25:$EC$25)/'Project Summary'!$J$12","v":2151.9640810090932},{"$f":"+CK50*SUMIF(Occupancy!$B$24:$EC$24,'Monthly Cash Flows'!CK$12,Occupancy!$B$25:$EC$25)/'Project Summary'!$J$12","v":2151.9640810090932},{"$f":"+CL50*SUMIF(Occupancy!$B$24:$EC$24,'Monthly Cash Flows'!CL$12,Occupancy!$B$25:$EC$25)/'Project Summary'!$J$12","v":2151.9640810090932},{"$f":"+CM50*SUMIF(Occupancy!$B$24:$EC$24,'Monthly Cash Flows'!CM$12,Occupancy!$B$25:$EC$25)/'Project Summary'!$J$12","v":2151.9640810090932},{"$f":"+CN50*SUMIF(Occupancy!$B$24:$EC$24,'Monthly Cash Flows'!CN$12,Occupancy!$B$25:$EC$25)/'Project Summary'!$J$12","v":2151.9640810090932},{"$f":"+CO50*SUMIF(Occupancy!$B$24:$EC$24,'Monthly Cash Flows'!CO$12,Occupancy!$B$25:$EC$25)/'Project Summary'!$J$12","v":2151.9640810090932},{"$f":"+CP50*SUMIF(Occupancy!$B$24:$EC$24,'Monthly Cash Flows'!CP$12,Occupancy!$B$25:$EC$25)/'Project Summary'!$J$12","v":2151.9640810090932},{"$f":"+CQ50*SUMIF(Occupancy!$B$24:$EC$24,'Monthly Cash Flows'!CQ$12,Occupancy!$B$25:$EC$25)/'Project Summary'!$J$12","v":2151.9640810090932},{"$f":"+CR50*SUMIF(Occupancy!$B$24:$EC$24,'Monthly Cash Flows'!CR$12,Occupancy!$B$25:$EC$25)/'Project Summary'!$J$12","v":2151.9640810090932},{"$f":"+CS50*SUMIF(Occupancy!$B$24:$EC$24,'Monthly Cash Flows'!CS$12,Occupancy!$B$25:$EC$25)/'Project Summary'!$J$12","v":2151.9640810090932},{"$f":"+CT50*SUMIF(Occupancy!$B$24:$EC$24,'Monthly Cash Flows'!CT$12,Occupancy!$B$25:$EC$25)/'Project Summary'!$J$12","v":2216.5230034393658},{"$f":"+CU50*SUMIF(Occupancy!$B$24:$EC$24,'Monthly Cash Flows'!CU$12,Occupancy!$B$25:$EC$25)/'Project Summary'!$J$12","v":2216.5230034393658},{"$f":"+CV50*SUMIF(Occupancy!$B$24:$EC$24,'Monthly Cash Flows'!CV$12,Occupancy!$B$25:$EC$25)/'Project Summary'!$J$12","v":2216.5230034393658},{"$f":"+CW50*SUMIF(Occupancy!$B$24:$EC$24,'Monthly Cash Flows'!CW$12,Occupancy!$B$25:$EC$25)/'Project Summary'!$J$12","v":2216.5230034393658},{"$f":"+CX50*SUMIF(Occupancy!$B$24:$EC$24,'Monthly Cash Flows'!CX$12,Occupancy!$B$25:$EC$25)/'Project Summary'!$J$12","v":2216.5230034393658},{"$f":"+CY50*SUMIF(Occupancy!$B$24:$EC$24,'Monthly Cash Flows'!CY$12,Occupancy!$B$25:$EC$25)/'Project Summary'!$J$12","v":2216.5230034393658},{"$f":"+CZ50*SUMIF(Occupancy!$B$24:$EC$24,'Monthly Cash Flows'!CZ$12,Occupancy!$B$25:$EC$25)/'Project Summary'!$J$12","v":2216.5230034393658},{"$f":"+DA50*SUMIF(Occupancy!$B$24:$EC$24,'Monthly Cash Flows'!DA$12,Occupancy!$B$25:$EC$25)/'Project Summary'!$J$12","v":2216.5230034393658},{"$f":"+DB50*SUMIF(Occupancy!$B$24:$EC$24,'Monthly Cash Flows'!DB$12,Occupancy!$B$25:$EC$25)/'Project Summary'!$J$12","v":2216.5230034393658},{"$f":"+DC50*SUMIF(Occupancy!$B$24:$EC$24,'Monthly Cash Flows'!DC$12,Occupancy!$B$25:$EC$25)/'Project Summary'!$J$12","v":2216.5230034393658},{"$f":"+DD50*SUMIF(Occupancy!$B$24:$EC$24,'Monthly Cash Flows'!DD$12,Occupancy!$B$25:$EC$25)/'Project Summary'!$J$12","v":2216.5230034393658},{"$f":"+DE50*SUMIF(Occupancy!$B$24:$EC$24,'Monthly Cash Flows'!DE$12,Occupancy!$B$25:$EC$25)/'Project Summary'!$J$12","v":2216.5230034393658},{"$f":"+DF50*SUMIF(Occupancy!$B$24:$EC$24,'Monthly Cash Flows'!DF$12,Occupancy!$B$25:$EC$25)/'Project Summary'!$J$12","v":2283.0186935425468},{"$f":"+DG50*SUMIF(Occupancy!$B$24:$EC$24,'Monthly Cash Flows'!DG$12,Occupancy!$B$25:$EC$25)/'Project Summary'!$J$12","v":2283.0186935425468},{"$f":"+DH50*SUMIF(Occupancy!$B$24:$EC$24,'Monthly Cash Flows'!DH$12,Occupancy!$B$25:$EC$25)/'Project Summary'!$J$12","v":2283.0186935425468},{"$f":"+DI50*SUMIF(Occupancy!$B$24:$EC$24,'Monthly Cash Flows'!DI$12,Occupancy!$B$25:$EC$25)/'Project Summary'!$J$12","v":2283.0186935425468},{"$f":"+DJ50*SUMIF(Occupancy!$B$24:$EC$24,'Monthly Cash Flows'!DJ$12,Occupancy!$B$25:$EC$25)/'Project Summary'!$J$12","v":2283.0186935425468},{"$f":"+DK50*SUMIF(Occupancy!$B$24:$EC$24,'Monthly Cash Flows'!DK$12,Occupancy!$B$25:$EC$25)/'Project Summary'!$J$12","v":2283.0186935425468},{"$f":"+DL50*SUMIF(Occupancy!$B$24:$EC$24,'Monthly Cash Flows'!DL$12,Occupancy!$B$25:$EC$25)/'Project Summary'!$J$12","v":2283.0186935425468},{"$f":"+DM50*SUMIF(Occupancy!$B$24:$EC$24,'Monthly Cash Flows'!DM$12,Occupancy!$B$25:$EC$25)/'Project Summary'!$J$12","v":2283.0186935425468},{"$f":"+DN50*SUMIF(Occupancy!$B$24:$EC$24,'Monthly Cash Flows'!DN$12,Occupancy!$B$25:$EC$25)/'Project Summary'!$J$12","v":2283.0186935425468},{"$f":"+DO50*SUMIF(Occupancy!$B$24:$EC$24,'Monthly Cash Flows'!DO$12,Occupancy!$B$25:$EC$25)/'Project Summary'!$J$12","v":2283.0186935425468},{"$f":"+DP50*SUMIF(Occupancy!$B$24:$EC$24,'Monthly Cash Flows'!DP$12,Occupancy!$B$25:$EC$25)/'Project Summary'!$J$12","v":2283.0186935425468},{"$f":"+DQ50*SUMIF(Occupancy!$B$24:$EC$24,'Monthly Cash Flows'!DQ$12,Occupancy!$B$25:$EC$25)/'Project Summary'!$J$12","v":2283.0186935425468},{"$f":"+DR50*SUMIF(Occupancy!$B$24:$EC$24,'Monthly Cash Flows'!DR$12,Occupancy!$B$25:$EC$25)/'Project Summary'!$J$12","v":2351.5092543488231},{"$f":"+DS50*SUMIF(Occupancy!$B$24:$EC$24,'Monthly Cash Flows'!DS$12,Occupancy!$B$25:$EC$25)/'Project Summary'!$J$12","v":2351.5092543488231},{"$f":"+DT50*SUMIF(Occupancy!$B$24:$EC$24,'Monthly Cash Flows'!DT$12,Occupancy!$B$25:$EC$25)/'Project Summary'!$J$12","v":2351.5092543488231},{"$f":"+DU50*SUMIF(Occupancy!$B$24:$EC$24,'Monthly Cash Flows'!DU$12,Occupancy!$B$25:$EC$25)/'Project Summary'!$J$12","v":2351.5092543488231},{"$f":"+DV50*SUMIF(Occupancy!$B$24:$EC$24,'Monthly Cash Flows'!DV$12,Occupancy!$B$25:$EC$25)/'Project Summary'!$J$12","v":2351.5092543488231},{"$f":"+DW50*SUMIF(Occupancy!$B$24:$EC$24,'Monthly Cash Flows'!DW$12,Occupancy!$B$25:$EC$25)/'Project Summary'!$J$12","v":2351.5092543488231},{"$f":"+DX50*SUMIF(Occupancy!$B$24:$EC$24,'Monthly Cash Flows'!DX$12,Occupancy!$B$25:$EC$25)/'Project Summary'!$J$12","v":2351.5092543488231},{"$f":"+DY50*SUMIF(Occupancy!$B$24:$EC$24,'Monthly Cash Flows'!DY$12,Occupancy!$B$25:$EC$25)/'Project Summary'!$J$12","v":2351.5092543488231},{"$f":"+DZ50*SUMIF(Occupancy!$B$24:$EC$24,'Monthly Cash Flows'!DZ$12,Occupancy!$B$25:$EC$25)/'Project Summary'!$J$12","v":2351.5092543488231},{"$f":"+EA50*SUMIF(Occupancy!$B$24:$EC$24,'Monthly Cash Flows'!EA$12,Occupancy!$B$25:$EC$25)/'Project Summary'!$J$12","v":2351.5092543488231},{"$f":"+EB50*SUMIF(Occupancy!$B$24:$EC$24,'Monthly Cash Flows'!EB$12,Occupancy!$B$25:$EC$25)/'Project Summary'!$J$12","v":2351.5092543488231},{"$f":"+EC50*SUMIF(Occupancy!$B$24:$EC$24,'Monthly Cash Flows'!EC$12,Occupancy!$B$25:$EC$25)/'Project Summary'!$J$12","v":2351.5092543488231}]
["Landscaping",{"$f":"+B51*SUMIF(Occupancy!$B$24:$EC$24,'Monthly Cash Flows'!B$12,Occupancy!$B$25:$EC$25)/'Project Summary'!$J$12","v":759.54715637936033},{"$f":"+C51*SUMIF(Occupancy!$B$24:$EC$24,'Monthly Cash Flows'!C$12,Occupancy!$B$25:$EC$25)/'Project Summary'!$J$12","v":759.54715637936033},{"$f":"+D51*SUMIF(Occupancy!$B$24:$EC$24,'Monthly Cash Flows'!D$12,Occupancy!$B$25:$EC$25)/'Project Summary'!$J$12","v":759.54715637936033},{"$f":"+E51*SUMIF(Occupancy!$B$24:$EC$24,'Monthly Cash Flows'!E$12,Occupancy!$B$25:$EC$25)/'Project Summary'!$J$12","v":759.54715637936033},{"$f":"+F51*SUMIF(Occupancy!$B$24:$EC$24,'Monthly Cash Flows'!F$12,Occupancy!$B$25:$EC$25)/'Project Summary'!$J$12","v":773.71252669602131},{"$f":"+G51*SUMIF(Occupancy!$B$24:$EC$24,'Monthly Cash Flows'!G$12,Occupancy!$B$25:$EC$25)/'Project Summary'!$J$12","v":773.71252669602131},{"$f":"+H51*SUMIF(Occupancy!$B$24:$EC$24,'Monthly Cash Flows'!H$12,Occupancy!$B$25:$EC$25)/'Project Summary'!$J$12","v":773.71252669602131},{"$f":"+I51*SUMIF(Occupancy!$B$24:$EC$24,'Monthly Cash Flows'!I$12,Occupancy!$B$25:$EC$25)/'Project Summary'!$J$12","v":773.71252669602131},{"$f":"+J51*SUMIF(Occupancy!$B$24:$EC$24,'Monthly Cash Flows'!J$12,Occupancy!$B$25:$EC$25)/'Project Summary'!$J$12","v":781.58217687194394},{"$f":"+K51*SUMIF(Occupancy!$B$24:$EC$24,'Monthly Cash Flows'!K$12,Occupancy!$B$25:$EC$25)/'Project Summary'!$J$12","v":781.58217687194394},{"$f":"+L51*SUMIF(Occupancy!$B$24:$EC$24,'Monthly Cash Flows'!L$12,Occupancy!$B$25:$EC$25)/'Project Summary'!$J$12","v":781.58217687194394},{"$f":"+M51*SUMIF(Occupancy!$B$24:$EC$24,'Monthly Cash Flows'!M$12,Occupancy!$B$25:$EC$25)/'Project Summary'!$J$12","v":781.58217687194394},{"$f":"+N51*SUMIF(Occupancy!$B$24:$EC$24,'Monthly Cash Flows'!N$12,Occupancy!$B$25:$EC$25)/'Project Summary'!$J$12","v":839.07374883914417},{"$f":"+O51*SUMIF(Occupancy!$B$24:$EC$24,'Monthly Cash Flows'!O$12,Occupancy!$B$25:$EC$25)/'Project Summary'!$J$12","v":839.07374883914417},{"$f":"+P51*SUMIF(Occupancy!$B$24:$EC$24,'Monthly Cash Flows'!P$12,Occupancy!$B$25:$EC$25)/'Project Summary'!$J$12","v":839.07374883914417},{"$f":"+Q51*SUMIF(Occupancy!$B$24:$EC$24,'Monthly Cash Flows'!Q$12,Occupancy!$B$25:$EC$25)/'Project Summary'!$J$12","v":839.07374883914417},{"$f":"+R51*SUMIF(Occupancy!$B$24:$EC$24,'Monthly Cash Flows'!R$12,Occupancy!$B$25:$EC$25)/'Project Summary'!$J$12","v":847.17948852034465},{"$f":"+S51*SUMIF(Occupancy!$B$24:$EC$24,'Monthly Cash Flows'!S$12,Occupancy!$B$25:$EC$25)/'Project Summary'!$J$12","v":865.01211581898554},{"$f":"+T51*SUMIF(Occupancy!$B$24:$EC$24,'Monthly Cash Flows'!T$12,Occupancy!$B$25:$EC$25)/'Project Summary'!$J$12","v":865.01211581898554},{"$f":"+U51*SUMIF(Occupancy!$B$24:$EC$24,'Monthly Cash Flows'!U$12,Occupancy!$B$25:$EC$25)/'Project Summary'!$J$12","v":865.01211581898554},{"$f":"+V51*SUMIF(Occupancy!$B$24:$EC$24,'Monthly Cash Flows'!V$12,Occupancy!$B$25:$EC$25)/'Project Summary'!$J$12","v":865.01211581898554},{"$f":"+W51*SUMIF(Occupancy!$B$24:$EC$24,'Monthly Cash Flows'!W$12,Occupancy!$B$25:$EC$25)/'Project Summary'!$J$12","v":865.01211581898554},{"$f":"+X51*SUMIF(Occupancy!$B$24:$EC$24,'Monthly Cash Flows'!X$12,Occupancy!$B$25:$EC$25)/'Project Summary'!$J$12","v":865.01211581898554},{"$f":"+Y51*SUMIF(Occupancy!$B$24:$EC$24,'Monthly Cash Flows'!Y$12,Occupancy!$B$25:$EC$25)/'Project Summary'!$J$12","v":865.01211581898554},{"$f":"+Z51*SUMIF(Occupancy!$B$24:$EC$24,'Monthly Cash Flows'!Z$12,Occupancy!$B$25:$EC$25)/'Project Summary'!$J$12","v":890.96247929355513},{"$f":"+AA51*SUMIF(Occupancy!$B$24:$EC$24,'Monthly Cash Flows'!AA$12,Occupancy!$B$25:$EC$25)/'Project Summary'!$J$12","v":890.96247929355513},{"$f":"+AB51*SUMIF(Occupancy!$B$24:$EC$24,'Monthly Cash Flows'!AB$12,Occupancy!$B$25:$EC$25)/'Project Summary'!$J$12","v":890.96247929355513},{"$f":"+AC51*SUMIF(Occupancy!$B$24:$EC$24,'Monthly Cash Flows'!AC$12,Occupancy!$B$25:$EC$25)/'Project Summary'!$J$12","v":890.96247929355513},{"$f":"+AD51*SUMIF(Occupancy!$B$24:$EC$24,'Monthly Cash Flows'!AD$12,Occupancy!$B$25:$EC$25)/'Project Summary'!$J$12","v":890.96247929355513},{"$f":"+AE51*SUMIF(Occupancy!$B$24:$EC$24,'Monthly Cash Flows'!AE$12,Occupancy!$B$25:$EC$25)/'Project Summary'!$J$12","v":890.96247929355513},{"$f":"+AF51*SUMIF(Occupancy!$B$24:$EC$24,'Monthly Cash Flows'!AF$12,Occupancy!$B$25:$EC$25)/'Project Summary'!$J$12","v":890.96247929355513},{"$f":"+AG51*SUMIF(Occupancy!$B$24:$EC$24,'Monthly Cash Flows'!AG$12,Occupancy!$B$25:$EC$25)/'Project Summary'!$J$12","v":890.96247929355513},{"$f":"+AH51*SUMIF(Occupancy!$B$24:$EC$24,'Monthly Cash Flows'!AH$12,Occupancy!$B$25:$EC$25)/'Project Summary'!$J$12","v":890.96247929355513},{"$f":"+AI51*SUMIF(Occupancy!$B$24:$EC$24,'Monthly Cash Flows'!AI$12,Occupancy!$B$25:$EC$25)/'Project Summary'!$J$12","v":890.96247929355513},{"$f":"+AJ51*SUMIF(Occupancy!$B$24:$EC$24,'Monthly Cash Flows'!AJ$12,Occupancy!$B$25:$EC$25)/'Project Summary'!$J$12","v":890.96247929355513},{"$f":"+AK51*SUMIF(Occupancy!$B$24:$EC$24,'Monthly Cash Flows'!AK$12,Occupancy!$B$25:$EC$25)/'Project Summary'!$J$12","v":890.96247929355513},{"$f":"+AL51*SUMIF(Occupancy!$B$24:$EC$24,'Monthly Cash Flows'!AL$12,Occupancy!$B$25:$EC$25)/'Project Summary'!$J$12","v":917.69135367236197},{"$f":"+AM51*SUMIF(Occupancy!$B$24:$EC$24,'Monthly Cash Flows'!AM$12,Occupancy!$B$25:$EC$25)/'Project Summary'!$J$12","v":917.69135367236197},{"$f":"+AN51*SUMIF(Occupancy!$B$24:$EC$24,'Monthly Cash Flows'!AN$12,Occupancy!$B$25:$EC$25)/'Project Summary'!$J$12","v":917.69135367236197},{"$f":"+AO51*SUMIF(Occupancy!$B$24:$EC$24,'Monthly Cash Flows'!AO$12,Occupancy!$B$25:$EC$25)/'Project Summary'!$J$12","v":917.69135367236197},{"$f":"+AP51*SUMIF(Occupancy!$B$24:$EC$24,'Monthly Cash Flows'!AP$12,Occupancy!$B$25:$EC$25)/'Project Summary'!$J$12","v":917.69135367236197},{"$f":"+AQ51*SUMIF(Occupancy!$B$24:$EC$24,'Monthly Cash Flows'!AQ$12,Occupancy!$B$25:$EC$25)/'Project Summary'!$J$12","v":917.69135367236197},{"$f":"+AR51*SUMIF(Occupancy!$B$24:$EC$24,'Monthly Cash Flows'!AR$12,Occupancy!$B$25:$EC$25)/'Project Summary'!$J$12","v":917.69135367236197},{"$f":"+AS51*SUMIF(Occupancy!$B$24:$EC$24,'Monthly Cash Flows'!AS$12,Occupancy!$B$25:$EC$25)/'Project Summary'!$J$12","v":917.69135367236197},{"$f":"+AT51*SUMIF(Occupancy!$B$24:$EC$24,'Monthly Cash Flows'!AT$12,Occupancy!$B$25:$EC$25)/'Project Summary'!$J$12","v":917.69135367236197},{"$f":"+AU51*SUMIF(Occupancy!$B$24:$EC$24,'Monthly Cash Flows'!AU$12,Occupancy!$B$25:$EC$25)/'Project Summary'!$J$12","v":917.69135367236197},{"$f":"+AV51*SUMIF(Occupancy!$B$24:$EC$24,'Monthly Cash Flows'!AV$12,Occupancy!$B$25:$EC$25)/'Project Summary'!$J$12","v":917.69135367236197},{"$f":"+AW51*SUMIF(Occupancy!$B$24:$EC$24,'Monthly Cash Flows'!AW$12,Occupancy!$B$25:$EC$25)/'Project Summary'!$J$12","v":917.69135367236197},{"$f":"+AX51*SUMIF(Occupancy!$B$24:$EC$24,'Monthly Cash Flows'!AX$12,Occupancy!$B$25:$EC$25)/'Project Summary'!$J$12","v":945.22209428253279},{"$f":"+AY51*SUMIF(Occupancy!$B$24:$EC$24,'Monthly Cash Flows'!AY$12,Occupancy!$B$25:$EC$25)/'Project Summary'!$J$12","v":945.22209428253279},{"$f":"+AZ51*SUMIF(Occupancy!$B$24:$EC$24,'Monthly Cash Flows'!AZ$12,Occupancy!$B$25:$EC$25)/'Project Summary'!$J$12","v":945.22209428253279},{"$f":"+BA51*SUMIF(Occupancy!$B$24:$EC$24,'Monthly Cash Flows'!BA$12,Occupancy!$B$25:$EC$25)/'Project Summary'!$J$12","v":945.22209428253279},{"$f":"+BB51*SUMIF(Occupancy!$B$24:$EC$24,'Monthly Cash Flows'!BB$12,Occupancy!$B$25:$EC$25)/'Project Summary'!$J$12","v":945.22209428253279},{"$f":"+BC51*SUMIF(Occupancy!$B$24:$EC$24,'Monthly Cash Flows'!BC$12,Occupancy!$B$25:$EC$25)/'Project Summary'!$J$12","v":945.22209428253279},{"$f":"+BD51*SUMIF(Occupancy!$B$24:$EC$24,'Monthly Cash Flows'!BD$12,Occupancy!$B$25:$EC$25)/'Project Summary'!$J$12","v":945.22209428253279},{"$f":"+BE51*SUMIF(Occupancy!$B$24:$EC$24,'Monthly Cash Flows'!BE$12,Occupancy!$B$25:$EC$25)/'Project Summary'!$J$12","v":945.22209428253279},{"$f":"+BF51*SUMIF(Occupancy!$B$24:$EC$24,'Monthly Cash Flows'!BF$12,Occupancy!$B$25:$EC$25)/'Project Summary'!$J$12","v":945.22209428253279},{"$f":"+BG51*SUMIF(Occupancy!$B$24:$EC$24,'Monthly Cash Flows'!BG$12,Occupancy!$B$25:$EC$25)/'Project Summary'!$J$12","v":945.22209428253279},{"$f":"+BH51*SUMIF(Occupancy!$B$24:$EC$24,'Monthly Cash Flows'!BH$12,Occupancy!$B$25:$EC$25)/'Project Summary'!$J$12","v":945.22209428253279},{"$f":"+BI51*SUMIF(Occupancy!$B$24:$EC$24,'Monthly Cash Flows'!BI$12,Occupancy!$B$25:$EC$25)/'Project Summary'!$J$12","v":945.22209428253279},{"$f":"+BJ51*SUMIF(Occupancy!$B$24:$EC$24,'Monthly Cash Flows'!BJ$12,Occupancy!$B$25:$EC$25)/'Project Summary'!$J$12","v":973.57875711100871},{"$f":"+BK51*SUMIF(Occupancy!$B$24:$EC$24,'Monthly Cash Flows'!BK$12,Occupancy!$B$25:$EC$25)/'Project Summary'!$J$12","v":973.57875711100871},{"$f":"+BL51*SUMIF(Occupancy!$B$24:$EC$24,'Monthly Cash Flows'!BL$12,Occupancy!$B$25:$EC$25)/'Project Summary'!$J$12","v":973.57875711100871},{"$f":"+BM51*SUMIF(Occupancy!$B$24:$EC$24,'Monthly Cash Flows'!BM$12,Occupancy!$B$25:$EC$25)/'Project Summary'!$J$12","v":973.57875711100871},{"$f":"+BN51*SUMIF(Occupancy!$B$24:$EC$24,'Monthly Cash Flows'!BN$12,Occupancy!$B$25:$EC$25)/'Project Summary'!$J$12","v":973.57875711100871},{"$f":"+BO51*SUMIF(Occupancy!$B$24:$EC$24,'Monthly Cash Flows'!BO$12,Occupancy!$B$25:$EC$25)/'Project Summary'!$J$12","v":973.57875711100871},{"$f":"+BP51*SUMIF(Occupancy!$B$24:$EC$24,'Monthly Cash Flows'!BP$12,Occupancy!$B$25:$EC$25)/'Project Summary'!$J$12","v":973.57875711100871},{"$f":"+BQ51*SUMIF(Occupancy!$B$24:$EC$24,'Monthly Cash Flows'!BQ$12,Occupancy!$B$25:$EC$25)/'Project Summary'!$J$12","v":973.57875711100871},{"$f":"+BR51*SUMIF(Occupancy!$B$24:$EC$24,'Monthly Cash Flows'!BR$12,Occupancy!$B$25:$EC$25)/'Project Summary'!$J$12","v":973.57875711100871},{"$f":"+BS51*SUMIF(Occupancy!$B$24:$EC$24,'Monthly Cash Flows'!BS$12,Occupancy!$B$25:$EC$25)/'Project Summary'!$J$12","v":973.57875711100871},{"$f":"+BT51*SUMIF(Occupancy!$B$24:$EC$24,'Monthly Cash Flows'!BT$12,Occupancy!$B$25:$EC$25)/'Project Summary'!$J$12","v":973.57875711100871},{"$f":"+BU51*SUMIF(Occupancy!$B$24:$EC$24,'Monthly Cash Flows'!BU$12,Occupancy!$B$25:$EC$25)/'Project Summary'!$J$12","v":973.57875711100871},{"$f":"+BV51*SUMIF(Occupancy!$B$24:$EC$24,'Monthly Cash Flows'!BV$12,Occupancy!$B$25:$EC$25)/'Project Summary'!$J$12","v":1002.786119824339},{"$f":"+BW51*SUMIF(Occupancy!$B$24:$EC$24,'Monthly Cash Flows'!BW$12,Occupancy!$B$25:$EC$25)/'Project Summary'!$J$12","v":1002.786119824339},{"$f":"+BX51*SUMIF(Occupancy!$B$24:$EC$24,'Monthly Cash Flows'!BX$12,Occupancy!$B$25:$EC$25)/'Project Summary'!$J$12","v":1002.786119824339},{"$f":"+BY51*SUMIF(Occupancy!$B$24:$EC$24,'Monthly Cash Flows'!BY$12,Occupancy!$B$25:$EC$25)/'Project Summary'!$J$12","v":1002.786119824339},{"$f":"+BZ51*SUMIF(Occupancy!$B$24:$EC$24,'Monthly Cash Flows'!BZ$12,Occupancy!$B$25:$EC$25)/'Project Summary'!$J$12","v":1002.786119824339},{"$f":"+CA51*SUMIF(Occupancy!$B$24:$EC$24,'Monthly Cash Flows'!CA$12,Occupancy!$B$25:$EC$25)/'Project Summary'!$J$12","v":1002.786119824339},{"$f":"+CB51*SUMIF(Occupancy!$B$24:$EC$24,'Monthly Cash Flows'!CB$12,Occupancy!$B$25:$EC$25)/'Project Summary'!$J$12","v":1002.786119824339},{"$f":"+CC51*SUMIF(Occupancy!$B$24:$EC$24,'Monthly Cash Flows'!CC$12,Occupancy!$B$25:$EC$25)/'Project Summary'!$J$12","v":1002.786119824339},{"$f":"+CD51*SUMIF(Occupancy!$B$24:$EC$24,'Monthly Cash Flows'!CD$12,Occupancy!$B$25:$EC$25)/'Project Summary'!$J$12","v":1002.786119824339},{"$f":"+CE51*SUMIF(Occupancy!$B$24:$EC$24,'Monthly Cash Flows'!CE$12,Occupancy!$B$25:$EC$25)/'Project Summary'!$J$12","v":1002.786119824339},{"$f":"+CF51*SUMIF(Occupancy!$B$24:$EC$24,'Monthly Cash Flows'!CF$12,Occupancy!$B$25:$EC$25)/'Project Summary'!$J$12","v":1002.786119824339},{"$f":"+CG51*SUMIF(Occupancy!$B$24:$EC$24,'Monthly Cash Flows'!CG$12,Occupancy!$B$25:$EC$25)/'Project Summary'!$J$12","v":1002.786119824339},{"$f":"+CH51*SUMIF(Occupancy!$B$24:$EC$24,'Monthly Cash Flows'!CH$12,Occupancy!$B$25:$EC$25)/'Project Summary'!$J$12","v":1032.8697034190693},{"$f":"+CI51*SUMIF(Occupancy!$B$24:$EC$24,'Monthly Cash Flows'!CI$12,Occupancy!$B$25:$EC$25)/'Project Summary'!$J$12","v":1032.8697034190693},{"$f":"+CJ51*SUMIF(Occupancy!$B$24:$EC$24,'Monthly Cash Flows'!CJ$12,Occupancy!$B$25:$EC$25)/'Project Summary'!$J$12","v":1032.8697034190693},{"$f":"+CK51*SUMIF(Occupancy!$B$24:$EC$24,'Monthly Cash Flows'!CK$12,Occupancy!$B$25:$EC$25)/'Project Summary'!$J$12","v":1032.8697034190693},{"$f":"+CL51*SUMIF(Occupancy!$B$24:$EC$24,'Monthly Cash Flows'!CL$12,Occupancy!$B$25:$EC$25)/'Project Summary'!$J$12","v":1032.8697034190693},{"$f":"+CM51*SUMIF(Occupancy!$B$24:$EC$24,'Monthly Cash Flows'!CM$12,Occupancy!$B$25:$EC$25)/'Project Summary'!$J$12","v":1032.8697034190693},{"$f":"+CN51*SUMIF(Occupancy!$B$24:$EC$24,'Monthly Cash Flows'!CN$12,Occupancy!$B$25:$EC$25)/'Project Summary'!$J$12","v":1032.8697034190693},{"$f":"+CO51*SUMIF(Occupancy!$B$24:$EC$24,'Monthly Cash Flows'!CO$12,Occupancy!$B$25:$EC$25)/'Project Summary'!$J$12","v":1032.8697034190693},{"$f":"+CP51*SUMIF(Occupancy!$B$24:$EC$24,'Monthly Cash Flows'!CP$12,Occupancy!$B$25:$EC$25)/'Project Summary'!$J$12","v":1032.8697034190693},{"$f":"+CQ51*SUMIF(Occupancy!$B$24:$EC$24,'Monthly Cash Flows'!CQ$12,Occupancy!$B$25:$EC$25)/'Project Summary'!$J$12","v":1032.8697034190693},{"$f":"+CR51*SUMIF(Occupancy!$B$24:$EC$24,'Monthly Cash Flows'!CR$12,Occupancy!$B$25:$EC$25)/'Project Summary'!$J$12","v":1032.8697034190693},{"$f":"+CS51*SUMIF(Occupancy!$B$24:$EC$24,'Monthly Cash Flows'!CS$12,Occupancy!$B$25:$EC$25)/'Project Summary'!$J$12","v":1032.8697034190693},{"$f":"+CT51*SUMIF(Occupancy!$B$24:$EC$24,'Monthly Cash Flows'!CT$12,Occupancy!$B$25:$EC$25)/'Project Summary'!$J$12","v":1063.8557945216414},{"$f":"+CU51*SUMIF(Occupancy!$B$24:$EC$24,'Monthly Cash Flows'!CU$12,Occupancy!$B$25:$EC$25)/'Project Summary'!$J$12","v":1063.8557945216414},{"$f":"+CV51*SUMIF(Occupancy!$B$24:$EC$24,'Monthly Cash Flows'!CV$12,Occupancy!$B$25:$EC$25)/'Project Summary'!$J$12","v":1063.8557945216414},{"$f":"+CW51*SUMIF(Occupancy!$B$24:$EC$24,'Monthly Cash Flows'!CW$12,Occupancy!$B$25:$EC$25)/'Project Summary'!$J$12","v":1063.8557945216414},{"$f":"+CX51*SUMIF(Occupancy!$B$24:$EC$24,'Monthly Cash Flows'!CX$12,Occupancy!$B$25:$EC$25)/'Project Summary'!$J$12","v":1063.8557945216414},{"$f":"+CY51*SUMIF(Occupancy!$B$24:$EC$24,'Monthly Cash Flows'!CY$12,Occupancy!$B$25:$EC$25)/'Project Summary'!$J$12","v":1063.8557945216414},{"$f":"+CZ51*SUMIF(Occupancy!$B$24:$EC$24,'Monthly Cash Flows'!CZ$12,Occupancy!$B$25:$EC$25)/'Project Summary'!$J$12","v":1063.8557945216414},{"$f":"+DA51*SUMIF(Occupancy!$B$24:$EC$24,'Monthly Cash Flows'!DA$12,Occupancy!$B$25:$EC$25)/'Project Summary'!$J$12","v":1063.8557945216414},{"$f":"+DB51*SUMIF(Occupancy!$B$24:$EC$24,'Monthly Cash Flows'!DB$12,Occupancy!$B$25:$EC$25)/'Project Summary'!$J$12","v":1063.8557945216414},{"$f":"+DC51*SUMIF(Occupancy!$B$24:$EC$24,'Monthly Cash Flows'!DC$12,Occupancy!$B$25:$EC$25)/'Project Summary'!$J$12","v":1063.8557945216414},{"$f":"+DD51*SUMIF(Occupancy!$B$24:$EC$24,'Monthly Cash Flows'!DD$12,Occupancy!$B$25:$EC$25)/'Project Summary'!$J$12","v":1063.8557945216414},{"$f":"+DE51*SUMIF(Occupancy!$B$24:$EC$24,'Monthly Cash Flows'!DE$12,Occupancy!$B$25:$EC$25)/'Project Summary'!$J$12","v":1063.8557945216414},{"$f":"+DF51*SUMIF(Occupancy!$B$24:$EC$24,'Monthly Cash Flows'!DF$12,Occupancy!$B$25:$EC$25)/'Project Summary'!$J$12","v":1095.7714683572908},{"$f":"+DG51*SUMIF(Occupancy!$B$24:$EC$24,'Monthly Cash Flows'!DG$12,Occupancy!$B$25:$EC$25)/'Project Summary'!$J$12","v":1095.7714683572908},{"$f":"+DH51*SUMIF(Occupancy!$B$24:$EC$24,'Monthly Cash Flows'!DH$12,Occupancy!$B$25:$EC$25)/'Project Summary'!$J$12","v":1095.7714683572908},{"$f":"+DI51*SUMIF(Occupancy!$B$24:$EC$24,'Monthly Cash Flows'!DI$12,Occupancy!$B$25:$EC$25)/'Project Summary'!$J$12","v":1095.7714683572908},{"$f":"+DJ51*SUMIF(Occupancy!$B$24:$EC$24,'Monthly Cash Flows'!DJ$12,Occupancy!$B$25:$EC$25)/'Project Summary'!$J$12","v":1095.7714683572908},{"$f":"+DK51*SUMIF(Occupancy!$B$24:$EC$24,'Monthly Cash Flows'!DK$12,Occupancy!$B$25:$EC$25)/'Project Summary'!$J$12","v":1095.7714683572908},{"$f":"+DL51*SUMIF(Occupancy!$B$24:$EC$24,'Monthly Cash Flows'!DL$12,Occupancy!$B$25:$EC$25)/'Project Summary'!$J$12","v":1095.7714683572908},{"$f":"+DM51*SUMIF(Occupancy!$B$24:$EC$24,'Monthly Cash Flows'!DM$12,Occupancy!$B$25:$EC$25)/'Project Summary'!$J$12","v":1095.7714683572908},{"$f":"+DN51*SUMIF(Occupancy!$B$24:$EC$24,'Monthly Cash Flows'!DN$12,Occupancy!$B$25:$EC$25)/'Project Summary'!$J$12","v":1095.7714683572908},{"$f":"+DO51*SUMIF(Occupancy!$B$24:$EC$24,'Monthly Cash Flows'!DO$12,Occupancy!$B$25:$EC$25)/'Project Summary'!$J$12","v":1095.7714683572908},{"$f":"+DP51*SUMIF(Occupancy!$B$24:$EC$24,'Monthly Cash Flows'!DP$12,Occupancy!$B$25:$EC$25)/'Project Summary'!$J$12","v":1095.7714683572908},{"$f":"+DQ51*SUMIF(Occupancy!$B$24:$EC$24,'Monthly Cash Flows'!DQ$12,Occupancy!$B$25:$EC$25)/'Project Summary'!$J$12","v":1095.7714683572908},{"$f":"+DR51*SUMIF(Occupancy!$B$24:$EC$24,'Monthly Cash Flows'!DR$12,Occupancy!$B$25:$EC$25)/'Project Summary'!$J$12","v":1128.6446124080096},{"$f":"+DS51*SUMIF(Occupancy!$B$24:$EC$24,'Monthly Cash Flows'!DS$12,Occupancy!$B$25:$EC$25)/'Project Summary'!$J$12","v":1128.6446124080096},{"$f":"+DT51*SUMIF(Occupancy!$B$24:$EC$24,'Monthly Cash Flows'!DT$12,Occupancy!$B$25:$EC$25)/'Project Summary'!$J$12","v":1128.6446124080096},{"$f":"+DU51*SUMIF(Occupancy!$B$24:$EC$24,'Monthly Cash Flows'!DU$12,Occupancy!$B$25:$EC$25)/'Project Summary'!$J$12","v":1128.6446124080096},{"$f":"+DV51*SUMIF(Occupancy!$B$24:$EC$24,'Monthly Cash Flows'!DV$12,Occupancy!$B$25:$EC$25)/'Project Summary'!$J$12","v":1128.6446124080096},{"$f":"+DW51*SUMIF(Occupancy!$B$24:$EC$24,'Monthly Cash Flows'!DW$12,Occupancy!$B$25:$EC$25)/'Project Summary'!$J$12","v":1128.6446124080096},{"$f":"+DX51*SUMIF(Occupancy!$B$24:$EC$24,'Monthly Cash Flows'!DX$12,Occupancy!$B$25:$EC$25)/'Project Summary'!$J$12","v":1128.6446124080096},{"$f":"+DY51*SUMIF(Occupancy!$B$24:$EC$24,'Monthly Cash Flows'!DY$12,Occupancy!$B$25:$EC$25)/'Project Summary'!$J$12","v":1128.6446124080096},{"$f":"+DZ51*SUMIF(Occupancy!$B$24:$EC$24,'Monthly Cash Flows'!DZ$12,Occupancy!$B$25:$EC$25)/'Project Summary'!$J$12","v":1128.6446124080096},{"$f":"+EA51*SUMIF(Occupancy!$B$24:$EC$24,'Monthly Cash Flows'!EA$12,Occupancy!$B$25:$EC$25)/'Project Summary'!$J$12","v":1128.6446124080096},{"$f":"+EB51*SUMIF(Occupancy!$B$24:$EC$24,'Monthly Cash Flows'!EB$12,Occupancy!$B$25:$EC$25)/'Project Summary'!$J$12","v":1128.6446124080096},{"$f":"+EC51*SUMIF(Occupancy!$B$24:$EC$24,'Monthly Cash Flows'!EC$12,Occupancy!$B$25:$EC$25)/'Project Summary'!$J$12","v":1128.6446124080096}]
["Garbage and Trash Removal",{"$f":"+B52*SUMIF(Occupancy!$B$24:$EC$24,'Monthly Cash Flows'!B$12,Occupancy!$B$25:$EC$25)/'Project Summary'!$J$12","v":80.372742373506995},{"$f":"+C52*SUMIF(Occupancy!$B$24:$EC$24,'Monthly Cash Flows'!C$12,Occupancy!$B$25:$EC$25)/'Project Summary'!$J$12","v":80.372742373506995},{"$f":"+D52*SUMIF(Occupancy!$B$24:$EC$24,'Monthly Cash Flows'!D$12,Occupancy!$B$25:$EC$25)/'Project Summary'!$J$12","v":80.372742373506995},{"$f":"+E52*SUMIF(Occupancy!$B$24:$EC$24,'Monthly Cash Flows'!E$12,Occupancy!$B$25:$EC$25)/'Project Summary'!$J$12","v":80.372742373506995},{"$f":"+F52*SUMIF(Occupancy!$B$24:$EC$24,'Monthly Cash Flows'!F$12,Occupancy!$B$25:$EC$25)/'Project Summary'!$J$12","v":81.871674532654836},{"$f":"+G52*SUMIF(Occupancy!$B$24:$EC$24,'Monthly Cash Flows'!G$12,Occupancy!$B$25:$EC$25)/'Project Summary'!$J$12","v":81.871674532654836},{"$f":"+H52*SUMIF(Occupancy!$B$24:$EC$24,'Monthly Cash Flows'!H$12,Occupancy!$B$25:$EC$25)/'Project Summary'!$J$12","v":81.871674532654836},{"$f":"+I52*SUMIF(Occupancy!$B$24:$EC$24,'Monthly Cash Flows'!I$12,Occupancy!$B$25:$EC$25)/'Project Summary'!$J$12","v":81.871674532654836},{"$f":"+J52*SUMIF(Occupancy!$B$24:$EC$24,'Monthly Cash Flows'!J$12,Occupancy!$B$25:$EC$25)/'Project Summary'!$J$12","v":82.704414621070299},{"$f":"+K52*SUMIF(Occupancy!$B$24:$EC$24,'Monthly Cash Flows'!K$12,Occupancy!$B$25:$EC$25)/'Project Summary'!$J$12","v":82.704414621070299},{"$f":"+L52*SUMIF(Occupancy!$B$24:$EC$24,'Monthly Cash Flows'!L$12,Occupancy!$B$25:$EC$25)/'Project Summary'!$J$12","v":82.704414621070299},{"$f":"+M52*SUMIF(Occupancy!$B$24:$EC$24,'Monthly Cash Flows'!M$12,Occupancy!$B$25:$EC$25)/'Project Summary'!$J$12","v":82.704414621070299},{"$f":"+N52*SUMIF(Occupancy!$B$24:$EC$24,'Monthly Cash Flows'!N$12,Occupancy!$B$25:$EC$25)/'Project Summary'!$J$12","v":88.787980682187722},{"$f":"+O52*SUMIF(Occupancy!$B$24:$EC$24,'Monthly Cash Flows'!O$12,Occupancy!$B$25:$EC$25)/'Project Summary'!$J$12","v":88.787980682187722},{"$f":"+P52*SUMIF(Occupancy!$B$24:$EC$24,'Monthly Cash Flows'!P$12,Occupancy!$B$25:$EC$25)/'Project Summary'!$J$12","v":88.787980682187722},{"$f":"+Q52*SUMIF(Occupancy!$B$24:$EC$24,'Monthly Cash Flows'!Q$12,Occupancy!$B$25:$EC$25)/'Project Summary'!$J$12","v":88.787980682187722},{"$f":"+R52*SUMIF(Occupancy!$B$24:$EC$24,'Monthly Cash Flows'!R$12,Occupancy!$B$25:$EC$25)/'Project Summary'!$J$12","v":89.645702973255638},{"$f":"+S52*SUMIF(Occupancy!$B$24:$EC$24,'Monthly Cash Flows'!S$12,Occupancy!$B$25:$EC$25)/'Project Summary'!$J$12","v":91.532692013605086},{"$f":"+T52*SUMIF(Occupancy!$B$24:$EC$24,'Monthly Cash Flows'!T$12,Occupancy!$B$25:$EC$25)/'Project Summary'!$J$12","v":91.532692013605086},{"$f":"+U52*SUMIF(Occupancy!$B$24:$EC$24,'Monthly Cash Flows'!U$12,Occupancy!$B$25:$EC$25)/'Project Summary'!$J$12","v":91.532692013605086},{"$f":"+V52*SUMIF(Occupancy!$B$24:$EC$24,'Monthly Cash Flows'!V$12,Occupancy!$B$25:$EC$25)/'Project Summary'!$J$12","v":91.532692013605086},{"$f":"+W52*SUMIF(Occupancy!$B$24:$EC$24,'Monthly Cash Flows'!W$12,Occupancy!$B$25:$EC$25)/'Project Summary'!$J$12","v":91.532692013605086},{"$f":"+X52*SUMIF(Occupancy!$B$24:$EC$24,'Monthly Cash Flows'!X$12,Occupancy!$B$25:$EC$25)/'Project Summary'!$J$12","v":91.532692013605086},{"$f":"+Y52*SUMIF(Occupancy!$B$24:$EC$24,'Monthly Cash Flows'!Y$12,Occupancy!$B$25:$EC$25)/'Project Summary'!$J$12","v":91.532692013605086},{"$f":"+Z52*SUMIF(Occupancy!$B$24:$EC$24,'Monthly Cash Flows'!Z$12,Occupancy!$B$25:$EC$25)/'Project Summary'!$J$12","v":94.278672774013231},{"$f":"+AA52*SUMIF(Occupancy!$B$24:$EC$24,'Monthly Cash Flows'!AA$12,Occupancy!$B$25:$EC$25)/'Project Summary'!$J$12","v":94.278672774013231},{"$f":"+AB52*SUMIF(Occupancy!$B$24:$EC$24,'Monthly Cash Flows'!AB$12,Occupancy!$B$25:$EC$25)/'Project Summary'!$J$12","v":94.278672774013231},{"$f":"+AC52*SUMIF(Occupancy!$B$24:$EC$24,'Monthly Cash Flows'!AC$12,Occupancy!$B$25:$EC$25)/'Project Summary'!$J$12","v":94.278672774013231},{"$f":"+AD52*SUMIF(Occupancy!$B$24:$EC$24,'Monthly Cash Flows'!AD$12,Occupancy!$B$25:$EC$25)/'Project Summary'!$J$12","v":94.278672774013231},{"$f":"+AE52*SUMIF(Occupancy!$B$24:$EC$24,'Monthly Cash Flows'!AE$12,Occupancy!$B$25:$EC$25)/'Project Summary'!$J$12","v":94.278672774013231},{"$f":"+AF52*SUMIF(Occupancy!$B$24:$EC$24,'Monthly Cash Flows'!AF$12,Occupancy!$B$25:$EC$25)/'Project Summary'!$J$12","v":94.278672774013231},{"$f":"+AG52*SUMIF(Occupancy!$B$24:$EC$24,'Monthly Cash Flows'!AG$12,Occupancy!$B$25:$EC$25)/'Project Summary'!$J$12","v":94.278672774013231},{"$f":"+AH52*SUMIF(Occupancy!$B$24:$EC$24,'Monthly Cash Flows'!AH$12,Occupancy!$B$25:$EC$25)/'Project Summary'!$J$12","v":94.278672774013231},{"$f":"+AI52*SUMIF(Occupancy!$B$24:$EC$24,'Monthly Cash Flows'!AI$12,Occupancy!$B$25:$EC$25)/'Project Summary'!$J$12","v":94.278672774013231},{"$f":"+AJ52*SUMIF(Occupancy!$B$24:$EC$24,'Monthly Cash Flows'!AJ$12,Occupancy!$B$25:$EC$25)/'Project Summary'!$J$12","v":94.278672774013231},{"$f":"+AK52*SUMIF(Occupancy!$B$24:$EC$24,'Monthly Cash Flows'!AK$12,Occupancy!$B$25:$EC$25)/'Project Summary'!$J$12","v":94.278672774013231},{"$f":"+AL52*SUMIF(Occupancy!$B$24:$EC$24,'Monthly Cash Flows'!AL$12,Occupancy!$B$25:$EC$25)/'Project Summary'!$J$12","v":97.107032957233628},{"$f":"+AM52*SUMIF(Occupancy!$B$24:$EC$24,'Monthly Cash Flows'!AM$12,Occupancy!$B$25:$EC$25)/'Project Summary'!$J$12","v":97.107032957233628},{"$f":"+AN52*SUMIF(Occupancy!$B$24:$EC$24,'Monthly Cash Flows'!AN$12,Occupancy!$B$25:$EC$25)/'Project Summary'!$J$12","v":97.107032957233628},{"$f":"+AO52*SUMIF(Occupancy!$B$24:$EC$24,'Monthly Cash Flows'!AO$12,Occupancy!$B$25:$EC$25)/'Project Summary'!$J$12","v":97.107032957233628},{"$f":"+AP52*SUMIF(Occupancy!$B$24:$EC$24,'Monthly Cash Flows'!AP$12,Occupancy!$B$25:$EC$25)/'Project Summary'!$J$12","v":97.107032957233628},{"$f":"+AQ52*SUMIF(Occupancy!$B$24:$EC$24,'Monthly Cash Flows'!AQ$12,Occupancy!$B$25:$EC$25)/'Project Summary'!$J$12","v":97.107032957233628},{"$f":"+AR52*SUMIF(Occupancy!$B$24:$EC$24,'Monthly Cash Flows'!AR$12,Occupancy!$B$25:$EC$25)/'Project Summary'!$J$12","v":97.107032957233628},{"$f":"+AS52*SUMIF(Occupancy!$B$24:$EC$24,'Monthly Cash Flows'!AS$12,Occupancy!$B$25:$EC$25)/'Project Summary'!$J$12","v":97.107032957233628},{"$f":"+AT52*SUMIF(Occupancy!$B$24:$EC$24,'Monthly Cash Flows'!AT$12,Occupancy!$B$25:$EC$25)/'Project Summary'!$J$12","v":97.107032957233628},{"$f":"+AU52*SUMIF(Occupancy!$B$24:$EC$24,'Monthly Cash Flows'!AU$12,Occupancy!$B$25:$EC$25)/'Project Summary'!$J$12","v":97.107032957233628},{"$f":"+AV52*SUMIF(Occupancy!$B$24:$EC$24,'Monthly Cash Flows'!AV$12,Occupancy!$B$25:$EC$25)/'Project Summary'!$J$12","v":97.107032957233628},{"$f":"+AW52*SUMIF(Occupancy!$B$24:$EC$24,'Monthly Cash Flows'!AW$12,Occupancy!$B$25:$EC$25)/'Project Summary'!$J$12","v":97.107032957233628},{"$f":"+AX52*SUMIF(Occupancy!$B$24:$EC$24,'Monthly Cash Flows'!AX$12,Occupancy!$B$25:$EC$25)/'Project Summary'!$J$12","v":100.02024394595064},{"$f":"+AY52*SUMIF(Occupancy!$B$24:$EC$24,'Monthly Cash Flows'!AY$12,Occupancy!$B$25:$EC$25)/'Project Summary'!$J$12","v":100.02024394595064},{"$f":"+AZ52*SUMIF(Occupancy!$B$24:$EC$24,'Monthly Cash Flows'!AZ$12,Occupancy!$B$25:$EC$25)/'Project Summary'!$J$12","v":100.02024394595064},{"$f":"+BA52*SUMIF(Occupancy!$B$24:$EC$24,'Monthly Cash Flows'!BA$12,Occupancy!$B$25:$EC$25)/'Project Summary'!$J$12","v":100.02024394595064},{"$f":"+BB52*SUMIF(Occupancy!$B$24:$EC$24,'Monthly Cash Flows'!BB$12,Occupancy!$B$25:$EC$25)/'Project Summary'!$J$12","v":100.02024394595064},{"$f":"+BC52*SUMIF(Occupancy!$B$24:$EC$24,'Monthly Cash Flows'!BC$12,Occupancy!$B$25:$EC$25)/'Project Summary'!$J$12","v":100.02024394595064},{"$f":"+BD52*SUMIF(Occupancy!$B$24:$EC$24,'Monthly Cash Flows'!BD$12,Occupancy!$B$25:$EC$25)/'Project Summary'!$J$12","v":100.02024394595064},{"$f":"+BE52*SUMIF(Occupancy!$B$24:$EC$24,'Monthly Cash Flows'!BE$12,Occupancy!$B$25:$EC$25)/'Project Summary'!$J$12","v":100.02024394595064},{"$f":"+BF52*SUMIF(Occupancy!$B$24:$EC$24,'Monthly Cash Flows'!BF$12,Occupancy!$B$25:$EC$25)/'Project Summary'!$J$12","v":100.02024394595064},{"$f":"+BG52*SUMIF(Occupancy!$B$24:$EC$24,'Monthly Cash Flows'!BG$12,Occupancy!$B$25:$EC$25)/'Project Summary'!$J$12","v":100.02024394595064},{"$f":"+BH52*SUMIF(Occupancy!$B$24:$EC$24,'Monthly Cash Flows'!BH$12,Occupancy!$B$25:$EC$25)/'Project Summary'!$J$12","v":100.02024394595064},{"$f":"+BI52*SUMIF(Occupancy!$B$24:$EC$24,'Monthly Cash Flows'!BI$12,Occupancy!$B$25:$EC$25)/'Project Summary'!$J$12","v":100.02024394595064},{"$f":"+BJ52*SUMIF(Occupancy!$B$24:$EC$24,'Monthly Cash Flows'!BJ$12,Occupancy!$B$25:$EC$25)/'Project Summary'!$J$12","v":103.02085126432915},{"$f":"+BK52*SUMIF(Occupancy!$B$24:$EC$24,'Monthly Cash Flows'!BK$12,Occupancy!$B$25:$EC$25)/'Project Summary'!$J$12","v":103.02085126432915},{"$f":"+BL52*SUMIF(Occupancy!$B$24:$EC$24,'Monthly Cash Flows'!BL$12,Occupancy!$B$25:$EC$25)/'Project Summary'!$J$12","v":103.02085126432915},{"$f":"+BM52*SUMIF(Occupancy!$B$24:$EC$24,'Monthly Cash Flows'!BM$12,Occupancy!$B$25:$EC$25)/'Project Summary'!$J$12","v":103.02085126432915},{"$f":"+BN52*SUMIF(Occupancy!$B$24:$EC$24,'Monthly Cash Flows'!BN$12,Occupancy!$B$25:$EC$25)/'Project Summary'!$J$12","v":103.02085126432915},{"$f":"+BO52*SUMIF(Occupancy!$B$24:$EC$24,'Monthly Cash Flows'!BO$12,Occupancy!$B$25:$EC$25)/'Project Summary'!$J$12","v":103.02085126432915},{"$f":"+BP52*SUMIF(Occupancy!$B$24:$EC$24,'Monthly Cash Flows'!BP$12,Occupancy!$B$25:$EC$25)/'Project Summary'!$J$12","v":103.02085126432915},{"$f":"+BQ52*SUMIF(Occupancy!$B$24:$EC$24,'Monthly Cash Flows'!BQ$12,Occupancy!$B$25:$EC$25)/'Project Summary'!$J$12","v":103.02085126432915},{"$f":"+BR52*SUMIF(Occupancy!$B$24:$EC$24,'Monthly Cash Flows'!BR$12,Occupancy!$B$25:$EC$25)/'Project Summary'!$J$12","v":103.02085126432915},{"$f":"+BS52*SUMIF(Occupancy!$B$24:$EC$24,'Monthly Cash Flows'!BS$12,Occupancy!$B$25:$EC$25)/'Project Summary'!$J$12","v":103.02085126432915},{"$f":"+BT52*SUMIF(Occupancy!$B$24:$EC$24,'Monthly Cash Flows'!BT$12,Occupancy!$B$25:$EC$25)/'Project Summary'!$J$12","v":103.02085126432915},{"$f":"+BU52*SUMIF(Occupancy!$B$24:$EC$24,'Monthly Cash Flows'!BU$12,Occupancy!$B$25:$EC$25)/'Project Summary'!$J$12","v":103.02085126432915},{"$f":"+BV52*SUMIF(Occupancy!$B$24:$EC$24,'Monthly Cash Flows'!BV$12,Occupancy!$B$25:$EC$25)/'Project Summary'!$J$12","v":106.11147680225903},{"$f":"+BW52*SUMIF(Occupancy!$B$24:$EC$24,'Monthly Cash Flows'!BW$12,Occupancy!$B$25:$EC$25)/'Project Summary'!$J$12","v":106.11147680225903},{"$f":"+BX52*SUMIF(Occupancy!$B$24:$EC$24,'Monthly Cash Flows'!BX$12,Occupancy!$B$25:$EC$25)/'Project Summary'!$J$12","v":106.11147680225903},{"$f":"+BY52*SUMIF(Occupancy!$B$24:$EC$24,'Monthly Cash Flows'!BY$12,Occupancy!$B$25:$EC$25)/'Project Summary'!$J$12","v":106.11147680225903},{"$f":"+BZ52*SUMIF(Occupancy!$B$24:$EC$24,'Monthly Cash Flows'!BZ$12,Occupancy!$B$25:$EC$25)/'Project Summary'!$J$12","v":106.11147680225903},{"$f":"+CA52*SUMIF(Occupancy!$B$24:$EC$24,'Monthly Cash Flows'!CA$12,Occupancy!$B$25:$EC$25)/'Project Summary'!$J$12","v":106.11147680225903},{"$f":"+CB52*SUMIF(Occupancy!$B$24:$EC$24,'Monthly Cash Flows'!CB$12,Occupancy!$B$25:$EC$25)/'Project Summary'!$J$12","v":106.11147680225903},{"$f":"+CC52*SUMIF(Occupancy!$B$24:$EC$24,'Monthly Cash Flows'!CC$12,Occupancy!$B$25:$EC$25)/'Project Summary'!$J$12","v":106.11147680225903},{"$f":"+CD52*SUMIF(Occupancy!$B$24:$EC$24,'Monthly Cash Flows'!CD$12,Occupancy!$B$25:$EC$25)/'Project Summary'!$J$12","v":106.11147680225903},{"$f":"+CE52*SUMIF(Occupancy!$B$24:$EC$24,'Monthly Cash Flows'!CE$12,Occupancy!$B$25:$EC$25)/'Project Summary'!$J$12","v":106.11147680225903},{"$f":"+CF52*SUMIF(Occupancy!$B$24:$EC$24,'Monthly Cash Flows'!CF$12,Occupancy!$B$25:$EC$25)/'Project Summary'!$J$12","v":106.11147680225903},{"$f":"+CG52*SUMIF(Occupancy!$B$24:$EC$24,'Monthly Cash Flows'!CG$12,Occupancy!$B$25:$EC$25)/'Project Summary'!$J$12","v":106.11147680225903},{"$f":"+CH52*SUMIF(Occupancy!$B$24:$EC$24,'Monthly Cash Flows'!CH$12,Occupancy!$B$25:$EC$25)/'Project Summary'!$J$12","v":109.29482110632681},{"$f":"+CI52*SUMIF(Occupancy!$B$24:$EC$24,'Monthly Cash Flows'!CI$12,Occupancy!$B$25:$EC$25)/'Project Summary'!$J$12","v":109.29482110632681},{"$f":"+CJ52*SUMIF(Occupancy!$B$24:$EC$24,'Monthly Cash Flows'!CJ$12,Occupancy!$B$25:$EC$25)/'Project Summary'!$J$12","v":109.29482110632681},{"$f":"+CK52*SUMIF(Occupancy!$B$24:$EC$24,'Monthly Cash Flows'!CK$12,Occupancy!$B$25:$EC$25)/'Project Summary'!$J$12","v":109.29482110632681},{"$f":"+CL52*SUMIF(Occupancy!$B$24:$EC$24,'Monthly Cash Flows'!CL$12,Occupancy!$B$25:$EC$25)/'Project Summary'!$J$12","v":109.29482110632681},{"$f":"+CM52*SUMIF(Occupancy!$B$24:$EC$24,'Monthly Cash Flows'!CM$12,Occupancy!$B$25:$EC$25)/'Project Summary'!$J$12","v":109.29482110632681},{"$f":"+CN52*SUMIF(Occupancy!$B$24:$EC$24,'Monthly Cash Flows'!CN$12,Occupancy!$B$25:$EC$25)/'Project Summary'!$J$12","v":109.29482110632681},{"$f":"+CO52*SUMIF(Occupancy!$B$24:$EC$24,'Monthly Cash Flows'!CO$12,Occupancy!$B$25:$EC$25)/'Project Summary'!$J$12","v":109.29482110632681},{"$f":"+CP52*SUMIF(Occupancy!$B$24:$EC$24,'Monthly Cash Flows'!CP$12,Occupancy!$B$25:$EC$25)/'Project Summary'!$J$12","v":109.29482110632681},{"$f":"+CQ52*SUMIF(Occupancy!$B$24:$EC$24,'Monthly Cash Flows'!CQ$12,Occupancy!$B$25:$EC$25)/'Project Summary'!$J$12","v":109.29482110632681},{"$f":"+CR52*SUMIF(Occupancy!$B$24:$EC$24,'Monthly Cash Flows'!CR$12,Occupancy!$B$25:$EC$25)/'Project Summary'!$J$12","v":109.29482110632681},{"$f":"+CS52*SUMIF(Occupancy!$B$24:$EC$24,'Monthly Cash Flows'!CS$12,Occupancy!$B$25:$EC$25)/'Project Summary'!$J$12","v":109.29482110632681},{"$f":"+CT52*SUMIF(Occupancy!$B$24:$EC$24,'Monthly Cash Flows'!CT$12,Occupancy!$B$25:$EC$25)/'Project Summary'!$J$12","v":112.57366573951661},{"$f":"+CU52*SUMIF(Occupancy!$B$24:$EC$24,'Monthly Cash Flows'!CU$12,Occupancy!$B$25:$EC$25)/'Project Summary'!$J$12","v":112.57366573951661},{"$f":"+CV52*SUMIF(Occupancy!$B$24:$EC$24,'Monthly Cash Flows'!CV$12,Occupancy!$B$25:$EC$25)/'Project Summary'!$J$12","v":112.57366573951661},{"$f":"+CW52*SUMIF(Occupancy!$B$24:$EC$24,'Monthly Cash Flows'!CW$12,Occupancy!$B$25:$EC$25)/'Project Summary'!$J$12","v":112.57366573951661},{"$f":"+CX52*SUMIF(Occupancy!$B$24:$EC$24,'Monthly Cash Flows'!CX$12,Occupancy!$B$25:$EC$25)/'Project Summary'!$J$12","v":112.57366573951661},{"$f":"+CY52*SUMIF(Occupancy!$B$24:$EC$24,'Monthly Cash Flows'!CY$12,Occupancy!$B$25:$EC$25)/'Project Summary'!$J$12","v":112.57366573951661},{"$f":"+CZ52*SUMIF(Occupancy!$B$24:$EC$24,'Monthly Cash Flows'!CZ$12,Occupancy!$B$25:$EC$25)/'Project Summary'!$J$12","v":112.57366573951661},{"$f":"+DA52*SUMIF(Occupancy!$B$24:$EC$24,'Monthly Cash Flows'!DA$12,Occupancy!$B$25:$EC$25)/'Project Summary'!$J$12","v":112.57366573951661},{"$f":"+DB52*SUMIF(Occupancy!$B$24:$EC$24,'Monthly Cash Flows'!DB$12,Occupancy!$B$25:$EC$25)/'Project Summary'!$J$12","v":112.57366573951661},{"$f":"+DC52*SUMIF(Occupancy!$B$24:$EC$24,'Monthly Cash Flows'!DC$12,Occupancy!$B$25:$EC$25)/'Project Summary'!$J$12","v":112.57366573951661},{"$f":"+DD52*SUMIF(Occupancy!$B$24:$EC$24,'Monthly Cash Flows'!DD$12,Occupancy!$B$25:$EC$25)/'Project Summary'!$J$12","v":112.57366573951661},{"$f":"+DE52*SUMIF(Occupancy!$B$24:$EC$24,'Monthly Cash Flows'!DE$12,Occupancy!$B$25:$EC$25)/'Project Summary'!$J$12","v":112.57366573951661},{"$f":"+DF52*SUMIF(Occupancy!$B$24:$EC$24,'Monthly Cash Flows'!DF$12,Occupancy!$B$25:$EC$25)/'Project Summary'!$J$12","v":115.95087571170211},{"$f":"+DG52*SUMIF(Occupancy!$B$24:$EC$24,'Monthly Cash Flows'!DG$12,Occupancy!$B$25:$EC$25)/'Project Summary'!$J$12","v":115.95087571170211},{"$f":"+DH52*SUMIF(Occupancy!$B$24:$EC$24,'Monthly Cash Flows'!DH$12,Occupancy!$B$25:$EC$25)/'Project Summary'!$J$12","v":115.95087571170211},{"$f":"+DI52*SUMIF(Occupancy!$B$24:$EC$24,'Monthly Cash Flows'!DI$12,Occupancy!$B$25:$EC$25)/'Project Summary'!$J$12","v":115.95087571170211},{"$f":"+DJ52*SUMIF(Occupancy!$B$24:$EC$24,'Monthly Cash Flows'!DJ$12,Occupancy!$B$25:$EC$25)/'Project Summary'!$J$12","v":115.95087571170211},{"$f":"+DK52*SUMIF(Occupancy!$B$24:$EC$24,'Monthly Cash Flows'!DK$12,Occupancy!$B$25:$EC$25)/'Project Summary'!$J$12","v":115.95087571170211},{"$f":"+DL52*SUMIF(Occupancy!$B$24:$EC$24,'Monthly Cash Flows'!DL$12,Occupancy!$B$25:$EC$25)/'Project Summary'!$J$12","v":115.95087571170211},{"$f":"+DM52*SUMIF(Occupancy!$B$24:$EC$24,'Monthly Cash Flows'!DM$12,Occupancy!$B$25:$EC$25)/'Project Summary'!$J$12","v":115.95087571170211},{"$f":"+DN52*SUMIF(Occupancy!$B$24:$EC$24,'Monthly Cash Flows'!DN$12,Occupancy!$B$25:$EC$25)/'Project Summary'!$J$12","v":115.95087571170211},{"$f":"+DO52*SUMIF(Occupancy!$B$24:$EC$24,'Monthly Cash Flows'!DO$12,Occupancy!$B$25:$EC$25)/'Project Summary'!$J$12","v":115.95087571170211},{"$f":"+DP52*SUMIF(Occupancy!$B$24:$EC$24,'Monthly Cash Flows'!DP$12,Occupancy!$B$25:$EC$25)/'Project Summary'!$J$12","v":115.95087571170211},{"$f":"+DQ52*SUMIF(Occupancy!$B$24:$EC$24,'Monthly Cash Flows'!DQ$12,Occupancy!$B$25:$EC$25)/'Project Summary'!$J$12","v":115.95087571170211},{"$f":"+DR52*SUMIF(Occupancy!$B$24:$EC$24,'Monthly Cash Flows'!DR$12,Occupancy!$B$25:$EC$25)/'Project Summary'!$J$12","v":119.42940198305318},{"$f":"+DS52*SUMIF(Occupancy!$B$24:$EC$24,'Monthly Cash Flows'!DS$12,Occupancy!$B$25:$EC$25)/'Project Summary'!$J$12","v":119.42940198305318},{"$f":"+DT52*SUMIF(Occupancy!$B$24:$EC$24,'Monthly Cash Flows'!DT$12,Occupancy!$B$25:$EC$25)/'Project Summary'!$J$12","v":119.42940198305318},{"$f":"+DU52*SUMIF(Occupancy!$B$24:$EC$24,'Monthly Cash Flows'!DU$12,Occupancy!$B$25:$EC$25)/'Project Summary'!$J$12","v":119.42940198305318},{"$f":"+DV52*SUMIF(Occupancy!$B$24:$EC$24,'Monthly Cash Flows'!DV$12,Occupancy!$B$25:$EC$25)/'Project Summary'!$J$12","v":119.42940198305318},{"$f":"+DW52*SUMIF(Occupancy!$B$24:$EC$24,'Monthly Cash Flows'!DW$12,Occupancy!$B$25:$EC$25)/'Project Summary'!$J$12","v":119.42940198305318},{"$f":"+DX52*SUMIF(Occupancy!$B$24:$EC$24,'Monthly Cash Flows'!DX$12,Occupancy!$B$25:$EC$25)/'Project Summary'!$J$12","v":119.42940198305318},{"$f":"+DY52*SUMIF(Occupancy!$B$24:$EC$24,'Monthly Cash Flows'!DY$12,Occupancy!$B$25:$EC$25)/'Project Summary'!$J$12","v":119.42940198305318},{"$f":"+DZ52*SUMIF(Occupancy!$B$24:$EC$24,'Monthly Cash Flows'!DZ$12,Occupancy!$B$25:$EC$25)/'Project Summary'!$J$12","v":119.42940198305318},{"$f":"+EA52*SUMIF(Occupancy!$B$24:$EC$24,'Monthly Cash Flows'!EA$12,Occupancy!$B$25:$EC$25)/'Project Summary'!$J$12","v":119.42940198305318},{"$f":"+EB52*SUMIF(Occupancy!$B$24:$EC$24,'Monthly Cash Flows'!EB$12,Occupancy!$B$25:$EC$25)/'Project Summary'!$J$12","v":119.42940198305318},{"$f":"+EC52*SUMIF(Occupancy!$B$24:$EC$24,'Monthly Cash Flows'!EC$12,Occupancy!$B$25:$EC$25)/'Project Summary'!$J$12","v":119.42940198305318}]
["Security",{"$f":"+B53*SUMIF(Occupancy!$B$24:$EC$24,'Monthly Cash Flows'!B$12,Occupancy!$B$25:$EC$25)/'Project Summary'!$J$12","v":2891.545482110369},{"$f":"+C53*SUMIF(Occupancy!$B$24:$EC$24,'Monthly Cash Flows'!C$12,Occupancy!$B$25:$EC$25)/'Project Summary'!$J$12","v":2891.545482110369},{"$f":"+D53*SUMIF(Occupancy!$B$24:$EC$24,'Monthly Cash Flows'!D$12,Occupancy!$B$25:$EC$25)/'Project Summary'!$J$12","v":2891.545482110369},{"$f":"+E53*SUMIF(Occupancy!$B$24:$EC$24,'Monthly Cash Flows'!E$12,Occupancy!$B$25:$EC$25)/'Project Summary'!$J$12","v":2891.545482110369},{"$f":"+F53*SUMIF(Occupancy!$B$24:$EC$24,'Monthly Cash Flows'!F$12,Occupancy!$B$25:$EC$25)/'Project Summary'!$J$12","v":2945.4721043056384},{"$f":"+G53*SUMIF(Occupancy!$B$24:$EC$24,'Monthly Cash Flows'!G$12,Occupancy!$B$25:$EC$25)/'Project Summary'!$J$12","v":2945.4721043056384},{"$f":"+H53*SUMIF(Occupancy!$B$24:$EC$24,'Monthly Cash Flows'!H$12,Occupancy!$B$25:$EC$25)/'Project Summary'!$J$12","v":2945.4721043056384},{"$f":"+I53*SUMIF(Occupancy!$B$24:$EC$24,'Monthly Cash Flows'!I$12,Occupancy!$B$25:$EC$25)/'Project Summary'!$J$12","v":2945.4721043056384},{"$f":"+J53*SUMIF(Occupancy!$B$24:$EC$24,'Monthly Cash Flows'!J$12,Occupancy!$B$25:$EC$25)/'Project Summary'!$J$12","v":2975.4313388585661},{"$f":"+K53*SUMIF(Occupancy!$B$24:$EC$24,'Monthly Cash Flows'!K$12,Occupancy!$B$25:$EC$25)/'Project Summary'!$J$12","v":2975.4313388585661},{"$f":"+L53*SUMIF(Occupancy!$B$24:$EC$24,'Monthly Cash Flows'!L$12,Occupancy!$B$25:$EC$25)/'Project Summary'!$J$12","v":2975.4313388585661},{"$f":"+M53*SUMIF(Occupancy!$B$24:$EC$24,'Monthly Cash Flows'!M$12,Occupancy!$B$25:$EC$25)/'Project Summary'!$J$12","v":2975.4313388585661},{"$f":"+N53*SUMIF(Occupancy!$B$24:$EC$24,'Monthly Cash Flows'!N$12,Occupancy!$B$25:$EC$25)/'Project Summary'!$J$12","v":3101.2601239808623},{"$f":"+O53*SUMIF(Occupancy!$B$24:$EC$24,'Monthly Cash Flows'!O$12,Occupancy!$B$25:$EC$25)/'Project Summary'!$J$12","v":3101.2601239808623},{"$f":"+P53*SUMIF(Occupancy!$B$24:$EC$24,'Monthly Cash Flows'!P$12,Occupancy!$B$25:$EC$25)/'Project Summary'!$J$12","v":3101.2601239808623},{"$f":"+Q53*SUMIF(Occupancy!$B$24:$EC$24,'Monthly Cash Flows'!Q$12,Occupancy!$B$25:$EC$25)/'Project Summary'!$J$12","v":3101.2601239808623},{"$f":"+R53*SUMIF(Occupancy!$B$24:$EC$24,'Monthly Cash Flows'!R$12,Occupancy!$B$25:$EC$25)/'Project Summary'!$J$12","v":3131.2193585337905},{"$f":"+S53*SUMIF(Occupancy!$B$24:$EC$24,'Monthly Cash Flows'!S$12,Occupancy!$B$25:$EC$25)/'Project Summary'!$J$12","v":3197.1296745502309},{"$f":"+T53*SUMIF(Occupancy!$B$24:$EC$24,'Monthly Cash Flows'!T$12,Occupancy!$B$25:$EC$25)/'Project Summary'!$J$12","v":3197.1296745502309},{"$f":"+U53*SUMIF(Occupancy!$B$24:$EC$24,'Monthly Cash Flows'!U$12,Occupancy!$B$25:$EC$25)/'Project Summary'!$J$12","v":3197.1296745502309},{"$f":"+V53*SUMIF(Occupancy!$B$24:$EC$24,'Monthly Cash Flows'!V$12,Occupancy!$B$25:$EC$25)/'Project Summary'!$J$12","v":3197.1296745502309},{"$f":"+W53*SUMIF(Occupancy!$B$24:$EC$24,'Monthly Cash Flows'!W$12,Occupancy!$B$25:$EC$25)/'Project Summary'!$J$12","v":3197.1296745502309},{"$f":"+X53*SUMIF(Occupancy!$B$24:$EC$24,'Monthly Cash Flows'!X$12,Occupancy!$B$25:$EC$25)/'Project Summary'!$J$12","v":3197.1296745502309},{"$f":"+Y53*SUMIF(Occupancy!$B$24:$EC$24,'Monthly Cash Flows'!Y$12,Occupancy!$B$25:$EC$25)/'Project Summary'!$J$12","v":3197.1296745502309},{"$f":"+Z53*SUMIF(Occupancy!$B$24:$EC$24,'Monthly Cash Flows'!Z$12,Occupancy!$B$25:$EC$25)/'Project Summary'!$J$12","v":3197.1296745502309},{"$f":"+AA53*SUMIF(Occupancy!$B$24:$EC$24,'Monthly Cash Flows'!AA$12,Occupancy!$B$25:$EC$25)/'Project Summary'!$J$12","v":3197.1296745502309},{"$f":"+AB53*SUMIF(Occupancy!$B$24:$EC$24,'Monthly Cash Flows'!AB$12,Occupancy!$B$25:$EC$25)/'Project Summary'!$J$12","v":3197.1296745502309},{"$f":"+AC53*SUMIF(Occupancy!$B$24:$EC$24,'Monthly Cash Flows'!AC$12,Occupancy!$B$25:$EC$25)/'Project Summary'!$J$12","v":3197.1296745502309},{"$f":"+AD53*SUMIF(Occupancy!$B$24:$EC$24,'Monthly Cash Flows'!AD$12,Occupancy!$B$25:$EC$25)/'Project Summary'!$J$12","v":3197.1296745502309},{"$f":"+AE53*SUMIF(Occupancy!$B$24:$EC$24,'Monthly Cash Flows'!AE$12,Occupancy!$B$25:$EC$25)/'Project Summary'!$J$12","v":3197.1296745502309},{"$f":"+AF53*SUMIF(Occupancy!$B$24:$EC$24,'Monthly Cash Flows'!AF$12,Occupancy!$B$25:$EC$25)/'Project Summary'!$J$12","v":3197.1296745502309},{"$f":"+AG53*SUMIF(Occupancy!$B$24:$EC$24,'Monthly Cash Flows'!AG$12,Occupancy!$B$25:$EC$25)/'Project Summary'!$J$12","v":3197.1296745502309},{"$f":"+AH53*SUMIF(Occupancy!$B$24:$EC$24,'Monthly Cash Flows'!AH$12,Occupancy!$B$25:$EC$25)/'Project Summary'!$J$12","v":3197.1296745502309},{"$f":"+AI53*SUMIF(Occupancy!$B$24:$EC$24,'Monthly Cash Flows'!AI$12,Occupancy!$B$25:$EC$25)/'Project Summary'!$J$12","v":3197.1296745502309},{"$f":"+AJ53*SUMIF(Occupancy!$B$24:$EC$24,'Monthly Cash Flows'!AJ$12,Occupancy!$B$25:$EC$25)/'Project Summary'!$J$12","v":3197.1296745502309},{"$f":"+AK53*SUMIF(Occupancy!$B$24:$EC$24,'Monthly Cash Flows'!AK$12,Occupancy!$B$25:$EC$25)/'Project Summary'!$J$12","v":3197.1296745502309},{"$f":"+AL53*SUMIF(Occupancy!$B$24:$EC$24,'Monthly Cash Flows'!AL$12,Occupancy!$B$25:$EC$25)/'Project Summary'!$J$12","v":3197.1296745502309},{"$f":"+AM53*SUMIF(Occupancy!$B$24:$EC$24,'Monthly Cash Flows'!AM$12,Occupancy!$B$25:$EC$25)/'Project Summary'!$J$12","v":3197.1296745502309},{"$f":"+AN53*SUMIF(Occupancy!$B$24:$EC$24,'Monthly Cash Flows'!AN$12,Occupancy!$B$25:$EC$25)/'Project Summary'!$J$12","v":3197.1296745502309},{"$f":"+AO53*SUMIF(Occupancy!$B$24:$EC$24,'Monthly Cash Flows'!AO$12,Occupancy!$B$25:$EC$25)/'Project Summary'!$J$12","v":3197.1296745502309},{"$f":"+AP53*SUMIF(Occupancy!$B$24:$EC$24,'Monthly Cash Flows'!AP$12,Occupancy!$B$25:$EC$25)/'Project Summary'!$J$12","v":3197.1296745502309},{"$f":"+AQ53*SUMIF(Occupancy!$B$24:$EC$24,'Monthly Cash Flows'!AQ$12,Occupancy!$B$25:$EC$25)/'Project Summary'!$J$12","v":3197.1296745502309},{"$f":"+AR53*SUMIF(Occupancy!$B$24:$EC$24,'Monthly Cash Flows'!AR$12,Occupancy!$B$25:$EC$25)/'Project Summary'!$J$12","v":3197.1296745502309},{"$f":"+AS53*SUMIF(Occupancy!$B$24:$EC$24,'Monthly Cash Flows'!AS$12,Occupancy!$B$25:$EC$25)/'Project Summary'!$J$12","v":3197.1296745502309},{"$f":"+AT53*SUMIF(Occupancy!$B$24:$EC$24,'Monthly Cash Flows'!AT$12,Occupancy!$B$25:$EC$25)/'Project Summary'!$J$12","v":3197.1296745502309},{"$f":"+AU53*SUMIF(Occupancy!$B$24:$EC$24,'Monthly Cash Flows'!AU$12,Occupancy!$B$25:$EC$25)/'Project Summary'!$J$12","v":3197.1296745502309},{"$f":"+AV53*SUMIF(Occupancy!$B$24:$EC$24,'Monthly Cash Flows'!AV$12,Occupancy!$B$25:$EC$25)/'Project Summary'!$J$12","v":3197.1296745502309},{"$f":"+AW53*SUMIF(Occupancy!$B$24:$EC$24,'Monthly Cash Flows'!AW$12,Occupancy!$B$25:$EC$25)/'Project Summary'!$J$12","v":3197.1296745502309},{"$f":"+AX53*SUMIF(Occupancy!$B$24:$EC$24,'Monthly Cash Flows'!AX$12,Occupancy!$B$25:$EC$25)/'Project Summary'!$J$12","v":3197.1296745502309},{"$f":"+AY53*SUMIF(Occupancy!$B$24:$EC$24,'Monthly Cash Flows'!AY$12,Occupancy!$B$25:$EC$25)/'Project Summary'!$J$12","v":3197.1296745502309},{"$f":"+AZ53*SUMIF(Occupancy!$B$24:$EC$24,'Monthly Cash Flows'!AZ$12,Occupancy!$B$25:$EC$25)/'Project Summary'!$J$12","v":3197.1296745502309},{"$f":"+BA53*SUMIF(Occupancy!$B$24:$EC$24,'Monthly Cash Flows'!BA$12,Occupancy!$B$25:$EC$25)/'Project Summary'!$J$12","v":3197.1296745502309},{"$f":"+BB53*SUMIF(Occupancy!$B$24:$EC$24,'Monthly Cash Flows'!BB$12,Occupancy!$B$25:$EC$25)/'Project Summary'!$J$12","v":3197.1296745502309},{"$f":"+BC53*SUMIF(Occupancy!$B$24:$EC$24,'Monthly Cash Flows'!BC$12,Occupancy!$B$25:$EC$25)/'Project Summary'!$J$12","v":3197.1296745502309},{"$f":"+BD53*SUMIF(Occupancy!$B$24:$EC$24,'Monthly Cash Flows'!BD$12,Occupancy!$B$25:$EC$25)/'Project Summary'!$J$12","v":3197.1296745502309},{"$f":"+BE53*SUMIF(Occupancy!$B$24:$EC$24,'Monthly Cash Flows'!BE$12,Occupancy!$B$25:$EC$25)/'Project Summary'!$J$12","v":3197.1296745502309},{"$f":"+BF53*SUMIF(Occupancy!$B$24:$EC$24,'Monthly Cash Flows'!BF$12,Occupancy!$B$25:$EC$25)/'Project Summary'!$J$12","v":3197.1296745502309},{"$f":"+BG53*SUMIF(Occupancy!$B$24:$EC$24,'Monthly Cash Flows'!BG$12,Occupancy!$B$25:$EC$25)/'Project Summary'!$J$12","v":3197.1296745502309},{"$f":"+BH53*SUMIF(Occupancy!$B$24:$EC$24,'Monthly Cash Flows'!BH$12,Occupancy!$B$25:$EC$25)/'Project Summary'!$J$12","v":3197.1296745502309},{"$f":"+BI53*SUMIF(Occupancy!$B$24:$EC$24,'Monthly Cash Flows'!BI$12,Occupancy!$B$25:$EC$25)/'Project Summary'!$J$12","v":3197.1296745502309},{"$f":"+BJ53*SUMIF(Occupancy!$B$24:$EC$24,'Monthly Cash Flows'!BJ$12,Occupancy!$B$25:$EC$25)/'Project Summary'!$J$12","v":3197.1296745502309},{"$f":"+BK53*SUMIF(Occupancy!$B$24:$EC$24,'Monthly Cash Flows'!BK$12,Occupancy!$B$25:$EC$25)/'Project Summary'!$J$12","v":3197.1296745502309},{"$f":"+BL53*SUMIF(Occupancy!$B$24:$EC$24,'Monthly Cash Flows'!BL$12,Occupancy!$B$25:$EC$25)/'Project Summary'!$J$12","v":3197.1296745502309},{"$f":"+BM53*SUMIF(Occupancy!$B$24:$EC$24,'Monthly Cash Flows'!BM$12,Occupancy!$B$25:$EC$25)/'Project Summary'!$J$12","v":3197.1296745502309},{"$f":"+BN53*SUMIF(Occupancy!$B$24:$EC$24,'Monthly Cash Flows'!BN$12,Occupancy!$B$25:$EC$25)/'Project Summary'!$J$12","v":3197.1296745502309},{"$f":"+BO53*SUMIF(Occupancy!$B$24:$EC$24,'Monthly Cash Flows'!BO$12,Occupancy!$B$25:$EC$25)/'Project Summary'!$J$12","v":3197.1296745502309},{"$f":"+BP53*SUMIF(Occupancy!$B$24:$EC$24,'Monthly Cash Flows'!BP$12,Occupancy!$B$25:$EC$25)/'Project Summary'!$J$12","v":3197.1296745502309},{"$f":"+BQ53*SUMIF(Occupancy!$B$24:$EC$24,'Monthly Cash Flows'!BQ$12,Occupancy!$B$25:$EC$25)/'Project Summary'!$J$12","v":3197.1296745502309},{"$f":"+BR53*SUMIF(Occupancy!$B$24:$EC$24,'Monthly Cash Flows'!BR$12,Occupancy!$B$25:$EC$25)/'Project Summary'!$J$12","v":3197.1296745502309},{"$f":"+BS53*SUMIF(Occupancy!$B$24:$EC$24,'Monthly Cash Flows'!BS$12,Occupancy!$B$25:$EC$25)/'Project Summary'!$J$12","v":3197.1296745502309},{"$f":"+BT53*SUMIF(Occupancy!$B$24:$EC$24,'Monthly Cash Flows'!BT$12,Occupancy!$B$25:$EC$25)/'Project Summary'!$J$12","v":3197.1296745502309},{"$f":"+BU53*SUMIF(Occupancy!$B$24:$EC$24,'Monthly Cash Flows'!BU$12,Occupancy!$B$25:$EC$25)/'Project Summary'!$J$12","v":3197.1296745502309},{"$f":"+BV53*SUMIF(Occupancy!$B$24:$EC$24,'Monthly Cash Flows'!BV$12,Occupancy!$B$25:$EC$25)/'Project Summary'!$J$12","v":3197.1296745502309},{"$f":"+BW53*SUMIF(Occupancy!$B$24:$EC$24,'Monthly Cash Flows'!BW$12,Occupancy!$B$25:$EC$25)/'Project Summary'!$J$12","v":3197.1296745502309},{"$f":"+BX53*SUMIF(Occupancy!$B$24:$EC$24,'Monthly Cash Flows'!BX$12,Occupancy!$B$25:$EC$25)/'Project Summary'!$J$12","v":3197.1296745502309},{"$f":"+BY53*SUMIF(Occupancy!$B$24:$EC$24,'Monthly Cash Flows'!BY$12,Occupancy!$B$25:$EC$25)/'Project Summary'!$J$12","v":3197.1296745502309},{"$f":"+BZ53*SUMIF(Occupancy!$B$24:$EC$24,'Monthly Cash Flows'!BZ$12,Occupancy!$B$25:$EC$25)/'Project Summary'!$J$12","v":3197.1296745502309},{"$f":"+CA53*SUMIF(Occupancy!$B$24:$EC$24,'Monthly Cash Flows'!CA$12,Occupancy!$B$25:$EC$25)/'Project Summary'!$J$12","v":3197.1296745502309},{"$f":"+CB53*SUMIF(Occupancy!$B$24:$EC$24,'Monthly Cash Flows'!CB$12,Occupancy!$B$25:$EC$25)/'Project Summary'!$J$12","v":3197.1296745502309},{"$f":"+CC53*SUMIF(Occupancy!$B$24:$EC$24,'Monthly Cash Flows'!CC$12,Occupancy!$B$25:$EC$25)/'Project Summary'!$J$12","v":3197.1296745502309},{"$f":"+CD53*SUMIF(Occupancy!$B$24:$EC$24,'Monthly Cash Flows'!CD$12,Occupancy!$B$25:$EC$25)/'Project Summary'!$J$12","v":3197.1296745502309},{"$f":"+CE53*SUMIF(Occupancy!$B$24:$EC$24,'Monthly Cash Flows'!CE$12,Occupancy!$B$25:$EC$25)/'Project Summary'!$J$12","v":3197.1296745502309},{"$f":"+CF53*SUMIF(Occupancy!$B$24:$EC$24,'Monthly Cash Flows'!CF$12,Occupancy!$B$25:$EC$25)/'Project Summary'!$J$12","v":3197.1296745502309},{"$f":"+CG53*SUMIF(Occupancy!$B$24:$EC$24,'Monthly Cash Flows'!CG$12,Occupancy!$B$25:$EC$25)/'Project Summary'!$J$12","v":3197.1296745502309},{"$f":"+CH53*SUMIF(Occupancy!$B$24:$EC$24,'Monthly Cash Flows'!CH$12,Occupancy!$B$25:$EC$25)/'Project Summary'!$J$12","v":3197.1296745502309},{"$f":"+CI53*SUMIF(Occupancy!$B$24:$EC$24,'Monthly Cash Flows'!CI$12,Occupancy!$B$25:$EC$25)/'Project Summary'!$J$12","v":3197.1296745502309},{"$f":"+CJ53*SUMIF(Occupancy!$B$24:$EC$24,'Monthly Cash Flows'!CJ$12,Occupancy!$B$25:$EC$25)/'Project Summary'!$J$12","v":3197.1296745502309},{"$f":"+CK53*SUMIF(Occupancy!$B$24:$EC$24,'Monthly Cash Flows'!CK$12,Occupancy!$B$25:$EC$25)/'Project Summary'!$J$12","v":3197.1296745502309},{"$f":"+CL53*SUMIF(Occupancy!$B$24:$EC$24,'Monthly Cash Flows'!CL$12,Occupancy!$B$25:$EC$25)/'Project Summary'!$J$12","v":3197.1296745502309},{"$f":"+CM53*SUMIF(Occupancy!$B$24:$EC$24,'Monthly Cash Flows'!CM$12,Occupancy!$B$25:$EC$25)/'Project Summary'!$J$12","v":3197.1296745502309},{"$f":"+CN53*SUMIF(Occupancy!$B$24:$EC$24,'Monthly Cash Flows'!CN$12,Occupancy!$B$25:$EC$25)/'Project Summary'!$J$12","v":3197.1296745502309},{"$f":"+CO53*SUMIF(Occupancy!$B$24:$EC$24,'Monthly Cash Flows'!CO$12,Occupancy!$B$25:$EC$25)/'Project Summary'!$J$12","v":3197.1296745502309},{"$f":"+CP53*SUMIF(Occupancy!$B$24:$EC$24,'Monthly Cash Flows'!CP$12,Occupancy!$B$25:$EC$25)/'Project Summary'!$J$12","v":3197.1296745502309},{"$f":"+CQ53*SUMIF(Occupancy!$B$24:$EC$24,'Monthly Cash Flows'!CQ$12,Occupancy!$B$25:$EC$25)/'Project Summary'!$J$12","v":3197.1296745502309},{"$f":"+CR53*SUMIF(Occupancy!$B$24:$EC$24,'Monthly Cash Flows'!CR$12,Occupancy!$B$25:$EC$25)/'Project Summary'!$J$12","v":3197.1296745502309},{"$f":"+CS53*SUMIF(Occupancy!$B$24:$EC$24,'Monthly Cash Flows'!CS$12,Occupancy!$B$25:$EC$25)/'Project Summary'!$J$12","v":3197.1296745502309},{"$f":"+CT53*SUMIF(Occupancy!$B$24:$EC$24,'Monthly Cash Flows'!CT$12,Occupancy!$B$25:$EC$25)/'Project Summary'!$J$12","v":3197.1296745502309},{"$f":"+CU53*SUMIF(Occupancy!$B$24:$EC$24,'Monthly Cash Flows'!CU$12,Occupancy!$B$25:$EC$25)/'Project Summary'!$J$12","v":3197.1296745502309},{"$f":"+CV53*SUMIF(Occupancy!$B$24:$EC$24,'Monthly Cash Flows'!CV$12,Occupancy!$B$25:$EC$25)/'Project Summary'!$J$12","v":3197.1296745502309},{"$f":"+CW53*SUMIF(Occupancy!$B$24:$EC$24,'Monthly Cash Flows'!CW$12,Occupancy!$B$25:$EC$25)/'Project Summary'!$J$12","v":3197.1296745502309},{"$f":"+CX53*SUMIF(Occupancy!$B$24:$EC$24,'Monthly Cash Flows'!CX$12,Occupancy!$B$25:$EC$25)/'Project Summary'!$J$12","v":3197.1296745502309},{"$f":"+CY53*SUMIF(Occupancy!$B$24:$EC$24,'Monthly Cash Flows'!CY$12,Occupancy!$B$25:$EC$25)/'Project Summary'!$J$12","v":3197.1296745502309},{"$f":"+CZ53*SUMIF(Occupancy!$B$24:$EC$24,'Monthly Cash Flows'!CZ$12,Occupancy!$B$25:$EC$25)/'Project Summary'!$J$12","v":3197.1296745502309},{"$f":"+DA53*SUMIF(Occupancy!$B$24:$EC$24,'Monthly Cash Flows'!DA$12,Occupancy!$B$25:$EC$25)/'Project Summary'!$J$12","v":3197.1296745502309},{"$f":"+DB53*SUMIF(Occupancy!$B$24:$EC$24,'Monthly Cash Flows'!DB$12,Occupancy!$B$25:$EC$25)/'Project Summary'!$J$12","v":3197.1296745502309},{"$f":"+DC53*SUMIF(Occupancy!$B$24:$EC$24,'Monthly Cash Flows'!DC$12,Occupancy!$B$25:$EC$25)/'Project Summary'!$J$12","v":3197.1296745502309},{"$f":"+DD53*SUMIF(Occupancy!$B$24:$EC$24,'Monthly Cash Flows'!DD$12,Occupancy!$B$25:$EC$25)/'Project Summary'!$J$12","v":3197.1296745502309},{"$f":"+DE53*SUMIF(Occupancy!$B$24:$EC$24,'Monthly Cash Flows'!DE$12,Occupancy!$B$25:$EC$25)/'Project Summary'!$J$12","v":3197.1296745502309},{"$f":"+DF53*SUMIF(Occupancy!$B$24:$EC$24,'Monthly Cash Flows'!DF$12,Occupancy!$B$25:$EC$25)/'Project Summary'!$J$12","v":3197.1296745502309},{"$f":"+DG53*SUMIF(Occupancy!$B$24:$EC$24,'Monthly Cash Flows'!DG$12,Occupancy!$B$25:$EC$25)/'Project Summary'!$J$12","v":3197.1296745502309},{"$f":"+DH53*SUMIF(Occupancy!$B$24:$EC$24,'Monthly Cash Flows'!DH$12,Occupancy!$B$25:$EC$25)/'Project Summary'!$J$12","v":3197.1296745502309},{"$f":"+DI53*SUMIF(Occupancy!$B$24:$EC$24,'Monthly Cash Flows'!DI$12,Occupancy!$B$25:$EC$25)/'Project Summary'!$J$12","v":3197.1296745502309},{"$f":"+DJ53*SUMIF(Occupancy!$B$24:$EC$24,'Monthly Cash Flows'!DJ$12,Occupancy!$B$25:$EC$25)/'Project Summary'!$J$12","v":3197.1296745502309},{"$f":"+DK53*SUMIF(Occupancy!$B$24:$EC$24,'Monthly Cash Flows'!DK$12,Occupancy!$B$25:$EC$25)/'Project Summary'!$J$12","v":3197.1296745502309},{"$f":"+DL53*SUMIF(Occupancy!$B$24:$EC$24,'Monthly Cash Flows'!DL$12,Occupancy!$B$25:$EC$25)/'Project Summary'!$J$12","v":3197.1296745502309},{"$f":"+DM53*SUMIF(Occupancy!$B$24:$EC$24,'Monthly Cash Flows'!DM$12,Occupancy!$B$25:$EC$25)/'Project Summary'!$J$12","v":3197.1296745502309},{"$f":"+DN53*SUMIF(Occupancy!$B$24:$EC$24,'Monthly Cash Flows'!DN$12,Occupancy!$B$25:$EC$25)/'Project Summary'!$J$12","v":3197.1296745502309},{"$f":"+DO53*SUMIF(Occupancy!$B$24:$EC$24,'Monthly Cash Flows'!DO$12,Occupancy!$B$25:$EC$25)/'Project Summary'!$J$12","v":3197.1296745502309},{"$f":"+DP53*SUMIF(Occupancy!$B$24:$EC$24,'Monthly Cash Flows'!DP$12,Occupancy!$B$25:$EC$25)/'Project Summary'!$J$12","v":3197.1296745502309},{"$f":"+DQ53*SUMIF(Occupancy!$B$24:$EC$24,'Monthly Cash Flows'!DQ$12,Occupancy!$B$25:$EC$25)/'Project Summary'!$J$12","v":3197.1296745502309},{"$f":"+DR53*SUMIF(Occupancy!$B$24:$EC$24,'Monthly Cash Flows'!DR$12,Occupancy!$B$25:$EC$25)/'Project Summary'!$J$12","v":3197.1296745502309},{"$f":"+DS53*SUMIF(Occupancy!$B$24:$EC$24,'Monthly Cash Flows'!DS$12,Occupancy!$B$25:$EC$25)/'Project Summary'!$J$12","v":3197.1296745502309},{"$f":"+DT53*SUMIF(Occupancy!$B$24:$EC$24,'Monthly Cash Flows'!DT$12,Occupancy!$B$25:$EC$25)/'Project Summary'!$J$12","v":3197.1296745502309},{"$f":"+DU53*SUMIF(Occupancy!$B$24:$EC$24,'Monthly Cash Flows'!DU$12,Occupancy!$B$25:$EC$25)/'Project Summary'!$J$12","v":3197.1296745502309},{"$f":"+DV53*SUMIF(Occupancy!$B$24:$EC$24,'Monthly Cash Flows'!DV$12,Occupancy!$B$25:$EC$25)/'Project Summary'!$J$12","v":3197.1296745502309},{"$f":"+DW53*SUMIF(Occupancy!$B$24:$EC$24,'Monthly Cash Flows'!DW$12,Occupancy!$B$25:$EC$25)/'Project Summary'!$J$12","v":3197.1296745502309},{"$f":"+DX53*SUMIF(Occupancy!$B$24:$EC$24,'Monthly Cash Flows'!DX$12,Occupancy!$B$25:$EC$25)/'Project Summary'!$J$12","v":3197.1296745502309},{"$f":"+DY53*SUMIF(Occupancy!$B$24:$EC$24,'Monthly Cash Flows'!DY$12,Occupancy!$B$25:$EC$25)/'Project Summary'!$J$12","v":3197.1296745502309},{"$f":"+DZ53*SUMIF(Occupancy!$B$24:$EC$24,'Monthly Cash Flows'!DZ$12,Occupancy!$B$25:$EC$25)/'Project Summary'!$J$12","v":3197.1296745502309},{"$f":"+EA53*SUMIF(Occupancy!$B$24:$EC$24,'Monthly Cash Flows'!EA$12,Occupancy!$B$25:$EC$25)/'Project Summary'!$J$12","v":3197.1296745502309},{"$f":"+EB53*SUMIF(Occupancy!$B$24:$EC$24,'Monthly Cash Flows'!EB$12,Occupancy!$B$25:$EC$25)/'Project Summary'!$J$12","v":3197.1296745502309},{"$f":"+EC53*SUMIF(Occupancy!$B$24:$EC$24,'Monthly Cash Flows'!EC$12,Occupancy!$B$25:$EC$25)/'Project Summary'!$J$12","v":3197.1296745502309}]
["Power Washing",{"$f":"+B54*SUMIF(Occupancy!$B$24:$EC$24,'Monthly Cash Flows'!B$12,Occupancy!$B$25:$EC$25)/'Project Summary'!$J$12","v":581.62438368444646},{"$f":"+C54*SUMIF(Occupancy!$B$24:$EC$24,'Monthly Cash Flows'!C$12,Occupancy!$B$25:$EC$25)/'Project Summary'!$J$12","v":581.62438368444646},{"$f":"+D54*SUMIF(Occupancy!$B$24:$EC$24,'Monthly Cash Flows'!D$12,Occupancy!$B$25:$EC$25)/'Project Summary'!$J$12","v":581.62438368444646},{"$f":"+E54*SUMIF(Occupancy!$B$24:$EC$24,'Monthly Cash Flows'!E$12,Occupancy!$B$25:$EC$25)/'Project Summary'!$J$12","v":581.62438368444646},{"$f":"+F54*SUMIF(Occupancy!$B$24:$EC$24,'Monthly Cash Flows'!F$12,Occupancy!$B$25:$EC$25)/'Project Summary'!$J$12","v":592.47153742716273},{"$f":"+G54*SUMIF(Occupancy!$B$24:$EC$24,'Monthly Cash Flows'!G$12,Occupancy!$B$25:$EC$25)/'Project Summary'!$J$12","v":592.47153742716273},{"$f":"+H54*SUMIF(Occupancy!$B$24:$EC$24,'Monthly Cash Flows'!H$12,Occupancy!$B$25:$EC$25)/'Project Summary'!$J$12","v":592.47153742716273},{"$f":"+I54*SUMIF(Occupancy!$B$24:$EC$24,'Monthly Cash Flows'!I$12,Occupancy!$B$25:$EC$25)/'Project Summary'!$J$12","v":592.47153742716273},{"$f":"+J54*SUMIF(Occupancy!$B$24:$EC$24,'Monthly Cash Flows'!J$12,Occupancy!$B$25:$EC$25)/'Project Summary'!$J$12","v":598.49773395089392},{"$f":"+K54*SUMIF(Occupancy!$B$24:$EC$24,'Monthly Cash Flows'!K$12,Occupancy!$B$25:$EC$25)/'Project Summary'!$J$12","v":598.49773395089392},{"$f":"+L54*SUMIF(Occupancy!$B$24:$EC$24,'Monthly Cash Flows'!L$12,Occupancy!$B$25:$EC$25)/'Project Summary'!$J$12","v":598.49773395089392},{"$f":"+M54*SUMIF(Occupancy!$B$24:$EC$24,'Monthly Cash Flows'!M$12,Occupancy!$B$25:$EC$25)/'Project Summary'!$J$12","v":598.49773395089392},{"$f":"+N54*SUMIF(Occupancy!$B$24:$EC$24,'Monthly Cash Flows'!N$12,Occupancy!$B$25:$EC$25)/'Project Summary'!$J$12","v":642.52199213108213},{"$f":"+O54*SUMIF(Occupancy!$B$24:$EC$24,'Monthly Cash Flows'!O$12,Occupancy!$B$25:$EC$25)/'Project Summary'!$J$12","v":642.52199213108213},{"$f":"+P54*SUMIF(Occupancy!$B$24:$EC$24,'Monthly Cash Flows'!P$12,Occupancy!$B$25:$EC$25)/'Project Summary'!$J$12","v":642.52199213108213},{"$f":"+Q54*SUMIF(Occupancy!$B$24:$EC$24,'Monthly Cash Flows'!Q$12,Occupancy!$B$25:$EC$25)/'Project Summary'!$J$12","v":642.52199213108213},{"$f":"+R54*SUMIF(Occupancy!$B$24:$EC$24,'Monthly Cash Flows'!R$12,Occupancy!$B$25:$EC$25)/'Project Summary'!$J$12","v":648.72897455052544},{"$f":"+S54*SUMIF(Occupancy!$B$24:$EC$24,'Monthly Cash Flows'!S$12,Occupancy!$B$25:$EC$25)/'Project Summary'!$J$12","v":662.38433587330053},{"$f":"+T54*SUMIF(Occupancy!$B$24:$EC$24,'Monthly Cash Flows'!T$12,Occupancy!$B$25:$EC$25)/'Project Summary'!$J$12","v":662.38433587330053},{"$f":"+U54*SUMIF(Occupancy!$B$24:$EC$24,'Monthly Cash Flows'!U$12,Occupancy!$B$25:$EC$25)/'Project Summary'!$J$12","v":662.38433587330053},{"$f":"+V54*SUMIF(Occupancy!$B$24:$EC$24,'Monthly Cash Flows'!V$12,Occupancy!$B$25:$EC$25)/'Project Summary'!$J$12","v":662.38433587330053},{"$f":"+W54*SUMIF(Occupancy!$B$24:$EC$24,'Monthly Cash Flows'!W$12,Occupancy!$B$25:$EC$25)/'Project Summary'!$J$12","v":662.38433587330053},{"$f":"+X54*SUMIF(Occupancy!$B$24:$EC$24,'Monthly Cash Flows'!X$12,Occupancy!$B$25:$EC$25)/'Project Summary'!$J$12","v":662.38433587330053},{"$f":"+Y54*SUMIF(Occupancy!$B$24:$EC$24,'Monthly Cash Flows'!Y$12,Occupancy!$B$25:$EC$25)/'Project Summary'!$J$12","v":662.38433587330053},{"$f":"+Z54*SUMIF(Occupancy!$B$24:$EC$24,'Monthly Cash Flows'!Z$12,Occupancy!$B$25:$EC$25)/'Project Summary'!$J$12","v":682.25586594949937},{"$f":"+AA54*SUMIF(Occupancy!$B$24:$EC$24,'Monthly Cash Flows'!AA$12,Occupancy!$B$25:$EC$25)/'Project Summary'!$J$12","v":682.25586594949937},{"$f":"+AB54*SUMIF(Occupancy!$B$24:$EC$24,'Monthly Cash Flows'!AB$12,Occupancy!$B$25:$EC$25)/'Project Summary'!$J$12","v":682.25586594949937},{"$f":"+AC54*SUMIF(Occupancy!$B$24:$EC$24,'Monthly Cash Flows'!AC$12,Occupancy!$B$25:$EC$25)/'Project Summary'!$J$12","v":682.25586594949937},{"$f":"+AD54*SUMIF(Occupancy!$B$24:$EC$24,'Monthly Cash Flows'!AD$12,Occupancy!$B$25:$EC$25)/'Project Summary'!$J$12","v":682.25586594949937},{"$f":"+AE54*SUMIF(Occupancy!$B$24:$EC$24,'Monthly Cash Flows'!AE$12,Occupancy!$B$25:$EC$25)/'Project Summary'!$J$12","v":682.25586594949937},{"$f":"+AF54*SUMIF(Occupancy!$B$24:$EC$24,'Monthly Cash Flows'!AF$12,Occupancy!$B$25:$EC$25)/'Project Summary'!$J$12","v":682.25586594949937},{"$f":"+AG54*SUMIF(Occupancy!$B$24:$EC$24,'Monthly Cash Flows'!AG$12,Occupancy!$B$25:$EC$25)/'Project Summary'!$J$12","v":682.25586594949937},{"$f":"+AH54*SUMIF(Occupancy!$B$24:$EC$24,'Monthly Cash Flows'!AH$12,Occupancy!$B$25:$EC$25)/'Project Summary'!$J$12","v":682.25586594949937},{"$f":"+AI54*SUMIF(Occupancy!$B$24:$EC$24,'Monthly Cash Flows'!AI$12,Occupancy!$B$25:$EC$25)/'Project Summary'!$J$12","v":682.25586594949937},{"$f":"+AJ54*SUMIF(Occupancy!$B$24:$EC$24,'Monthly Cash Flows'!AJ$12,Occupancy!$B$25:$EC$25)/'Project Summary'!$J$12","v":682.25586594949937},{"$f":"+AK54*SUMIF(Occupancy!$B$24:$EC$24,'Monthly Cash Flows'!AK$12,Occupancy!$B$25:$EC$25)/'Project Summary'!$J$12","v":682.25586594949937},{"$f":"+AL54*SUMIF(Occupancy!$B$24:$EC$24,'Monthly Cash Flows'!AL$12,Occupancy!$B$25:$EC$25)/'Project Summary'!$J$12","v":702.72354192798446},{"$f":"+AM54*SUMIF(Occupancy!$B$24:$EC$24,'Monthly Cash Flows'!AM$12,Occupancy!$B$25:$EC$25)/'Project Summary'!$J$12","v":702.72354192798446},{"$f":"+AN54*SUMIF(Occupancy!$B$24:$EC$24,'Monthly Cash Flows'!AN$12,Occupancy!$B$25:$EC$25)/'Project Summary'!$J$12","v":702.72354192798446},{"$f":"+AO54*SUMIF(Occupancy!$B$24:$EC$24,'Monthly Cash Flows'!AO$12,Occupancy!$B$25:$EC$25)/'Project Summary'!$J$12","v":702.72354192798446},{"$f":"+AP54*SUMIF(Occupancy!$B$24:$EC$24,'Monthly Cash Flows'!AP$12,Occupancy!$B$25:$EC$25)/'Project Summary'!$J$12","v":702.72354192798446},{"$f":"+AQ54*SUMIF(Occupancy!$B$24:$EC$24,'Monthly Cash Flows'!AQ$12,Occupancy!$B$25:$EC$25)/'Project Summary'!$J$12","v":702.72354192798446},{"$f":"+AR54*SUMIF(Occupancy!$B$24:$EC$24,'Monthly Cash Flows'!AR$12,Occupancy!$B$25:$EC$25)/'Project Summary'!$J$12","v":702.72354192798446},{"$f":"+AS54*SUMIF(Occupancy!$B$24:$EC$24,'Monthly Cash Flows'!AS$12,Occupancy!$B$25:$EC$25)/'Project Summary'!$J$12","v":702.72354192798446},{"$f":"+AT54*SUMIF(Occupancy!$B$24:$EC$24,'Monthly Cash Flows'!AT$12,Occupancy!$B$25:$EC$25)/'Project Summary'!$J$12","v":702.72354192798446},{"$f":"+AU54*SUMIF(Occupancy!$B$24:$EC$24,'Monthly Cash Flows'!AU$12,Occupancy!$B$25:$EC$25)/'Project Summary'!$J$12","v":702.72354192798446},{"$f":"+AV54*SUMIF(Occupancy!$B$24:$EC$24,'Monthly Cash Flows'!AV$12,Occupancy!$B$25:$EC$25)/'Project Summary'!$J$12","v":702.72354192798446},{"$f":"+AW54*SUMIF(Occupancy!$B$24:$EC$24,'Monthly Cash Flows'!AW$12,Occupancy!$B$25:$EC$25)/'Project Summary'!$J$12","v":702.72354192798446},{"$f":"+AX54*SUMIF(Occupancy!$B$24:$EC$24,'Monthly Cash Flows'!AX$12,Occupancy!$B$25:$EC$25)/'Project Summary'!$J$12","v":723.80524818582398},{"$f":"+AY54*SUMIF(Occupancy!$B$24:$EC$24,'Monthly Cash Flows'!AY$12,Occupancy!$B$25:$EC$25)/'Project Summary'!$J$12","v":723.80524818582398},{"$f":"+AZ54*SUMIF(Occupancy!$B$24:$EC$24,'Monthly Cash Flows'!AZ$12,Occupancy!$B$25:$EC$25)/'Project Summary'!$J$12","v":723.80524818582398},{"$f":"+BA54*SUMIF(Occupancy!$B$24:$EC$24,'Monthly Cash Flows'!BA$12,Occupancy!$B$25:$EC$25)/'Project Summary'!$J$12","v":723.80524818582398},{"$f":"+BB54*SUMIF(Occupancy!$B$24:$EC$24,'Monthly Cash Flows'!BB$12,Occupancy!$B$25:$EC$25)/'Project Summary'!$J$12","v":723.80524818582398},{"$f":"+BC54*SUMIF(Occupancy!$B$24:$EC$24,'Monthly Cash Flows'!BC$12,Occupancy!$B$25:$EC$25)/'Project Summary'!$J$12","v":723.80524818582398},{"$f":"+BD54*SUMIF(Occupancy!$B$24:$EC$24,'Monthly Cash Flows'!BD$12,Occupancy!$B$25:$EC$25)/'Project Summary'!$J$12","v":723.80524818582398},{"$f":"+BE54*SUMIF(Occupancy!$B$24:$EC$24,'Monthly Cash Flows'!BE$12,Occupancy!$B$25:$EC$25)/'Project Summary'!$J$12","v":723.80524818582398},{"$f":"+BF54*SUMIF(Occupancy!$B$24:$EC$24,'Monthly Cash Flows'!BF$12,Occupancy!$B$25:$EC$25)/'Project Summary'!$J$12","v":723.80524818582398},{"$f":"+BG54*SUMIF(Occupancy!$B$24:$EC$24,'Monthly Cash Flows'!BG$12,Occupancy!$B$25:$EC$25)/'Project Summary'!$J$12","v":723.80524818582398},{"$f":"+BH54*SUMIF(Occupancy!$B$24:$EC$24,'Monthly Cash Flows'!BH$12,Occupancy!$B$25:$EC$25)/'Project Summary'!$J$12","v":723.80524818582398},{"$f":"+BI54*SUMIF(Occupancy!$B$24:$EC$24,'Monthly Cash Flows'!BI$12,Occupancy!$B$25:$EC$25)/'Project Summary'!$J$12","v":723.80524818582398},{"$f":"+BJ54*SUMIF(Occupancy!$B$24:$EC$24,'Monthly Cash Flows'!BJ$12,Occupancy!$B$25:$EC$25)/'Project Summary'!$J$12","v":745.51940563139874},{"$f":"+BK54*SUMIF(Occupancy!$B$24:$EC$24,'Monthly Cash Flows'!BK$12,Occupancy!$B$25:$EC$25)/'Project Summary'!$J$12","v":745.51940563139874},{"$f":"+BL54*SUMIF(Occupancy!$B$24:$EC$24,'Monthly Cash Flows'!BL$12,Occupancy!$B$25:$EC$25)/'Project Summary'!$J$12","v":745.51940563139874},{"$f":"+BM54*SUMIF(Occupancy!$B$24:$EC$24,'Monthly Cash Flows'!BM$12,Occupancy!$B$25:$EC$25)/'Project Summary'!$J$12","v":745.51940563139874},{"$f":"+BN54*SUMIF(Occupancy!$B$24:$EC$24,'Monthly Cash Flows'!BN$12,Occupancy!$B$25:$EC$25)/'Project Summary'!$J$12","v":745.51940563139874},{"$f":"+BO54*SUMIF(Occupancy!$B$24:$EC$24,'Monthly Cash Flows'!BO$12,Occupancy!$B$25:$EC$25)/'Project Summary'!$J$12","v":745.51940563139874},{"$f":"+BP54*SUMIF(Occupancy!$B$24:$EC$24,'Monthly Cash Flows'!BP$12,Occupancy!$B$25:$EC$25)/'Project Summary'!$J$12","v":745.51940563139874},{"$f":"+BQ54*SUMIF(Occupancy!$B$24:$EC$24,'Monthly Cash Flows'!BQ$12,Occupancy!$B$25:$EC$25)/'Project Summary'!$J$12","v":745.51940563139874},{"$f":"+BR54*SUMIF(Occupancy!$B$24:$EC$24,'Monthly Cash Flows'!BR$12,Occupancy!$B$25:$EC$25)/'Project Summary'!$J$12","v":745.51940563139874},{"$f":"+BS54*SUMIF(Occupancy!$B$24:$EC$24,'Monthly Cash Flows'!BS$12,Occupancy!$B$25:$EC$25)/'Project Summary'!$J$12","v":745.51940563139874},{"$f":"+BT54*SUMIF(Occupancy!$B$24:$EC$24,'Monthly Cash Flows'!BT$12,Occupancy!$B$25:$EC$25)/'Project Summary'!$J$12","v":745.51940563139874},{"$f":"+BU54*SUMIF(Occupancy!$B$24:$EC$24,'Monthly Cash Flows'!BU$12,Occupancy!$B$25:$EC$25)/'Project Summary'!$J$12","v":745.51940563139874},{"$f":"+BV54*SUMIF(Occupancy!$B$24:$EC$24,'Monthly Cash Flows'!BV$12,Occupancy!$B$25:$EC$25)/'Project Summary'!$J$12","v":767.88498780034058},{"$f":"+BW54*SUMIF(Occupancy!$B$24:$EC$24,'Monthly Cash Flows'!BW$12,Occupancy!$B$25:$EC$25)/'Project Summary'!$J$12","v":767.88498780034058},{"$f":"+BX54*SUMIF(Occupancy!$B$24:$EC$24,'Monthly Cash Flows'!BX$12,Occupancy!$B$25:$EC$25)/'Project Summary'!$J$12","v":767.88498780034058},{"$f":"+BY54*SUMIF(Occupancy!$B$24:$EC$24,'Monthly Cash Flows'!BY$12,Occupancy!$B$25:$EC$25)/'Project Summary'!$J$12","v":767.88498780034058},{"$f":"+BZ54*SUMIF(Occupancy!$B$24:$EC$24,'Monthly Cash Flows'!BZ$12,Occupancy!$B$25:$EC$25)/'Project Summary'!$J$12","v":767.88498780034058},{"$f":"+CA54*SUMIF(Occupancy!$B$24:$EC$24,'Monthly Cash Flows'!CA$12,Occupancy!$B$25:$EC$25)/'Project Summary'!$J$12","v":767.88498780034058},{"$f":"+CB54*SUMIF(Occupancy!$B$24:$EC$24,'Monthly Cash Flows'!CB$12,Occupancy!$B$25:$EC$25)/'Project Summary'!$J$12","v":767.88498780034058},{"$f":"+CC54*SUMIF(Occupancy!$B$24:$EC$24,'Monthly Cash Flows'!CC$12,Occupancy!$B$25:$EC$25)/'Project Summary'!$J$12","v":767.88498780034058},{"$f":"+CD54*SUMIF(Occupancy!$B$24:$EC$24,'Monthly Cash Flows'!CD$12,Occupancy!$B$25:$EC$25)/'Project Summary'!$J$12","v":767.88498780034058},{"$f":"+CE54*SUMIF(Occupancy!$B$24:$EC$24,'Monthly Cash Flows'!CE$12,Occupancy!$B$25:$EC$25)/'Project Summary'!$J$12","v":767.88498780034058},{"$f":"+CF54*SUMIF(Occupancy!$B$24:$EC$24,'Monthly Cash Flows'!CF$12,Occupancy!$B$25:$EC$25)/'Project Summary'!$J$12","v":767.88498780034058},{"$f":"+CG54*SUMIF(Occupancy!$B$24:$EC$24,'Monthly Cash Flows'!CG$12,Occupancy!$B$25:$EC$25)/'Project Summary'!$J$12","v":767.88498780034058},{"$f":"+CH54*SUMIF(Occupancy!$B$24:$EC$24,'Monthly Cash Flows'!CH$12,Occupancy!$B$25:$EC$25)/'Project Summary'!$J$12","v":790.92153743435085},{"$f":"+CI54*SUMIF(Occupancy!$B$24:$EC$24,'Monthly Cash Flows'!CI$12,Occupancy!$B$25:$EC$25)/'Project Summary'!$J$12","v":790.92153743435085},{"$f":"+CJ54*SUMIF(Occupancy!$B$24:$EC$24,'Monthly Cash Flows'!CJ$12,Occupancy!$B$25:$EC$25)/'Project Summary'!$J$12","v":790.92153743435085},{"$f":"+CK54*SUMIF(Occupancy!$B$24:$EC$24,'Monthly Cash Flows'!CK$12,Occupancy!$B$25:$EC$25)/'Project Summary'!$J$12","v":790.92153743435085},{"$f":"+CL54*SUMIF(Occupancy!$B$24:$EC$24,'Monthly Cash Flows'!CL$12,Occupancy!$B$25:$EC$25)/'Project Summary'!$J$12","v":790.92153743435085},{"$f":"+CM54*SUMIF(Occupancy!$B$24:$EC$24,'Monthly Cash Flows'!CM$12,Occupancy!$B$25:$EC$25)/'Project Summary'!$J$12","v":790.92153743435085},{"$f":"+CN54*SUMIF(Occupancy!$B$24:$EC$24,'Monthly Cash Flows'!CN$12,Occupancy!$B$25:$EC$25)/'Project Summary'!$J$12","v":790.92153743435085},{"$f":"+CO54*SUMIF(Occupancy!$B$24:$EC$24,'Monthly Cash Flows'!CO$12,Occupancy!$B$25:$EC$25)/'Project Summary'!$J$12","v":790.92153743435085},{"$f":"+CP54*SUMIF(Occupancy!$B$24:$EC$24,'Monthly Cash Flows'!CP$12,Occupancy!$B$25:$EC$25)/'Project Summary'!$J$12","v":790.92153743435085},{"$f":"+CQ54*SUMIF(Occupancy!$B$24:$EC$24,'Monthly Cash Flows'!CQ$12,Occupancy!$B$25:$EC$25)/'Project Summary'!$J$12","v":790.92153743435085},{"$f":"+CR54*SUMIF(Occupancy!$B$24:$EC$24,'Monthly Cash Flows'!CR$12,Occupancy!$B$25:$EC$25)/'Project Summary'!$J$12","v":790.92153743435085},{"$f":"+CS54*SUMIF(Occupancy!$B$24:$EC$24,'Monthly Cash Flows'!CS$12,Occupancy!$B$25:$EC$25)/'Project Summary'!$J$12","v":790.92153743435085},{"$f":"+CT54*SUMIF(Occupancy!$B$24:$EC$24,'Monthly Cash Flows'!CT$12,Occupancy!$B$25:$EC$25)/'Project Summary'!$J$12","v":814.64918355738143},{"$f":"+CU54*SUMIF(Occupancy!$B$24:$EC$24,'Monthly Cash Flows'!CU$12,Occupancy!$B$25:$EC$25)/'Project Summary'!$J$12","v":814.64918355738143},{"$f":"+CV54*SUMIF(Occupancy!$B$24:$EC$24,'Monthly Cash Flows'!CV$12,Occupancy!$B$25:$EC$25)/'Project Summary'!$J$12","v":814.64918355738143},{"$f":"+CW54*SUMIF(Occupancy!$B$24:$EC$24,'Monthly Cash Flows'!CW$12,Occupancy!$B$25:$EC$25)/'Project Summary'!$J$12","v":814.64918355738143},{"$f":"+CX54*SUMIF(Occupancy!$B$24:$EC$24,'Monthly Cash Flows'!CX$12,Occupancy!$B$25:$EC$25)/'Project Summary'!$J$12","v":814.64918355738143},{"$f":"+CY54*SUMIF(Occupancy!$B$24:$EC$24,'Monthly Cash Flows'!CY$12,Occupancy!$B$25:$EC$25)/'Project Summary'!$J$12","v":814.64918355738143},{"$f":"+CZ54*SUMIF(Occupancy!$B$24:$EC$24,'Monthly Cash Flows'!CZ$12,Occupancy!$B$25:$EC$25)/'Project Summary'!$J$12","v":814.64918355738143},{"$f":"+DA54*SUMIF(Occupancy!$B$24:$EC$24,'Monthly Cash Flows'!DA$12,Occupancy!$B$25:$EC$25)/'Project Summary'!$J$12","v":814.64918355738143},{"$f":"+DB54*SUMIF(Occupancy!$B$24:$EC$24,'Monthly Cash Flows'!DB$12,Occupancy!$B$25:$EC$25)/'Project Summary'!$J$12","v":814.64918355738143},{"$f":"+DC54*SUMIF(Occupancy!$B$24:$EC$24,'Monthly Cash Flows'!DC$12,Occupancy!$B$25:$EC$25)/'Project Summary'!$J$12","v":814.64918355738143},{"$f":"+DD54*SUMIF(Occupancy!$B$24:$EC$24,'Monthly Cash Flows'!DD$12,Occupancy!$B$25:$EC$25)/'Project Summary'!$J$12","v":814.64918355738143},{"$f":"+DE54*SUMIF(Occupancy!$B$24:$EC$24,'Monthly Cash Flows'!DE$12,Occupancy!$B$25:$EC$25)/'Project Summary'!$J$12","v":814.64918355738143},{"$f":"+DF54*SUMIF(Occupancy!$B$24:$EC$24,'Monthly Cash Flows'!DF$12,Occupancy!$B$25:$EC$25)/'Project Summary'!$J$12","v":839.0886590641029},{"$f":"+DG54*SUMIF(Occupancy!$B$24:$EC$24,'Monthly Cash Flows'!DG$12,Occupancy!$B$25:$EC$25)/'Project Summary'!$J$12","v":839.0886590641029},{"$f":"+DH54*SUMIF(Occupancy!$B$24:$EC$24,'Monthly Cash Flows'!DH$12,Occupancy!$B$25:$EC$25)/'Project Summary'!$J$12","v":839.0886590641029},{"$f":"+DI54*SUMIF(Occupancy!$B$24:$EC$24,'Monthly Cash Flows'!DI$12,Occupancy!$B$25:$EC$25)/'Project Summary'!$J$12","v":839.0886590641029},{"$f":"+DJ54*SUMIF(Occupancy!$B$24:$EC$24,'Monthly Cash Flows'!DJ$12,Occupancy!$B$25:$EC$25)/'Project Summary'!$J$12","v":839.0886590641029},{"$f":"+DK54*SUMIF(Occupancy!$B$24:$EC$24,'Monthly Cash Flows'!DK$12,Occupancy!$B$25:$EC$25)/'Project Summary'!$J$12","v":839.0886590641029},{"$f":"+DL54*SUMIF(Occupancy!$B$24:$EC$24,'Monthly Cash Flows'!DL$12,Occupancy!$B$25:$EC$25)/'Project Summary'!$J$12","v":839.0886590641029},{"$f":"+DM54*SUMIF(Occupancy!$B$24:$EC$24,'Monthly Cash Flows'!DM$12,Occupancy!$B$25:$EC$25)/'Project Summary'!$J$12","v":839.0886590641029},{"$f":"+DN54*SUMIF(Occupancy!$B$24:$EC$24,'Monthly Cash Flows'!DN$12,Occupancy!$B$25:$EC$25)/'Project Summary'!$J$12","v":839.0886590641029},{"$f":"+DO54*SUMIF(Occupancy!$B$24:$EC$24,'Monthly Cash Flows'!DO$12,Occupancy!$B$25:$EC$25)/'Project Summary'!$J$12","v":839.0886590641029},{"$f":"+DP54*SUMIF(Occupancy!$B$24:$EC$24,'Monthly Cash Flows'!DP$12,Occupancy!$B$25:$EC$25)/'Project Summary'!$J$12","v":839.0886590641029},{"$f":"+DQ54*SUMIF(Occupancy!$B$24:$EC$24,'Monthly Cash Flows'!DQ$12,Occupancy!$B$25:$EC$25)/'Project Summary'!$J$12","v":839.0886590641029},{"$f":"+DR54*SUMIF(Occupancy!$B$24:$EC$24,'Monthly Cash Flows'!DR$12,Occupancy!$B$25:$EC$25)/'Project Summary'!$J$12","v":864.26131883602602},{"$f":"+DS54*SUMIF(Occupancy!$B$24:$EC$24,'Monthly Cash Flows'!DS$12,Occupancy!$B$25:$EC$25)/'Project Summary'!$J$12","v":864.26131883602602},{"$f":"+DT54*SUMIF(Occupancy!$B$24:$EC$24,'Monthly Cash Flows'!DT$12,Occupancy!$B$25:$EC$25)/'Project Summary'!$J$12","v":864.26131883602602},{"$f":"+DU54*SUMIF(Occupancy!$B$24:$EC$24,'Monthly Cash Flows'!DU$12,Occupancy!$B$25:$EC$25)/'Project Summary'!$J$12","v":864.26131883602602},{"$f":"+DV54*SUMIF(Occupancy!$B$24:$EC$24,'Monthly Cash Flows'!DV$12,Occupancy!$B$25:$EC$25)/'Project Summary'!$J$12","v":864.26131883602602},{"$f":"+DW54*SUMIF(Occupancy!$B$24:$EC$24,'Monthly Cash Flows'!DW$12,Occupancy!$B$25:$EC$25)/'Project Summary'!$J$12","v":864.26131883602602},{"$f":"+DX54*SUMIF(Occupancy!$B$24:$EC$24,'Monthly Cash Flows'!DX$12,Occupancy!$B$25:$EC$25)/'Project Summary'!$J$12","v":864.26131883602602},{"$f":"+DY54*SUMIF(Occupancy!$B$24:$EC$24,'Monthly Cash Flows'!DY$12,Occupancy!$B$25:$EC$25)/'Project Summary'!$J$12","v":864.26131883602602},{"$f":"+DZ54*SUMIF(Occupancy!$B$24:$EC$24,'Monthly Cash Flows'!DZ$12,Occupancy!$B$25:$EC$25)/'Project Summary'!$J$12","v":864.26131883602602},{"$f":"+EA54*SUMIF(Occupancy!$B$24:$EC$24,'Monthly Cash Flows'!EA$12,Occupancy!$B$25:$EC$25)/'Project Summary'!$J$12","v":864.26131883602602},{"$f":"+EB54*SUMIF(Occupancy!$B$24:$EC$24,'Monthly Cash Flows'!EB$12,Occupancy!$B$25:$EC$25)/'Project Summary'!$J$12","v":864.26131883602602},{"$f":"+EC54*SUMIF(Occupancy!$B$24:$EC$24,'Monthly Cash Flows'!EC$12,Occupancy!$B$25:$EC$25)/'Project Summary'!$J$12","v":864.26131883602602}]
["Roof Repairs",{"$f":"+B55*SUMIF(Occupancy!$B$24:$EC$24,'Monthly Cash Flows'!B$12,Occupancy!$B$25:$EC$25)/'Project Summary'!$J$12","v":90.976006538877314},{"$f":"+C55*SUMIF(Occupancy!$B$24:$EC$24,'Monthly Cash Flows'!C$12,Occupancy!$B$25:$EC$25)/'Project Summary'!$J$12","v":90.976006538877314},{"$f":"+D55*SUMIF(Occupancy!$B$24:$EC$24,'Monthly Cash Flows'!D$12,Occupancy!$B$25:$EC$25)/'Project Summary'!$J$12","v":90.976006538877314},{"$f":"+E55*SUMIF(Occupancy!$B$24:$EC$24,'Monthly Cash Flows'!E$12,Occupancy!$B$25:$EC$25)/'Project Summary'!$J$12","v":90.976006538877314},{"$f":"+F55*SUMIF(Occupancy!$B$24:$EC$24,'Monthly Cash Flows'!F$12,Occupancy!$B$25:$EC$25)/'Project Summary'!$J$12","v":92.672687003981338},{"$f":"+G55*SUMIF(Occupancy!$B$24:$EC$24,'Monthly Cash Flows'!G$12,Occupancy!$B$25:$EC$25)/'Project Summary'!$J$12","v":92.672687003981338},{"$f":"+H55*SUMIF(Occupancy!$B$24:$EC$24,'Monthly Cash Flows'!H$12,Occupancy!$B$25:$EC$25)/'Project Summary'!$J$12","v":92.672687003981338},{"$f":"+I55*SUMIF(Occupancy!$B$24:$EC$24,'Monthly Cash Flows'!I$12,Occupancy!$B$25:$EC$25)/'Project Summary'!$J$12","v":92.672687003981338},{"$f":"+J55*SUMIF(Occupancy!$B$24:$EC$24,'Monthly Cash Flows'!J$12,Occupancy!$B$25:$EC$25)/'Project Summary'!$J$12","v":93.615287262372448},{"$f":"+K55*SUMIF(Occupancy!$B$24:$EC$24,'Monthly Cash Flows'!K$12,Occupancy!$B$25:$EC$25)/'Project Summary'!$J$12","v":93.615287262372448},{"$f":"+L55*SUMIF(Occupancy!$B$24:$EC$24,'Monthly Cash Flows'!L$12,Occupancy!$B$25:$EC$25)/'Project Summary'!$J$12","v":93.615287262372448},{"$f":"+M55*SUMIF(Occupancy!$B$24:$EC$24,'Monthly Cash Flows'!M$12,Occupancy!$B$25:$EC$25)/'Project Summary'!$J$12","v":93.615287262372448},{"$f":"+N55*SUMIF(Occupancy!$B$24:$EC$24,'Monthly Cash Flows'!N$12,Occupancy!$B$25:$EC$25)/'Project Summary'!$J$12","v":100.50143459804362},{"$f":"+O55*SUMIF(Occupancy!$B$24:$EC$24,'Monthly Cash Flows'!O$12,Occupancy!$B$25:$EC$25)/'Project Summary'!$J$12","v":100.50143459804362},{"$f":"+P55*SUMIF(Occupancy!$B$24:$EC$24,'Monthly Cash Flows'!P$12,Occupancy!$B$25:$EC$25)/'Project Summary'!$J$12","v":100.50143459804362},{"$f":"+Q55*SUMIF(Occupancy!$B$24:$EC$24,'Monthly Cash Flows'!Q$12,Occupancy!$B$25:$EC$25)/'Project Summary'!$J$12","v":100.50143459804362},{"$f":"+R55*SUMIF(Occupancy!$B$24:$EC$24,'Monthly Cash Flows'!R$12,Occupancy!$B$25:$EC$25)/'Project Summary'!$J$12","v":101.47231286418646},{"$f":"+S55*SUMIF(Occupancy!$B$24:$EC$24,'Monthly Cash Flows'!S$12,Occupancy!$B$25:$EC$25)/'Project Summary'!$J$12","v":103.60824504970074},{"$f":"+T55*SUMIF(Occupancy!$B$24:$EC$24,'Monthly Cash Flows'!T$12,Occupancy!$B$25:$EC$25)/'Project Summary'!$J$12","v":103.60824504970074},{"$f":"+U55*SUMIF(Occupancy!$B$24:$EC$24,'Monthly Cash Flows'!U$12,Occupancy!$B$25:$EC$25)/'Project Summary'!$J$12","v":103.60824504970074},{"$f":"+V55*SUMIF(Occupancy!$B$24:$EC$24,'Monthly Cash Flows'!V$12,Occupancy!$B$25:$EC$25)/'Project Summary'!$J$12","v":103.60824504970074},{"$f":"+W55*SUMIF(Occupancy!$B$24:$EC$24,'Monthly Cash Flows'!W$12,Occupancy!$B$25:$EC$25)/'Project Summary'!$J$12","v":103.60824504970074},{"$f":"+X55*SUMIF(Occupancy!$B$24:$EC$24,'Monthly Cash Flows'!X$12,Occupancy!$B$25:$EC$25)/'Project Summary'!$J$12","v":103.60824504970074},{"$f":"+Y55*SUMIF(Occupancy!$B$24:$EC$24,'Monthly Cash Flows'!Y$12,Occupancy!$B$25:$EC$25)/'Project Summary'!$J$12","v":103.60824504970074},{"$f":"+Z55*SUMIF(Occupancy!$B$24:$EC$24,'Monthly Cash Flows'!Z$12,Occupancy!$B$25:$EC$25)/'Project Summary'!$J$12","v":106.71649240119176},{"$f":"+AA55*SUMIF(Occupancy!$B$24:$EC$24,'Monthly Cash Flows'!AA$12,Occupancy!$B$25:$EC$25)/'Project Summary'!$J$12","v":106.71649240119176},{"$f":"+AB55*SUMIF(Occupancy!$B$24:$EC$24,'Monthly Cash Flows'!AB$12,Occupancy!$B$25:$EC$25)/'Project Summary'!$J$12","v":106.71649240119176},{"$f":"+AC55*SUMIF(Occupancy!$B$24:$EC$24,'Monthly Cash Flows'!AC$12,Occupancy!$B$25:$EC$25)/'Project Summary'!$J$12","v":106.71649240119176},{"$f":"+AD55*SUMIF(Occupancy!$B$24:$EC$24,'Monthly Cash Flows'!AD$12,Occupancy!$B$25:$EC$25)/'Project Summary'!$J$12","v":106.71649240119176},{"$f":"+AE55*SUMIF(Occupancy!$B$24:$EC$24,'Monthly Cash Flows'!AE$12,Occupancy!$B$25:$EC$25)/'Project Summary'!$J$12","v":106.71649240119176},{"$f":"+AF55*SUMIF(Occupancy!$B$24:$EC$24,'Monthly Cash Flows'!AF$12,Occupancy!$B$25:$EC$25)/'Project Summary'!$J$12","v":106.71649240119176},{"$f":"+AG55*SUMIF(Occupancy!$B$24:$EC$24,'Monthly Cash Flows'!AG$12,Occupancy!$B$25:$EC$25)/'Project Summary'!$J$12","v":106.71649240119176},{"$f":"+AH55*SUMIF(Occupancy!$B$24:$EC$24,'Monthly Cash Flows'!AH$12,Occupancy!$B$25:$EC$25)/'Project Summary'!$J$12","v":106.71649240119176},{"$f":"+AI55*SUMIF(Occupancy!$B$24:$EC$24,'Monthly Cash Flows'!AI$12,Occupancy!$B$25:$EC$25)/'Project Summary'!$J$12","v":106.71649240119176},{"$f":"+AJ55*SUMIF(Occupancy!$B$24:$EC$24,'Monthly Cash Flows'!AJ$12,Occupancy!$B$25:$EC$25)/'Project Summary'!$J$12","v":106.71649240119176},{"$f":"+AK55*SUMIF(Occupancy!$B$24:$EC$24,'Monthly Cash Flows'!AK$12,Occupancy!$B$25:$EC$25)/'Project Summary'!$J$12","v":106.71649240119176},{"$f":"+AL55*SUMIF(Occupancy!$B$24:$EC$24,'Monthly Cash Flows'!AL$12,Occupancy!$B$25:$EC$25)/'Project Summary'!$J$12","v":109.91798717322753},{"$f":"+AM55*SUMIF(Occupancy!$B$24:$EC$24,'Monthly Cash Flows'!AM$12,Occupancy!$B$25:$EC$25)/'Project Summary'!$J$12","v":109.91798717322753},{"$f":"+AN55*SUMIF(Occupancy!$B$24:$EC$24,'Monthly Cash Flows'!AN$12,Occupancy!$B$25:$EC$25)/'Project Summary'!$J$12","v":109.91798717322753},{"$f":"+AO55*SUMIF(Occupancy!$B$24:$EC$24,'Monthly Cash Flows'!AO$12,Occupancy!$B$25:$EC$25)/'Project Summary'!$J$12","v":109.91798717322753},{"$f":"+AP55*SUMIF(Occupancy!$B$24:$EC$24,'Monthly Cash Flows'!AP$12,Occupancy!$B$25:$EC$25)/'Project Summary'!$J$12","v":109.91798717322753},{"$f":"+AQ55*SUMIF(Occupancy!$B$24:$EC$24,'Monthly Cash Flows'!AQ$12,Occupancy!$B$25:$EC$25)/'Project Summary'!$J$12","v":109.91798717322753},{"$f":"+AR55*SUMIF(Occupancy!$B$24:$EC$24,'Monthly Cash Flows'!AR$12,Occupancy!$B$25:$EC$25)/'Project Summary'!$J$12","v":109.91798717322753},{"$f":"+AS55*SUMIF(Occupancy!$B$24:$EC$24,'Monthly Cash Flows'!AS$12,Occupancy!$B$25:$EC$25)/'Project Summary'!$J$12","v":109.91798717322753},{"$f":"+AT55*SUMIF(Occupancy!$B$24:$EC$24,'Monthly Cash Flows'!AT$12,Occupancy!$B$25:$EC$25)/'Project Summary'!$J$12","v":109.91798717322753},{"$f":"+AU55*SUMIF(Occupancy!$B$24:$EC$24,'Monthly Cash Flows'!AU$12,Occupancy!$B$25:$EC$25)/'Project Summary'!$J$12","v":109.91798717322753},{"$f":"+AV55*SUMIF(Occupancy!$B$24:$EC$24,'Monthly Cash Flows'!AV$12,Occupancy!$B$25:$EC$25)/'Project Summary'!$J$12","v":109.91798717322753},{"$f":"+AW55*SUMIF(Occupancy!$B$24:$EC$24,'Monthly Cash Flows'!AW$12,Occupancy!$B$25:$EC$25)/'Project Summary'!$J$12","v":109.91798717322753},{"$f":"+AX55*SUMIF(Occupancy!$B$24:$EC$24,'Monthly Cash Flows'!AX$12,Occupancy!$B$25:$EC$25)/'Project Summary'!$J$12","v":113.21552678842436},{"$f":"+AY55*SUMIF(Occupancy!$B$24:$EC$24,'Monthly Cash Flows'!AY$12,Occupancy!$B$25:$EC$25)/'Project Summary'!$J$12","v":113.21552678842436},{"$f":"+AZ55*SUMIF(Occupancy!$B$24:$EC$24,'Monthly Cash Flows'!AZ$12,Occupancy!$B$25:$EC$25)/'Project Summary'!$J$12","v":113.21552678842436},{"$f":"+BA55*SUMIF(Occupancy!$B$24:$EC$24,'Monthly Cash Flows'!BA$12,Occupancy!$B$25:$EC$25)/'Project Summary'!$J$12","v":113.21552678842436},{"$f":"+BB55*SUMIF(Occupancy!$B$24:$EC$24,'Monthly Cash Flows'!BB$12,Occupancy!$B$25:$EC$25)/'Project Summary'!$J$12","v":113.21552678842436},{"$f":"+BC55*SUMIF(Occupancy!$B$24:$EC$24,'Monthly Cash Flows'!BC$12,Occupancy!$B$25:$EC$25)/'Project Summary'!$J$12","v":113.21552678842436},{"$f":"+BD55*SUMIF(Occupancy!$B$24:$EC$24,'Monthly Cash Flows'!BD$12,Occupancy!$B$25:$EC$25)/'Project Summary'!$J$12","v":113.21552678842436},{"$f":"+BE55*SUMIF(Occupancy!$B$24:$EC$24,'Monthly Cash Flows'!BE$12,Occupancy!$B$25:$EC$25)/'Project Summary'!$J$12","v":113.21552678842436},{"$f":"+BF55*SUMIF(Occupancy!$B$24:$EC$24,'Monthly Cash Flows'!BF$12,Occupancy!$B$25:$EC$25)/'Project Summary'!$J$12","v":113.21552678842436},{"$f":"+BG55*SUMIF(Occupancy!$B$24:$EC$24,'Monthly Cash Flows'!BG$12,Occupancy!$B$25:$EC$25)/'Project Summary'!$J$12","v":113.21552678842436},{"$f":"+BH55*SUMIF(Occupancy!$B$24:$EC$24,'Monthly Cash Flows'!BH$12,Occupancy!$B$25:$EC$25)/'Project Summary'!$J$12","v":113.21552678842436},{"$f":"+BI55*SUMIF(Occupancy!$B$24:$EC$24,'Monthly Cash Flows'!BI$12,Occupancy!$B$25:$EC$25)/'Project Summary'!$J$12","v":113.21552678842436},{"$f":"+BJ55*SUMIF(Occupancy!$B$24:$EC$24,'Monthly Cash Flows'!BJ$12,Occupancy!$B$25:$EC$25)/'Project Summary'!$J$12","v":116.61199259207709},{"$f":"+BK55*SUMIF(Occupancy!$B$24:$EC$24,'Monthly Cash Flows'!BK$12,Occupancy!$B$25:$EC$25)/'Project Summary'!$J$12","v":116.61199259207709},{"$f":"+BL55*SUMIF(Occupancy!$B$24:$EC$24,'Monthly Cash Flows'!BL$12,Occupancy!$B$25:$EC$25)/'Project Summary'!$J$12","v":116.61199259207709},{"$f":"+BM55*SUMIF(Occupancy!$B$24:$EC$24,'Monthly Cash Flows'!BM$12,Occupancy!$B$25:$EC$25)/'Project Summary'!$J$12","v":116.61199259207709},{"$f":"+BN55*SUMIF(Occupancy!$B$24:$EC$24,'Monthly Cash Flows'!BN$12,Occupancy!$B$25:$EC$25)/'Project Summary'!$J$12","v":116.61199259207709},{"$f":"+BO55*SUMIF(Occupancy!$B$24:$EC$24,'Monthly Cash Flows'!BO$12,Occupancy!$B$25:$EC$25)/'Project Summary'!$J$12","v":116.61199259207709},{"$f":"+BP55*SUMIF(Occupancy!$B$24:$EC$24,'Monthly Cash Flows'!BP$12,Occupancy!$B$25:$EC$25)/'Project Summary'!$J$12","v":116.61199259207709},{"$f":"+BQ55*SUMIF(Occupancy!$B$24:$EC$24,'Monthly Cash Flows'!BQ$12,Occupancy!$B$25:$EC$25)/'Project Summary'!$J$12","v":116.61199259207709},{"$f":"+BR55*SUMIF(Occupancy!$B$24:$EC$24,'Monthly Cash Flows'!BR$12,Occupancy!$B$25:$EC$25)/'Project Summary'!$J$12","v":116.61199259207709},{"$f":"+BS55*SUMIF(Occupancy!$B$24:$EC$24,'Monthly Cash Flows'!BS$12,Occupancy!$B$25:$EC$25)/'Project Summary'!$J$12","v":116.61199259207709},{"$f":"+BT55*SUMIF(Occupancy!$B$24:$EC$24,'Monthly Cash Flows'!BT$12,Occupancy!$B$25:$EC$25)/'Project Summary'!$J$12","v":116.61199259207709},{"$f":"+BU55*SUMIF(Occupancy!$B$24:$EC$24,'Monthly Cash Flows'!BU$12,Occupancy!$B$25:$EC$25)/'Project Summary'!$J$12","v":116.61199259207709},{"$f":"+BV55*SUMIF(Occupancy!$B$24:$EC$24,'Monthly Cash Flows'!BV$12,Occupancy!$B$25:$EC$25)/'Project Summary'!$J$12","v":120.11035236983939},{"$f":"+BW55*SUMIF(Occupancy!$B$24:$EC$24,'Monthly Cash Flows'!BW$12,Occupancy!$B$25:$EC$25)/'Project Summary'!$J$12","v":120.11035236983939},{"$f":"+BX55*SUMIF(Occupancy!$B$24:$EC$24,'Monthly Cash Flows'!BX$12,Occupancy!$B$25:$EC$25)/'Project Summary'!$J$12","v":120.11035236983939},{"$f":"+BY55*SUMIF(Occupancy!$B$24:$EC$24,'Monthly Cash Flows'!BY$12,Occupancy!$B$25:$EC$25)/'Project Summary'!$J$12","v":120.11035236983939},{"$f":"+BZ55*SUMIF(Occupancy!$B$24:$EC$24,'Monthly Cash Flows'!BZ$12,Occupancy!$B$25:$EC$25)/'Project Summary'!$J$12","v":120.11035236983939},{"$f":"+CA55*SUMIF(Occupancy!$B$24:$EC$24,'Monthly Cash Flows'!CA$12,Occupancy!$B$25:$EC$25)/'Project Summary'!$J$12","v":120.11035236983939},{"$f":"+CB55*SUMIF(Occupancy!$B$24:$EC$24,'Monthly Cash Flows'!CB$12,Occupancy!$B$25:$EC$25)/'Project Summary'!$J$12","v":120.11035236983939},{"$f":"+CC55*SUMIF(Occupancy!$B$24:$EC$24,'Monthly Cash Flows'!CC$12,Occupancy!$B$25:$EC$25)/'Project Summary'!$J$12","v":120.11035236983939},{"$f":"+CD55*SUMIF(Occupancy!$B$24:$EC$24,'Monthly Cash Flows'!CD$12,Occupancy!$B$25:$EC$25)/'Project Summary'!$J$12","v":120.11035236983939},{"$f":"+CE55*SUMIF(Occupancy!$B$24:$EC$24,'Monthly Cash Flows'!CE$12,Occupancy!$B$25:$EC$25)/'Project Summary'!$J$12","v":120.11035236983939},{"$f":"+CF55*SUMIF(Occupancy!$B$24:$EC$24,'Monthly Cash Flows'!CF$12,Occupancy!$B$25:$EC$25)/'Project Summary'!$J$12","v":120.11035236983939},{"$f":"+CG55*SUMIF(Occupancy!$B$24:$EC$24,'Monthly Cash Flows'!CG$12,Occupancy!$B$25:$EC$25)/'Project Summary'!$J$12","v":120.11035236983939},{"$f":"+CH55*SUMIF(Occupancy!$B$24:$EC$24,'Monthly Cash Flows'!CH$12,Occupancy!$B$25:$EC$25)/'Project Summary'!$J$12","v":123.71366294093458},{"$f":"+CI55*SUMIF(Occupancy!$B$24:$EC$24,'Monthly Cash Flows'!CI$12,Occupancy!$B$25:$EC$25)/'Project Summary'!$J$12","v":123.71366294093458},{"$f":"+CJ55*SUMIF(Occupancy!$B$24:$EC$24,'Monthly Cash Flows'!CJ$12,Occupancy!$B$25:$EC$25)/'Project Summary'!$J$12","v":123.71366294093458},{"$f":"+CK55*SUMIF(Occupancy!$B$24:$EC$24,'Monthly Cash Flows'!CK$12,Occupancy!$B$25:$EC$25)/'Project Summary'!$J$12","v":123.71366294093458},{"$f":"+CL55*SUMIF(Occupancy!$B$24:$EC$24,'Monthly Cash Flows'!CL$12,Occupancy!$B$25:$EC$25)/'Project Summary'!$J$12","v":123.71366294093458},{"$f":"+CM55*SUMIF(Occupancy!$B$24:$EC$24,'Monthly Cash Flows'!CM$12,Occupancy!$B$25:$EC$25)/'Project Summary'!$J$12","v":123.71366294093458},{"$f":"+CN55*SUMIF(Occupancy!$B$24:$EC$24,'Monthly Cash Flows'!CN$12,Occupancy!$B$25:$EC$25)/'Project Summary'!$J$12","v":123.71366294093458},{"$f":"+CO55*SUMIF(Occupancy!$B$24:$EC$24,'Monthly Cash Flows'!CO$12,Occupancy!$B$25:$EC$25)/'Project Summary'!$J$12","v":123.71366294093458},{"$f":"+CP55*SUMIF(Occupancy!$B$24:$EC$24,'Monthly Cash Flows'!CP$12,Occupancy!$B$25:$EC$25)/'Project Summary'!$J$12","v":123.71366294093458},{"$f":"+CQ55*SUMIF(Occupancy!$B$24:$EC$24,'Monthly Cash Flows'!CQ$12,Occupancy!$B$25:$EC$25)/'Project Summary'!$J$12","v":123.71366294093458},{"$f":"+CR55*SUMIF(Occupancy!$B$24:$EC$24,'Monthly Cash Flows'!CR$12,Occupancy!$B$25:$EC$25)/'Project Summary'!$J$12","v":123.71366294093458},{"$f":"+CS55*SUMIF(Occupancy!$B$24:$EC$24,'Monthly Cash Flows'!CS$12,Occupancy!$B$25:$EC$25)/'Project Summary'!$J$12","v":123.71366294093458},{"$f":"+CT55*SUMIF(Occupancy!$B$24:$EC$24,'Monthly Cash Flows'!CT$12,Occupancy!$B$25:$EC$25)/'Project Summary'!$J$12","v":127.42507282916262},{"$f":"+CU55*SUMIF(Occupancy!$B$24:$EC$24,'Monthly Cash Flows'!CU$12,Occupancy!$B$25:$EC$25)/'Project Summary'!$J$12","v":127.42507282916262},{"$f":"+CV55*SUMIF(Occupancy!$B$24:$EC$24,'Monthly Cash Flows'!CV$12,Occupancy!$B$25:$EC$25)/'Project Summary'!$J$12","v":127.42507282916262},{"$f":"+CW55*SUMIF(Occupancy!$B$24:$EC$24,'Monthly Cash Flows'!CW$12,Occupancy!$B$25:$EC$25)/'Project Summary'!$J$12","v":127.42507282916262},{"$f":"+CX55*SUMIF(Occupancy!$B$24:$EC$24,'Monthly Cash Flows'!CX$12,Occupancy!$B$25:$EC$25)/'Project Summary'!$J$12","v":127.42507282916262},{"$f":"+CY55*SUMIF(Occupancy!$B$24:$EC$24,'Monthly Cash Flows'!CY$12,Occupancy!$B$25:$EC$25)/'Project Summary'!$J$12","v":127.42507282916262},{"$f":"+CZ55*SUMIF(Occupancy!$B$24:$EC$24,'Monthly Cash Flows'!CZ$12,Occupancy!$B$25:$EC$25)/'Project Summary'!$J$12","v":127.42507282916262},{"$f":"+DA55*SUMIF(Occupancy!$B$24:$EC$24,'Monthly Cash Flows'!DA$12,Occupancy!$B$25:$EC$25)/'Project Summary'!$J$12","v":127.42507282916262},{"$f":"+DB55*SUMIF(Occupancy!$B$24:$EC$24,'Monthly Cash Flows'!DB$12,Occupancy!$B$25:$EC$25)/'Project Summary'!$J$12","v":127.42507282916262},{"$f":"+DC55*SUMIF(Occupancy!$B$24:$EC$24,'Monthly Cash Flows'!DC$12,Occupancy!$B$25:$EC$25)/'Project Summary'!$J$12","v":127.42507282916262},{"$f":"+DD55*SUMIF(Occupancy!$B$24:$EC$24,'Monthly Cash Flows'!DD$12,Occupancy!$B$25:$EC$25)/'Project Summary'!$J$12","v":127.42507282916262},{"$f":"+DE55*SUMIF(Occupancy!$B$24:$EC$24,'Monthly Cash Flows'!DE$12,Occupancy!$B$25:$EC$25)/'Project Summary'!$J$12","v":127.42507282916262},{"$f":"+DF55*SUMIF(Occupancy!$B$24:$EC$24,'Monthly Cash Flows'!DF$12,Occupancy!$B$25:$EC$25)/'Project Summary'!$J$12","v":131.24782501403749},{"$f":"+DG55*SUMIF(Occupancy!$B$24:$EC$24,'Monthly Cash Flows'!DG$12,Occupancy!$B$25:$EC$25)/'Project Summary'!$J$12","v":131.24782501403749},{"$f":"+DH55*SUMIF(Occupancy!$B$24:$EC$24,'Monthly Cash Flows'!DH$12,Occupancy!$B$25:$EC$25)/'Project Summary'!$J$12","v":131.24782501403749},{"$f":"+DI55*SUMIF(Occupancy!$B$24:$EC$24,'Monthly Cash Flows'!DI$12,Occupancy!$B$25:$EC$25)/'Project Summary'!$J$12","v":131.24782501403749},{"$f":"+DJ55*SUMIF(Occupancy!$B$24:$EC$24,'Monthly Cash Flows'!DJ$12,Occupancy!$B$25:$EC$25)/'Project Summary'!$J$12","v":131.24782501403749},{"$f":"+DK55*SUMIF(Occupancy!$B$24:$EC$24,'Monthly Cash Flows'!DK$12,Occupancy!$B$25:$EC$25)/'Project Summary'!$J$12","v":131.24782501403749},{"$f":"+DL55*SUMIF(Occupancy!$B$24:$EC$24,'Monthly Cash Flows'!DL$12,Occupancy!$B$25:$EC$25)/'Project Summary'!$J$12","v":131.24782501403749},{"$f":"+DM55*SUMIF(Occupancy!$B$24:$EC$24,'Monthly Cash Flows'!DM$12,Occupancy!$B$25:$EC$25)/'Project Summary'!$J$12","v":131.24782501403749},{"$f":"+DN55*SUMIF(Occupancy!$B$24:$EC$24,'Monthly Cash Flows'!DN$12,Occupancy!$B$25:$EC$25)/'Project Summary'!$J$12","v":131.24782501403749},{"$f":"+DO55*SUMIF(Occupancy!$B$24:$EC$24,'Monthly Cash Flows'!DO$12,Occupancy!$B$25:$EC$25)/'Project Summary'!$J$12","v":131.24782501403749},{"$f":"+DP55*SUMIF(Occupancy!$B$24:$EC$24,'Monthly Cash Flows'!DP$12,Occupancy!$B$25:$EC$25)/'Project Summary'!$J$12","v":131.24782501403749},{"$f":"+DQ55*SUMIF(Occupancy!$B$24:$EC$24,'Monthly Cash Flows'!DQ$12,Occupancy!$B$25:$EC$25)/'Project Summary'!$J$12","v":131.24782501403749},{"$f":"+DR55*SUMIF(Occupancy!$B$24:$EC$24,'Monthly Cash Flows'!DR$12,Occupancy!$B$25:$EC$25)/'Project Summary'!$J$12","v":135.18525976445861},{"$f":"+DS55*SUMIF(Occupancy!$B$24:$EC$24,'Monthly Cash Flows'!DS$12,Occupancy!$B$25:$EC$25)/'Project Summary'!$J$12","v":135.18525976445861},{"$f":"+DT55*SUMIF(Occupancy!$B$24:$EC$24,'Monthly Cash Flows'!DT$12,Occupancy!$B$25:$EC$25)/'Project Summary'!$J$12","v":135.18525976445861},{"$f":"+DU55*SUMIF(Occupancy!$B$24:$EC$24,'Monthly Cash Flows'!DU$12,Occupancy!$B$25:$EC$25)/'Project Summary'!$J$12","v":135.18525976445861},{"$f":"+DV55*SUMIF(Occupancy!$B$24:$EC$24,'Monthly Cash Flows'!DV$12,Occupancy!$B$25:$EC$25)/'Project Summary'!$J$12","v":135.18525976445861},{"$f":"+DW55*SUMIF(Occupancy!$B$24:$EC$24,'Monthly Cash Flows'!DW$12,Occupancy!$B$25:$EC$25)/'Project Summary'!$J$12","v":135.18525976445861},{"$f":"+DX55*SUMIF(Occupancy!$B$24:$EC$24,'Monthly Cash Flows'!DX$12,Occupancy!$B$25:$EC$25)/'Project Summary'!$J$12","v":135.18525976445861},{"$f":"+DY55*SUMIF(Occupancy!$B$24:$EC$24,'Monthly Cash Flows'!DY$12,Occupancy!$B$25:$EC$25)/'Project Summary'!$J$12","v":135.18525976445861},{"$f":"+DZ55*SUMIF(Occupancy!$B$24:$EC$24,'Monthly Cash Flows'!DZ$12,Occupancy!$B$25:$EC$25)/'Project Summary'!$J$12","v":135.18525976445861},{"$f":"+EA55*SUMIF(Occupancy!$B$24:$EC$24,'Monthly Cash Flows'!EA$12,Occupancy!$B$25:$EC$25)/'Project Summary'!$J$12","v":135.18525976445861},{"$f":"+EB55*SUMIF(Occupancy!$B$24:$EC$24,'Monthly Cash Flows'!EB$12,Occupancy!$B$25:$EC$25)/'Project Summary'!$J$12","v":135.18525976445861},{"$f":"+EC55*SUMIF(Occupancy!$B$24:$EC$24,'Monthly Cash Flows'!EC$12,Occupancy!$B$25:$EC$25)/'Project Summary'!$J$12","v":135.18525976445861}]
["Parking and Sidewalks",{"$f":"+B56*SUMIF(Occupancy!$B$24:$EC$24,'Monthly Cash Flows'!B$12,Occupancy!$B$25:$EC$25)/'Project Summary'!$J$12","v":2527.3233580298997},{"$f":"+C56*SUMIF(Occupancy!$B$24:$EC$24,'Monthly Cash Flows'!C$12,Occupancy!$B$25:$EC$25)/'Project Summary'!$J$12","v":2527.3233580298997},{"$f":"+D56*SUMIF(Occupancy!$B$24:$EC$24,'Monthly Cash Flows'!D$12,Occupancy!$B$25:$EC$25)/'Project Summary'!$J$12","v":2527.3233580298997},{"$f":"+E56*SUMIF(Occupancy!$B$24:$EC$24,'Monthly Cash Flows'!E$12,Occupancy!$B$25:$EC$25)/'Project Summary'!$J$12","v":2527.3233580298997},{"$f":"+F56*SUMIF(Occupancy!$B$24:$EC$24,'Monthly Cash Flows'!F$12,Occupancy!$B$25:$EC$25)/'Project Summary'!$J$12","v":2574.4573259155745},{"$f":"+G56*SUMIF(Occupancy!$B$24:$EC$24,'Monthly Cash Flows'!G$12,Occupancy!$B$25:$EC$25)/'Project Summary'!$J$12","v":2574.4573259155745},{"$f":"+H56*SUMIF(Occupancy!$B$24:$EC$24,'Monthly Cash Flows'!H$12,Occupancy!$B$25:$EC$25)/'Project Summary'!$J$12","v":2574.4573259155745},{"$f":"+I56*SUMIF(Occupancy!$B$24:$EC$24,'Monthly Cash Flows'!I$12,Occupancy!$B$25:$EC$25)/'Project Summary'!$J$12","v":2574.4573259155745},{"$f":"+J56*SUMIF(Occupancy!$B$24:$EC$24,'Monthly Cash Flows'!J$12,Occupancy!$B$25:$EC$25)/'Project Summary'!$J$12","v":2600.6428636298383},{"$f":"+K56*SUMIF(Occupancy!$B$24:$EC$24,'Monthly Cash Flows'!K$12,Occupancy!$B$25:$EC$25)/'Project Summary'!$J$12","v":2600.6428636298383},{"$f":"+L56*SUMIF(Occupancy!$B$24:$EC$24,'Monthly Cash Flows'!L$12,Occupancy!$B$25:$EC$25)/'Project Summary'!$J$12","v":2600.6428636298383},{"$f":"+M56*SUMIF(Occupancy!$B$24:$EC$24,'Monthly Cash Flows'!M$12,Occupancy!$B$25:$EC$25)/'Project Summary'!$J$12","v":2600.6428636298383},{"$f":"+N56*SUMIF(Occupancy!$B$24:$EC$24,'Monthly Cash Flows'!N$12,Occupancy!$B$25:$EC$25)/'Project Summary'!$J$12","v":2791.94078569064},{"$f":"+O56*SUMIF(Occupancy!$B$24:$EC$24,'Monthly Cash Flows'!O$12,Occupancy!$B$25:$EC$25)/'Project Summary'!$J$12","v":2791.94078569064},{"$f":"+P56*SUMIF(Occupancy!$B$24:$EC$24,'Monthly Cash Flows'!P$12,Occupancy!$B$25:$EC$25)/'Project Summary'!$J$12","v":2791.94078569064},{"$f":"+Q56*SUMIF(Occupancy!$B$24:$EC$24,'Monthly Cash Flows'!Q$12,Occupancy!$B$25:$EC$25)/'Project Summary'!$J$12","v":2791.94078569064},{"$f":"+R56*SUMIF(Occupancy!$B$24:$EC$24,'Monthly Cash Flows'!R$12,Occupancy!$B$25:$EC$25)/'Project Summary'!$J$12","v":2818.9118895363313},{"$f":"+S56*SUMIF(Occupancy!$B$24:$EC$24,'Monthly Cash Flows'!S$12,Occupancy!$B$25:$EC$25)/'Project Summary'!$J$12","v":2878.2483179968535},{"$f":"+T56*SUMIF(Occupancy!$B$24:$EC$24,'Monthly Cash Flows'!T$12,Occupancy!$B$25:$EC$25)/'Project Summary'!$J$12","v":2878.2483179968535},{"$f":"+U56*SUMIF(Occupancy!$B$24:$EC$24,'Monthly Cash Flows'!U$12,Occupancy!$B$25:$EC$25)/'Project Summary'!$J$12","v":2878.2483179968535},{"$f":"+V56*SUMIF(Occupancy!$B$24:$EC$24,'Monthly Cash Flows'!V$12,Occupancy!$B$25:$EC$25)/'Project Summary'!$J$12","v":2878.2483179968535},{"$f":"+W56*SUMIF(Occupancy!$B$24:$EC$24,'Monthly Cash Flows'!W$12,Occupancy!$B$25:$EC$25)/'Project Summary'!$J$12","v":2878.2483179968535},{"$f":"+X56*SUMIF(Occupancy!$B$24:$EC$24,'Monthly Cash Flows'!X$12,Occupancy!$B$25:$EC$25)/'Project Summary'!$J$12","v":2878.2483179968535},{"$f":"+Y56*SUMIF(Occupancy!$B$24:$EC$24,'Monthly Cash Flows'!Y$12,Occupancy!$B$25:$EC$25)/'Project Summary'!$J$12","v":2878.2483179968535},{"$f":"+Z56*SUMIF(Occupancy!$B$24:$EC$24,'Monthly Cash Flows'!Z$12,Occupancy!$B$25:$EC$25)/'Project Summary'!$J$12","v":2964.595767536759},{"$f":"+AA56*SUMIF(Occupancy!$B$24:$EC$24,'Monthly Cash Flows'!AA$12,Occupancy!$B$25:$EC$25)/'Project Summary'!$J$12","v":2964.595767536759},{"$f":"+AB56*SUMIF(Occupancy!$B$24:$EC$24,'Monthly Cash Flows'!AB$12,Occupancy!$B$25:$EC$25)/'Project Summary'!$J$12","v":2964.595767536759},{"$f":"+AC56*SUMIF(Occupancy!$B$24:$EC$24,'Monthly Cash Flows'!AC$12,Occupancy!$B$25:$EC$25)/'Project Summary'!$J$12","v":2964.595767536759},{"$f":"+AD56*SUMIF(Occupancy!$B$24:$EC$24,'Monthly Cash Flows'!AD$12,Occupancy!$B$25:$EC$25)/'Project Summary'!$J$12","v":2964.595767536759},{"$f":"+AE56*SUMIF(Occupancy!$B$24:$EC$24,'Monthly Cash Flows'!AE$12,Occupancy!$B$25:$EC$25)/'Project Summary'!$J$12","v":2964.595767536759},{"$f":"+AF56*SUMIF(Occupancy!$B$24:$EC$24,'Monthly Cash Flows'!AF$12,Occupancy!$B$25:$EC$25)/'Project Summary'!$J$12","v":2964.595767536759},{"$f":"+AG56*SUMIF(Occupancy!$B$24:$EC$24,'Monthly Cash Flows'!AG$12,Occupancy!$B$25:$EC$25)/'Project Summary'!$J$12","v":2964.595767536759},{"$f":"+AH56*SUMIF(Occupancy!$B$24:$EC$24,'Monthly Cash Flows'!AH$12,Occupancy!$B$25:$EC$25)/'Project Summary'!$J$12","v":2964.595767536759},{"$f":"+AI56*SUMIF(Occupancy!$B$24:$EC$24,'Monthly Cash Flows'!AI$12,Occupancy!$B$25:$EC$25)/'Project Summary'!$J$12","v":2964.595767536759},{"$f":"+AJ56*SUMIF(Occupancy!$B$24:$EC$24,'Monthly Cash Flows'!AJ$12,Occupancy!$B$25:$EC$25)/'Project Summary'!$J$12","v":2964.595767536759},{"$f":"+AK56*SUMIF(Occupancy!$B$24:$EC$24,'Monthly Cash Flows'!AK$12,Occupancy!$B$25:$EC$25)/'Project Summary'!$J$12","v":2964.595767536759},{"$f":"+AL56*SUMIF(Occupancy!$B$24:$EC$24,'Monthly Cash Flows'!AL$12,Occupancy!$B$25:$EC$25)/'Project Summary'!$J$12","v":3053.5336405628618},{"$f":"+AM56*SUMIF(Occupancy!$B$24:$EC$24,'Monthly Cash Flows'!AM$12,Occupancy!$B$25:$EC$25)/'Project Summary'!$J$12","v":3053.5336405628618},{"$f":"+AN56*SUMIF(Occupancy!$B$24:$EC$24,'Monthly Cash Flows'!AN$12,Occupancy!$B$25:$EC$25)/'Project Summary'!$J$12","v":3053.5336405628618},{"$f":"+AO56*SUMIF(Occupancy!$B$24:$EC$24,'Monthly Cash Flows'!AO$12,Occupancy!$B$25:$EC$25)/'Project Summary'!$J$12","v":3053.5336405628618},{"$f":"+AP56*SUMIF(Occupancy!$B$24:$EC$24,'Monthly Cash Flows'!AP$12,Occupancy!$B$25:$EC$25)/'Project Summary'!$J$12","v":3053.5336405628618},{"$f":"+AQ56*SUMIF(Occupancy!$B$24:$EC$24,'Monthly Cash Flows'!AQ$12,Occupancy!$B$25:$EC$25)/'Project Summary'!$J$12","v":3053.5336405628618},{"$f":"+AR56*SUMIF(Occupancy!$B$24:$EC$24,'Monthly Cash Flows'!AR$12,Occupancy!$B$25:$EC$25)/'Project Summary'!$J$12","v":3053.5336405628618},{"$f":"+AS56*SUMIF(Occupancy!$B$24:$EC$24,'Monthly Cash Flows'!AS$12,Occupancy!$B$25:$EC$25)/'Project Summary'!$J$12","v":3053.5336405628618},{"$f":"+AT56*SUMIF(Occupancy!$B$24:$EC$24,'Monthly Cash Flows'!AT$12,Occupancy!$B$25:$EC$25)/'Project Summary'!$J$12","v":3053.5336405628618},{"$f":"+AU56*SUMIF(Occupancy!$B$24:$EC$24,'Monthly Cash Flows'!AU$12,Occupancy!$B$25:$EC$25)/'Project Summary'!$J$12","v":3053.5336405628618},{"$f":"+AV56*SUMIF(Occupancy!$B$24:$EC$24,'Monthly Cash Flows'!AV$12,Occupancy!$B$25:$EC$25)/'Project Summary'!$J$12","v":3053.5336405628618},{"$f":"+AW56*SUMIF(Occupancy!$B$24:$EC$24,'Monthly Cash Flows'!AW$12,Occupancy!$B$25:$EC$25)/'Project Summary'!$J$12","v":3053.5336405628618},{"$f":"+AX56*SUMIF(Occupancy!$B$24:$EC$24,'Monthly Cash Flows'!AX$12,Occupancy!$B$25:$EC$25)/'Project Summary'!$J$12","v":3145.1396497797482},{"$f":"+AY56*SUMIF(Occupancy!$B$24:$EC$24,'Monthly Cash Flows'!AY$12,Occupancy!$B$25:$EC$25)/'Project Summary'!$J$12","v":3145.1396497797482},{"$f":"+AZ56*SUMIF(Occupancy!$B$24:$EC$24,'Monthly Cash Flows'!AZ$12,Occupancy!$B$25:$EC$25)/'Project Summary'!$J$12","v":3145.1396497797482},{"$f":"+BA56*SUMIF(Occupancy!$B$24:$EC$24,'Monthly Cash Flows'!BA$12,Occupancy!$B$25:$EC$25)/'Project Summary'!$J$12","v":3145.1396497797482},{"$f":"+BB56*SUMIF(Occupancy!$B$24:$EC$24,'Monthly Cash Flows'!BB$12,Occupancy!$B$25:$EC$25)/'Project Summary'!$J$12","v":3145.1396497797482},{"$f":"+BC56*SUMIF(Occupancy!$B$24:$EC$24,'Monthly Cash Flows'!BC$12,Occupancy!$B$25:$EC$25)/'Project Summary'!$J$12","v":3145.1396497797482},{"$f":"+BD56*SUMIF(Occupancy!$B$24:$EC$24,'Monthly Cash Flows'!BD$12,Occupancy!$B$25:$EC$25)/'Project Summary'!$J$12","v":3145.1396497797482},{"$f":"+BE56*SUMIF(Occupancy!$B$24:$EC$24,'Monthly Cash Flows'!BE$12,Occupancy!$B$25:$EC$25)/'Project Summary'!$J$12","v":3145.1396497797482},{"$f":"+BF56*SUMIF(Occupancy!$B$24:$EC$24,'Monthly Cash Flows'!BF$12,Occupancy!$B$25:$EC$25)/'Project Summary'!$J$12","v":3145.1396497797482},{"$f":"+BG56*SUMIF(Occupancy!$B$24:$EC$24,'Monthly Cash Flows'!BG$12,Occupancy!$B$25:$EC$25)/'Project Summary'!$J$12","v":3145.1396497797482},{"$f":"+BH56*SUMIF(Occupancy!$B$24:$EC$24,'Monthly Cash Flows'!BH$12,Occupancy!$B$25:$EC$25)/'Project Summary'!$J$12","v":3145.1396497797482},{"$f":"+BI56*SUMIF(Occupancy!$B$24:$EC$24,'Monthly Cash Flows'!BI$12,Occupancy!$B$25:$EC$25)/'Project Summary'!$J$12","v":3145.1396497797482},{"$f":"+BJ56*SUMIF(Occupancy!$B$24:$EC$24,'Monthly Cash Flows'!BJ$12,Occupancy!$B$25:$EC$25)/'Project Summary'!$J$12","v":3239.493839273141},{"$f":"+BK56*SUMIF(Occupancy!$B$24:$EC$24,'Monthly Cash Flows'!BK$12,Occupancy!$B$25:$EC$25)/'Project Summary'!$J$12","v":3239.493839273141},{"$f":"+BL56*SUMIF(Occupancy!$B$24:$EC$24,'Monthly Cash Flows'!BL$12,Occupancy!$B$25:$EC$25)/'Project Summary'!$J$12","v":3239.493839273141},{"$f":"+BM56*SUMIF(Occupancy!$B$24:$EC$24,'Monthly Cash Flows'!BM$12,Occupancy!$B$25:$EC$25)/'Project Summary'!$J$12","v":3239.493839273141},{"$f":"+BN56*SUMIF(Occupancy!$B$24:$EC$24,'Monthly Cash Flows'!BN$12,Occupancy!$B$25:$EC$25)/'Project Summary'!$J$12","v":3239.493839273141},{"$f":"+BO56*SUMIF(Occupancy!$B$24:$EC$24,'Monthly Cash Flows'!BO$12,Occupancy!$B$25:$EC$25)/'Project Summary'!$J$12","v":3239.493839273141},{"$f":"+BP56*SUMIF(Occupancy!$B$24:$EC$24,'Monthly Cash Flows'!BP$12,Occupancy!$B$25:$EC$25)/'Project Summary'!$J$12","v":3239.493839273141},{"$f":"+BQ56*SUMIF(Occupancy!$B$24:$EC$24,'Monthly Cash Flows'!BQ$12,Occupancy!$B$25:$EC$25)/'Project Summary'!$J$12","v":3239.493839273141},{"$f":"+BR56*SUMIF(Occupancy!$B$24:$EC$24,'Monthly Cash Flows'!BR$12,Occupancy!$B$25:$EC$25)/'Project Summary'!$J$12","v":3239.493839273141},{"$f":"+BS56*SUMIF(Occupancy!$B$24:$EC$24,'Monthly Cash Flows'!BS$12,Occupancy!$B$25:$EC$25)/'Project Summary'!$J$12","v":3239.493839273141},{"$f":"+BT56*SUMIF(Occupancy!$B$24:$EC$24,'Monthly Cash Flows'!BT$12,Occupancy!$B$25:$EC$25)/'Project Summary'!$J$12","v":3239.493839273141},{"$f":"+BU56*SUMIF(Occupancy!$B$24:$EC$24,'Monthly Cash Flows'!BU$12,Occupancy!$B$25:$EC$25)/'Project Summary'!$J$12","v":3239.493839273141},{"$f":"+BV56*SUMIF(Occupancy!$B$24:$EC$24,'Monthly Cash Flows'!BV$12,Occupancy!$B$25:$EC$25)/'Project Summary'!$J$12","v":3336.6786544513352},{"$f":"+BW56*SUMIF(Occupancy!$B$24:$EC$24,'Monthly Cash Flows'!BW$12,Occupancy!$B$25:$EC$25)/'Project Summary'!$J$12","v":3336.6786544513352},{"$f":"+BX56*SUMIF(Occupancy!$B$24:$EC$24,'Monthly Cash Flows'!BX$12,Occupancy!$B$25:$EC$25)/'Project Summary'!$J$12","v":3336.6786544513352},{"$f":"+BY56*SUMIF(Occupancy!$B$24:$EC$24,'Monthly Cash Flows'!BY$12,Occupancy!$B$25:$EC$25)/'Project Summary'!$J$12","v":3336.6786544513352},{"$f":"+BZ56*SUMIF(Occupancy!$B$24:$EC$24,'Monthly Cash Flows'!BZ$12,Occupancy!$B$25:$EC$25)/'Project Summary'!$J$12","v":3336.6786544513352},{"$f":"+CA56*SUMIF(Occupancy!$B$24:$EC$24,'Monthly Cash Flows'!CA$12,Occupancy!$B$25:$EC$25)/'Project Summary'!$J$12","v":3336.6786544513352},{"$f":"+CB56*SUMIF(Occupancy!$B$24:$EC$24,'Monthly Cash Flows'!CB$12,Occupancy!$B$25:$EC$25)/'Project Summary'!$J$12","v":3336.6786544513352},{"$f":"+CC56*SUMIF(Occupancy!$B$24:$EC$24,'Monthly Cash Flows'!CC$12,Occupancy!$B$25:$EC$25)/'Project Summary'!$J$12","v":3336.6786544513352},{"$f":"+CD56*SUMIF(Occupancy!$B$24:$EC$24,'Monthly Cash Flows'!CD$12,Occupancy!$B$25:$EC$25)/'Project Summary'!$J$12","v":3336.6786544513352},{"$f":"+CE56*SUMIF(Occupancy!$B$24:$EC$24,'Monthly Cash Flows'!CE$12,Occupancy!$B$25:$EC$25)/'Project Summary'!$J$12","v":3336.6786544513352},{"$f":"+CF56*SUMIF(Occupancy!$B$24:$EC$24,'Monthly Cash Flows'!CF$12,Occupancy!$B$25:$EC$25)/'Project Summary'!$J$12","v":3336.6786544513352},{"$f":"+CG56*SUMIF(Occupancy!$B$24:$EC$24,'Monthly Cash Flows'!CG$12,Occupancy!$B$25:$EC$25)/'Project Summary'!$J$12","v":3336.6786544513352},{"$f":"+CH56*SUMIF(Occupancy!$B$24:$EC$24,'Monthly Cash Flows'!CH$12,Occupancy!$B$25:$EC$25)/'Project Summary'!$J$12","v":3436.7790140848756},{"$f":"+CI56*SUMIF(Occupancy!$B$24:$EC$24,'Monthly Cash Flows'!CI$12,Occupancy!$B$25:$EC$25)/'Project Summary'!$J$12","v":3436.7790140848756},{"$f":"+CJ56*SUMIF(Occupancy!$B$24:$EC$24,'Monthly Cash Flows'!CJ$12,Occupancy!$B$25:$EC$25)/'Project Summary'!$J$12","v":3436.7790140848756},{"$f":"+CK56*SUMIF(Occupancy!$B$24:$EC$24,'Monthly Cash Flows'!CK$12,Occupancy!$B$25:$EC$25)/'Project Summary'!$J$12","v":3436.7790140848756},{"$f":"+CL56*SUMIF(Occupancy!$B$24:$EC$24,'Monthly Cash Flows'!CL$12,Occupancy!$B$25:$EC$25)/'Project Summary'!$J$12","v":3436.7790140848756},{"$f":"+CM56*SUMIF(Occupancy!$B$24:$EC$24,'Monthly Cash Flows'!CM$12,Occupancy!$B$25:$EC$25)/'Project Summary'!$J$12","v":3436.7790140848756},{"$f":"+CN56*SUMIF(Occupancy!$B$24:$EC$24,'Monthly Cash Flows'!CN$12,Occupancy!$B$25:$EC$25)/'Project Summary'!$J$12","v":3436.7790140848756},{"$f":"+CO56*SUMIF(Occupancy!$B$24:$EC$24,'Monthly Cash Flows'!CO$12,Occupancy!$B$25:$EC$25)/'Project Summary'!$J$12","v":3436.7790140848756},{"$f":"+CP56*SUMIF(Occupancy!$B$24:$EC$24,'Monthly Cash Flows'!CP$12,Occupancy!$B$25:$EC$25)/'Project Summary'!$J$12","v":3436.7790140848756},{"$f":"+CQ56*SUMIF(Occupancy!$B$24:$EC$24,'Monthly Cash Flows'!CQ$12,Occupancy!$B$25:$EC$25)/'Project Summary'!$J$12","v":3436.7790140848756},{"$f":"+CR56*SUMIF(Occupancy!$B$24:$EC$24,'Monthly Cash Flows'!CR$12,Occupancy!$B$25:$EC$25)/'Project Summary'!$J$12","v":3436.7790140848756},{"$f":"+CS56*SUMIF(Occupancy!$B$24:$EC$24,'Monthly Cash Flows'!CS$12,Occupancy!$B$25:$EC$25)/'Project Summary'!$J$12","v":3436.7790140848756},{"$f":"+CT56*SUMIF(Occupancy!$B$24:$EC$24,'Monthly Cash Flows'!CT$12,Occupancy!$B$25:$EC$25)/'Project Summary'!$J$12","v":3539.8823845074216},{"$f":"+CU56*SUMIF(Occupancy!$B$24:$EC$24,'Monthly Cash Flows'!CU$12,Occupancy!$B$25:$EC$25)/'Project Summary'!$J$12","v":3539.8823845074216},{"$f":"+CV56*SUMIF(Occupancy!$B$24:$EC$24,'Monthly Cash Flows'!CV$12,Occupancy!$B$25:$EC$25)/'Project Summary'!$J$12","v":3539.8823845074216},{"$f":"+CW56*SUMIF(Occupancy!$B$24:$EC$24,'Monthly Cash Flows'!CW$12,Occupancy!$B$25:$EC$25)/'Project Summary'!$J$12","v":3539.8823845074216},{"$f":"+CX56*SUMIF(Occupancy!$B$24:$EC$24,'Monthly Cash Flows'!CX$12,Occupancy!$B$25:$EC$25)/'Project Summary'!$J$12","v":3539.8823845074216},{"$f":"+CY56*SUMIF(Occupancy!$B$24:$EC$24,'Monthly Cash Flows'!CY$12,Occupancy!$B$25:$EC$25)/'Project Summary'!$J$12","v":3539.8823845074216},{"$f":"+CZ56*SUMIF(Occupancy!$B$24:$EC$24,'Monthly Cash Flows'!CZ$12,Occupancy!$B$25:$EC$25)/'Project Summary'!$J$12","v":3539.8823845074216},{"$f":"+DA56*SUMIF(Occupancy!$B$24:$EC$24,'Monthly Cash Flows'!DA$12,Occupancy!$B$25:$EC$25)/'Project Summary'!$J$12","v":3539.8823845074216},{"$f":"+DB56*SUMIF(Occupancy!$B$24:$EC$24,'Monthly Cash Flows'!DB$12,Occupancy!$B$25:$EC$25)/'Project Summary'!$J$12","v":3539.8823845074216},{"$f":"+DC56*SUMIF(Occupancy!$B$24:$EC$24,'Monthly Cash Flows'!DC$12,Occupancy!$B$25:$EC$25)/'Project Summary'!$J$12","v":3539.8823845074216},{"$f":"+DD56*SUMIF(Occupancy!$B$24:$EC$24,'Monthly Cash Flows'!DD$12,Occupancy!$B$25:$EC$25)/'Project Summary'!$J$12","v":3539.8823845074216},{"$f":"+DE56*SUMIF(Occupancy!$B$24:$EC$24,'Monthly Cash Flows'!DE$12,Occupancy!$B$25:$EC$25)/'Project Summary'!$J$12","v":3539.8823845074216},{"$f":"+DF56*SUMIF(Occupancy!$B$24:$EC$24,'Monthly Cash Flows'!DF$12,Occupancy!$B$25:$EC$25)/'Project Summary'!$J$12","v":3646.078856042644},{"$f":"+DG56*SUMIF(Occupancy!$B$24:$EC$24,'Monthly Cash Flows'!DG$12,Occupancy!$B$25:$EC$25)/'Project Summary'!$J$12","v":3646.078856042644},{"$f":"+DH56*SUMIF(Occupancy!$B$24:$EC$24,'Monthly Cash Flows'!DH$12,Occupancy!$B$25:$EC$25)/'Project Summary'!$J$12","v":3646.078856042644},{"$f":"+DI56*SUMIF(Occupancy!$B$24:$EC$24,'Monthly Cash Flows'!DI$12,Occupancy!$B$25:$EC$25)/'Project Summary'!$J$12","v":3646.078856042644},{"$f":"+DJ56*SUMIF(Occupancy!$B$24:$EC$24,'Monthly Cash Flows'!DJ$12,Occupancy!$B$25:$EC$25)/'Project Summary'!$J$12","v":3646.078856042644},{"$f":"+DK56*SUMIF(Occupancy!$B$24:$EC$24,'Monthly Cash Flows'!DK$12,Occupancy!$B$25:$EC$25)/'Project Summary'!$J$12","v":3646.078856042644},{"$f":"+DL56*SUMIF(Occupancy!$B$24:$EC$24,'Monthly Cash Flows'!DL$12,Occupancy!$B$25:$EC$25)/'Project Summary'!$J$12","v":3646.078856042644},{"$f":"+DM56*SUMIF(Occupancy!$B$24:$EC$24,'Monthly Cash Flows'!DM$12,Occupancy!$B$25:$EC$25)/'Project Summary'!$J$12","v":3646.078856042644},{"$f":"+DN56*SUMIF(Occupancy!$B$24:$EC$24,'Monthly Cash Flows'!DN$12,Occupancy!$B$25:$EC$25)/'Project Summary'!$J$12","v":3646.078856042644},{"$f":"+DO56*SUMIF(Occupancy!$B$24:$EC$24,'Monthly Cash Flows'!DO$12,Occupancy!$B$25:$EC$25)/'Project Summary'!$J$12","v":3646.078856042644},{"$f":"+DP56*SUMIF(Occupancy!$B$24:$EC$24,'Monthly Cash Flows'!DP$12,Occupancy!$B$25:$EC$25)/'Project Summary'!$J$12","v":3646.078856042644},{"$f":"+DQ56*SUMIF(Occupancy!$B$24:$EC$24,'Monthly Cash Flows'!DQ$12,Occupancy!$B$25:$EC$25)/'Project Summary'!$J$12","v":3646.078856042644},{"$f":"+DR56*SUMIF(Occupancy!$B$24:$EC$24,'Monthly Cash Flows'!DR$12,Occupancy!$B$25:$EC$25)/'Project Summary'!$J$12","v":3755.4612217239237},{"$f":"+DS56*SUMIF(Occupancy!$B$24:$EC$24,'Monthly Cash Flows'!DS$12,Occupancy!$B$25:$EC$25)/'Project Summary'!$J$12","v":3755.4612217239237},{"$f":"+DT56*SUMIF(Occupancy!$B$24:$EC$24,'Monthly Cash Flows'!DT$12,Occupancy!$B$25:$EC$25)/'Project Summary'!$J$12","v":3755.4612217239237},{"$f":"+DU56*SUMIF(Occupancy!$B$24:$EC$24,'Monthly Cash Flows'!DU$12,Occupancy!$B$25:$EC$25)/'Project Summary'!$J$12","v":3755.4612217239237},{"$f":"+DV56*SUMIF(Occupancy!$B$24:$EC$24,'Monthly Cash Flows'!DV$12,Occupancy!$B$25:$EC$25)/'Project Summary'!$J$12","v":3755.4612217239237},{"$f":"+DW56*SUMIF(Occupancy!$B$24:$EC$24,'Monthly Cash Flows'!DW$12,Occupancy!$B$25:$EC$25)/'Project Summary'!$J$12","v":3755.4612217239237},{"$f":"+DX56*SUMIF(Occupancy!$B$24:$EC$24,'Monthly Cash Flows'!DX$12,Occupancy!$B$25:$EC$25)/'Project Summary'!$J$12","v":3755.4612217239237},{"$f":"+DY56*SUMIF(Occupancy!$B$24:$EC$24,'Monthly Cash Flows'!DY$12,Occupancy!$B$25:$EC$25)/'Project Summary'!$J$12","v":3755.4612217239237},{"$f":"+DZ56*SUMIF(Occupancy!$B$24:$EC$24,'Monthly Cash Flows'!DZ$12,Occupancy!$B$25:$EC$25)/'Project Summary'!$J$12","v":3755.4612217239237},{"$f":"+EA56*SUMIF(Occupancy!$B$24:$EC$24,'Monthly Cash Flows'!EA$12,Occupancy!$B$25:$EC$25)/'Project Summary'!$J$12","v":3755.4612217239237},{"$f":"+EB56*SUMIF(Occupancy!$B$24:$EC$24,'Monthly Cash Flows'!EB$12,Occupancy!$B$25:$EC$25)/'Project Summary'!$J$12","v":3755.4612217239237},{"$f":"+EC56*SUMIF(Occupancy!$B$24:$EC$24,'Monthly Cash Flows'!EC$12,Occupancy!$B$25:$EC$25)/'Project Summary'!$J$12","v":3755.4612217239237}]
["Plumbing Repairs",{"$f":"+B57*SUMIF(Occupancy!$B$24:$EC$24,'Monthly Cash Flows'!B$12,Occupancy!$B$25:$EC$25)/'Project Summary'!$J$12","v":7.2809080602209511},{"$f":"+C57*SUMIF(Occupancy!$B$24:$EC$24,'Monthly Cash Flows'!C$12,Occupancy!$B$25:$EC$25)/'Project Summary'!$J$12","v":7.2809080602209511},{"$f":"+D57*SUMIF(Occupancy!$B$24:$EC$24,'Monthly Cash Flows'!D$12,Occupancy!$B$25:$EC$25)/'Project Summary'!$J$12","v":7.2809080602209511},{"$f":"+E57*SUMIF(Occupancy!$B$24:$EC$24,'Monthly Cash Flows'!E$12,Occupancy!$B$25:$EC$25)/'Project Summary'!$J$12","v":7.2809080602209511},{"$f":"+F57*SUMIF(Occupancy!$B$24:$EC$24,'Monthly Cash Flows'!F$12,Occupancy!$B$25:$EC$25)/'Project Summary'!$J$12","v":7.41669523031086},{"$f":"+G57*SUMIF(Occupancy!$B$24:$EC$24,'Monthly Cash Flows'!G$12,Occupancy!$B$25:$EC$25)/'Project Summary'!$J$12","v":7.41669523031086},{"$f":"+H57*SUMIF(Occupancy!$B$24:$EC$24,'Monthly Cash Flows'!H$12,Occupancy!$B$25:$EC$25)/'Project Summary'!$J$12","v":7.41669523031086},{"$f":"+I57*SUMIF(Occupancy!$B$24:$EC$24,'Monthly Cash Flows'!I$12,Occupancy!$B$25:$EC$25)/'Project Summary'!$J$12","v":7.41669523031086},{"$f":"+J57*SUMIF(Occupancy!$B$24:$EC$24,'Monthly Cash Flows'!J$12,Occupancy!$B$25:$EC$25)/'Project Summary'!$J$12","v":7.4921325470274773},{"$f":"+K57*SUMIF(Occupancy!$B$24:$EC$24,'Monthly Cash Flows'!K$12,Occupancy!$B$25:$EC$25)/'Project Summary'!$J$12","v":7.4921325470274773},{"$f":"+L57*SUMIF(Occupancy!$B$24:$EC$24,'Monthly Cash Flows'!L$12,Occupancy!$B$25:$EC$25)/'Project Summary'!$J$12","v":7.4921325470274773},{"$f":"+M57*SUMIF(Occupancy!$B$24:$EC$24,'Monthly Cash Flows'!M$12,Occupancy!$B$25:$EC$25)/'Project Summary'!$J$12","v":7.4921325470274773},{"$f":"+N57*SUMIF(Occupancy!$B$24:$EC$24,'Monthly Cash Flows'!N$12,Occupancy!$B$25:$EC$25)/'Project Summary'!$J$12","v":8.0432383555543847},{"$f":"+O57*SUMIF(Occupancy!$B$24:$EC$24,'Monthly Cash Flows'!O$12,Occupancy!$B$25:$EC$25)/'Project Summary'!$J$12","v":8.0432383555543847},{"$f":"+P57*SUMIF(Occupancy!$B$24:$EC$24,'Monthly Cash Flows'!P$12,Occupancy!$B$25:$EC$25)/'Project Summary'!$J$12","v":8.0432383555543847},{"$f":"+Q57*SUMIF(Occupancy!$B$24:$EC$24,'Monthly Cash Flows'!Q$12,Occupancy!$B$25:$EC$25)/'Project Summary'!$J$12","v":8.0432383555543847},{"$f":"+R57*SUMIF(Occupancy!$B$24:$EC$24,'Monthly Cash Flows'!R$12,Occupancy!$B$25:$EC$25)/'Project Summary'!$J$12","v":8.1209387917724989},{"$f":"+S57*SUMIF(Occupancy!$B$24:$EC$24,'Monthly Cash Flows'!S$12,Occupancy!$B$25:$EC$25)/'Project Summary'!$J$12","v":8.2918797514523526},{"$f":"+T57*SUMIF(Occupancy!$B$24:$EC$24,'Monthly Cash Flows'!T$12,Occupancy!$B$25:$EC$25)/'Project Summary'!$J$12","v":8.2918797514523526},{"$f":"+U57*SUMIF(Occupancy!$B$24:$EC$24,'Monthly Cash Flows'!U$12,Occupancy!$B$25:$EC$25)/'Project Summary'!$J$12","v":8.2918797514523526},{"$f":"+V57*SUMIF(Occupancy!$B$24:$EC$24,'Monthly Cash Flows'!V$12,Occupancy!$B$25:$EC$25)/'Project Summary'!$J$12","v":8.2918797514523526},{"$f":"+W57*SUMIF(Occupancy!$B$24:$EC$24,'Monthly Cash Flows'!W$12,Occupancy!$B$25:$EC$25)/'Project Summary'!$J$12","v":8.2918797514523526},{"$f":"+X57*SUMIF(Occupancy!$B$24:$EC$24,'Monthly Cash Flows'!X$12,Occupancy!$B$25:$EC$25)/'Project Summary'!$J$12","v":8.2918797514523526},{"$f":"+Y57*SUMIF(Occupancy!$B$24:$EC$24,'Monthly Cash Flows'!Y$12,Occupancy!$B$25:$EC$25)/'Project Summary'!$J$12","v":8.2918797514523526},{"$f":"+Z57*SUMIF(Occupancy!$B$24:$EC$24,'Monthly Cash Flows'!Z$12,Occupancy!$B$25:$EC$25)/'Project Summary'!$J$12","v":8.5406361439959237},{"$f":"+AA57*SUMIF(Occupancy!$B$24:$EC$24,'Monthly Cash Flows'!AA$12,Occupancy!$B$25:$EC$25)/'Project Summary'!$J$12","v":8.5406361439959237},{"$f":"+AB57*SUMIF(Occupancy!$B$24:$EC$24,'Monthly Cash Flows'!AB$12,Occupancy!$B$25:$EC$25)/'Project Summary'!$J$12","v":8.5406361439959237},{"$f":"+AC57*SUMIF(Occupancy!$B$24:$EC$24,'Monthly Cash Flows'!AC$12,Occupancy!$B$25:$EC$25)/'Project Summary'!$J$12","v":8.5406361439959237},{"$f":"+AD57*SUMIF(Occupancy!$B$24:$EC$24,'Monthly Cash Flows'!AD$12,Occupancy!$B$25:$EC$25)/'Project Summary'!$J$12","v":8.5406361439959237},{"$f":"+AE57*SUMIF(Occupancy!$B$24:$EC$24,'Monthly Cash Flows'!AE$12,Occupancy!$B$25:$EC$25)/'Project Summary'!$J$12","v":8.5406361439959237},{"$f":"+AF57*SUMIF(Occupancy!$B$24:$EC$24,'Monthly Cash Flows'!AF$12,Occupancy!$B$25:$EC$25)/'Project Summary'!$J$12","v":8.5406361439959237},{"$f":"+AG57*SUMIF(Occupancy!$B$24:$EC$24,'Monthly Cash Flows'!AG$12,Occupancy!$B$25:$EC$25)/'Project Summary'!$J$12","v":8.5406361439959237},{"$f":"+AH57*SUMIF(Occupancy!$B$24:$EC$24,'Monthly Cash Flows'!AH$12,Occupancy!$B$25:$EC$25)/'Project Summary'!$J$12","v":8.5406361439959237},{"$f":"+AI57*SUMIF(Occupancy!$B$24:$EC$24,'Monthly Cash Flows'!AI$12,Occupancy!$B$25:$EC$25)/'Project Summary'!$J$12","v":8.5406361439959237},{"$f":"+AJ57*SUMIF(Occupancy!$B$24:$EC$24,'Monthly Cash Flows'!AJ$12,Occupancy!$B$25:$EC$25)/'Project Summary'!$J$12","v":8.5406361439959237},{"$f":"+AK57*SUMIF(Occupancy!$B$24:$EC$24,'Monthly Cash Flows'!AK$12,Occupancy!$B$25:$EC$25)/'Project Summary'!$J$12","v":8.5406361439959237},{"$f":"+AL57*SUMIF(Occupancy!$B$24:$EC$24,'Monthly Cash Flows'!AL$12,Occupancy!$B$25:$EC$25)/'Project Summary'!$J$12","v":8.7968552283158026},{"$f":"+AM57*SUMIF(Occupancy!$B$24:$EC$24,'Monthly Cash Flows'!AM$12,Occupancy!$B$25:$EC$25)/'Project Summary'!$J$12","v":8.7968552283158026},{"$f":"+AN57*SUMIF(Occupancy!$B$24:$EC$24,'Monthly Cash Flows'!AN$12,Occupancy!$B$25:$EC$25)/'Project Summary'!$J$12","v":8.7968552283158026},{"$f":"+AO57*SUMIF(Occupancy!$B$24:$EC$24,'Monthly Cash Flows'!AO$12,Occupancy!$B$25:$EC$25)/'Project Summary'!$J$12","v":8.7968552283158026},{"$f":"+AP57*SUMIF(Occupancy!$B$24:$EC$24,'Monthly Cash Flows'!AP$12,Occupancy!$B$25:$EC$25)/'Project Summary'!$J$12","v":8.7968552283158026},{"$f":"+AQ57*SUMIF(Occupancy!$B$24:$EC$24,'Monthly Cash Flows'!AQ$12,Occupancy!$B$25:$EC$25)/'Project Summary'!$J$12","v":8.7968552283158026},{"$f":"+AR57*SUMIF(Occupancy!$B$24:$EC$24,'Monthly Cash Flows'!AR$12,Occupancy!$B$25:$EC$25)/'Project Summary'!$J$12","v":8.7968552283158026},{"$f":"+AS57*SUMIF(Occupancy!$B$24:$EC$24,'Monthly Cash Flows'!AS$12,Occupancy!$B$25:$EC$25)/'Project Summary'!$J$12","v":8.7968552283158026},{"$f":"+AT57*SUMIF(Occupancy!$B$24:$EC$24,'Monthly Cash Flows'!AT$12,Occupancy!$B$25:$EC$25)/'Project Summary'!$J$12","v":8.7968552283158026},{"$f":"+AU57*SUMIF(Occupancy!$B$24:$EC$24,'Monthly Cash Flows'!AU$12,Occupancy!$B$25:$EC$25)/'Project Summary'!$J$12","v":8.7968552283158026},{"$f":"+AV57*SUMIF(Occupancy!$B$24:$EC$24,'Monthly Cash Flows'!AV$12,Occupancy!$B$25:$EC$25)/'Project Summary'!$J$12","v":8.7968552283158026},{"$f":"+AW57*SUMIF(Occupancy!$B$24:$EC$24,'Monthly Cash Flows'!AW$12,Occupancy!$B$25:$EC$25)/'Project Summary'!$J$12","v":8.7968552283158026},{"$f":"+AX57*SUMIF(Occupancy!$B$24:$EC$24,'Monthly Cash Flows'!AX$12,Occupancy!$B$25:$EC$25)/'Project Summary'!$J$12","v":9.0607608851652763},{"$f":"+AY57*SUMIF(Occupancy!$B$24:$EC$24,'Monthly Cash Flows'!AY$12,Occupancy!$B$25:$EC$25)/'Project Summary'!$J$12","v":9.0607608851652763},{"$f":"+AZ57*SUMIF(Occupancy!$B$24:$EC$24,'Monthly Cash Flows'!AZ$12,Occupancy!$B$25:$EC$25)/'Project Summary'!$J$12","v":9.0607608851652763},{"$f":"+BA57*SUMIF(Occupancy!$B$24:$EC$24,'Monthly Cash Flows'!BA$12,Occupancy!$B$25:$EC$25)/'Project Summary'!$J$12","v":9.0607608851652763},{"$f":"+BB57*SUMIF(Occupancy!$B$24:$EC$24,'Monthly Cash Flows'!BB$12,Occupancy!$B$25:$EC$25)/'Project Summary'!$J$12","v":9.0607608851652763},{"$f":"+BC57*SUMIF(Occupancy!$B$24:$EC$24,'Monthly Cash Flows'!BC$12,Occupancy!$B$25:$EC$25)/'Project Summary'!$J$12","v":9.0607608851652763},{"$f":"+BD57*SUMIF(Occupancy!$B$24:$EC$24,'Monthly Cash Flows'!BD$12,Occupancy!$B$25:$EC$25)/'Project Summary'!$J$12","v":9.0607608851652763},{"$f":"+BE57*SUMIF(Occupancy!$B$24:$EC$24,'Monthly Cash Flows'!BE$12,Occupancy!$B$25:$EC$25)/'Project Summary'!$J$12","v":9.0607608851652763},{"$f":"+BF57*SUMIF(Occupancy!$B$24:$EC$24,'Monthly Cash Flows'!BF$12,Occupancy!$B$25:$EC$25)/'Project Summary'!$J$12","v":9.0607608851652763},{"$f":"+BG57*SUMIF(Occupancy!$B$24:$EC$24,'Monthly Cash Flows'!BG$12,Occupancy!$B$25:$EC$25)/'Project Summary'!$J$12","v":9.0607608851652763},{"$f":"+BH57*SUMIF(Occupancy!$B$24:$EC$24,'Monthly Cash Flows'!BH$12,Occupancy!$B$25:$EC$25)/'Project Summary'!$J$12","v":9.0607608851652763},{"$f":"+BI57*SUMIF(Occupancy!$B$24:$EC$24,'Monthly Cash Flows'!BI$12,Occupancy!$B$25:$EC$25)/'Project Summary'!$J$12","v":9.0607608851652763},{"$f":"+BJ57*SUMIF(Occupancy!$B$24:$EC$24,'Monthly Cash Flows'!BJ$12,Occupancy!$B$25:$EC$25)/'Project Summary'!$J$12","v":9.3325837117202344},{"$f":"+BK57*SUMIF(Occupancy!$B$24:$EC$24,'Monthly Cash Flows'!BK$12,Occupancy!$B$25:$EC$25)/'Project Summary'!$J$12","v":9.3325837117202344},{"$f":"+BL57*SUMIF(Occupancy!$B$24:$EC$24,'Monthly Cash Flows'!BL$12,Occupancy!$B$25:$EC$25)/'Project Summary'!$J$12","v":9.3325837117202344},{"$f":"+BM57*SUMIF(Occupancy!$B$24:$EC$24,'Monthly Cash Flows'!BM$12,Occupancy!$B$25:$EC$25)/'Project Summary'!$J$12","v":9.3325837117202344},{"$f":"+BN57*SUMIF(Occupancy!$B$24:$EC$24,'Monthly Cash Flows'!BN$12,Occupancy!$B$25:$EC$25)/'Project Summary'!$J$12","v":9.3325837117202344},{"$f":"+BO57*SUMIF(Occupancy!$B$24:$EC$24,'Monthly Cash Flows'!BO$12,Occupancy!$B$25:$EC$25)/'Project Summary'!$J$12","v":9.3325837117202344},{"$f":"+BP57*SUMIF(Occupancy!$B$24:$EC$24,'Monthly Cash Flows'!BP$12,Occupancy!$B$25:$EC$25)/'Project Summary'!$J$12","v":9.3325837117202344},{"$f":"+BQ57*SUMIF(Occupancy!$B$24:$EC$24,'Monthly Cash Flows'!BQ$12,Occupancy!$B$25:$EC$25)/'Project Summary'!$J$12","v":9.3325837117202344},{"$f":"+BR57*SUMIF(Occupancy!$B$24:$EC$24,'Monthly Cash Flows'!BR$12,Occupancy!$B$25:$EC$25)/'Project Summary'!$J$12","v":9.3325837117202344},{"$f":"+BS57*SUMIF(Occupancy!$B$24:$EC$24,'Monthly Cash Flows'!BS$12,Occupancy!$B$25:$EC$25)/'Project Summary'!$J$12","v":9.3325837117202344},{"$f":"+BT57*SUMIF(Occupancy!$B$24:$EC$24,'Monthly Cash Flows'!BT$12,Occupancy!$B$25:$EC$25)/'Project Summary'!$J$12","v":9.3325837117202344},{"$f":"+BU57*SUMIF(Occupancy!$B$24:$EC$24,'Monthly Cash Flows'!BU$12,Occupancy!$B$25:$EC$25)/'Project Summary'!$J$12","v":9.3325837117202344},{"$f":"+BV57*SUMIF(Occupancy!$B$24:$EC$24,'Monthly Cash Flows'!BV$12,Occupancy!$B$25:$EC$25)/'Project Summary'!$J$12","v":9.6125612230718414},{"$f":"+BW57*SUMIF(Occupancy!$B$24:$EC$24,'Monthly Cash Flows'!BW$12,Occupancy!$B$25:$EC$25)/'Project Summary'!$J$12","v":9.6125612230718414},{"$f":"+BX57*SUMIF(Occupancy!$B$24:$EC$24,'Monthly Cash Flows'!BX$12,Occupancy!$B$25:$EC$25)/'Project Summary'!$J$12","v":9.6125612230718414},{"$f":"+BY57*SUMIF(Occupancy!$B$24:$EC$24,'Monthly Cash Flows'!BY$12,Occupancy!$B$25:$EC$25)/'Project Summary'!$J$12","v":9.6125612230718414},{"$f":"+BZ57*SUMIF(Occupancy!$B$24:$EC$24,'Monthly Cash Flows'!BZ$12,Occupancy!$B$25:$EC$25)/'Project Summary'!$J$12","v":9.6125612230718414},{"$f":"+CA57*SUMIF(Occupancy!$B$24:$EC$24,'Monthly Cash Flows'!CA$12,Occupancy!$B$25:$EC$25)/'Project Summary'!$J$12","v":9.6125612230718414},{"$f":"+CB57*SUMIF(Occupancy!$B$24:$EC$24,'Monthly Cash Flows'!CB$12,Occupancy!$B$25:$EC$25)/'Project Summary'!$J$12","v":9.6125612230718414},{"$f":"+CC57*SUMIF(Occupancy!$B$24:$EC$24,'Monthly Cash Flows'!CC$12,Occupancy!$B$25:$EC$25)/'Project Summary'!$J$12","v":9.6125612230718414},{"$f":"+CD57*SUMIF(Occupancy!$B$24:$EC$24,'Monthly Cash Flows'!CD$12,Occupancy!$B$25:$EC$25)/'Project Summary'!$J$12","v":9.6125612230718414},{"$f":"+CE57*SUMIF(Occupancy!$B$24:$EC$24,'Monthly Cash Flows'!CE$12,Occupancy!$B$25:$EC$25)/'Project Summary'!$J$12","v":9.6125612230718414},{"$f":"+CF57*SUMIF(Occupancy!$B$24:$EC$24,'Monthly Cash Flows'!CF$12,Occupancy!$B$25:$EC$25)/'Project Summary'!$J$12","v":9.6125612230718414},{"$f":"+CG57*SUMIF(Occupancy!$B$24:$EC$24,'Monthly Cash Flows'!CG$12,Occupancy!$B$25:$EC$25)/'Project Summary'!$J$12","v":9.6125612230718414},{"$f":"+CH57*SUMIF(Occupancy!$B$24:$EC$24,'Monthly Cash Flows'!CH$12,Occupancy!$B$25:$EC$25)/'Project Summary'!$J$12","v":9.9009380597639982},{"$f":"+CI57*SUMIF(Occupancy!$B$24:$EC$24,'Monthly Cash Flows'!CI$12,Occupancy!$B$25:$EC$25)/'Project Summary'!$J$12","v":9.9009380597639982},{"$f":"+CJ57*SUMIF(Occupancy!$B$24:$EC$24,'Monthly Cash Flows'!CJ$12,Occupancy!$B$25:$EC$25)/'Project Summary'!$J$12","v":9.9009380597639982},{"$f":"+CK57*SUMIF(Occupancy!$B$24:$EC$24,'Monthly Cash Flows'!CK$12,Occupancy!$B$25:$EC$25)/'Project Summary'!$J$12","v":9.9009380597639982},{"$f":"+CL57*SUMIF(Occupancy!$B$24:$EC$24,'Monthly Cash Flows'!CL$12,Occupancy!$B$25:$EC$25)/'Project Summary'!$J$12","v":9.9009380597639982},{"$f":"+CM57*SUMIF(Occupancy!$B$24:$EC$24,'Monthly Cash Flows'!CM$12,Occupancy!$B$25:$EC$25)/'Project Summary'!$J$12","v":9.9009380597639982},{"$f":"+CN57*SUMIF(Occupancy!$B$24:$EC$24,'Monthly Cash Flows'!CN$12,Occupancy!$B$25:$EC$25)/'Project Summary'!$J$12","v":9.9009380597639982},{"$f":"+CO57*SUMIF(Occupancy!$B$24:$EC$24,'Monthly Cash Flows'!CO$12,Occupancy!$B$25:$EC$25)/'Project Summary'!$J$12","v":9.9009380597639982},{"$f":"+CP57*SUMIF(Occupancy!$B$24:$EC$24,'Monthly Cash Flows'!CP$12,Occupancy!$B$25:$EC$25)/'Project Summary'!$J$12","v":9.9009380597639982},{"$f":"+CQ57*SUMIF(Occupancy!$B$24:$EC$24,'Monthly Cash Flows'!CQ$12,Occupancy!$B$25:$EC$25)/'Project Summary'!$J$12","v":9.9009380597639982},{"$f":"+CR57*SUMIF(Occupancy!$B$24:$EC$24,'Monthly Cash Flows'!CR$12,Occupancy!$B$25:$EC$25)/'Project Summary'!$J$12","v":9.9009380597639982},{"$f":"+CS57*SUMIF(Occupancy!$B$24:$EC$24,'Monthly Cash Flows'!CS$12,Occupancy!$B$25:$EC$25)/'Project Summary'!$J$12","v":9.9009380597639982},{"$f":"+CT57*SUMIF(Occupancy!$B$24:$EC$24,'Monthly Cash Flows'!CT$12,Occupancy!$B$25:$EC$25)/'Project Summary'!$J$12","v":10.197966201556918},{"$f":"+CU57*SUMIF(Occupancy!$B$24:$EC$24,'Monthly Cash Flows'!CU$12,Occupancy!$B$25:$EC$25)/'Project Summary'!$J$12","v":10.197966201556918},{"$f":"+CV57*SUMIF(Occupancy!$B$24:$EC$24,'Monthly Cash Flows'!CV$12,Occupancy!$B$25:$EC$25)/'Project Summary'!$J$12","v":10.197966201556918},{"$f":"+CW57*SUMIF(Occupancy!$B$24:$EC$24,'Monthly Cash Flows'!CW$12,Occupancy!$B$25:$EC$25)/'Project Summary'!$J$12","v":10.197966201556918},{"$f":"+CX57*SUMIF(Occupancy!$B$24:$EC$24,'Monthly Cash Flows'!CX$12,Occupancy!$B$25:$EC$25)/'Project Summary'!$J$12","v":10.197966201556918},{"$f":"+CY57*SUMIF(Occupancy!$B$24:$EC$24,'Monthly Cash Flows'!CY$12,Occupancy!$B$25:$EC$25)/'Project Summary'!$J$12","v":10.197966201556918},{"$f":"+CZ57*SUMIF(Occupancy!$B$24:$EC$24,'Monthly Cash Flows'!CZ$12,Occupancy!$B$25:$EC$25)/'Project Summary'!$J$12","v":10.197966201556918},{"$f":"+DA57*SUMIF(Occupancy!$B$24:$EC$24,'Monthly Cash Flows'!DA$12,Occupancy!$B$25:$EC$25)/'Project Summary'!$J$12","v":10.197966201556918},{"$f":"+DB57*SUMIF(Occupancy!$B$24:$EC$24,'Monthly Cash Flows'!DB$12,Occupancy!$B$25:$EC$25)/'Project Summary'!$J$12","v":10.197966201556918},{"$f":"+DC57*SUMIF(Occupancy!$B$24:$EC$24,'Monthly Cash Flows'!DC$12,Occupancy!$B$25:$EC$25)/'Project Summary'!$J$12","v":10.197966201556918},{"$f":"+DD57*SUMIF(Occupancy!$B$24:$EC$24,'Monthly Cash Flows'!DD$12,Occupancy!$B$25:$EC$25)/'Project Summary'!$J$12","v":10.197966201556918},{"$f":"+DE57*SUMIF(Occupancy!$B$24:$EC$24,'Monthly Cash Flows'!DE$12,Occupancy!$B$25:$EC$25)/'Project Summary'!$J$12","v":10.197966201556918},{"$f":"+DF57*SUMIF(Occupancy!$B$24:$EC$24,'Monthly Cash Flows'!DF$12,Occupancy!$B$25:$EC$25)/'Project Summary'!$J$12","v":10.503905187603626},{"$f":"+DG57*SUMIF(Occupancy!$B$24:$EC$24,'Monthly Cash Flows'!DG$12,Occupancy!$B$25:$EC$25)/'Project Summary'!$J$12","v":10.503905187603626},{"$f":"+DH57*SUMIF(Occupancy!$B$24:$EC$24,'Monthly Cash Flows'!DH$12,Occupancy!$B$25:$EC$25)/'Project Summary'!$J$12","v":10.503905187603626},{"$f":"+DI57*SUMIF(Occupancy!$B$24:$EC$24,'Monthly Cash Flows'!DI$12,Occupancy!$B$25:$EC$25)/'Project Summary'!$J$12","v":10.503905187603626},{"$f":"+DJ57*SUMIF(Occupancy!$B$24:$EC$24,'Monthly Cash Flows'!DJ$12,Occupancy!$B$25:$EC$25)/'Project Summary'!$J$12","v":10.503905187603626},{"$f":"+DK57*SUMIF(Occupancy!$B$24:$EC$24,'Monthly Cash Flows'!DK$12,Occupancy!$B$25:$EC$25)/'Project Summary'!$J$12","v":10.503905187603626},{"$f":"+DL57*SUMIF(Occupancy!$B$24:$EC$24,'Monthly Cash Flows'!DL$12,Occupancy!$B$25:$EC$25)/'Project Summary'!$J$12","v":10.503905187603626},{"$f":"+DM57*SUMIF(Occupancy!$B$24:$EC$24,'Monthly Cash Flows'!DM$12,Occupancy!$B$25:$EC$25)/'Project Summary'!$J$12","v":10.503905187603626},{"$f":"+DN57*SUMIF(Occupancy!$B$24:$EC$24,'Monthly Cash Flows'!DN$12,Occupancy!$B$25:$EC$25)/'Project Summary'!$J$12","v":10.503905187603626},{"$f":"+DO57*SUMIF(Occupancy!$B$24:$EC$24,'Monthly Cash Flows'!DO$12,Occupancy!$B$25:$EC$25)/'Project Summary'!$J$12","v":10.503905187603626},{"$f":"+DP57*SUMIF(Occupancy!$B$24:$EC$24,'Monthly Cash Flows'!DP$12,Occupancy!$B$25:$EC$25)/'Project Summary'!$J$12","v":10.503905187603626},{"$f":"+DQ57*SUMIF(Occupancy!$B$24:$EC$24,'Monthly Cash Flows'!DQ$12,Occupancy!$B$25:$EC$25)/'Project Summary'!$J$12","v":10.503905187603626},{"$f":"+DR57*SUMIF(Occupancy!$B$24:$EC$24,'Monthly Cash Flows'!DR$12,Occupancy!$B$25:$EC$25)/'Project Summary'!$J$12","v":10.819022343231735},{"$f":"+DS57*SUMIF(Occupancy!$B$24:$EC$24,'Monthly Cash Flows'!DS$12,Occupancy!$B$25:$EC$25)/'Project Summary'!$J$12","v":10.819022343231735},{"$f":"+DT57*SUMIF(Occupancy!$B$24:$EC$24,'Monthly Cash Flows'!DT$12,Occupancy!$B$25:$EC$25)/'Project Summary'!$J$12","v":10.819022343231735},{"$f":"+DU57*SUMIF(Occupancy!$B$24:$EC$24,'Monthly Cash Flows'!DU$12,Occupancy!$B$25:$EC$25)/'Project Summary'!$J$12","v":10.819022343231735},{"$f":"+DV57*SUMIF(Occupancy!$B$24:$EC$24,'Monthly Cash Flows'!DV$12,Occupancy!$B$25:$EC$25)/'Project Summary'!$J$12","v":10.819022343231735},{"$f":"+DW57*SUMIF(Occupancy!$B$24:$EC$24,'Monthly Cash Flows'!DW$12,Occupancy!$B$25:$EC$25)/'Project Summary'!$J$12","v":10.819022343231735},{"$f":"+DX57*SUMIF(Occupancy!$B$24:$EC$24,'Monthly Cash Flows'!DX$12,Occupancy!$B$25:$EC$25)/'Project Summary'!$J$12","v":10.819022343231735},{"$f":"+DY57*SUMIF(Occupancy!$B$24:$EC$24,'Monthly Cash Flows'!DY$12,Occupancy!$B$25:$EC$25)/'Project Summary'!$J$12","v":10.819022343231735},{"$f":"+DZ57*SUMIF(Occupancy!$B$24:$EC$24,'Monthly Cash Flows'!DZ$12,Occupancy!$B$25:$EC$25)/'Project Summary'!$J$12","v":10.819022343231735},{"$f":"+EA57*SUMIF(Occupancy!$B$24:$EC$24,'Monthly Cash Flows'!EA$12,Occupancy!$B$25:$EC$25)/'Project Summary'!$J$12","v":10.819022343231735},{"$f":"+EB57*SUMIF(Occupancy!$B$24:$EC$24,'Monthly Cash Flows'!EB$12,Occupancy!$B$25:$EC$25)/'Project Summary'!$J$12","v":10.819022343231735},{"$f":"+EC57*SUMIF(Occupancy!$B$24:$EC$24,'Monthly Cash Flows'!EC$12,Occupancy!$B$25:$EC$25)/'Project Summary'!$J$12","v":10.819022343231735}]
["Light Bulbs and Fixtures",{"$f":"+B58*SUMIF(Occupancy!$B$24:$EC$24,'Monthly Cash Flows'!B$12,Occupancy!$B$25:$EC$25)/'Project Summary'!$J$12","v":521.39784322514299},{"$f":"+C58*SUMIF(Occupancy!$B$24:$EC$24,'Monthly Cash Flows'!C$12,Occupancy!$B$25:$EC$25)/'Project Summary'!$J$12","v":521.39784322514299},{"$f":"+D58*SUMIF(Occupancy!$B$24:$EC$24,'Monthly Cash Flows'!D$12,Occupancy!$B$25:$EC$25)/'Project Summary'!$J$12","v":521.39784322514299},{"$f":"+E58*SUMIF(Occupancy!$B$24:$EC$24,'Monthly Cash Flows'!E$12,Occupancy!$B$25:$EC$25)/'Project Summary'!$J$12","v":521.39784322514299},{"$f":"+F58*SUMIF(Occupancy!$B$24:$EC$24,'Monthly Cash Flows'!F$12,Occupancy!$B$25:$EC$25)/'Project Summary'!$J$12","v":531.12178659002825},{"$f":"+G58*SUMIF(Occupancy!$B$24:$EC$24,'Monthly Cash Flows'!G$12,Occupancy!$B$25:$EC$25)/'Project Summary'!$J$12","v":531.12178659002825},{"$f":"+H58*SUMIF(Occupancy!$B$24:$EC$24,'Monthly Cash Flows'!H$12,Occupancy!$B$25:$EC$25)/'Project Summary'!$J$12","v":531.12178659002825},{"$f":"+I58*SUMIF(Occupancy!$B$24:$EC$24,'Monthly Cash Flows'!I$12,Occupancy!$B$25:$EC$25)/'Project Summary'!$J$12","v":531.12178659002825},{"$f":"+J58*SUMIF(Occupancy!$B$24:$EC$24,'Monthly Cash Flows'!J$12,Occupancy!$B$25:$EC$25)/'Project Summary'!$J$12","v":536.52397734829776},{"$f":"+K58*SUMIF(Occupancy!$B$24:$EC$24,'Monthly Cash Flows'!K$12,Occupancy!$B$25:$EC$25)/'Project Summary'!$J$12","v":536.52397734829776},{"$f":"+L58*SUMIF(Occupancy!$B$24:$EC$24,'Monthly Cash Flows'!L$12,Occupancy!$B$25:$EC$25)/'Project Summary'!$J$12","v":536.52397734829776},{"$f":"+M58*SUMIF(Occupancy!$B$24:$EC$24,'Monthly Cash Flows'!M$12,Occupancy!$B$25:$EC$25)/'Project Summary'!$J$12","v":536.52397734829776},{"$f":"+N58*SUMIF(Occupancy!$B$24:$EC$24,'Monthly Cash Flows'!N$12,Occupancy!$B$25:$EC$25)/'Project Summary'!$J$12","v":575.98957388902079},{"$f":"+O58*SUMIF(Occupancy!$B$24:$EC$24,'Monthly Cash Flows'!O$12,Occupancy!$B$25:$EC$25)/'Project Summary'!$J$12","v":575.98957388902079},{"$f":"+P58*SUMIF(Occupancy!$B$24:$EC$24,'Monthly Cash Flows'!P$12,Occupancy!$B$25:$EC$25)/'Project Summary'!$J$12","v":575.98957388902079},{"$f":"+Q58*SUMIF(Occupancy!$B$24:$EC$24,'Monthly Cash Flows'!Q$12,Occupancy!$B$25:$EC$25)/'Project Summary'!$J$12","v":575.98957388902079},{"$f":"+R58*SUMIF(Occupancy!$B$24:$EC$24,'Monthly Cash Flows'!R$12,Occupancy!$B$25:$EC$25)/'Project Summary'!$J$12","v":581.55383037003833},{"$f":"+S58*SUMIF(Occupancy!$B$24:$EC$24,'Monthly Cash Flows'!S$12,Occupancy!$B$25:$EC$25)/'Project Summary'!$J$12","v":593.79519462827716},{"$f":"+T58*SUMIF(Occupancy!$B$24:$EC$24,'Monthly Cash Flows'!T$12,Occupancy!$B$25:$EC$25)/'Project Summary'!$J$12","v":593.79519462827716},{"$f":"+U58*SUMIF(Occupancy!$B$24:$EC$24,'Monthly Cash Flows'!U$12,Occupancy!$B$25:$EC$25)/'Project Summary'!$J$12","v":593.79519462827716},{"$f":"+V58*SUMIF(Occupancy!$B$24:$EC$24,'Monthly Cash Flows'!V$12,Occupancy!$B$25:$EC$25)/'Project Summary'!$J$12","v":593.79519462827716},{"$f":"+W58*SUMIF(Occupancy!$B$24:$EC$24,'Monthly Cash Flows'!W$12,Occupancy!$B$25:$EC$25)/'Project Summary'!$J$12","v":593.79519462827716},{"$f":"+X58*SUMIF(Occupancy!$B$24:$EC$24,'Monthly Cash Flows'!X$12,Occupancy!$B$25:$EC$25)/'Project Summary'!$J$12","v":593.79519462827716},{"$f":"+Y58*SUMIF(Occupancy!$B$24:$EC$24,'Monthly Cash Flows'!Y$12,Occupancy!$B$25:$EC$25)/'Project Summary'!$J$12","v":593.79519462827716},{"$f":"+Z58*SUMIF(Occupancy!$B$24:$EC$24,'Monthly Cash Flows'!Z$12,Occupancy!$B$25:$EC$25)/'Project Summary'!$J$12","v":611.60905046712537},{"$f":"+AA58*SUMIF(Occupancy!$B$24:$EC$24,'Monthly Cash Flows'!AA$12,Occupancy!$B$25:$EC$25)/'Project Summary'!$J$12","v":611.60905046712537},{"$f":"+AB58*SUMIF(Occupancy!$B$24:$EC$24,'Monthly Cash Flows'!AB$12,Occupancy!$B$25:$EC$25)/'Project Summary'!$J$12","v":611.60905046712537},{"$f":"+AC58*SUMIF(Occupancy!$B$24:$EC$24,'Monthly Cash Flows'!AC$12,Occupancy!$B$25:$EC$25)/'Project Summary'!$J$12","v":611.60905046712537},{"$f":"+AD58*SUMIF(Occupancy!$B$24:$EC$24,'Monthly Cash Flows'!AD$12,Occupancy!$B$25:$EC$25)/'Project Summary'!$J$12","v":611.60905046712537},{"$f":"+AE58*SUMIF(Occupancy!$B$24:$EC$24,'Monthly Cash Flows'!AE$12,Occupancy!$B$25:$EC$25)/'Project Summary'!$J$12","v":611.60905046712537},{"$f":"+AF58*SUMIF(Occupancy!$B$24:$EC$24,'Monthly Cash Flows'!AF$12,Occupancy!$B$25:$EC$25)/'Project Summary'!$J$12","v":611.60905046712537},{"$f":"+AG58*SUMIF(Occupancy!$B$24:$EC$24,'Monthly Cash Flows'!AG$12,Occupancy!$B$25:$EC$25)/'Project Summary'!$J$12","v":611.60905046712537},{"$f":"+AH58*SUMIF(Occupancy!$B$24:$EC$24,'Monthly Cash Flows'!AH$12,Occupancy!$B$25:$EC$25)/'Project Summary'!$J$12","v":611.60905046712537},{"$f":"+AI58*SUMIF(Occupancy!$B$24:$EC$24,'Monthly Cash Flows'!AI$12,Occupancy!$B$25:$EC$25)/'Project Summary'!$J$12","v":611.60905046712537},{"$f":"+AJ58*SUMIF(Occupancy!$B$24:$EC$24,'Monthly Cash Flows'!AJ$12,Occupancy!$B$25:$EC$25)/'Project Summary'!$J$12","v":611.60905046712537},{"$f":"+AK58*SUMIF(Occupancy!$B$24:$EC$24,'Monthly Cash Flows'!AK$12,Occupancy!$B$25:$EC$25)/'Project Summary'!$J$12","v":611.60905046712537},{"$f":"+AL58*SUMIF(Occupancy!$B$24:$EC$24,'Monthly Cash Flows'!AL$12,Occupancy!$B$25:$EC$25)/'Project Summary'!$J$12","v":629.95732198113922},{"$f":"+AM58*SUMIF(Occupancy!$B$24:$EC$24,'Monthly Cash Flows'!AM$12,Occupancy!$B$25:$EC$25)/'Project Summary'!$J$12","v":629.95732198113922},{"$f":"+AN58*SUMIF(Occupancy!$B$24:$EC$24,'Monthly Cash Flows'!AN$12,Occupancy!$B$25:$EC$25)/'Project Summary'!$J$12","v":629.95732198113922},{"$f":"+AO58*SUMIF(Occupancy!$B$24:$EC$24,'Monthly Cash Flows'!AO$12,Occupancy!$B$25:$EC$25)/'Project Summary'!$J$12","v":629.95732198113922},{"$f":"+AP58*SUMIF(Occupancy!$B$24:$EC$24,'Monthly Cash Flows'!AP$12,Occupancy!$B$25:$EC$25)/'Project Summary'!$J$12","v":629.95732198113922},{"$f":"+AQ58*SUMIF(Occupancy!$B$24:$EC$24,'Monthly Cash Flows'!AQ$12,Occupancy!$B$25:$EC$25)/'Project Summary'!$J$12","v":629.95732198113922},{"$f":"+AR58*SUMIF(Occupancy!$B$24:$EC$24,'Monthly Cash Flows'!AR$12,Occupancy!$B$25:$EC$25)/'Project Summary'!$J$12","v":629.95732198113922},{"$f":"+AS58*SUMIF(Occupancy!$B$24:$EC$24,'Monthly Cash Flows'!AS$12,Occupancy!$B$25:$EC$25)/'Project Summary'!$J$12","v":629.95732198113922},{"$f":"+AT58*SUMIF(Occupancy!$B$24:$EC$24,'Monthly Cash Flows'!AT$12,Occupancy!$B$25:$EC$25)/'Project Summary'!$J$12","v":629.95732198113922},{"$f":"+AU58*SUMIF(Occupancy!$B$24:$EC$24,'Monthly Cash Flows'!AU$12,Occupancy!$B$25:$EC$25)/'Project Summary'!$J$12","v":629.95732198113922},{"$f":"+AV58*SUMIF(Occupancy!$B$24:$EC$24,'Monthly Cash Flows'!AV$12,Occupancy!$B$25:$EC$25)/'Project Summary'!$J$12","v":629.95732198113922},{"$f":"+AW58*SUMIF(Occupancy!$B$24:$EC$24,'Monthly Cash Flows'!AW$12,Occupancy!$B$25:$EC$25)/'Project Summary'!$J$12","v":629.95732198113922},{"$f":"+AX58*SUMIF(Occupancy!$B$24:$EC$24,'Monthly Cash Flows'!AX$12,Occupancy!$B$25:$EC$25)/'Project Summary'!$J$12","v":648.85604164057338},{"$f":"+AY58*SUMIF(Occupancy!$B$24:$EC$24,'Monthly Cash Flows'!AY$12,Occupancy!$B$25:$EC$25)/'Project Summary'!$J$12","v":648.85604164057338},{"$f":"+AZ58*SUMIF(Occupancy!$B$24:$EC$24,'Monthly Cash Flows'!AZ$12,Occupancy!$B$25:$EC$25)/'Project Summary'!$J$12","v":648.85604164057338},{"$f":"+BA58*SUMIF(Occupancy!$B$24:$EC$24,'Monthly Cash Flows'!BA$12,Occupancy!$B$25:$EC$25)/'Project Summary'!$J$12","v":648.85604164057338},{"$f":"+BB58*SUMIF(Occupancy!$B$24:$EC$24,'Monthly Cash Flows'!BB$12,Occupancy!$B$25:$EC$25)/'Project Summary'!$J$12","v":648.85604164057338},{"$f":"+BC58*SUMIF(Occupancy!$B$24:$EC$24,'Monthly Cash Flows'!BC$12,Occupancy!$B$25:$EC$25)/'Project Summary'!$J$12","v":648.85604164057338},{"$f":"+BD58*SUMIF(Occupancy!$B$24:$EC$24,'Monthly Cash Flows'!BD$12,Occupancy!$B$25:$EC$25)/'Project Summary'!$J$12","v":648.85604164057338},{"$f":"+BE58*SUMIF(Occupancy!$B$24:$EC$24,'Monthly Cash Flows'!BE$12,Occupancy!$B$25:$EC$25)/'Project Summary'!$J$12","v":648.85604164057338},{"$f":"+BF58*SUMIF(Occupancy!$B$24:$EC$24,'Monthly Cash Flows'!BF$12,Occupancy!$B$25:$EC$25)/'Project Summary'!$J$12","v":648.85604164057338},{"$f":"+BG58*SUMIF(Occupancy!$B$24:$EC$24,'Monthly Cash Flows'!BG$12,Occupancy!$B$25:$EC$25)/'Project Summary'!$J$12","v":648.85604164057338},{"$f":"+BH58*SUMIF(Occupancy!$B$24:$EC$24,'Monthly Cash Flows'!BH$12,Occupancy!$B$25:$EC$25)/'Project Summary'!$J$12","v":648.85604164057338},{"$f":"+BI58*SUMIF(Occupancy!$B$24:$EC$24,'Monthly Cash Flows'!BI$12,Occupancy!$B$25:$EC$25)/'Project Summary'!$J$12","v":648.85604164057338},{"$f":"+BJ58*SUMIF(Occupancy!$B$24:$EC$24,'Monthly Cash Flows'!BJ$12,Occupancy!$B$25:$EC$25)/'Project Summary'!$J$12","v":668.32172288979064},{"$f":"+BK58*SUMIF(Occupancy!$B$24:$EC$24,'Monthly Cash Flows'!BK$12,Occupancy!$B$25:$EC$25)/'Project Summary'!$J$12","v":668.32172288979064},{"$f":"+BL58*SUMIF(Occupancy!$B$24:$EC$24,'Monthly Cash Flows'!BL$12,Occupancy!$B$25:$EC$25)/'Project Summary'!$J$12","v":668.32172288979064},{"$f":"+BM58*SUMIF(Occupancy!$B$24:$EC$24,'Monthly Cash Flows'!BM$12,Occupancy!$B$25:$EC$25)/'Project Summary'!$J$12","v":668.32172288979064},{"$f":"+BN58*SUMIF(Occupancy!$B$24:$EC$24,'Monthly Cash Flows'!BN$12,Occupancy!$B$25:$EC$25)/'Project Summary'!$J$12","v":668.32172288979064},{"$f":"+BO58*SUMIF(Occupancy!$B$24:$EC$24,'Monthly Cash Flows'!BO$12,Occupancy!$B$25:$EC$25)/'Project Summary'!$J$12","v":668.32172288979064},{"$f":"+BP58*SUMIF(Occupancy!$B$24:$EC$24,'Monthly Cash Flows'!BP$12,Occupancy!$B$25:$EC$25)/'Project Summary'!$J$12","v":668.32172288979064},{"$f":"+BQ58*SUMIF(Occupancy!$B$24:$EC$24,'Monthly Cash Flows'!BQ$12,Occupancy!$B$25:$EC$25)/'Project Summary'!$J$12","v":668.32172288979064},{"$f":"+BR58*SUMIF(Occupancy!$B$24:$EC$24,'Monthly Cash Flows'!BR$12,Occupancy!$B$25:$EC$25)/'Project Summary'!$J$12","v":668.32172288979064},{"$f":"+BS58*SUMIF(Occupancy!$B$24:$EC$24,'Monthly Cash Flows'!BS$12,Occupancy!$B$25:$EC$25)/'Project Summary'!$J$12","v":668.32172288979064},{"$f":"+BT58*SUMIF(Occupancy!$B$24:$EC$24,'Monthly Cash Flows'!BT$12,Occupancy!$B$25:$EC$25)/'Project Summary'!$J$12","v":668.32172288979064},{"$f":"+BU58*SUMIF(Occupancy!$B$24:$EC$24,'Monthly Cash Flows'!BU$12,Occupancy!$B$25:$EC$25)/'Project Summary'!$J$12","v":668.32172288979064},{"$f":"+BV58*SUMIF(Occupancy!$B$24:$EC$24,'Monthly Cash Flows'!BV$12,Occupancy!$B$25:$EC$25)/'Project Summary'!$J$12","v":688.37137457648441},{"$f":"+BW58*SUMIF(Occupancy!$B$24:$EC$24,'Monthly Cash Flows'!BW$12,Occupancy!$B$25:$EC$25)/'Project Summary'!$J$12","v":688.37137457648441},{"$f":"+BX58*SUMIF(Occupancy!$B$24:$EC$24,'Monthly Cash Flows'!BX$12,Occupancy!$B$25:$EC$25)/'Project Summary'!$J$12","v":688.37137457648441},{"$f":"+BY58*SUMIF(Occupancy!$B$24:$EC$24,'Monthly Cash Flows'!BY$12,Occupancy!$B$25:$EC$25)/'Project Summary'!$J$12","v":688.37137457648441},{"$f":"+BZ58*SUMIF(Occupancy!$B$24:$EC$24,'Monthly Cash Flows'!BZ$12,Occupancy!$B$25:$EC$25)/'Project Summary'!$J$12","v":688.37137457648441},{"$f":"+CA58*SUMIF(Occupancy!$B$24:$EC$24,'Monthly Cash Flows'!CA$12,Occupancy!$B$25:$EC$25)/'Project Summary'!$J$12","v":688.37137457648441},{"$f":"+CB58*SUMIF(Occupancy!$B$24:$EC$24,'Monthly Cash Flows'!CB$12,Occupancy!$B$25:$EC$25)/'Project Summary'!$J$12","v":688.37137457648441},{"$f":"+CC58*SUMIF(Occupancy!$B$24:$EC$24,'Monthly Cash Flows'!CC$12,Occupancy!$B$25:$EC$25)/'Project Summary'!$J$12","v":688.37137457648441},{"$f":"+CD58*SUMIF(Occupancy!$B$24:$EC$24,'Monthly Cash Flows'!CD$12,Occupancy!$B$25:$EC$25)/'Project Summary'!$J$12","v":688.37137457648441},{"$f":"+CE58*SUMIF(Occupancy!$B$24:$EC$24,'Monthly Cash Flows'!CE$12,Occupancy!$B$25:$EC$25)/'Project Summary'!$J$12","v":688.37137457648441},{"$f":"+CF58*SUMIF(Occupancy!$B$24:$EC$24,'Monthly Cash Flows'!CF$12,Occupancy!$B$25:$EC$25)/'Project Summary'!$J$12","v":688.37137457648441},{"$f":"+CG58*SUMIF(Occupancy!$B$24:$EC$24,'Monthly Cash Flows'!CG$12,Occupancy!$B$25:$EC$25)/'Project Summary'!$J$12","v":688.37137457648441},{"$f":"+CH58*SUMIF(Occupancy!$B$24:$EC$24,'Monthly Cash Flows'!CH$12,Occupancy!$B$25:$EC$25)/'Project Summary'!$J$12","v":709.02251581377891},{"$f":"+CI58*SUMIF(Occupancy!$B$24:$EC$24,'Monthly Cash Flows'!CI$12,Occupancy!$B$25:$EC$25)/'Project Summary'!$J$12","v":709.02251581377891},{"$f":"+CJ58*SUMIF(Occupancy!$B$24:$EC$24,'Monthly Cash Flows'!CJ$12,Occupancy!$B$25:$EC$25)/'Project Summary'!$J$12","v":709.02251581377891},{"$f":"+CK58*SUMIF(Occupancy!$B$24:$EC$24,'Monthly Cash Flows'!CK$12,Occupancy!$B$25:$EC$25)/'Project Summary'!$J$12","v":709.02251581377891},{"$f":"+CL58*SUMIF(Occupancy!$B$24:$EC$24,'Monthly Cash Flows'!CL$12,Occupancy!$B$25:$EC$25)/'Project Summary'!$J$12","v":709.02251581377891},{"$f":"+CM58*SUMIF(Occupancy!$B$24:$EC$24,'Monthly Cash Flows'!CM$12,Occupancy!$B$25:$EC$25)/'Project Summary'!$J$12","v":709.02251581377891},{"$f":"+CN58*SUMIF(Occupancy!$B$24:$EC$24,'Monthly Cash Flows'!CN$12,Occupancy!$B$25:$EC$25)/'Project Summary'!$J$12","v":709.02251581377891},{"$f":"+CO58*SUMIF(Occupancy!$B$24:$EC$24,'Monthly Cash Flows'!CO$12,Occupancy!$B$25:$EC$25)/'Project Summary'!$J$12","v":709.02251581377891},{"$f":"+CP58*SUMIF(Occupancy!$B$24:$EC$24,'Monthly Cash Flows'!CP$12,Occupancy!$B$25:$EC$25)/'Project Summary'!$J$12","v":709.02251581377891},{"$f":"+CQ58*SUMIF(Occupancy!$B$24:$EC$24,'Monthly Cash Flows'!CQ$12,Occupancy!$B$25:$EC$25)/'Project Summary'!$J$12","v":709.02251581377891},{"$f":"+CR58*SUMIF(Occupancy!$B$24:$EC$24,'Monthly Cash Flows'!CR$12,Occupancy!$B$25:$EC$25)/'Project Summary'!$J$12","v":709.02251581377891},{"$f":"+CS58*SUMIF(Occupancy!$B$24:$EC$24,'Monthly Cash Flows'!CS$12,Occupancy!$B$25:$EC$25)/'Project Summary'!$J$12","v":709.02251581377891},{"$f":"+CT58*SUMIF(Occupancy!$B$24:$EC$24,'Monthly Cash Flows'!CT$12,Occupancy!$B$25:$EC$25)/'Project Summary'!$J$12","v":730.29319128819236},{"$f":"+CU58*SUMIF(Occupancy!$B$24:$EC$24,'Monthly Cash Flows'!CU$12,Occupancy!$B$25:$EC$25)/'Project Summary'!$J$12","v":730.29319128819236},{"$f":"+CV58*SUMIF(Occupancy!$B$24:$EC$24,'Monthly Cash Flows'!CV$12,Occupancy!$B$25:$EC$25)/'Project Summary'!$J$12","v":730.29319128819236},{"$f":"+CW58*SUMIF(Occupancy!$B$24:$EC$24,'Monthly Cash Flows'!CW$12,Occupancy!$B$25:$EC$25)/'Project Summary'!$J$12","v":730.29319128819236},{"$f":"+CX58*SUMIF(Occupancy!$B$24:$EC$24,'Monthly Cash Flows'!CX$12,Occupancy!$B$25:$EC$25)/'Project Summary'!$J$12","v":730.29319128819236},{"$f":"+CY58*SUMIF(Occupancy!$B$24:$EC$24,'Monthly Cash Flows'!CY$12,Occupancy!$B$25:$EC$25)/'Project Summary'!$J$12","v":730.29319128819236},{"$f":"+CZ58*SUMIF(Occupancy!$B$24:$EC$24,'Monthly Cash Flows'!CZ$12,Occupancy!$B$25:$EC$25)/'Project Summary'!$J$12","v":730.29319128819236},{"$f":"+DA58*SUMIF(Occupancy!$B$24:$EC$24,'Monthly Cash Flows'!DA$12,Occupancy!$B$25:$EC$25)/'Project Summary'!$J$12","v":730.29319128819236},{"$f":"+DB58*SUMIF(Occupancy!$B$24:$EC$24,'Monthly Cash Flows'!DB$12,Occupancy!$B$25:$EC$25)/'Project Summary'!$J$12","v":730.29319128819236},{"$f":"+DC58*SUMIF(Occupancy!$B$24:$EC$24,'Monthly Cash Flows'!DC$12,Occupancy!$B$25:$EC$25)/'Project Summary'!$J$12","v":730.29319128819236},{"$f":"+DD58*SUMIF(Occupancy!$B$24:$EC$24,'Monthly Cash Flows'!DD$12,Occupancy!$B$25:$EC$25)/'Project Summary'!$J$12","v":730.29319128819236},{"$f":"+DE58*SUMIF(Occupancy!$B$24:$EC$24,'Monthly Cash Flows'!DE$12,Occupancy!$B$25:$EC$25)/'Project Summary'!$J$12","v":730.29319128819236},{"$f":"+DF58*SUMIF(Occupancy!$B$24:$EC$24,'Monthly Cash Flows'!DF$12,Occupancy!$B$25:$EC$25)/'Project Summary'!$J$12","v":752.20198702683808},{"$f":"+DG58*SUMIF(Occupancy!$B$24:$EC$24,'Monthly Cash Flows'!DG$12,Occupancy!$B$25:$EC$25)/'Project Summary'!$J$12","v":752.20198702683808},{"$f":"+DH58*SUMIF(Occupancy!$B$24:$EC$24,'Monthly Cash Flows'!DH$12,Occupancy!$B$25:$EC$25)/'Project Summary'!$J$12","v":752.20198702683808},{"$f":"+DI58*SUMIF(Occupancy!$B$24:$EC$24,'Monthly Cash Flows'!DI$12,Occupancy!$B$25:$EC$25)/'Project Summary'!$J$12","v":752.20198702683808},{"$f":"+DJ58*SUMIF(Occupancy!$B$24:$EC$24,'Monthly Cash Flows'!DJ$12,Occupancy!$B$25:$EC$25)/'Project Summary'!$J$12","v":752.20198702683808},{"$f":"+DK58*SUMIF(Occupancy!$B$24:$EC$24,'Monthly Cash Flows'!DK$12,Occupancy!$B$25:$EC$25)/'Project Summary'!$J$12","v":752.20198702683808},{"$f":"+DL58*SUMIF(Occupancy!$B$24:$EC$24,'Monthly Cash Flows'!DL$12,Occupancy!$B$25:$EC$25)/'Project Summary'!$J$12","v":752.20198702683808},{"$f":"+DM58*SUMIF(Occupancy!$B$24:$EC$24,'Monthly Cash Flows'!DM$12,Occupancy!$B$25:$EC$25)/'Project Summary'!$J$12","v":752.20198702683808},{"$f":"+DN58*SUMIF(Occupancy!$B$24:$EC$24,'Monthly Cash Flows'!DN$12,Occupancy!$B$25:$EC$25)/'Project Summary'!$J$12","v":752.20198702683808},{"$f":"+DO58*SUMIF(Occupancy!$B$24:$EC$24,'Monthly Cash Flows'!DO$12,Occupancy!$B$25:$EC$25)/'Project Summary'!$J$12","v":752.20198702683808},{"$f":"+DP58*SUMIF(Occupancy!$B$24:$EC$24,'Monthly Cash Flows'!DP$12,Occupancy!$B$25:$EC$25)/'Project Summary'!$J$12","v":752.20198702683808},{"$f":"+DQ58*SUMIF(Occupancy!$B$24:$EC$24,'Monthly Cash Flows'!DQ$12,Occupancy!$B$25:$EC$25)/'Project Summary'!$J$12","v":752.20198702683808},{"$f":"+DR58*SUMIF(Occupancy!$B$24:$EC$24,'Monthly Cash Flows'!DR$12,Occupancy!$B$25:$EC$25)/'Project Summary'!$J$12","v":774.76804663764324},{"$f":"+DS58*SUMIF(Occupancy!$B$24:$EC$24,'Monthly Cash Flows'!DS$12,Occupancy!$B$25:$EC$25)/'Project Summary'!$J$12","v":774.76804663764324},{"$f":"+DT58*SUMIF(Occupancy!$B$24:$EC$24,'Monthly Cash Flows'!DT$12,Occupancy!$B$25:$EC$25)/'Project Summary'!$J$12","v":774.76804663764324},{"$f":"+DU58*SUMIF(Occupancy!$B$24:$EC$24,'Monthly Cash Flows'!DU$12,Occupancy!$B$25:$EC$25)/'Project Summary'!$J$12","v":774.76804663764324},{"$f":"+DV58*SUMIF(Occupancy!$B$24:$EC$24,'Monthly Cash Flows'!DV$12,Occupancy!$B$25:$EC$25)/'Project Summary'!$J$12","v":774.76804663764324},{"$f":"+DW58*SUMIF(Occupancy!$B$24:$EC$24,'Monthly Cash Flows'!DW$12,Occupancy!$B$25:$EC$25)/'Project Summary'!$J$12","v":774.76804663764324},{"$f":"+DX58*SUMIF(Occupancy!$B$24:$EC$24,'Monthly Cash Flows'!DX$12,Occupancy!$B$25:$EC$25)/'Project Summary'!$J$12","v":774.76804663764324},{"$f":"+DY58*SUMIF(Occupancy!$B$24:$EC$24,'Monthly Cash Flows'!DY$12,Occupancy!$B$25:$EC$25)/'Project Summary'!$J$12","v":774.76804663764324},{"$f":"+DZ58*SUMIF(Occupancy!$B$24:$EC$24,'Monthly Cash Flows'!DZ$12,Occupancy!$B$25:$EC$25)/'Project Summary'!$J$12","v":774.76804663764324},{"$f":"+EA58*SUMIF(Occupancy!$B$24:$EC$24,'Monthly Cash Flows'!EA$12,Occupancy!$B$25:$EC$25)/'Project Summary'!$J$12","v":774.76804663764324},{"$f":"+EB58*SUMIF(Occupancy!$B$24:$EC$24,'Monthly Cash Flows'!EB$12,Occupancy!$B$25:$EC$25)/'Project Summary'!$J$12","v":774.76804663764324},{"$f":"+EC58*SUMIF(Occupancy!$B$24:$EC$24,'Monthly Cash Flows'!EC$12,Occupancy!$B$25:$EC$25)/'Project Summary'!$J$12","v":774.76804663764324}]
["Smoke Alarm / Fire Protection",{"$f":"+B59*SUMIF(Occupancy!$B$24:$EC$24,'Monthly Cash Flows'!B$12,Occupancy!$B$25:$EC$25)/'Project Summary'!$J$12","v":14.137685553827088},{"$f":"+C59*SUMIF(Occupancy!$B$24:$EC$24,'Monthly Cash Flows'!C$12,Occupancy!$B$25:$EC$25)/'Project Summary'!$J$12","v":14.137685553827088},{"$f":"+D59*SUMIF(Occupancy!$B$24:$EC$24,'Monthly Cash Flows'!D$12,Occupancy!$B$25:$EC$25)/'Project Summary'!$J$12","v":14.137685553827088},{"$f":"+E59*SUMIF(Occupancy!$B$24:$EC$24,'Monthly Cash Flows'!E$12,Occupancy!$B$25:$EC$25)/'Project Summary'!$J$12","v":14.137685553827088},{"$f":"+F59*SUMIF(Occupancy!$B$24:$EC$24,'Monthly Cash Flows'!F$12,Occupancy!$B$25:$EC$25)/'Project Summary'!$J$12","v":14.401349961768661},{"$f":"+G59*SUMIF(Occupancy!$B$24:$EC$24,'Monthly Cash Flows'!G$12,Occupancy!$B$25:$EC$25)/'Project Summary'!$J$12","v":14.401349961768661},{"$f":"+H59*SUMIF(Occupancy!$B$24:$EC$24,'Monthly Cash Flows'!H$12,Occupancy!$B$25:$EC$25)/'Project Summary'!$J$12","v":14.401349961768661},{"$f":"+I59*SUMIF(Occupancy!$B$24:$EC$24,'Monthly Cash Flows'!I$12,Occupancy!$B$25:$EC$25)/'Project Summary'!$J$12","v":14.401349961768661},{"$f":"+J59*SUMIF(Occupancy!$B$24:$EC$24,'Monthly Cash Flows'!J$12,Occupancy!$B$25:$EC$25)/'Project Summary'!$J$12","v":14.547830188402868},{"$f":"+K59*SUMIF(Occupancy!$B$24:$EC$24,'Monthly Cash Flows'!K$12,Occupancy!$B$25:$EC$25)/'Project Summary'!$J$12","v":14.547830188402868},{"$f":"+L59*SUMIF(Occupancy!$B$24:$EC$24,'Monthly Cash Flows'!L$12,Occupancy!$B$25:$EC$25)/'Project Summary'!$J$12","v":14.547830188402868},{"$f":"+M59*SUMIF(Occupancy!$B$24:$EC$24,'Monthly Cash Flows'!M$12,Occupancy!$B$25:$EC$25)/'Project Summary'!$J$12","v":14.547830188402868},{"$f":"+N59*SUMIF(Occupancy!$B$24:$EC$24,'Monthly Cash Flows'!N$12,Occupancy!$B$25:$EC$25)/'Project Summary'!$J$12","v":15.617938554474533},{"$f":"+O59*SUMIF(Occupancy!$B$24:$EC$24,'Monthly Cash Flows'!O$12,Occupancy!$B$25:$EC$25)/'Project Summary'!$J$12","v":15.617938554474533},{"$f":"+P59*SUMIF(Occupancy!$B$24:$EC$24,'Monthly Cash Flows'!P$12,Occupancy!$B$25:$EC$25)/'Project Summary'!$J$12","v":15.617938554474533},{"$f":"+Q59*SUMIF(Occupancy!$B$24:$EC$24,'Monthly Cash Flows'!Q$12,Occupancy!$B$25:$EC$25)/'Project Summary'!$J$12","v":15.617938554474533},{"$f":"+R59*SUMIF(Occupancy!$B$24:$EC$24,'Monthly Cash Flows'!R$12,Occupancy!$B$25:$EC$25)/'Project Summary'!$J$12","v":15.768813187907766},{"$f":"+S59*SUMIF(Occupancy!$B$24:$EC$24,'Monthly Cash Flows'!S$12,Occupancy!$B$25:$EC$25)/'Project Summary'!$J$12","v":16.100737381460878},{"$f":"+T59*SUMIF(Occupancy!$B$24:$EC$24,'Monthly Cash Flows'!T$12,Occupancy!$B$25:$EC$25)/'Project Summary'!$J$12","v":16.100737381460878},{"$f":"+U59*SUMIF(Occupancy!$B$24:$EC$24,'Monthly Cash Flows'!U$12,Occupancy!$B$25:$EC$25)/'Project Summary'!$J$12","v":16.100737381460878},{"$f":"+V59*SUMIF(Occupancy!$B$24:$EC$24,'Monthly Cash Flows'!V$12,Occupancy!$B$25:$EC$25)/'Project Summary'!$J$12","v":16.100737381460878},{"$f":"+W59*SUMIF(Occupancy!$B$24:$EC$24,'Monthly Cash Flows'!W$12,Occupancy!$B$25:$EC$25)/'Project Summary'!$J$12","v":16.100737381460878},{"$f":"+X59*SUMIF(Occupancy!$B$24:$EC$24,'Monthly Cash Flows'!X$12,Occupancy!$B$25:$EC$25)/'Project Summary'!$J$12","v":16.100737381460878},{"$f":"+Y59*SUMIF(Occupancy!$B$24:$EC$24,'Monthly Cash Flows'!Y$12,Occupancy!$B$25:$EC$25)/'Project Summary'!$J$12","v":16.100737381460878},{"$f":"+Z59*SUMIF(Occupancy!$B$24:$EC$24,'Monthly Cash Flows'!Z$12,Occupancy!$B$25:$EC$25)/'Project Summary'!$J$12","v":16.583759502904705},{"$f":"+AA59*SUMIF(Occupancy!$B$24:$EC$24,'Monthly Cash Flows'!AA$12,Occupancy!$B$25:$EC$25)/'Project Summary'!$J$12","v":16.583759502904705},{"$f":"+AB59*SUMIF(Occupancy!$B$24:$EC$24,'Monthly Cash Flows'!AB$12,Occupancy!$B$25:$EC$25)/'Project Summary'!$J$12","v":16.583759502904705},{"$f":"+AC59*SUMIF(Occupancy!$B$24:$EC$24,'Monthly Cash Flows'!AC$12,Occupancy!$B$25:$EC$25)/'Project Summary'!$J$12","v":16.583759502904705},{"$f":"+AD59*SUMIF(Occupancy!$B$24:$EC$24,'Monthly Cash Flows'!AD$12,Occupancy!$B$25:$EC$25)/'Project Summary'!$J$12","v":16.583759502904705},{"$f":"+AE59*SUMIF(Occupancy!$B$24:$EC$24,'Monthly Cash Flows'!AE$12,Occupancy!$B$25:$EC$25)/'Project Summary'!$J$12","v":16.583759502904705},{"$f":"+AF59*SUMIF(Occupancy!$B$24:$EC$24,'Monthly Cash Flows'!AF$12,Occupancy!$B$25:$EC$25)/'Project Summary'!$J$12","v":16.583759502904705},{"$f":"+AG59*SUMIF(Occupancy!$B$24:$EC$24,'Monthly Cash Flows'!AG$12,Occupancy!$B$25:$EC$25)/'Project Summary'!$J$12","v":16.583759502904705},{"$f":"+AH59*SUMIF(Occupancy!$B$24:$EC$24,'Monthly Cash Flows'!AH$12,Occupancy!$B$25:$EC$25)/'Project Summary'!$J$12","v":16.583759502904705},{"$f":"+AI59*SUMIF(Occupancy!$B$24:$EC$24,'Monthly Cash Flows'!AI$12,Occupancy!$B$25:$EC$25)/'Project Summary'!$J$12","v":16.583759502904705},{"$f":"+AJ59*SUMIF(Occupancy!$B$24:$EC$24,'Monthly Cash Flows'!AJ$12,Occupancy!$B$25:$EC$25)/'Project Summary'!$J$12","v":16.583759502904705},{"$f":"+AK59*SUMIF(Occupancy!$B$24:$EC$24,'Monthly Cash Flows'!AK$12,Occupancy!$B$25:$EC$25)/'Project Summary'!$J$12","v":16.583759502904705},{"$f":"+AL59*SUMIF(Occupancy!$B$24:$EC$24,'Monthly Cash Flows'!AL$12,Occupancy!$B$25:$EC$25)/'Project Summary'!$J$12","v":17.081272287991847},{"$f":"+AM59*SUMIF(Occupancy!$B$24:$EC$24,'Monthly Cash Flows'!AM$12,Occupancy!$B$25:$EC$25)/'Project Summary'!$J$12","v":17.081272287991847},{"$f":"+AN59*SUMIF(Occupancy!$B$24:$EC$24,'Monthly Cash Flows'!AN$12,Occupancy!$B$25:$EC$25)/'Project Summary'!$J$12","v":17.081272287991847},{"$f":"+AO59*SUMIF(Occupancy!$B$24:$EC$24,'Monthly Cash Flows'!AO$12,Occupancy!$B$25:$EC$25)/'Project Summary'!$J$12","v":17.081272287991847},{"$f":"+AP59*SUMIF(Occupancy!$B$24:$EC$24,'Monthly Cash Flows'!AP$12,Occupancy!$B$25:$EC$25)/'Project Summary'!$J$12","v":17.081272287991847},{"$f":"+AQ59*SUMIF(Occupancy!$B$24:$EC$24,'Monthly Cash Flows'!AQ$12,Occupancy!$B$25:$EC$25)/'Project Summary'!$J$12","v":17.081272287991847},{"$f":"+AR59*SUMIF(Occupancy!$B$24:$EC$24,'Monthly Cash Flows'!AR$12,Occupancy!$B$25:$EC$25)/'Project Summary'!$J$12","v":17.081272287991847},{"$f":"+AS59*SUMIF(Occupancy!$B$24:$EC$24,'Monthly Cash Flows'!AS$12,Occupancy!$B$25:$EC$25)/'Project Summary'!$J$12","v":17.081272287991847},{"$f":"+AT59*SUMIF(Occupancy!$B$24:$EC$24,'Monthly Cash Flows'!AT$12,Occupancy!$B$25:$EC$25)/'Project Summary'!$J$12","v":17.081272287991847},{"$f":"+AU59*SUMIF(Occupancy!$B$24:$EC$24,'Monthly Cash Flows'!AU$12,Occupancy!$B$25:$EC$25)/'Project Summary'!$J$12","v":17.081272287991847},{"$f":"+AV59*SUMIF(Occupancy!$B$24:$EC$24,'Monthly Cash Flows'!AV$12,Occupancy!$B$25:$EC$25)/'Project Summary'!$J$12","v":17.081272287991847},{"$f":"+AW59*SUMIF(Occupancy!$B$24:$EC$24,'Monthly Cash Flows'!AW$12,Occupancy!$B$25:$EC$25)/'Project Summary'!$J$12","v":17.081272287991847},{"$f":"+AX59*SUMIF(Occupancy!$B$24:$EC$24,'Monthly Cash Flows'!AX$12,Occupancy!$B$25:$EC$25)/'Project Summary'!$J$12","v":17.593710456631605},{"$f":"+AY59*SUMIF(Occupancy!$B$24:$EC$24,'Monthly Cash Flows'!AY$12,Occupancy!$B$25:$EC$25)/'Project Summary'!$J$12","v":17.593710456631605},{"$f":"+AZ59*SUMIF(Occupancy!$B$24:$EC$24,'Monthly Cash Flows'!AZ$12,Occupancy!$B$25:$EC$25)/'Project Summary'!$J$12","v":17.593710456631605},{"$f":"+BA59*SUMIF(Occupancy!$B$24:$EC$24,'Monthly Cash Flows'!BA$12,Occupancy!$B$25:$EC$25)/'Project Summary'!$J$12","v":17.593710456631605},{"$f":"+BB59*SUMIF(Occupancy!$B$24:$EC$24,'Monthly Cash Flows'!BB$12,Occupancy!$B$25:$EC$25)/'Project Summary'!$J$12","v":17.593710456631605},{"$f":"+BC59*SUMIF(Occupancy!$B$24:$EC$24,'Monthly Cash Flows'!BC$12,Occupancy!$B$25:$EC$25)/'Project Summary'!$J$12","v":17.593710456631605},{"$f":"+BD59*SUMIF(Occupancy!$B$24:$EC$24,'Monthly Cash Flows'!BD$12,Occupancy!$B$25:$EC$25)/'Project Summary'!$J$12","v":17.593710456631605},{"$f":"+BE59*SUMIF(Occupancy!$B$24:$EC$24,'Monthly Cash Flows'!BE$12,Occupancy!$B$25:$EC$25)/'Project Summary'!$J$12","v":17.593710456631605},{"$f":"+BF59*SUMIF(Occupancy!$B$24:$EC$24,'Monthly Cash Flows'!BF$12,Occupancy!$B$25:$EC$25)/'Project Summary'!$J$12","v":17.593710456631605},{"$f":"+BG59*SUMIF(Occupancy!$B$24:$EC$24,'Monthly Cash Flows'!BG$12,Occupancy!$B$25:$EC$25)/'Project Summary'!$J$12","v":17.593710456631605},{"$f":"+BH59*SUMIF(Occupancy!$B$24:$EC$24,'Monthly Cash Flows'!BH$12,Occupancy!$B$25:$EC$25)/'Project Summary'!$J$12","v":17.593710456631605},{"$f":"+BI59*SUMIF(Occupancy!$B$24:$EC$24,'Monthly Cash Flows'!BI$12,Occupancy!$B$25:$EC$25)/'Project Summary'!$J$12","v":17.593710456631605},{"$f":"+BJ59*SUMIF(Occupancy!$B$24:$EC$24,'Monthly Cash Flows'!BJ$12,Occupancy!$B$25:$EC$25)/'Project Summary'!$J$12","v":18.121521770330553},{"$f":"+BK59*SUMIF(Occupancy!$B$24:$EC$24,'Monthly Cash Flows'!BK$12,Occupancy!$B$25:$EC$25)/'Project Summary'!$J$12","v":18.121521770330553},{"$f":"+BL59*SUMIF(Occupancy!$B$24:$EC$24,'Monthly Cash Flows'!BL$12,Occupancy!$B$25:$EC$25)/'Project Summary'!$J$12","v":18.121521770330553},{"$f":"+BM59*SUMIF(Occupancy!$B$24:$EC$24,'Monthly Cash Flows'!BM$12,Occupancy!$B$25:$EC$25)/'Project Summary'!$J$12","v":18.121521770330553},{"$f":"+BN59*SUMIF(Occupancy!$B$24:$EC$24,'Monthly Cash Flows'!BN$12,Occupancy!$B$25:$EC$25)/'Project Summary'!$J$12","v":18.121521770330553},{"$f":"+BO59*SUMIF(Occupancy!$B$24:$EC$24,'Monthly Cash Flows'!BO$12,Occupancy!$B$25:$EC$25)/'Project Summary'!$J$12","v":18.121521770330553},{"$f":"+BP59*SUMIF(Occupancy!$B$24:$EC$24,'Monthly Cash Flows'!BP$12,Occupancy!$B$25:$EC$25)/'Project Summary'!$J$12","v":18.121521770330553},{"$f":"+BQ59*SUMIF(Occupancy!$B$24:$EC$24,'Monthly Cash Flows'!BQ$12,Occupancy!$B$25:$EC$25)/'Project Summary'!$J$12","v":18.121521770330553},{"$f":"+BR59*SUMIF(Occupancy!$B$24:$EC$24,'Monthly Cash Flows'!BR$12,Occupancy!$B$25:$EC$25)/'Project Summary'!$J$12","v":18.121521770330553},{"$f":"+BS59*SUMIF(Occupancy!$B$24:$EC$24,'Monthly Cash Flows'!BS$12,Occupancy!$B$25:$EC$25)/'Project Summary'!$J$12","v":18.121521770330553},{"$f":"+BT59*SUMIF(Occupancy!$B$24:$EC$24,'Monthly Cash Flows'!BT$12,Occupancy!$B$25:$EC$25)/'Project Summary'!$J$12","v":18.121521770330553},{"$f":"+BU59*SUMIF(Occupancy!$B$24:$EC$24,'Monthly Cash Flows'!BU$12,Occupancy!$B$25:$EC$25)/'Project Summary'!$J$12","v":18.121521770330553},{"$f":"+BV59*SUMIF(Occupancy!$B$24:$EC$24,'Monthly Cash Flows'!BV$12,Occupancy!$B$25:$EC$25)/'Project Summary'!$J$12","v":18.665167423440469},{"$f":"+BW59*SUMIF(Occupancy!$B$24:$EC$24,'Monthly Cash Flows'!BW$12,Occupancy!$B$25:$EC$25)/'Project Summary'!$J$12","v":18.665167423440469},{"$f":"+BX59*SUMIF(Occupancy!$B$24:$EC$24,'Monthly Cash Flows'!BX$12,Occupancy!$B$25:$EC$25)/'Project Summary'!$J$12","v":18.665167423440469},{"$f":"+BY59*SUMIF(Occupancy!$B$24:$EC$24,'Monthly Cash Flows'!BY$12,Occupancy!$B$25:$EC$25)/'Project Summary'!$J$12","v":18.665167423440469},{"$f":"+BZ59*SUMIF(Occupancy!$B$24:$EC$24,'Monthly Cash Flows'!BZ$12,Occupancy!$B$25:$EC$25)/'Project Summary'!$J$12","v":18.665167423440469},{"$f":"+CA59*SUMIF(Occupancy!$B$24:$EC$24,'Monthly Cash Flows'!CA$12,Occupancy!$B$25:$EC$25)/'Project Summary'!$J$12","v":18.665167423440469},{"$f":"+CB59*SUMIF(Occupancy!$B$24:$EC$24,'Monthly Cash Flows'!CB$12,Occupancy!$B$25:$EC$25)/'Project Summary'!$J$12","v":18.665167423440469},{"$f":"+CC59*SUMIF(Occupancy!$B$24:$EC$24,'Monthly Cash Flows'!CC$12,Occupancy!$B$25:$EC$25)/'Project Summary'!$J$12","v":18.665167423440469},{"$f":"+CD59*SUMIF(Occupancy!$B$24:$EC$24,'Monthly Cash Flows'!CD$12,Occupancy!$B$25:$EC$25)/'Project Summary'!$J$12","v":18.665167423440469},{"$f":"+CE59*SUMIF(Occupancy!$B$24:$EC$24,'Monthly Cash Flows'!CE$12,Occupancy!$B$25:$EC$25)/'Project Summary'!$J$12","v":18.665167423440469},{"$f":"+CF59*SUMIF(Occupancy!$B$24:$EC$24,'Monthly Cash Flows'!CF$12,Occupancy!$B$25:$EC$25)/'Project Summary'!$J$12","v":18.665167423440469},{"$f":"+CG59*SUMIF(Occupancy!$B$24:$EC$24,'Monthly Cash Flows'!CG$12,Occupancy!$B$25:$EC$25)/'Project Summary'!$J$12","v":18.665167423440469},{"$f":"+CH59*SUMIF(Occupancy!$B$24:$EC$24,'Monthly Cash Flows'!CH$12,Occupancy!$B$25:$EC$25)/'Project Summary'!$J$12","v":19.225122446143683},{"$f":"+CI59*SUMIF(Occupancy!$B$24:$EC$24,'Monthly Cash Flows'!CI$12,Occupancy!$B$25:$EC$25)/'Project Summary'!$J$12","v":19.225122446143683},{"$f":"+CJ59*SUMIF(Occupancy!$B$24:$EC$24,'Monthly Cash Flows'!CJ$12,Occupancy!$B$25:$EC$25)/'Project Summary'!$J$12","v":19.225122446143683},{"$f":"+CK59*SUMIF(Occupancy!$B$24:$EC$24,'Monthly Cash Flows'!CK$12,Occupancy!$B$25:$EC$25)/'Project Summary'!$J$12","v":19.225122446143683},{"$f":"+CL59*SUMIF(Occupancy!$B$24:$EC$24,'Monthly Cash Flows'!CL$12,Occupancy!$B$25:$EC$25)/'Project Summary'!$J$12","v":19.225122446143683},{"$f":"+CM59*SUMIF(Occupancy!$B$24:$EC$24,'Monthly Cash Flows'!CM$12,Occupancy!$B$25:$EC$25)/'Project Summary'!$J$12","v":19.225122446143683},{"$f":"+CN59*SUMIF(Occupancy!$B$24:$EC$24,'Monthly Cash Flows'!CN$12,Occupancy!$B$25:$EC$25)/'Project Summary'!$J$12","v":19.225122446143683},{"$f":"+CO59*SUMIF(Occupancy!$B$24:$EC$24,'Monthly Cash Flows'!CO$12,Occupancy!$B$25:$EC$25)/'Project Summary'!$J$12","v":19.225122446143683},{"$f":"+CP59*SUMIF(Occupancy!$B$24:$EC$24,'Monthly Cash Flows'!CP$12,Occupancy!$B$25:$EC$25)/'Project Summary'!$J$12","v":19.225122446143683},{"$f":"+CQ59*SUMIF(Occupancy!$B$24:$EC$24,'Monthly Cash Flows'!CQ$12,Occupancy!$B$25:$EC$25)/'Project Summary'!$J$12","v":19.225122446143683},{"$f":"+CR59*SUMIF(Occupancy!$B$24:$EC$24,'Monthly Cash Flows'!CR$12,Occupancy!$B$25:$EC$25)/'Project Summary'!$J$12","v":19.225122446143683},{"$f":"+CS59*SUMIF(Occupancy!$B$24:$EC$24,'Monthly Cash Flows'!CS$12,Occupancy!$B$25:$EC$25)/'Project Summary'!$J$12","v":19.225122446143683},{"$f":"+CT59*SUMIF(Occupancy!$B$24:$EC$24,'Monthly Cash Flows'!CT$12,Occupancy!$B$25:$EC$25)/'Project Summary'!$J$12","v":19.801876119527996},{"$f":"+CU59*SUMIF(Occupancy!$B$24:$EC$24,'Monthly Cash Flows'!CU$12,Occupancy!$B$25:$EC$25)/'Project Summary'!$J$12","v":19.801876119527996},{"$f":"+CV59*SUMIF(Occupancy!$B$24:$EC$24,'Monthly Cash Flows'!CV$12,Occupancy!$B$25:$EC$25)/'Project Summary'!$J$12","v":19.801876119527996},{"$f":"+CW59*SUMIF(Occupancy!$B$24:$EC$24,'Monthly Cash Flows'!CW$12,Occupancy!$B$25:$EC$25)/'Project Summary'!$J$12","v":19.801876119527996},{"$f":"+CX59*SUMIF(Occupancy!$B$24:$EC$24,'Monthly Cash Flows'!CX$12,Occupancy!$B$25:$EC$25)/'Project Summary'!$J$12","v":19.801876119527996},{"$f":"+CY59*SUMIF(Occupancy!$B$24:$EC$24,'Monthly Cash Flows'!CY$12,Occupancy!$B$25:$EC$25)/'Project Summary'!$J$12","v":19.801876119527996},{"$f":"+CZ59*SUMIF(Occupancy!$B$24:$EC$24,'Monthly Cash Flows'!CZ$12,Occupancy!$B$25:$EC$25)/'Project Summary'!$J$12","v":19.801876119527996},{"$f":"+DA59*SUMIF(Occupancy!$B$24:$EC$24,'Monthly Cash Flows'!DA$12,Occupancy!$B$25:$EC$25)/'Project Summary'!$J$12","v":19.801876119527996},{"$f":"+DB59*SUMIF(Occupancy!$B$24:$EC$24,'Monthly Cash Flows'!DB$12,Occupancy!$B$25:$EC$25)/'Project Summary'!$J$12","v":19.801876119527996},{"$f":"+DC59*SUMIF(Occupancy!$B$24:$EC$24,'Monthly Cash Flows'!DC$12,Occupancy!$B$25:$EC$25)/'Project Summary'!$J$12","v":19.801876119527996},{"$f":"+DD59*SUMIF(Occupancy!$B$24:$EC$24,'Monthly Cash Flows'!DD$12,Occupancy!$B$25:$EC$25)/'Project Summary'!$J$12","v":19.801876119527996},{"$f":"+DE59*SUMIF(Occupancy!$B$24:$EC$24,'Monthly Cash Flows'!DE$12,Occupancy!$B$25:$EC$25)/'Project Summary'!$J$12","v":19.801876119527996},{"$f":"+DF59*SUMIF(Occupancy!$B$24:$EC$24,'Monthly Cash Flows'!DF$12,Occupancy!$B$25:$EC$25)/'Project Summary'!$J$12","v":20.395932403113836},{"$f":"+DG59*SUMIF(Occupancy!$B$24:$EC$24,'Monthly Cash Flows'!DG$12,Occupancy!$B$25:$EC$25)/'Project Summary'!$J$12","v":20.395932403113836},{"$f":"+DH59*SUMIF(Occupancy!$B$24:$EC$24,'Monthly Cash Flows'!DH$12,Occupancy!$B$25:$EC$25)/'Project Summary'!$J$12","v":20.395932403113836},{"$f":"+DI59*SUMIF(Occupancy!$B$24:$EC$24,'Monthly Cash Flows'!DI$12,Occupancy!$B$25:$EC$25)/'Project Summary'!$J$12","v":20.395932403113836},{"$f":"+DJ59*SUMIF(Occupancy!$B$24:$EC$24,'Monthly Cash Flows'!DJ$12,Occupancy!$B$25:$EC$25)/'Project Summary'!$J$12","v":20.395932403113836},{"$f":"+DK59*SUMIF(Occupancy!$B$24:$EC$24,'Monthly Cash Flows'!DK$12,Occupancy!$B$25:$EC$25)/'Project Summary'!$J$12","v":20.395932403113836},{"$f":"+DL59*SUMIF(Occupancy!$B$24:$EC$24,'Monthly Cash Flows'!DL$12,Occupancy!$B$25:$EC$25)/'Project Summary'!$J$12","v":20.395932403113836},{"$f":"+DM59*SUMIF(Occupancy!$B$24:$EC$24,'Monthly Cash Flows'!DM$12,Occupancy!$B$25:$EC$25)/'Project Summary'!$J$12","v":20.395932403113836},{"$f":"+DN59*SUMIF(Occupancy!$B$24:$EC$24,'Monthly Cash Flows'!DN$12,Occupancy!$B$25:$EC$25)/'Project Summary'!$J$12","v":20.395932403113836},{"$f":"+DO59*SUMIF(Occupancy!$B$24:$EC$24,'Monthly Cash Flows'!DO$12,Occupancy!$B$25:$EC$25)/'Project Summary'!$J$12","v":20.395932403113836},{"$f":"+DP59*SUMIF(Occupancy!$B$24:$EC$24,'Monthly Cash Flows'!DP$12,Occupancy!$B$25:$EC$25)/'Project Summary'!$J$12","v":20.395932403113836},{"$f":"+DQ59*SUMIF(Occupancy!$B$24:$EC$24,'Monthly Cash Flows'!DQ$12,Occupancy!$B$25:$EC$25)/'Project Summary'!$J$12","v":20.395932403113836},{"$f":"+DR59*SUMIF(Occupancy!$B$24:$EC$24,'Monthly Cash Flows'!DR$12,Occupancy!$B$25:$EC$25)/'Project Summary'!$J$12","v":21.007810375207253},{"$f":"+DS59*SUMIF(Occupancy!$B$24:$EC$24,'Monthly Cash Flows'!DS$12,Occupancy!$B$25:$EC$25)/'Project Summary'!$J$12","v":21.007810375207253},{"$f":"+DT59*SUMIF(Occupancy!$B$24:$EC$24,'Monthly Cash Flows'!DT$12,Occupancy!$B$25:$EC$25)/'Project Summary'!$J$12","v":21.007810375207253},{"$f":"+DU59*SUMIF(Occupancy!$B$24:$EC$24,'Monthly Cash Flows'!DU$12,Occupancy!$B$25:$EC$25)/'Project Summary'!$J$12","v":21.007810375207253},{"$f":"+DV59*SUMIF(Occupancy!$B$24:$EC$24,'Monthly Cash Flows'!DV$12,Occupancy!$B$25:$EC$25)/'Project Summary'!$J$12","v":21.007810375207253},{"$f":"+DW59*SUMIF(Occupancy!$B$24:$EC$24,'Monthly Cash Flows'!DW$12,Occupancy!$B$25:$EC$25)/'Project Summary'!$J$12","v":21.007810375207253},{"$f":"+DX59*SUMIF(Occupancy!$B$24:$EC$24,'Monthly Cash Flows'!DX$12,Occupancy!$B$25:$EC$25)/'Project Summary'!$J$12","v":21.007810375207253},{"$f":"+DY59*SUMIF(Occupancy!$B$24:$EC$24,'Monthly Cash Flows'!DY$12,Occupancy!$B$25:$EC$25)/'Project Summary'!$J$12","v":21.007810375207253},{"$f":"+DZ59*SUMIF(Occupancy!$B$24:$EC$24,'Monthly Cash Flows'!DZ$12,Occupancy!$B$25:$EC$25)/'Project Summary'!$J$12","v":21.007810375207253},{"$f":"+EA59*SUMIF(Occupancy!$B$24:$EC$24,'Monthly Cash Flows'!EA$12,Occupancy!$B$25:$EC$25)/'Project Summary'!$J$12","v":21.007810375207253},{"$f":"+EB59*SUMIF(Occupancy!$B$24:$EC$24,'Monthly Cash Flows'!EB$12,Occupancy!$B$25:$EC$25)/'Project Summary'!$J$12","v":21.007810375207253},{"$f":"+EC59*SUMIF(Occupancy!$B$24:$EC$24,'Monthly Cash Flows'!EC$12,Occupancy!$B$25:$EC$25)/'Project Summary'!$J$12","v":21.007810375207253}]
["General Maintenance",{"$f":"+B60*SUMIF(Occupancy!$B$24:$EC$24,'Monthly Cash Flows'!B$12,Occupancy!$B$25:$EC$25)/'Project Summary'!$J$12","v":128.15811954544256},{"$f":"+C60*SUMIF(Occupancy!$B$24:$EC$24,'Monthly Cash Flows'!C$12,Occupancy!$B$25:$EC$25)/'Project Summary'!$J$12","v":128.15811954544256},{"$f":"+D60*SUMIF(Occupancy!$B$24:$EC$24,'Monthly Cash Flows'!D$12,Occupancy!$B$25:$EC$25)/'Project Summary'!$J$12","v":128.15811954544256},{"$f":"+E60*SUMIF(Occupancy!$B$24:$EC$24,'Monthly Cash Flows'!E$12,Occupancy!$B$25:$EC$25)/'Project Summary'!$J$12","v":128.15811954544256},{"$f":"+F60*SUMIF(Occupancy!$B$24:$EC$24,'Monthly Cash Flows'!F$12,Occupancy!$B$25:$EC$25)/'Project Summary'!$J$12","v":130.54823740343292},{"$f":"+G60*SUMIF(Occupancy!$B$24:$EC$24,'Monthly Cash Flows'!G$12,Occupancy!$B$25:$EC$25)/'Project Summary'!$J$12","v":130.54823740343292},{"$f":"+H60*SUMIF(Occupancy!$B$24:$EC$24,'Monthly Cash Flows'!H$12,Occupancy!$B$25:$EC$25)/'Project Summary'!$J$12","v":130.54823740343292},{"$f":"+I60*SUMIF(Occupancy!$B$24:$EC$24,'Monthly Cash Flows'!I$12,Occupancy!$B$25:$EC$25)/'Project Summary'!$J$12","v":130.54823740343292},{"$f":"+J60*SUMIF(Occupancy!$B$24:$EC$24,'Monthly Cash Flows'!J$12,Occupancy!$B$25:$EC$25)/'Project Summary'!$J$12","v":131.876080657872},{"$f":"+K60*SUMIF(Occupancy!$B$24:$EC$24,'Monthly Cash Flows'!K$12,Occupancy!$B$25:$EC$25)/'Project Summary'!$J$12","v":131.876080657872},{"$f":"+L60*SUMIF(Occupancy!$B$24:$EC$24,'Monthly Cash Flows'!L$12,Occupancy!$B$25:$EC$25)/'Project Summary'!$J$12","v":131.876080657872},{"$f":"+M60*SUMIF(Occupancy!$B$24:$EC$24,'Monthly Cash Flows'!M$12,Occupancy!$B$25:$EC$25)/'Project Summary'!$J$12","v":131.876080657872},{"$f":"+N60*SUMIF(Occupancy!$B$24:$EC$24,'Monthly Cash Flows'!N$12,Occupancy!$B$25:$EC$25)/'Project Summary'!$J$12","v":141.57661299631164},{"$f":"+O60*SUMIF(Occupancy!$B$24:$EC$24,'Monthly Cash Flows'!O$12,Occupancy!$B$25:$EC$25)/'Project Summary'!$J$12","v":141.57661299631164},{"$f":"+P60*SUMIF(Occupancy!$B$24:$EC$24,'Monthly Cash Flows'!P$12,Occupancy!$B$25:$EC$25)/'Project Summary'!$J$12","v":141.57661299631164},{"$f":"+Q60*SUMIF(Occupancy!$B$24:$EC$24,'Monthly Cash Flows'!Q$12,Occupancy!$B$25:$EC$25)/'Project Summary'!$J$12","v":141.57661299631164},{"$f":"+R60*SUMIF(Occupancy!$B$24:$EC$24,'Monthly Cash Flows'!R$12,Occupancy!$B$25:$EC$25)/'Project Summary'!$J$12","v":142.94429154838389},{"$f":"+S60*SUMIF(Occupancy!$B$24:$EC$24,'Monthly Cash Flows'!S$12,Occupancy!$B$25:$EC$25)/'Project Summary'!$J$12","v":145.95318436294286},{"$f":"+T60*SUMIF(Occupancy!$B$24:$EC$24,'Monthly Cash Flows'!T$12,Occupancy!$B$25:$EC$25)/'Project Summary'!$J$12","v":145.95318436294286},{"$f":"+U60*SUMIF(Occupancy!$B$24:$EC$24,'Monthly Cash Flows'!U$12,Occupancy!$B$25:$EC$25)/'Project Summary'!$J$12","v":145.95318436294286},{"$f":"+V60*SUMIF(Occupancy!$B$24:$EC$24,'Monthly Cash Flows'!V$12,Occupancy!$B$25:$EC$25)/'Project Summary'!$J$12","v":145.95318436294286},{"$f":"+W60*SUMIF(Occupancy!$B$24:$EC$24,'Monthly Cash Flows'!W$12,Occupancy!$B$25:$EC$25)/'Project Summary'!$J$12","v":145.95318436294286},{"$f":"+X60*SUMIF(Occupancy!$B$24:$EC$24,'Monthly Cash Flows'!X$12,Occupancy!$B$25:$EC$25)/'Project Summary'!$J$12","v":145.95318436294286},{"$f":"+Y60*SUMIF(Occupancy!$B$24:$EC$24,'Monthly Cash Flows'!Y$12,Occupancy!$B$25:$EC$25)/'Project Summary'!$J$12","v":145.95318436294286},{"$f":"+Z60*SUMIF(Occupancy!$B$24:$EC$24,'Monthly Cash Flows'!Z$12,Occupancy!$B$25:$EC$25)/'Project Summary'!$J$12","v":150.33177989383114},{"$f":"+AA60*SUMIF(Occupancy!$B$24:$EC$24,'Monthly Cash Flows'!AA$12,Occupancy!$B$25:$EC$25)/'Project Summary'!$J$12","v":150.33177989383114},{"$f":"+AB60*SUMIF(Occupancy!$B$24:$EC$24,'Monthly Cash Flows'!AB$12,Occupancy!$B$25:$EC$25)/'Project Summary'!$J$12","v":150.33177989383114},{"$f":"+AC60*SUMIF(Occupancy!$B$24:$EC$24,'Monthly Cash Flows'!AC$12,Occupancy!$B$25:$EC$25)/'Project Summary'!$J$12","v":150.33177989383114},{"$f":"+AD60*SUMIF(Occupancy!$B$24:$EC$24,'Monthly Cash Flows'!AD$12,Occupancy!$B$25:$EC$25)/'Project Summary'!$J$12","v":150.33177989383114},{"$f":"+AE60*SUMIF(Occupancy!$B$24:$EC$24,'Monthly Cash Flows'!AE$12,Occupancy!$B$25:$EC$25)/'Project Summary'!$J$12","v":150.33177989383114},{"$f":"+AF60*SUMIF(Occupancy!$B$24:$EC$24,'Monthly Cash Flows'!AF$12,Occupancy!$B$25:$EC$25)/'Project Summary'!$J$12","v":150.33177989383114},{"$f":"+AG60*SUMIF(Occupancy!$B$24:$EC$24,'Monthly Cash Flows'!AG$12,Occupancy!$B$25:$EC$25)/'Project Summary'!$J$12","v":150.33177989383114},{"$f":"+AH60*SUMIF(Occupancy!$B$24:$EC$24,'Monthly Cash Flows'!AH$12,Occupancy!$B$25:$EC$25)/'Project Summary'!$J$12","v":150.33177989383114},{"$f":"+AI60*SUMIF(Occupancy!$B$24:$EC$24,'Monthly Cash Flows'!AI$12,Occupancy!$B$25:$EC$25)/'Project Summary'!$J$12","v":150.33177989383114},{"$f":"+AJ60*SUMIF(Occupancy!$B$24:$EC$24,'Monthly Cash Flows'!AJ$12,Occupancy!$B$25:$EC$25)/'Project Summary'!$J$12","v":150.33177989383114},{"$f":"+AK60*SUMIF(Occupancy!$B$24:$EC$24,'Monthly Cash Flows'!AK$12,Occupancy!$B$25:$EC$25)/'Project Summary'!$J$12","v":150.33177989383114},{"$f":"+AL60*SUMIF(Occupancy!$B$24:$EC$24,'Monthly Cash Flows'!AL$12,Occupancy!$B$25:$EC$25)/'Project Summary'!$J$12","v":154.84173329064606},{"$f":"+AM60*SUMIF(Occupancy!$B$24:$EC$24,'Monthly Cash Flows'!AM$12,Occupancy!$B$25:$EC$25)/'Project Summary'!$J$12","v":154.84173329064606},{"$f":"+AN60*SUMIF(Occupancy!$B$24:$EC$24,'Monthly Cash Flows'!AN$12,Occupancy!$B$25:$EC$25)/'Project Summary'!$J$12","v":154.84173329064606},{"$f":"+AO60*SUMIF(Occupancy!$B$24:$EC$24,'Monthly Cash Flows'!AO$12,Occupancy!$B$25:$EC$25)/'Project Summary'!$J$12","v":154.84173329064606},{"$f":"+AP60*SUMIF(Occupancy!$B$24:$EC$24,'Monthly Cash Flows'!AP$12,Occupancy!$B$25:$EC$25)/'Project Summary'!$J$12","v":154.84173329064606},{"$f":"+AQ60*SUMIF(Occupancy!$B$24:$EC$24,'Monthly Cash Flows'!AQ$12,Occupancy!$B$25:$EC$25)/'Project Summary'!$J$12","v":154.84173329064606},{"$f":"+AR60*SUMIF(Occupancy!$B$24:$EC$24,'Monthly Cash Flows'!AR$12,Occupancy!$B$25:$EC$25)/'Project Summary'!$J$12","v":154.84173329064606},{"$f":"+AS60*SUMIF(Occupancy!$B$24:$EC$24,'Monthly Cash Flows'!AS$12,Occupancy!$B$25:$EC$25)/'Project Summary'!$J$12","v":154.84173329064606},{"$f":"+AT60*SUMIF(Occupancy!$B$24:$EC$24,'Monthly Cash Flows'!AT$12,Occupancy!$B$25:$EC$25)/'Project Summary'!$J$12","v":154.84173329064606},{"$f":"+AU60*SUMIF(Occupancy!$B$24:$EC$24,'Monthly Cash Flows'!AU$12,Occupancy!$B$25:$EC$25)/'Project Summary'!$J$12","v":154.84173329064606},{"$f":"+AV60*SUMIF(Occupancy!$B$24:$EC$24,'Monthly Cash Flows'!AV$12,Occupancy!$B$25:$EC$25)/'Project Summary'!$J$12","v":154.84173329064606},{"$f":"+AW60*SUMIF(Occupancy!$B$24:$EC$24,'Monthly Cash Flows'!AW$12,Occupancy!$B$25:$EC$25)/'Project Summary'!$J$12","v":154.84173329064606},{"$f":"+AX60*SUMIF(Occupancy!$B$24:$EC$24,'Monthly Cash Flows'!AX$12,Occupancy!$B$25:$EC$25)/'Project Summary'!$J$12","v":159.48698528936546},{"$f":"+AY60*SUMIF(Occupancy!$B$24:$EC$24,'Monthly Cash Flows'!AY$12,Occupancy!$B$25:$EC$25)/'Project Summary'!$J$12","v":159.48698528936546},{"$f":"+AZ60*SUMIF(Occupancy!$B$24:$EC$24,'Monthly Cash Flows'!AZ$12,Occupancy!$B$25:$EC$25)/'Project Summary'!$J$12","v":159.48698528936546},{"$f":"+BA60*SUMIF(Occupancy!$B$24:$EC$24,'Monthly Cash Flows'!BA$12,Occupancy!$B$25:$EC$25)/'Project Summary'!$J$12","v":159.48698528936546},{"$f":"+BB60*SUMIF(Occupancy!$B$24:$EC$24,'Monthly Cash Flows'!BB$12,Occupancy!$B$25:$EC$25)/'Project Summary'!$J$12","v":159.48698528936546},{"$f":"+BC60*SUMIF(Occupancy!$B$24:$EC$24,'Monthly Cash Flows'!BC$12,Occupancy!$B$25:$EC$25)/'Project Summary'!$J$12","v":159.48698528936546},{"$f":"+BD60*SUMIF(Occupancy!$B$24:$EC$24,'Monthly Cash Flows'!BD$12,Occupancy!$B$25:$EC$25)/'Project Summary'!$J$12","v":159.48698528936546},{"$f":"+BE60*SUMIF(Occupancy!$B$24:$EC$24,'Monthly Cash Flows'!BE$12,Occupancy!$B$25:$EC$25)/'Project Summary'!$J$12","v":159.48698528936546},{"$f":"+BF60*SUMIF(Occupancy!$B$24:$EC$24,'Monthly Cash Flows'!BF$12,Occupancy!$B$25:$EC$25)/'Project Summary'!$J$12","v":159.48698528936546},{"$f":"+BG60*SUMIF(Occupancy!$B$24:$EC$24,'Monthly Cash Flows'!BG$12,Occupancy!$B$25:$EC$25)/'Project Summary'!$J$12","v":159.48698528936546},{"$f":"+BH60*SUMIF(Occupancy!$B$24:$EC$24,'Monthly Cash Flows'!BH$12,Occupancy!$B$25:$EC$25)/'Project Summary'!$J$12","v":159.48698528936546},{"$f":"+BI60*SUMIF(Occupancy!$B$24:$EC$24,'Monthly Cash Flows'!BI$12,Occupancy!$B$25:$EC$25)/'Project Summary'!$J$12","v":159.48698528936546},{"$f":"+BJ60*SUMIF(Occupancy!$B$24:$EC$24,'Monthly Cash Flows'!BJ$12,Occupancy!$B$25:$EC$25)/'Project Summary'!$J$12","v":164.27159484804642},{"$f":"+BK60*SUMIF(Occupancy!$B$24:$EC$24,'Monthly Cash Flows'!BK$12,Occupancy!$B$25:$EC$25)/'Project Summary'!$J$12","v":164.27159484804642},{"$f":"+BL60*SUMIF(Occupancy!$B$24:$EC$24,'Monthly Cash Flows'!BL$12,Occupancy!$B$25:$EC$25)/'Project Summary'!$J$12","v":164.27159484804642},{"$f":"+BM60*SUMIF(Occupancy!$B$24:$EC$24,'Monthly Cash Flows'!BM$12,Occupancy!$B$25:$EC$25)/'Project Summary'!$J$12","v":164.27159484804642},{"$f":"+BN60*SUMIF(Occupancy!$B$24:$EC$24,'Monthly Cash Flows'!BN$12,Occupancy!$B$25:$EC$25)/'Project Summary'!$J$12","v":164.27159484804642},{"$f":"+BO60*SUMIF(Occupancy!$B$24:$EC$24,'Monthly Cash Flows'!BO$12,Occupancy!$B$25:$EC$25)/'Project Summary'!$J$12","v":164.27159484804642},{"$f":"+BP60*SUMIF(Occupancy!$B$24:$EC$24,'Monthly Cash Flows'!BP$12,Occupancy!$B$25:$EC$25)/'Project Summary'!$J$12","v":164.27159484804642},{"$f":"+BQ60*SUMIF(Occupancy!$B$24:$EC$24,'Monthly Cash Flows'!BQ$12,Occupancy!$B$25:$EC$25)/'Project Summary'!$J$12","v":164.27159484804642},{"$f":"+BR60*SUMIF(Occupancy!$B$24:$EC$24,'Monthly Cash Flows'!BR$12,Occupancy!$B$25:$EC$25)/'Project Summary'!$J$12","v":164.27159484804642},{"$f":"+BS60*SUMIF(Occupancy!$B$24:$EC$24,'Monthly Cash Flows'!BS$12,Occupancy!$B$25:$EC$25)/'Project Summary'!$J$12","v":164.27159484804642},{"$f":"+BT60*SUMIF(Occupancy!$B$24:$EC$24,'Monthly Cash Flows'!BT$12,Occupancy!$B$25:$EC$25)/'Project Summary'!$J$12","v":164.27159484804642},{"$f":"+BU60*SUMIF(Occupancy!$B$24:$EC$24,'Monthly Cash Flows'!BU$12,Occupancy!$B$25:$EC$25)/'Project Summary'!$J$12","v":164.27159484804642},{"$f":"+BV60*SUMIF(Occupancy!$B$24:$EC$24,'Monthly Cash Flows'!BV$12,Occupancy!$B$25:$EC$25)/'Project Summary'!$J$12","v":169.19974269348782},{"$f":"+BW60*SUMIF(Occupancy!$B$24:$EC$24,'Monthly Cash Flows'!BW$12,Occupancy!$B$25:$EC$25)/'Project Summary'!$J$12","v":169.19974269348782},{"$f":"+BX60*SUMIF(Occupancy!$B$24:$EC$24,'Monthly Cash Flows'!BX$12,Occupancy!$B$25:$EC$25)/'Project Summary'!$J$12","v":169.19974269348782},{"$f":"+BY60*SUMIF(Occupancy!$B$24:$EC$24,'Monthly Cash Flows'!BY$12,Occupancy!$B$25:$EC$25)/'Project Summary'!$J$12","v":169.19974269348782},{"$f":"+BZ60*SUMIF(Occupancy!$B$24:$EC$24,'Monthly Cash Flows'!BZ$12,Occupancy!$B$25:$EC$25)/'Project Summary'!$J$12","v":169.19974269348782},{"$f":"+CA60*SUMIF(Occupancy!$B$24:$EC$24,'Monthly Cash Flows'!CA$12,Occupancy!$B$25:$EC$25)/'Project Summary'!$J$12","v":169.19974269348782},{"$f":"+CB60*SUMIF(Occupancy!$B$24:$EC$24,'Monthly Cash Flows'!CB$12,Occupancy!$B$25:$EC$25)/'Project Summary'!$J$12","v":169.19974269348782},{"$f":"+CC60*SUMIF(Occupancy!$B$24:$EC$24,'Monthly Cash Flows'!CC$12,Occupancy!$B$25:$EC$25)/'Project Summary'!$J$12","v":169.19974269348782},{"$f":"+CD60*SUMIF(Occupancy!$B$24:$EC$24,'Monthly Cash Flows'!CD$12,Occupancy!$B$25:$EC$25)/'Project Summary'!$J$12","v":169.19974269348782},{"$f":"+CE60*SUMIF(Occupancy!$B$24:$EC$24,'Monthly Cash Flows'!CE$12,Occupancy!$B$25:$EC$25)/'Project Summary'!$J$12","v":169.19974269348782},{"$f":"+CF60*SUMIF(Occupancy!$B$24:$EC$24,'Monthly Cash Flows'!CF$12,Occupancy!$B$25:$EC$25)/'Project Summary'!$J$12","v":169.19974269348782},{"$f":"+CG60*SUMIF(Occupancy!$B$24:$EC$24,'Monthly Cash Flows'!CG$12,Occupancy!$B$25:$EC$25)/'Project Summary'!$J$12","v":169.19974269348782},{"$f":"+CH60*SUMIF(Occupancy!$B$24:$EC$24,'Monthly Cash Flows'!CH$12,Occupancy!$B$25:$EC$25)/'Project Summary'!$J$12","v":174.27573497429248},{"$f":"+CI60*SUMIF(Occupancy!$B$24:$EC$24,'Monthly Cash Flows'!CI$12,Occupancy!$B$25:$EC$25)/'Project Summary'!$J$12","v":174.27573497429248},{"$f":"+CJ60*SUMIF(Occupancy!$B$24:$EC$24,'Monthly Cash Flows'!CJ$12,Occupancy!$B$25:$EC$25)/'Project Summary'!$J$12","v":174.27573497429248},{"$f":"+CK60*SUMIF(Occupancy!$B$24:$EC$24,'Monthly Cash Flows'!CK$12,Occupancy!$B$25:$EC$25)/'Project Summary'!$J$12","v":174.27573497429248},{"$f":"+CL60*SUMIF(Occupancy!$B$24:$EC$24,'Monthly Cash Flows'!CL$12,Occupancy!$B$25:$EC$25)/'Project Summary'!$J$12","v":174.27573497429248},{"$f":"+CM60*SUMIF(Occupancy!$B$24:$EC$24,'Monthly Cash Flows'!CM$12,Occupancy!$B$25:$EC$25)/'Project Summary'!$J$12","v":174.27573497429248},{"$f":"+CN60*SUMIF(Occupancy!$B$24:$EC$24,'Monthly Cash Flows'!CN$12,Occupancy!$B$25:$EC$25)/'Project Summary'!$J$12","v":174.27573497429248},{"$f":"+CO60*SUMIF(Occupancy!$B$24:$EC$24,'Monthly Cash Flows'!CO$12,Occupancy!$B$25:$EC$25)/'Project Summary'!$J$12","v":174.27573497429248},{"$f":"+CP60*SUMIF(Occupancy!$B$24:$EC$24,'Monthly Cash Flows'!CP$12,Occupancy!$B$25:$EC$25)/'Project Summary'!$J$12","v":174.27573497429248},{"$f":"+CQ60*SUMIF(Occupancy!$B$24:$EC$24,'Monthly Cash Flows'!CQ$12,Occupancy!$B$25:$EC$25)/'Project Summary'!$J$12","v":174.27573497429248},{"$f":"+CR60*SUMIF(Occupancy!$B$24:$EC$24,'Monthly Cash Flows'!CR$12,Occupancy!$B$25:$EC$25)/'Project Summary'!$J$12","v":174.27573497429248},{"$f":"+CS60*SUMIF(Occupancy!$B$24:$EC$24,'Monthly Cash Flows'!CS$12,Occupancy!$B$25:$EC$25)/'Project Summary'!$J$12","v":174.27573497429248},{"$f":"+CT60*SUMIF(Occupancy!$B$24:$EC$24,'Monthly Cash Flows'!CT$12,Occupancy!$B$25:$EC$25)/'Project Summary'!$J$12","v":179.50400702352121},{"$f":"+CU60*SUMIF(Occupancy!$B$24:$EC$24,'Monthly Cash Flows'!CU$12,Occupancy!$B$25:$EC$25)/'Project Summary'!$J$12","v":179.50400702352121},{"$f":"+CV60*SUMIF(Occupancy!$B$24:$EC$24,'Monthly Cash Flows'!CV$12,Occupancy!$B$25:$EC$25)/'Project Summary'!$J$12","v":179.50400702352121},{"$f":"+CW60*SUMIF(Occupancy!$B$24:$EC$24,'Monthly Cash Flows'!CW$12,Occupancy!$B$25:$EC$25)/'Project Summary'!$J$12","v":179.50400702352121},{"$f":"+CX60*SUMIF(Occupancy!$B$24:$EC$24,'Monthly Cash Flows'!CX$12,Occupancy!$B$25:$EC$25)/'Project Summary'!$J$12","v":179.50400702352121},{"$f":"+CY60*SUMIF(Occupancy!$B$24:$EC$24,'Monthly Cash Flows'!CY$12,Occupancy!$B$25:$EC$25)/'Project Summary'!$J$12","v":179.50400702352121},{"$f":"+CZ60*SUMIF(Occupancy!$B$24:$EC$24,'Monthly Cash Flows'!CZ$12,Occupancy!$B$25:$EC$25)/'Project Summary'!$J$12","v":179.50400702352121},{"$f":"+DA60*SUMIF(Occupancy!$B$24:$EC$24,'Monthly Cash Flows'!DA$12,Occupancy!$B$25:$EC$25)/'Project Summary'!$J$12","v":179.50400702352121},{"$f":"+DB60*SUMIF(Occupancy!$B$24:$EC$24,'Monthly Cash Flows'!DB$12,Occupancy!$B$25:$EC$25)/'Project Summary'!$J$12","v":179.50400702352121},{"$f":"+DC60*SUMIF(Occupancy!$B$24:$EC$24,'Monthly Cash Flows'!DC$12,Occupancy!$B$25:$EC$25)/'Project Summary'!$J$12","v":179.50400702352121},{"$f":"+DD60*SUMIF(Occupancy!$B$24:$EC$24,'Monthly Cash Flows'!DD$12,Occupancy!$B$25:$EC$25)/'Project Summary'!$J$12","v":179.50400702352121},{"$f":"+DE60*SUMIF(Occupancy!$B$24:$EC$24,'Monthly Cash Flows'!DE$12,Occupancy!$B$25:$EC$25)/'Project Summary'!$J$12","v":179.50400702352121},{"$f":"+DF60*SUMIF(Occupancy!$B$24:$EC$24,'Monthly Cash Flows'!DF$12,Occupancy!$B$25:$EC$25)/'Project Summary'!$J$12","v":184.88912723422683},{"$f":"+DG60*SUMIF(Occupancy!$B$24:$EC$24,'Monthly Cash Flows'!DG$12,Occupancy!$B$25:$EC$25)/'Project Summary'!$J$12","v":184.88912723422683},{"$f":"+DH60*SUMIF(Occupancy!$B$24:$EC$24,'Monthly Cash Flows'!DH$12,Occupancy!$B$25:$EC$25)/'Project Summary'!$J$12","v":184.88912723422683},{"$f":"+DI60*SUMIF(Occupancy!$B$24:$EC$24,'Monthly Cash Flows'!DI$12,Occupancy!$B$25:$EC$25)/'Project Summary'!$J$12","v":184.88912723422683},{"$f":"+DJ60*SUMIF(Occupancy!$B$24:$EC$24,'Monthly Cash Flows'!DJ$12,Occupancy!$B$25:$EC$25)/'Project Summary'!$J$12","v":184.88912723422683},{"$f":"+DK60*SUMIF(Occupancy!$B$24:$EC$24,'Monthly Cash Flows'!DK$12,Occupancy!$B$25:$EC$25)/'Project Summary'!$J$12","v":184.88912723422683},{"$f":"+DL60*SUMIF(Occupancy!$B$24:$EC$24,'Monthly Cash Flows'!DL$12,Occupancy!$B$25:$EC$25)/'Project Summary'!$J$12","v":184.88912723422683},{"$f":"+DM60*SUMIF(Occupancy!$B$24:$EC$24,'Monthly Cash Flows'!DM$12,Occupancy!$B$25:$EC$25)/'Project Summary'!$J$12","v":184.88912723422683},{"$f":"+DN60*SUMIF(Occupancy!$B$24:$EC$24,'Monthly Cash Flows'!DN$12,Occupancy!$B$25:$EC$25)/'Project Summary'!$J$12","v":184.88912723422683},{"$f":"+DO60*SUMIF(Occupancy!$B$24:$EC$24,'Monthly Cash Flows'!DO$12,Occupancy!$B$25:$EC$25)/'Project Summary'!$J$12","v":184.88912723422683},{"$f":"+DP60*SUMIF(Occupancy!$B$24:$EC$24,'Monthly Cash Flows'!DP$12,Occupancy!$B$25:$EC$25)/'Project Summary'!$J$12","v":184.88912723422683},{"$f":"+DQ60*SUMIF(Occupancy!$B$24:$EC$24,'Monthly Cash Flows'!DQ$12,Occupancy!$B$25:$EC$25)/'Project Summary'!$J$12","v":184.88912723422683},{"$f":"+DR60*SUMIF(Occupancy!$B$24:$EC$24,'Monthly Cash Flows'!DR$12,Occupancy!$B$25:$EC$25)/'Project Summary'!$J$12","v":190.43580105125369},{"$f":"+DS60*SUMIF(Occupancy!$B$24:$EC$24,'Monthly Cash Flows'!DS$12,Occupancy!$B$25:$EC$25)/'Project Summary'!$J$12","v":190.43580105125369},{"$f":"+DT60*SUMIF(Occupancy!$B$24:$EC$24,'Monthly Cash Flows'!DT$12,Occupancy!$B$25:$EC$25)/'Project Summary'!$J$12","v":190.43580105125369},{"$f":"+DU60*SUMIF(Occupancy!$B$24:$EC$24,'Monthly Cash Flows'!DU$12,Occupancy!$B$25:$EC$25)/'Project Summary'!$J$12","v":190.43580105125369},{"$f":"+DV60*SUMIF(Occupancy!$B$24:$EC$24,'Monthly Cash Flows'!DV$12,Occupancy!$B$25:$EC$25)/'Project Summary'!$J$12","v":190.43580105125369},{"$f":"+DW60*SUMIF(Occupancy!$B$24:$EC$24,'Monthly Cash Flows'!DW$12,Occupancy!$B$25:$EC$25)/'Project Summary'!$J$12","v":190.43580105125369},{"$f":"+DX60*SUMIF(Occupancy!$B$24:$EC$24,'Monthly Cash Flows'!DX$12,Occupancy!$B$25:$EC$25)/'Project Summary'!$J$12","v":190.43580105125369},{"$f":"+DY60*SUMIF(Occupancy!$B$24:$EC$24,'Monthly Cash Flows'!DY$12,Occupancy!$B$25:$EC$25)/'Project Summary'!$J$12","v":190.43580105125369},{"$f":"+DZ60*SUMIF(Occupancy!$B$24:$EC$24,'Monthly Cash Flows'!DZ$12,Occupancy!$B$25:$EC$25)/'Project Summary'!$J$12","v":190.43580105125369},{"$f":"+EA60*SUMIF(Occupancy!$B$24:$EC$24,'Monthly Cash Flows'!EA$12,Occupancy!$B$25:$EC$25)/'Project Summary'!$J$12","v":190.43580105125369},{"$f":"+EB60*SUMIF(Occupancy!$B$24:$EC$24,'Monthly Cash Flows'!EB$12,Occupancy!$B$25:$EC$25)/'Project Summary'!$J$12","v":190.43580105125369},{"$f":"+EC60*SUMIF(Occupancy!$B$24:$EC$24,'Monthly Cash Flows'!EC$12,Occupancy!$B$25:$EC$25)/'Project Summary'!$J$12","v":190.43580105125369}]
["Property Taxes - Main Parcel",{"$f":"+B61*SUMIF(Occupancy!$B$24:$EC$24,'Monthly Cash Flows'!B$12,Occupancy!$B$25:$EC$25)/'Project Summary'!$J$12","v":12830.373770664697},{"$f":"+C61*SUMIF(Occupancy!$B$24:$EC$24,'Monthly Cash Flows'!C$12,Occupancy!$B$25:$EC$25)/'Project Summary'!$J$12","v":12830.373770664697},{"$f":"+D61*SUMIF(Occupancy!$B$24:$EC$24,'Monthly Cash Flows'!D$12,Occupancy!$B$25:$EC$25)/'Project Summary'!$J$12","v":12830.373770664697},{"$f":"+E61*SUMIF(Occupancy!$B$24:$EC$24,'Monthly Cash Flows'!E$12,Occupancy!$B$25:$EC$25)/'Project Summary'!$J$12","v":12830.373770664697},{"$f":"+F61*SUMIF(Occupancy!$B$24:$EC$24,'Monthly Cash Flows'!F$12,Occupancy!$B$25:$EC$25)/'Project Summary'!$J$12","v":13069.657130803913},{"$f":"+G61*SUMIF(Occupancy!$B$24:$EC$24,'Monthly Cash Flows'!G$12,Occupancy!$B$25:$EC$25)/'Project Summary'!$J$12","v":13069.657130803913},{"$f":"+H61*SUMIF(Occupancy!$B$24:$EC$24,'Monthly Cash Flows'!H$12,Occupancy!$B$25:$EC$25)/'Project Summary'!$J$12","v":13069.657130803913},{"$f":"+I61*SUMIF(Occupancy!$B$24:$EC$24,'Monthly Cash Flows'!I$12,Occupancy!$B$25:$EC$25)/'Project Summary'!$J$12","v":13069.657130803913},{"$f":"+J61*SUMIF(Occupancy!$B$24:$EC$24,'Monthly Cash Flows'!J$12,Occupancy!$B$25:$EC$25)/'Project Summary'!$J$12","v":13202.592330881254},{"$f":"+K61*SUMIF(Occupancy!$B$24:$EC$24,'Monthly Cash Flows'!K$12,Occupancy!$B$25:$EC$25)/'Project Summary'!$J$12","v":13202.592330881254},{"$f":"+L61*SUMIF(Occupancy!$B$24:$EC$24,'Monthly Cash Flows'!L$12,Occupancy!$B$25:$EC$25)/'Project Summary'!$J$12","v":13202.592330881254},{"$f":"+M61*SUMIF(Occupancy!$B$24:$EC$24,'Monthly Cash Flows'!M$12,Occupancy!$B$25:$EC$25)/'Project Summary'!$J$12","v":13202.592330881254},{"$f":"+N61*SUMIF(Occupancy!$B$24:$EC$24,'Monthly Cash Flows'!N$12,Occupancy!$B$25:$EC$25)/'Project Summary'!$J$12","v":14173.747776342272},{"$f":"+O61*SUMIF(Occupancy!$B$24:$EC$24,'Monthly Cash Flows'!O$12,Occupancy!$B$25:$EC$25)/'Project Summary'!$J$12","v":14173.747776342272},{"$f":"+P61*SUMIF(Occupancy!$B$24:$EC$24,'Monthly Cash Flows'!P$12,Occupancy!$B$25:$EC$25)/'Project Summary'!$J$12","v":14173.747776342272},{"$f":"+Q61*SUMIF(Occupancy!$B$24:$EC$24,'Monthly Cash Flows'!Q$12,Occupancy!$B$25:$EC$25)/'Project Summary'!$J$12","v":14173.747776342272},{"$f":"+R61*SUMIF(Occupancy!$B$24:$EC$24,'Monthly Cash Flows'!R$12,Occupancy!$B$25:$EC$25)/'Project Summary'!$J$12","v":14310.671032421935},{"$f":"+S61*SUMIF(Occupancy!$B$24:$EC$24,'Monthly Cash Flows'!S$12,Occupancy!$B$25:$EC$25)/'Project Summary'!$J$12","v":14611.902195797191},{"$f":"+T61*SUMIF(Occupancy!$B$24:$EC$24,'Monthly Cash Flows'!T$12,Occupancy!$B$25:$EC$25)/'Project Summary'!$J$12","v":14611.902195797191},{"$f":"+U61*SUMIF(Occupancy!$B$24:$EC$24,'Monthly Cash Flows'!U$12,Occupancy!$B$25:$EC$25)/'Project Summary'!$J$12","v":14611.902195797191},{"$f":"+V61*SUMIF(Occupancy!$B$24:$EC$24,'Monthly Cash Flows'!V$12,Occupancy!$B$25:$EC$25)/'Project Summary'!$J$12","v":14611.902195797191},{"$f":"+W61*SUMIF(Occupancy!$B$24:$EC$24,'Monthly Cash Flows'!W$12,Occupancy!$B$25:$EC$25)/'Project Summary'!$J$12","v":14611.902195797191},{"$f":"+X61*SUMIF(Occupancy!$B$24:$EC$24,'Monthly Cash Flows'!X$12,Occupancy!$B$25:$EC$25)/'Project Summary'!$J$12","v":14611.902195797191},{"$f":"+Y61*SUMIF(Occupancy!$B$24:$EC$24,'Monthly Cash Flows'!Y$12,Occupancy!$B$25:$EC$25)/'Project Summary'!$J$12","v":14611.902195797191},{"$f":"+Z61*SUMIF(Occupancy!$B$24:$EC$24,'Monthly Cash Flows'!Z$12,Occupancy!$B$25:$EC$25)/'Project Summary'!$J$12","v":15050.259261671106},{"$f":"+AA61*SUMIF(Occupancy!$B$24:$EC$24,'Monthly Cash Flows'!AA$12,Occupancy!$B$25:$EC$25)/'Project Summary'!$J$12","v":15050.259261671106},{"$f":"+AB61*SUMIF(Occupancy!$B$24:$EC$24,'Monthly Cash Flows'!AB$12,Occupancy!$B$25:$EC$25)/'Project Summary'!$J$12","v":15050.259261671106},{"$f":"+AC61*SUMIF(Occupancy!$B$24:$EC$24,'Monthly Cash Flows'!AC$12,Occupancy!$B$25:$EC$25)/'Project Summary'!$J$12","v":15050.259261671106},{"$f":"+AD61*SUMIF(Occupancy!$B$24:$EC$24,'Monthly Cash Flows'!AD$12,Occupancy!$B$25:$EC$25)/'Project Summary'!$J$12","v":15050.259261671106},{"$f":"+AE61*SUMIF(Occupancy!$B$24:$EC$24,'Monthly Cash Flows'!AE$12,Occupancy!$B$25:$EC$25)/'Project Summary'!$J$12","v":15050.259261671106},{"$f":"+AF61*SUMIF(Occupancy!$B$24:$EC$24,'Monthly Cash Flows'!AF$12,Occupancy!$B$25:$EC$25)/'Project Summary'!$J$12","v":15050.259261671106},{"$f":"+AG61*SUMIF(Occupancy!$B$24:$EC$24,'Monthly Cash Flows'!AG$12,Occupancy!$B$25:$EC$25)/'Project Summary'!$J$12","v":15050.259261671106},{"$f":"+AH61*SUMIF(Occupancy!$B$24:$EC$24,'Monthly Cash Flows'!AH$12,Occupancy!$B$25:$EC$25)/'Project Summary'!$J$12","v":15050.259261671106},{"$f":"+AI61*SUMIF(Occupancy!$B$24:$EC$24,'Monthly Cash Flows'!AI$12,Occupancy!$B$25:$EC$25)/'Project Summary'!$J$12","v":15050.259261671106},{"$f":"+AJ61*SUMIF(Occupancy!$B$24:$EC$24,'Monthly Cash Flows'!AJ$12,Occupancy!$B$25:$EC$25)/'Project Summary'!$J$12","v":15050.259261671106},{"$f":"+AK61*SUMIF(Occupancy!$B$24:$EC$24,'Monthly Cash Flows'!AK$12,Occupancy!$B$25:$EC$25)/'Project Summary'!$J$12","v":15050.259261671106},{"$f":"+AL61*SUMIF(Occupancy!$B$24:$EC$24,'Monthly Cash Flows'!AL$12,Occupancy!$B$25:$EC$25)/'Project Summary'!$J$12","v":15501.767039521241},{"$f":"+AM61*SUMIF(Occupancy!$B$24:$EC$24,'Monthly Cash Flows'!AM$12,Occupancy!$B$25:$EC$25)/'Project Summary'!$J$12","v":15501.767039521241},{"$f":"+AN61*SUMIF(Occupancy!$B$24:$EC$24,'Monthly Cash Flows'!AN$12,Occupancy!$B$25:$EC$25)/'Project Summary'!$J$12","v":15501.767039521241},{"$f":"+AO61*SUMIF(Occupancy!$B$24:$EC$24,'Monthly Cash Flows'!AO$12,Occupancy!$B$25:$EC$25)/'Project Summary'!$J$12","v":15501.767039521241},{"$f":"+AP61*SUMIF(Occupancy!$B$24:$EC$24,'Monthly Cash Flows'!AP$12,Occupancy!$B$25:$EC$25)/'Project Summary'!$J$12","v":15501.767039521241},{"$f":"+AQ61*SUMIF(Occupancy!$B$24:$EC$24,'Monthly Cash Flows'!AQ$12,Occupancy!$B$25:$EC$25)/'Project Summary'!$J$12","v":15501.767039521241},{"$f":"+AR61*SUMIF(Occupancy!$B$24:$EC$24,'Monthly Cash Flows'!AR$12,Occupancy!$B$25:$EC$25)/'Project Summary'!$J$12","v":15501.767039521241},{"$f":"+AS61*SUMIF(Occupancy!$B$24:$EC$24,'Monthly Cash Flows'!AS$12,Occupancy!$B$25:$EC$25)/'Project Summary'!$J$12","v":15501.767039521241},{"$f":"+AT61*SUMIF(Occupancy!$B$24:$EC$24,'Monthly Cash Flows'!AT$12,Occupancy!$B$25:$EC$25)/'Project Summary'!$J$12","v":15501.767039521241},{"$f":"+AU61*SUMIF(Occupancy!$B$24:$EC$24,'Monthly Cash Flows'!AU$12,Occupancy!$B$25:$EC$25)/'Project Summary'!$J$12","v":15501.767039521241},{"$f":"+AV61*SUMIF(Occupancy!$B$24:$EC$24,'Monthly Cash Flows'!AV$12,Occupancy!$B$25:$EC$25)/'Project Summary'!$J$12","v":15501.767039521241},{"$f":"+AW61*SUMIF(Occupancy!$B$24:$EC$24,'Monthly Cash Flows'!AW$12,Occupancy!$B$25:$EC$25)/'Project Summary'!$J$12","v":15501.767039521241},{"$f":"+AX61*SUMIF(Occupancy!$B$24:$EC$24,'Monthly Cash Flows'!AX$12,Occupancy!$B$25:$EC$25)/'Project Summary'!$J$12","v":15966.820050706876},{"$f":"+AY61*SUMIF(Occupancy!$B$24:$EC$24,'Monthly Cash Flows'!AY$12,Occupancy!$B$25:$EC$25)/'Project Summary'!$J$12","v":15966.820050706876},{"$f":"+AZ61*SUMIF(Occupancy!$B$24:$EC$24,'Monthly Cash Flows'!AZ$12,Occupancy!$B$25:$EC$25)/'Project Summary'!$J$12","v":15966.820050706876},{"$f":"+BA61*SUMIF(Occupancy!$B$24:$EC$24,'Monthly Cash Flows'!BA$12,Occupancy!$B$25:$EC$25)/'Project Summary'!$J$12","v":15966.820050706876},{"$f":"+BB61*SUMIF(Occupancy!$B$24:$EC$24,'Monthly Cash Flows'!BB$12,Occupancy!$B$25:$EC$25)/'Project Summary'!$J$12","v":15966.820050706876},{"$f":"+BC61*SUMIF(Occupancy!$B$24:$EC$24,'Monthly Cash Flows'!BC$12,Occupancy!$B$25:$EC$25)/'Project Summary'!$J$12","v":15966.820050706876},{"$f":"+BD61*SUMIF(Occupancy!$B$24:$EC$24,'Monthly Cash Flows'!BD$12,Occupancy!$B$25:$EC$25)/'Project Summary'!$J$12","v":15966.820050706876},{"$f":"+BE61*SUMIF(Occupancy!$B$24:$EC$24,'Monthly Cash Flows'!BE$12,Occupancy!$B$25:$EC$25)/'Project Summary'!$J$12","v":15966.820050706876},{"$f":"+BF61*SUMIF(Occupancy!$B$24:$EC$24,'Monthly Cash Flows'!BF$12,Occupancy!$B$25:$EC$25)/'Project Summary'!$J$12","v":15966.820050706876},{"$f":"+BG61*SUMIF(Occupancy!$B$24:$EC$24,'Monthly Cash Flows'!BG$12,Occupancy!$B$25:$EC$25)/'Project Summary'!$J$12","v":15966.820050706876},{"$f":"+BH61*SUMIF(Occupancy!$B$24:$EC$24,'Monthly Cash Flows'!BH$12,Occupancy!$B$25:$EC$25)/'Project Summary'!$J$12","v":15966.820050706876},{"$f":"+BI61*SUMIF(Occupancy!$B$24:$EC$24,'Monthly Cash Flows'!BI$12,Occupancy!$B$25:$EC$25)/'Project Summary'!$J$12","v":15966.820050706876},{"$f":"+BJ61*SUMIF(Occupancy!$B$24:$EC$24,'Monthly Cash Flows'!BJ$12,Occupancy!$B$25:$EC$25)/'Project Summary'!$J$12","v":16445.824652228082},{"$f":"+BK61*SUMIF(Occupancy!$B$24:$EC$24,'Monthly Cash Flows'!BK$12,Occupancy!$B$25:$EC$25)/'Project Summary'!$J$12","v":16445.824652228082},{"$f":"+BL61*SUMIF(Occupancy!$B$24:$EC$24,'Monthly Cash Flows'!BL$12,Occupancy!$B$25:$EC$25)/'Project Summary'!$J$12","v":16445.824652228082},{"$f":"+BM61*SUMIF(Occupancy!$B$24:$EC$24,'Monthly Cash Flows'!BM$12,Occupancy!$B$25:$EC$25)/'Project Summary'!$J$12","v":16445.824652228082},{"$f":"+BN61*SUMIF(Occupancy!$B$24:$EC$24,'Monthly Cash Flows'!BN$12,Occupancy!$B$25:$EC$25)/'Project Summary'!$J$12","v":16445.824652228082},{"$f":"+BO61*SUMIF(Occupancy!$B$24:$EC$24,'Monthly Cash Flows'!BO$12,Occupancy!$B$25:$EC$25)/'Project Summary'!$J$12","v":16445.824652228082},{"$f":"+BP61*SUMIF(Occupancy!$B$24:$EC$24,'Monthly Cash Flows'!BP$12,Occupancy!$B$25:$EC$25)/'Project Summary'!$J$12","v":16445.824652228082},{"$f":"+BQ61*SUMIF(Occupancy!$B$24:$EC$24,'Monthly Cash Flows'!BQ$12,Occupancy!$B$25:$EC$25)/'Project Summary'!$J$12","v":16445.824652228082},{"$f":"+BR61*SUMIF(Occupancy!$B$24:$EC$24,'Monthly Cash Flows'!BR$12,Occupancy!$B$25:$EC$25)/'Project Summary'!$J$12","v":16445.824652228082},{"$f":"+BS61*SUMIF(Occupancy!$B$24:$EC$24,'Monthly Cash Flows'!BS$12,Occupancy!$B$25:$EC$25)/'Project Summary'!$J$12","v":16445.824652228082},{"$f":"+BT61*SUMIF(Occupancy!$B$24:$EC$24,'Monthly Cash Flows'!BT$12,Occupancy!$B$25:$EC$25)/'Project Summary'!$J$12","v":16445.824652228082},{"$f":"+BU61*SUMIF(Occupancy!$B$24:$EC$24,'Monthly Cash Flows'!BU$12,Occupancy!$B$25:$EC$25)/'Project Summary'!$J$12","v":16445.824652228082},{"$f":"+BV61*SUMIF(Occupancy!$B$24:$EC$24,'Monthly Cash Flows'!BV$12,Occupancy!$B$25:$EC$25)/'Project Summary'!$J$12","v":16939.199391794929},{"$f":"+BW61*SUMIF(Occupancy!$B$24:$EC$24,'Monthly Cash Flows'!BW$12,Occupancy!$B$25:$EC$25)/'Project Summary'!$J$12","v":16939.199391794929},{"$f":"+BX61*SUMIF(Occupancy!$B$24:$EC$24,'Monthly Cash Flows'!BX$12,Occupancy!$B$25:$EC$25)/'Project Summary'!$J$12","v":16939.199391794929},{"$f":"+BY61*SUMIF(Occupancy!$B$24:$EC$24,'Monthly Cash Flows'!BY$12,Occupancy!$B$25:$EC$25)/'Project Summary'!$J$12","v":16939.199391794929},{"$f":"+BZ61*SUMIF(Occupancy!$B$24:$EC$24,'Monthly Cash Flows'!BZ$12,Occupancy!$B$25:$EC$25)/'Project Summary'!$J$12","v":16939.199391794929},{"$f":"+CA61*SUMIF(Occupancy!$B$24:$EC$24,'Monthly Cash Flows'!CA$12,Occupancy!$B$25:$EC$25)/'Project Summary'!$J$12","v":16939.199391794929},{"$f":"+CB61*SUMIF(Occupancy!$B$24:$EC$24,'Monthly Cash Flows'!CB$12,Occupancy!$B$25:$EC$25)/'Project Summary'!$J$12","v":16939.199391794929},{"$f":"+CC61*SUMIF(Occupancy!$B$24:$EC$24,'Monthly Cash Flows'!CC$12,Occupancy!$B$25:$EC$25)/'Project Summary'!$J$12","v":16939.199391794929},{"$f":"+CD61*SUMIF(Occupancy!$B$24:$EC$24,'Monthly Cash Flows'!CD$12,Occupancy!$B$25:$EC$25)/'Project Summary'!$J$12","v":16939.199391794929},{"$f":"+CE61*SUMIF(Occupancy!$B$24:$EC$24,'Monthly Cash Flows'!CE$12,Occupancy!$B$25:$EC$25)/'Project Summary'!$J$12","v":16939.199391794929},{"$f":"+CF61*SUMIF(Occupancy!$B$24:$EC$24,'Monthly Cash Flows'!CF$12,Occupancy!$B$25:$EC$25)/'Project Summary'!$J$12","v":16939.199391794929},{"$f":"+CG61*SUMIF(Occupancy!$B$24:$EC$24,'Monthly Cash Flows'!CG$12,Occupancy!$B$25:$EC$25)/'Project Summary'!$J$12","v":16939.199391794929},{"$f":"+CH61*SUMIF(Occupancy!$B$24:$EC$24,'Monthly Cash Flows'!CH$12,Occupancy!$B$25:$EC$25)/'Project Summary'!$J$12","v":17447.375373548777},{"$f":"+CI61*SUMIF(Occupancy!$B$24:$EC$24,'Monthly Cash Flows'!CI$12,Occupancy!$B$25:$EC$25)/'Project Summary'!$J$12","v":17447.375373548777},{"$f":"+CJ61*SUMIF(Occupancy!$B$24:$EC$24,'Monthly Cash Flows'!CJ$12,Occupancy!$B$25:$EC$25)/'Project Summary'!$J$12","v":17447.375373548777},{"$f":"+CK61*SUMIF(Occupancy!$B$24:$EC$24,'Monthly Cash Flows'!CK$12,Occupancy!$B$25:$EC$25)/'Project Summary'!$J$12","v":17447.375373548777},{"$f":"+CL61*SUMIF(Occupancy!$B$24:$EC$24,'Monthly Cash Flows'!CL$12,Occupancy!$B$25:$EC$25)/'Project Summary'!$J$12","v":17447.375373548777},{"$f":"+CM61*SUMIF(Occupancy!$B$24:$EC$24,'Monthly Cash Flows'!CM$12,Occupancy!$B$25:$EC$25)/'Project Summary'!$J$12","v":17447.375373548777},{"$f":"+CN61*SUMIF(Occupancy!$B$24:$EC$24,'Monthly Cash Flows'!CN$12,Occupancy!$B$25:$EC$25)/'Project Summary'!$J$12","v":17447.375373548777},{"$f":"+CO61*SUMIF(Occupancy!$B$24:$EC$24,'Monthly Cash Flows'!CO$12,Occupancy!$B$25:$EC$25)/'Project Summary'!$J$12","v":17447.375373548777},{"$f":"+CP61*SUMIF(Occupancy!$B$24:$EC$24,'Monthly Cash Flows'!CP$12,Occupancy!$B$25:$EC$25)/'Project Summary'!$J$12","v":17447.375373548777},{"$f":"+CQ61*SUMIF(Occupancy!$B$24:$EC$24,'Monthly Cash Flows'!CQ$12,Occupancy!$B$25:$EC$25)/'Project Summary'!$J$12","v":17447.375373548777},{"$f":"+CR61*SUMIF(Occupancy!$B$24:$EC$24,'Monthly Cash Flows'!CR$12,Occupancy!$B$25:$EC$25)/'Project Summary'!$J$12","v":17447.375373548777},{"$f":"+CS61*SUMIF(Occupancy!$B$24:$EC$24,'Monthly Cash Flows'!CS$12,Occupancy!$B$25:$EC$25)/'Project Summary'!$J$12","v":17447.375373548777},{"$f":"+CT61*SUMIF(Occupancy!$B$24:$EC$24,'Monthly Cash Flows'!CT$12,Occupancy!$B$25:$EC$25)/'Project Summary'!$J$12","v":17970.796634755239},{"$f":"+CU61*SUMIF(Occupancy!$B$24:$EC$24,'Monthly Cash Flows'!CU$12,Occupancy!$B$25:$EC$25)/'Project Summary'!$J$12","v":17970.796634755239},{"$f":"+CV61*SUMIF(Occupancy!$B$24:$EC$24,'Monthly Cash Flows'!CV$12,Occupancy!$B$25:$EC$25)/'Project Summary'!$J$12","v":17970.796634755239},{"$f":"+CW61*SUMIF(Occupancy!$B$24:$EC$24,'Monthly Cash Flows'!CW$12,Occupancy!$B$25:$EC$25)/'Project Summary'!$J$12","v":17970.796634755239},{"$f":"+CX61*SUMIF(Occupancy!$B$24:$EC$24,'Monthly Cash Flows'!CX$12,Occupancy!$B$25:$EC$25)/'Project Summary'!$J$12","v":17970.796634755239},{"$f":"+CY61*SUMIF(Occupancy!$B$24:$EC$24,'Monthly Cash Flows'!CY$12,Occupancy!$B$25:$EC$25)/'Project Summary'!$J$12","v":17970.796634755239},{"$f":"+CZ61*SUMIF(Occupancy!$B$24:$EC$24,'Monthly Cash Flows'!CZ$12,Occupancy!$B$25:$EC$25)/'Project Summary'!$J$12","v":17970.796634755239},{"$f":"+DA61*SUMIF(Occupancy!$B$24:$EC$24,'Monthly Cash Flows'!DA$12,Occupancy!$B$25:$EC$25)/'Project Summary'!$J$12","v":17970.796634755239},{"$f":"+DB61*SUMIF(Occupancy!$B$24:$EC$24,'Monthly Cash Flows'!DB$12,Occupancy!$B$25:$EC$25)/'Project Summary'!$J$12","v":17970.796634755239},{"$f":"+DC61*SUMIF(Occupancy!$B$24:$EC$24,'Monthly Cash Flows'!DC$12,Occupancy!$B$25:$EC$25)/'Project Summary'!$J$12","v":17970.796634755239},{"$f":"+DD61*SUMIF(Occupancy!$B$24:$EC$24,'Monthly Cash Flows'!DD$12,Occupancy!$B$25:$EC$25)/'Project Summary'!$J$12","v":17970.796634755239},{"$f":"+DE61*SUMIF(Occupancy!$B$24:$EC$24,'Monthly Cash Flows'!DE$12,Occupancy!$B$25:$EC$25)/'Project Summary'!$J$12","v":17970.796634755239},{"$f":"+DF61*SUMIF(Occupancy!$B$24:$EC$24,'Monthly Cash Flows'!DF$12,Occupancy!$B$25:$EC$25)/'Project Summary'!$J$12","v":18509.920533797896},{"$f":"+DG61*SUMIF(Occupancy!$B$24:$EC$24,'Monthly Cash Flows'!DG$12,Occupancy!$B$25:$EC$25)/'Project Summary'!$J$12","v":18509.920533797896},{"$f":"+DH61*SUMIF(Occupancy!$B$24:$EC$24,'Monthly Cash Flows'!DH$12,Occupancy!$B$25:$EC$25)/'Project Summary'!$J$12","v":18509.920533797896},{"$f":"+DI61*SUMIF(Occupancy!$B$24:$EC$24,'Monthly Cash Flows'!DI$12,Occupancy!$B$25:$EC$25)/'Project Summary'!$J$12","v":18509.920533797896},{"$f":"+DJ61*SUMIF(Occupancy!$B$24:$EC$24,'Monthly Cash Flows'!DJ$12,Occupancy!$B$25:$EC$25)/'Project Summary'!$J$12","v":18509.920533797896},{"$f":"+DK61*SUMIF(Occupancy!$B$24:$EC$24,'Monthly Cash Flows'!DK$12,Occupancy!$B$25:$EC$25)/'Project Summary'!$J$12","v":18509.920533797896},{"$f":"+DL61*SUMIF(Occupancy!$B$24:$EC$24,'Monthly Cash Flows'!DL$12,Occupancy!$B$25:$EC$25)/'Project Summary'!$J$12","v":18509.920533797896},{"$f":"+DM61*SUMIF(Occupancy!$B$24:$EC$24,'Monthly Cash Flows'!DM$12,Occupancy!$B$25:$EC$25)/'Project Summary'!$J$12","v":18509.920533797896},{"$f":"+DN61*SUMIF(Occupancy!$B$24:$EC$24,'Monthly Cash Flows'!DN$12,Occupancy!$B$25:$EC$25)/'Project Summary'!$J$12","v":18509.920533797896},{"$f":"+DO61*SUMIF(Occupancy!$B$24:$EC$24,'Monthly Cash Flows'!DO$12,Occupancy!$B$25:$EC$25)/'Project Summary'!$J$12","v":18509.920533797896},{"$f":"+DP61*SUMIF(Occupancy!$B$24:$EC$24,'Monthly Cash Flows'!DP$12,Occupancy!$B$25:$EC$25)/'Project Summary'!$J$12","v":18509.920533797896},{"$f":"+DQ61*SUMIF(Occupancy!$B$24:$EC$24,'Monthly Cash Flows'!DQ$12,Occupancy!$B$25:$EC$25)/'Project Summary'!$J$12","v":18509.920533797896},{"$f":"+DR61*SUMIF(Occupancy!$B$24:$EC$24,'Monthly Cash Flows'!DR$12,Occupancy!$B$25:$EC$25)/'Project Summary'!$J$12","v":19065.218149811837},{"$f":"+DS61*SUMIF(Occupancy!$B$24:$EC$24,'Monthly Cash Flows'!DS$12,Occupancy!$B$25:$EC$25)/'Project Summary'!$J$12","v":19065.218149811837},{"$f":"+DT61*SUMIF(Occupancy!$B$24:$EC$24,'Monthly Cash Flows'!DT$12,Occupancy!$B$25:$EC$25)/'Project Summary'!$J$12","v":19065.218149811837},{"$f":"+DU61*SUMIF(Occupancy!$B$24:$EC$24,'Monthly Cash Flows'!DU$12,Occupancy!$B$25:$EC$25)/'Project Summary'!$J$12","v":19065.218149811837},{"$f":"+DV61*SUMIF(Occupancy!$B$24:$EC$24,'Monthly Cash Flows'!DV$12,Occupancy!$B$25:$EC$25)/'Project Summary'!$J$12","v":19065.218149811837},{"$f":"+DW61*SUMIF(Occupancy!$B$24:$EC$24,'Monthly Cash Flows'!DW$12,Occupancy!$B$25:$EC$25)/'Project Summary'!$J$12","v":19065.218149811837},{"$f":"+DX61*SUMIF(Occupancy!$B$24:$EC$24,'Monthly Cash Flows'!DX$12,Occupancy!$B$25:$EC$25)/'Project Summary'!$J$12","v":19065.218149811837},{"$f":"+DY61*SUMIF(Occupancy!$B$24:$EC$24,'Monthly Cash Flows'!DY$12,Occupancy!$B$25:$EC$25)/'Project Summary'!$J$12","v":19065.218149811837},{"$f":"+DZ61*SUMIF(Occupancy!$B$24:$EC$24,'Monthly Cash Flows'!DZ$12,Occupancy!$B$25:$EC$25)/'Project Summary'!$J$12","v":19065.218149811837},{"$f":"+EA61*SUMIF(Occupancy!$B$24:$EC$24,'Monthly Cash Flows'!EA$12,Occupancy!$B$25:$EC$25)/'Project Summary'!$J$12","v":19065.218149811837},{"$f":"+EB61*SUMIF(Occupancy!$B$24:$EC$24,'Monthly Cash Flows'!EB$12,Occupancy!$B$25:$EC$25)/'Project Summary'!$J$12","v":19065.218149811837},{"$f":"+EC61*SUMIF(Occupancy!$B$24:$EC$24,'Monthly Cash Flows'!EC$12,Occupancy!$B$25:$EC$25)/'Project Summary'!$J$12","v":19065.218149811837}]
["Property Taxes - Title Max",{"$f":"+B62*SUMIF(Occupancy!$B$24:$EC$24,'Monthly Cash Flows'!B$12,Occupancy!$B$25:$EC$25)/'Project Summary'!$J$12","v":270.59530150025046},{"$f":"+C62*SUMIF(Occupancy!$B$24:$EC$24,'Monthly Cash Flows'!C$12,Occupancy!$B$25:$EC$25)/'Project Summary'!$J$12","v":270.59530150025046},{"$f":"+D62*SUMIF(Occupancy!$B$24:$EC$24,'Monthly Cash Flows'!D$12,Occupancy!$B$25:$EC$25)/'Project Summary'!$J$12","v":270.59530150025046},{"$f":"+E62*SUMIF(Occupancy!$B$24:$EC$24,'Monthly Cash Flows'!E$12,Occupancy!$B$25:$EC$25)/'Project Summary'!$J$12","v":270.59530150025046},{"$f":"+F62*SUMIF(Occupancy!$B$24:$EC$24,'Monthly Cash Flows'!F$12,Occupancy!$B$25:$EC$25)/'Project Summary'!$J$12","v":275.64183826825217},{"$f":"+G62*SUMIF(Occupancy!$B$24:$EC$24,'Monthly Cash Flows'!G$12,Occupancy!$B$25:$EC$25)/'Project Summary'!$J$12","v":275.64183826825217},{"$f":"+H62*SUMIF(Occupancy!$B$24:$EC$24,'Monthly Cash Flows'!H$12,Occupancy!$B$25:$EC$25)/'Project Summary'!$J$12","v":275.64183826825217},{"$f":"+I62*SUMIF(Occupancy!$B$24:$EC$24,'Monthly Cash Flows'!I$12,Occupancy!$B$25:$EC$25)/'Project Summary'!$J$12","v":275.64183826825217},{"$f":"+J62*SUMIF(Occupancy!$B$24:$EC$24,'Monthly Cash Flows'!J$12,Occupancy!$B$25:$EC$25)/'Project Summary'!$J$12","v":278.44546980603087},{"$f":"+K62*SUMIF(Occupancy!$B$24:$EC$24,'Monthly Cash Flows'!K$12,Occupancy!$B$25:$EC$25)/'Project Summary'!$J$12","v":278.44546980603087},{"$f":"+L62*SUMIF(Occupancy!$B$24:$EC$24,'Monthly Cash Flows'!L$12,Occupancy!$B$25:$EC$25)/'Project Summary'!$J$12","v":278.44546980603087},{"$f":"+M62*SUMIF(Occupancy!$B$24:$EC$24,'Monthly Cash Flows'!M$12,Occupancy!$B$25:$EC$25)/'Project Summary'!$J$12","v":278.44546980603087},{"$f":"+N62*SUMIF(Occupancy!$B$24:$EC$24,'Monthly Cash Flows'!N$12,Occupancy!$B$25:$EC$25)/'Project Summary'!$J$12","v":298.92734393264249},{"$f":"+O62*SUMIF(Occupancy!$B$24:$EC$24,'Monthly Cash Flows'!O$12,Occupancy!$B$25:$EC$25)/'Project Summary'!$J$12","v":298.92734393264249},{"$f":"+P62*SUMIF(Occupancy!$B$24:$EC$24,'Monthly Cash Flows'!P$12,Occupancy!$B$25:$EC$25)/'Project Summary'!$J$12","v":298.92734393264249},{"$f":"+Q62*SUMIF(Occupancy!$B$24:$EC$24,'Monthly Cash Flows'!Q$12,Occupancy!$B$25:$EC$25)/'Project Summary'!$J$12","v":298.92734393264249},{"$f":"+R62*SUMIF(Occupancy!$B$24:$EC$24,'Monthly Cash Flows'!R$12,Occupancy!$B$25:$EC$25)/'Project Summary'!$J$12","v":301.81508441655461},{"$f":"+S62*SUMIF(Occupancy!$B$24:$EC$24,'Monthly Cash Flows'!S$12,Occupancy!$B$25:$EC$25)/'Project Summary'!$J$12","v":308.16811348116113},{"$f":"+T62*SUMIF(Occupancy!$B$24:$EC$24,'Monthly Cash Flows'!T$12,Occupancy!$B$25:$EC$25)/'Project Summary'!$J$12","v":308.16811348116113},{"$f":"+U62*SUMIF(Occupancy!$B$24:$EC$24,'Monthly Cash Flows'!U$12,Occupancy!$B$25:$EC$25)/'Project Summary'!$J$12","v":308.16811348116113},{"$f":"+V62*SUMIF(Occupancy!$B$24:$EC$24,'Monthly Cash Flows'!V$12,Occupancy!$B$25:$EC$25)/'Project Summary'!$J$12","v":308.16811348116113},{"$f":"+W62*SUMIF(Occupancy!$B$24:$EC$24,'Monthly Cash Flows'!W$12,Occupancy!$B$25:$EC$25)/'Project Summary'!$J$12","v":308.16811348116113},{"$f":"+X62*SUMIF(Occupancy!$B$24:$EC$24,'Monthly Cash Flows'!X$12,Occupancy!$B$25:$EC$25)/'Project Summary'!$J$12","v":308.16811348116113},{"$f":"+Y62*SUMIF(Occupancy!$B$24:$EC$24,'Monthly Cash Flows'!Y$12,Occupancy!$B$25:$EC$25)/'Project Summary'!$J$12","v":308.16811348116113},{"$f":"+Z62*SUMIF(Occupancy!$B$24:$EC$24,'Monthly Cash Flows'!Z$12,Occupancy!$B$25:$EC$25)/'Project Summary'!$J$12","v":317.41315688559604},{"$f":"+AA62*SUMIF(Occupancy!$B$24:$EC$24,'Monthly Cash Flows'!AA$12,Occupancy!$B$25:$EC$25)/'Project Summary'!$J$12","v":317.41315688559604},{"$f":"+AB62*SUMIF(Occupancy!$B$24:$EC$24,'Monthly Cash Flows'!AB$12,Occupancy!$B$25:$EC$25)/'Project Summary'!$J$12","v":317.41315688559604},{"$f":"+AC62*SUMIF(Occupancy!$B$24:$EC$24,'Monthly Cash Flows'!AC$12,Occupancy!$B$25:$EC$25)/'Project Summary'!$J$12","v":317.41315688559604},{"$f":"+AD62*SUMIF(Occupancy!$B$24:$EC$24,'Monthly Cash Flows'!AD$12,Occupancy!$B$25:$EC$25)/'Project Summary'!$J$12","v":317.41315688559604},{"$f":"+AE62*SUMIF(Occupancy!$B$24:$EC$24,'Monthly Cash Flows'!AE$12,Occupancy!$B$25:$EC$25)/'Project Summary'!$J$12","v":317.41315688559604},{"$f":"+AF62*SUMIF(Occupancy!$B$24:$EC$24,'Monthly Cash Flows'!AF$12,Occupancy!$B$25:$EC$25)/'Project Summary'!$J$12","v":317.41315688559604},{"$f":"+AG62*SUMIF(Occupancy!$B$24:$EC$24,'Monthly Cash Flows'!AG$12,Occupancy!$B$25:$EC$25)/'Project Summary'!$J$12","v":317.41315688559604},{"$f":"+AH62*SUMIF(Occupancy!$B$24:$EC$24,'Monthly Cash Flows'!AH$12,Occupancy!$B$25:$EC$25)/'Project Summary'!$J$12","v":317.41315688559604},{"$f":"+AI62*SUMIF(Occupancy!$B$24:$EC$24,'Monthly Cash Flows'!AI$12,Occupancy!$B$25:$EC$25)/'Project Summary'!$J$12","v":317.41315688559604},{"$f":"+AJ62*SUMIF(Occupancy!$B$24:$EC$24,'Monthly Cash Flows'!AJ$12,Occupancy!$B$25:$EC$25)/'Project Summary'!$J$12","v":317.41315688559604},{"$f":"+AK62*SUMIF(Occupancy!$B$24:$EC$24,'Monthly Cash Flows'!AK$12,Occupancy!$B$25:$EC$25)/'Project Summary'!$J$12","v":317.41315688559604},{"$f":"+AL62*SUMIF(Occupancy!$B$24:$EC$24,'Monthly Cash Flows'!AL$12,Occupancy!$B$25:$EC$25)/'Project Summary'!$J$12","v":326.93555159216385},{"$f":"+AM62*SUMIF(Occupancy!$B$24:$EC$24,'Monthly Cash Flows'!AM$12,Occupancy!$B$25:$EC$25)/'Project Summary'!$J$12","v":326.93555159216385},{"$f":"+AN62*SUMIF(Occupancy!$B$24:$EC$24,'Monthly Cash Flows'!AN$12,Occupancy!$B$25:$EC$25)/'Project Summary'!$J$12","v":326.93555159216385},{"$f":"+AO62*SUMIF(Occupancy!$B$24:$EC$24,'Monthly Cash Flows'!AO$12,Occupancy!$B$25:$EC$25)/'Project Summary'!$J$12","v":326.93555159216385},{"$f":"+AP62*SUMIF(Occupancy!$B$24:$EC$24,'Monthly Cash Flows'!AP$12,Occupancy!$B$25:$EC$25)/'Project Summary'!$J$12","v":326.93555159216385},{"$f":"+AQ62*SUMIF(Occupancy!$B$24:$EC$24,'Monthly Cash Flows'!AQ$12,Occupancy!$B$25:$EC$25)/'Project Summary'!$J$12","v":326.93555159216385},{"$f":"+AR62*SUMIF(Occupancy!$B$24:$EC$24,'Monthly Cash Flows'!AR$12,Occupancy!$B$25:$EC$25)/'Project Summary'!$J$12","v":326.93555159216385},{"$f":"+AS62*SUMIF(Occupancy!$B$24:$EC$24,'Monthly Cash Flows'!AS$12,Occupancy!$B$25:$EC$25)/'Project Summary'!$J$12","v":326.93555159216385},{"$f":"+AT62*SUMIF(Occupancy!$B$24:$EC$24,'Monthly Cash Flows'!AT$12,Occupancy!$B$25:$EC$25)/'Project Summary'!$J$12","v":326.93555159216385},{"$f":"+AU62*SUMIF(Occupancy!$B$24:$EC$24,'Monthly Cash Flows'!AU$12,Occupancy!$B$25:$EC$25)/'Project Summary'!$J$12","v":326.93555159216385},{"$f":"+AV62*SUMIF(Occupancy!$B$24:$EC$24,'Monthly Cash Flows'!AV$12,Occupancy!$B$25:$EC$25)/'Project Summary'!$J$12","v":326.93555159216385},{"$f":"+AW62*SUMIF(Occupancy!$B$24:$EC$24,'Monthly Cash Flows'!AW$12,Occupancy!$B$25:$EC$25)/'Project Summary'!$J$12","v":326.93555159216385},{"$f":"+AX62*SUMIF(Occupancy!$B$24:$EC$24,'Monthly Cash Flows'!AX$12,Occupancy!$B$25:$EC$25)/'Project Summary'!$J$12","v":336.74361813992874},{"$f":"+AY62*SUMIF(Occupancy!$B$24:$EC$24,'Monthly Cash Flows'!AY$12,Occupancy!$B$25:$EC$25)/'Project Summary'!$J$12","v":336.74361813992874},{"$f":"+AZ62*SUMIF(Occupancy!$B$24:$EC$24,'Monthly Cash Flows'!AZ$12,Occupancy!$B$25:$EC$25)/'Project Summary'!$J$12","v":336.74361813992874},{"$f":"+BA62*SUMIF(Occupancy!$B$24:$EC$24,'Monthly Cash Flows'!BA$12,Occupancy!$B$25:$EC$25)/'Project Summary'!$J$12","v":336.74361813992874},{"$f":"+BB62*SUMIF(Occupancy!$B$24:$EC$24,'Monthly Cash Flows'!BB$12,Occupancy!$B$25:$EC$25)/'Project Summary'!$J$12","v":336.74361813992874},{"$f":"+BC62*SUMIF(Occupancy!$B$24:$EC$24,'Monthly Cash Flows'!BC$12,Occupancy!$B$25:$EC$25)/'Project Summary'!$J$12","v":336.74361813992874},{"$f":"+BD62*SUMIF(Occupancy!$B$24:$EC$24,'Monthly Cash Flows'!BD$12,Occupancy!$B$25:$EC$25)/'Project Summary'!$J$12","v":336.74361813992874},{"$f":"+BE62*SUMIF(Occupancy!$B$24:$EC$24,'Monthly Cash Flows'!BE$12,Occupancy!$B$25:$EC$25)/'Project Summary'!$J$12","v":336.74361813992874},{"$f":"+BF62*SUMIF(Occupancy!$B$24:$EC$24,'Monthly Cash Flows'!BF$12,Occupancy!$B$25:$EC$25)/'Project Summary'!$J$12","v":336.74361813992874},{"$f":"+BG62*SUMIF(Occupancy!$B$24:$EC$24,'Monthly Cash Flows'!BG$12,Occupancy!$B$25:$EC$25)/'Project Summary'!$J$12","v":336.74361813992874},{"$f":"+BH62*SUMIF(Occupancy!$B$24:$EC$24,'Monthly Cash Flows'!BH$12,Occupancy!$B$25:$EC$25)/'Project Summary'!$J$12","v":336.74361813992874},{"$f":"+BI62*SUMIF(Occupancy!$B$24:$EC$24,'Monthly Cash Flows'!BI$12,Occupancy!$B$25:$EC$25)/'Project Summary'!$J$12","v":336.74361813992874},{"$f":"+BJ62*SUMIF(Occupancy!$B$24:$EC$24,'Monthly Cash Flows'!BJ$12,Occupancy!$B$25:$EC$25)/'Project Summary'!$J$12","v":346.84592668412665},{"$f":"+BK62*SUMIF(Occupancy!$B$24:$EC$24,'Monthly Cash Flows'!BK$12,Occupancy!$B$25:$EC$25)/'Project Summary'!$J$12","v":346.84592668412665},{"$f":"+BL62*SUMIF(Occupancy!$B$24:$EC$24,'Monthly Cash Flows'!BL$12,Occupancy!$B$25:$EC$25)/'Project Summary'!$J$12","v":346.84592668412665},{"$f":"+BM62*SUMIF(Occupancy!$B$24:$EC$24,'Monthly Cash Flows'!BM$12,Occupancy!$B$25:$EC$25)/'Project Summary'!$J$12","v":346.84592668412665},{"$f":"+BN62*SUMIF(Occupancy!$B$24:$EC$24,'Monthly Cash Flows'!BN$12,Occupancy!$B$25:$EC$25)/'Project Summary'!$J$12","v":346.84592668412665},{"$f":"+BO62*SUMIF(Occupancy!$B$24:$EC$24,'Monthly Cash Flows'!BO$12,Occupancy!$B$25:$EC$25)/'Project Summary'!$J$12","v":346.84592668412665},{"$f":"+BP62*SUMIF(Occupancy!$B$24:$EC$24,'Monthly Cash Flows'!BP$12,Occupancy!$B$25:$EC$25)/'Project Summary'!$J$12","v":346.84592668412665},{"$f":"+BQ62*SUMIF(Occupancy!$B$24:$EC$24,'Monthly Cash Flows'!BQ$12,Occupancy!$B$25:$EC$25)/'Project Summary'!$J$12","v":346.84592668412665},{"$f":"+BR62*SUMIF(Occupancy!$B$24:$EC$24,'Monthly Cash Flows'!BR$12,Occupancy!$B$25:$EC$25)/'Project Summary'!$J$12","v":346.84592668412665},{"$f":"+BS62*SUMIF(Occupancy!$B$24:$EC$24,'Monthly Cash Flows'!BS$12,Occupancy!$B$25:$EC$25)/'Project Summary'!$J$12","v":346.84592668412665},{"$f":"+BT62*SUMIF(Occupancy!$B$24:$EC$24,'Monthly Cash Flows'!BT$12,Occupancy!$B$25:$EC$25)/'Project Summary'!$J$12","v":346.84592668412665},{"$f":"+BU62*SUMIF(Occupancy!$B$24:$EC$24,'Monthly Cash Flows'!BU$12,Occupancy!$B$25:$EC$25)/'Project Summary'!$J$12","v":346.84592668412665},{"$f":"+BV62*SUMIF(Occupancy!$B$24:$EC$24,'Monthly Cash Flows'!BV$12,Occupancy!$B$25:$EC$25)/'Project Summary'!$J$12","v":357.25130448465046},{"$f":"+BW62*SUMIF(Occupancy!$B$24:$EC$24,'Monthly Cash Flows'!BW$12,Occupancy!$B$25:$EC$25)/'Project Summary'!$J$12","v":357.25130448465046},{"$f":"+BX62*SUMIF(Occupancy!$B$24:$EC$24,'Monthly Cash Flows'!BX$12,Occupancy!$B$25:$EC$25)/'Project Summary'!$J$12","v":357.25130448465046},{"$f":"+BY62*SUMIF(Occupancy!$B$24:$EC$24,'Monthly Cash Flows'!BY$12,Occupancy!$B$25:$EC$25)/'Project Summary'!$J$12","v":357.25130448465046},{"$f":"+BZ62*SUMIF(Occupancy!$B$24:$EC$24,'Monthly Cash Flows'!BZ$12,Occupancy!$B$25:$EC$25)/'Project Summary'!$J$12","v":357.25130448465046},{"$f":"+CA62*SUMIF(Occupancy!$B$24:$EC$24,'Monthly Cash Flows'!CA$12,Occupancy!$B$25:$EC$25)/'Project Summary'!$J$12","v":357.25130448465046},{"$f":"+CB62*SUMIF(Occupancy!$B$24:$EC$24,'Monthly Cash Flows'!CB$12,Occupancy!$B$25:$EC$25)/'Project Summary'!$J$12","v":357.25130448465046},{"$f":"+CC62*SUMIF(Occupancy!$B$24:$EC$24,'Monthly Cash Flows'!CC$12,Occupancy!$B$25:$EC$25)/'Project Summary'!$J$12","v":357.25130448465046},{"$f":"+CD62*SUMIF(Occupancy!$B$24:$EC$24,'Monthly Cash Flows'!CD$12,Occupancy!$B$25:$EC$25)/'Project Summary'!$J$12","v":357.25130448465046},{"$f":"+CE62*SUMIF(Occupancy!$B$24:$EC$24,'Monthly Cash Flows'!CE$12,Occupancy!$B$25:$EC$25)/'Project Summary'!$J$12","v":357.25130448465046},{"$f":"+CF62*SUMIF(Occupancy!$B$24:$EC$24,'Monthly Cash Flows'!CF$12,Occupancy!$B$25:$EC$25)/'Project Summary'!$J$12","v":357.25130448465046},{"$f":"+CG62*SUMIF(Occupancy!$B$24:$EC$24,'Monthly Cash Flows'!CG$12,Occupancy!$B$25:$EC$25)/'Project Summary'!$J$12","v":357.25130448465046},{"$f":"+CH62*SUMIF(Occupancy!$B$24:$EC$24,'Monthly Cash Flows'!CH$12,Occupancy!$B$25:$EC$25)/'Project Summary'!$J$12","v":367.96884361919001},{"$f":"+CI62*SUMIF(Occupancy!$B$24:$EC$24,'Monthly Cash Flows'!CI$12,Occupancy!$B$25:$EC$25)/'Project Summary'!$J$12","v":367.96884361919001},{"$f":"+CJ62*SUMIF(Occupancy!$B$24:$EC$24,'Monthly Cash Flows'!CJ$12,Occupancy!$B$25:$EC$25)/'Project Summary'!$J$12","v":367.96884361919001},{"$f":"+CK62*SUMIF(Occupancy!$B$24:$EC$24,'Monthly Cash Flows'!CK$12,Occupancy!$B$25:$EC$25)/'Project Summary'!$J$12","v":367.96884361919001},{"$f":"+CL62*SUMIF(Occupancy!$B$24:$EC$24,'Monthly Cash Flows'!CL$12,Occupancy!$B$25:$EC$25)/'Project Summary'!$J$12","v":367.96884361919001},{"$f":"+CM62*SUMIF(Occupancy!$B$24:$EC$24,'Monthly Cash Flows'!CM$12,Occupancy!$B$25:$EC$25)/'Project Summary'!$J$12","v":367.96884361919001},{"$f":"+CN62*SUMIF(Occupancy!$B$24:$EC$24,'Monthly Cash Flows'!CN$12,Occupancy!$B$25:$EC$25)/'Project Summary'!$J$12","v":367.96884361919001},{"$f":"+CO62*SUMIF(Occupancy!$B$24:$EC$24,'Monthly Cash Flows'!CO$12,Occupancy!$B$25:$EC$25)/'Project Summary'!$J$12","v":367.96884361919001},{"$f":"+CP62*SUMIF(Occupancy!$B$24:$EC$24,'Monthly Cash Flows'!CP$12,Occupancy!$B$25:$EC$25)/'Project Summary'!$J$12","v":367.96884361919001},{"$f":"+CQ62*SUMIF(Occupancy!$B$24:$EC$24,'Monthly Cash Flows'!CQ$12,Occupancy!$B$25:$EC$25)/'Project Summary'!$J$12","v":367.96884361919001},{"$f":"+CR62*SUMIF(Occupancy!$B$24:$EC$24,'Monthly Cash Flows'!CR$12,Occupancy!$B$25:$EC$25)/'Project Summary'!$J$12","v":367.96884361919001},{"$f":"+CS62*SUMIF(Occupancy!$B$24:$EC$24,'Monthly Cash Flows'!CS$12,Occupancy!$B$25:$EC$25)/'Project Summary'!$J$12","v":367.96884361919001},{"$f":"+CT62*SUMIF(Occupancy!$B$24:$EC$24,'Monthly Cash Flows'!CT$12,Occupancy!$B$25:$EC$25)/'Project Summary'!$J$12","v":379.00790892776564},{"$f":"+CU62*SUMIF(Occupancy!$B$24:$EC$24,'Monthly Cash Flows'!CU$12,Occupancy!$B$25:$EC$25)/'Project Summary'!$J$12","v":379.00790892776564},{"$f":"+CV62*SUMIF(Occupancy!$B$24:$EC$24,'Monthly Cash Flows'!CV$12,Occupancy!$B$25:$EC$25)/'Project Summary'!$J$12","v":379.00790892776564},{"$f":"+CW62*SUMIF(Occupancy!$B$24:$EC$24,'Monthly Cash Flows'!CW$12,Occupancy!$B$25:$EC$25)/'Project Summary'!$J$12","v":379.00790892776564},{"$f":"+CX62*SUMIF(Occupancy!$B$24:$EC$24,'Monthly Cash Flows'!CX$12,Occupancy!$B$25:$EC$25)/'Project Summary'!$J$12","v":379.00790892776564},{"$f":"+CY62*SUMIF(Occupancy!$B$24:$EC$24,'Monthly Cash Flows'!CY$12,Occupancy!$B$25:$EC$25)/'Project Summary'!$J$12","v":379.00790892776564},{"$f":"+CZ62*SUMIF(Occupancy!$B$24:$EC$24,'Monthly Cash Flows'!CZ$12,Occupancy!$B$25:$EC$25)/'Project Summary'!$J$12","v":379.00790892776564},{"$f":"+DA62*SUMIF(Occupancy!$B$24:$EC$24,'Monthly Cash Flows'!DA$12,Occupancy!$B$25:$EC$25)/'Project Summary'!$J$12","v":379.00790892776564},{"$f":"+DB62*SUMIF(Occupancy!$B$24:$EC$24,'Monthly Cash Flows'!DB$12,Occupancy!$B$25:$EC$25)/'Project Summary'!$J$12","v":379.00790892776564},{"$f":"+DC62*SUMIF(Occupancy!$B$24:$EC$24,'Monthly Cash Flows'!DC$12,Occupancy!$B$25:$EC$25)/'Project Summary'!$J$12","v":379.00790892776564},{"$f":"+DD62*SUMIF(Occupancy!$B$24:$EC$24,'Monthly Cash Flows'!DD$12,Occupancy!$B$25:$EC$25)/'Project Summary'!$J$12","v":379.00790892776564},{"$f":"+DE62*SUMIF(Occupancy!$B$24:$EC$24,'Monthly Cash Flows'!DE$12,Occupancy!$B$25:$EC$25)/'Project Summary'!$J$12","v":379.00790892776564},{"$f":"+DF62*SUMIF(Occupancy!$B$24:$EC$24,'Monthly Cash Flows'!DF$12,Occupancy!$B$25:$EC$25)/'Project Summary'!$J$12","v":390.37814619559867},{"$f":"+DG62*SUMIF(Occupancy!$B$24:$EC$24,'Monthly Cash Flows'!DG$12,Occupancy!$B$25:$EC$25)/'Project Summary'!$J$12","v":390.37814619559867},{"$f":"+DH62*SUMIF(Occupancy!$B$24:$EC$24,'Monthly Cash Flows'!DH$12,Occupancy!$B$25:$EC$25)/'Project Summary'!$J$12","v":390.37814619559867},{"$f":"+DI62*SUMIF(Occupancy!$B$24:$EC$24,'Monthly Cash Flows'!DI$12,Occupancy!$B$25:$EC$25)/'Project Summary'!$J$12","v":390.37814619559867},{"$f":"+DJ62*SUMIF(Occupancy!$B$24:$EC$24,'Monthly Cash Flows'!DJ$12,Occupancy!$B$25:$EC$25)/'Project Summary'!$J$12","v":390.37814619559867},{"$f":"+DK62*SUMIF(Occupancy!$B$24:$EC$24,'Monthly Cash Flows'!DK$12,Occupancy!$B$25:$EC$25)/'Project Summary'!$J$12","v":390.37814619559867},{"$f":"+DL62*SUMIF(Occupancy!$B$24:$EC$24,'Monthly Cash Flows'!DL$12,Occupancy!$B$25:$EC$25)/'Project Summary'!$J$12","v":390.37814619559867},{"$f":"+DM62*SUMIF(Occupancy!$B$24:$EC$24,'Monthly Cash Flows'!DM$12,Occupancy!$B$25:$EC$25)/'Project Summary'!$J$12","v":390.37814619559867},{"$f":"+DN62*SUMIF(Occupancy!$B$24:$EC$24,'Monthly Cash Flows'!DN$12,Occupancy!$B$25:$EC$25)/'Project Summary'!$J$12","v":390.37814619559867},{"$f":"+DO62*SUMIF(Occupancy!$B$24:$EC$24,'Monthly Cash Flows'!DO$12,Occupancy!$B$25:$EC$25)/'Project Summary'!$J$12","v":390.37814619559867},{"$f":"+DP62*SUMIF(Occupancy!$B$24:$EC$24,'Monthly Cash Flows'!DP$12,Occupancy!$B$25:$EC$25)/'Project Summary'!$J$12","v":390.37814619559867},{"$f":"+DQ62*SUMIF(Occupancy!$B$24:$EC$24,'Monthly Cash Flows'!DQ$12,Occupancy!$B$25:$EC$25)/'Project Summary'!$J$12","v":390.37814619559867},{"$f":"+DR62*SUMIF(Occupancy!$B$24:$EC$24,'Monthly Cash Flows'!DR$12,Occupancy!$B$25:$EC$25)/'Project Summary'!$J$12","v":402.08949058146663},{"$f":"+DS62*SUMIF(Occupancy!$B$24:$EC$24,'Monthly Cash Flows'!DS$12,Occupancy!$B$25:$EC$25)/'Project Summary'!$J$12","v":402.08949058146663},{"$f":"+DT62*SUMIF(Occupancy!$B$24:$EC$24,'Monthly Cash Flows'!DT$12,Occupancy!$B$25:$EC$25)/'Project Summary'!$J$12","v":402.08949058146663},{"$f":"+DU62*SUMIF(Occupancy!$B$24:$EC$24,'Monthly Cash Flows'!DU$12,Occupancy!$B$25:$EC$25)/'Project Summary'!$J$12","v":402.08949058146663},{"$f":"+DV62*SUMIF(Occupancy!$B$24:$EC$24,'Monthly Cash Flows'!DV$12,Occupancy!$B$25:$EC$25)/'Project Summary'!$J$12","v":402.08949058146663},{"$f":"+DW62*SUMIF(Occupancy!$B$24:$EC$24,'Monthly Cash Flows'!DW$12,Occupancy!$B$25:$EC$25)/'Project Summary'!$J$12","v":402.08949058146663},{"$f":"+DX62*SUMIF(Occupancy!$B$24:$EC$24,'Monthly Cash Flows'!DX$12,Occupancy!$B$25:$EC$25)/'Project Summary'!$J$12","v":402.08949058146663},{"$f":"+DY62*SUMIF(Occupancy!$B$24:$EC$24,'Monthly Cash Flows'!DY$12,Occupancy!$B$25:$EC$25)/'Project Summary'!$J$12","v":402.08949058146663},{"$f":"+DZ62*SUMIF(Occupancy!$B$24:$EC$24,'Monthly Cash Flows'!DZ$12,Occupancy!$B$25:$EC$25)/'Project Summary'!$J$12","v":402.08949058146663},{"$f":"+EA62*SUMIF(Occupancy!$B$24:$EC$24,'Monthly Cash Flows'!EA$12,Occupancy!$B$25:$EC$25)/'Project Summary'!$J$12","v":402.08949058146663},{"$f":"+EB62*SUMIF(Occupancy!$B$24:$EC$24,'Monthly Cash Flows'!EB$12,Occupancy!$B$25:$EC$25)/'Project Summary'!$J$12","v":402.08949058146663},{"$f":"+EC62*SUMIF(Occupancy!$B$24:$EC$24,'Monthly Cash Flows'!EC$12,Occupancy!$B$25:$EC$25)/'Project Summary'!$J$12","v":402.08949058146663}]
["Insurance",{"$f":"+B63*SUMIF(Occupancy!$B$24:$EC$24,'Monthly Cash Flows'!B$12,Occupancy!$B$25:$EC$25)/'Project Summary'!$J$12","v":3129.6594510507025},{"$f":"+C63*SUMIF(Occupancy!$B$24:$EC$24,'Monthly Cash Flows'!C$12,Occupancy!$B$25:$EC$25)/'Project Summary'!$J$12","v":3129.6594510507025},{"$f":"+D63*SUMIF(Occupancy!$B$24:$EC$24,'Monthly Cash Flows'!D$12,Occupancy!$B$25:$EC$25)/'Project Summary'!$J$12","v":3129.6594510507025},{"$f":"+E63*SUMIF(Occupancy!$B$24:$EC$24,'Monthly Cash Flows'!E$12,Occupancy!$B$25:$EC$25)/'Project Summary'!$J$12","v":3129.6594510507025},{"$f":"+F63*SUMIF(Occupancy!$B$24:$EC$24,'Monthly Cash Flows'!F$12,Occupancy!$B$25:$EC$25)/'Project Summary'!$J$12","v":3188.0268410367285},{"$f":"+G63*SUMIF(Occupancy!$B$24:$EC$24,'Monthly Cash Flows'!G$12,Occupancy!$B$25:$EC$25)/'Project Summary'!$J$12","v":3188.0268410367285},{"$f":"+H63*SUMIF(Occupancy!$B$24:$EC$24,'Monthly Cash Flows'!H$12,Occupancy!$B$25:$EC$25)/'Project Summary'!$J$12","v":3188.0268410367285},{"$f":"+I63*SUMIF(Occupancy!$B$24:$EC$24,'Monthly Cash Flows'!I$12,Occupancy!$B$25:$EC$25)/'Project Summary'!$J$12","v":3188.0268410367285},{"$f":"+J63*SUMIF(Occupancy!$B$24:$EC$24,'Monthly Cash Flows'!J$12,Occupancy!$B$25:$EC$25)/'Project Summary'!$J$12","v":3220.4531688067427},{"$f":"+K63*SUMIF(Occupancy!$B$24:$EC$24,'Monthly Cash Flows'!K$12,Occupancy!$B$25:$EC$25)/'Project Summary'!$J$12","v":3220.4531688067427},{"$f":"+L63*SUMIF(Occupancy!$B$24:$EC$24,'Monthly Cash Flows'!L$12,Occupancy!$B$25:$EC$25)/'Project Summary'!$J$12","v":3220.4531688067427},{"$f":"+M63*SUMIF(Occupancy!$B$24:$EC$24,'Monthly Cash Flows'!M$12,Occupancy!$B$25:$EC$25)/'Project Summary'!$J$12","v":3220.4531688067427},{"$f":"+N63*SUMIF(Occupancy!$B$24:$EC$24,'Monthly Cash Flows'!N$12,Occupancy!$B$25:$EC$25)/'Project Summary'!$J$12","v":3457.343057804027},{"$f":"+O63*SUMIF(Occupancy!$B$24:$EC$24,'Monthly Cash Flows'!O$12,Occupancy!$B$25:$EC$25)/'Project Summary'!$J$12","v":3457.343057804027},{"$f":"+P63*SUMIF(Occupancy!$B$24:$EC$24,'Monthly Cash Flows'!P$12,Occupancy!$B$25:$EC$25)/'Project Summary'!$J$12","v":3457.343057804027},{"$f":"+Q63*SUMIF(Occupancy!$B$24:$EC$24,'Monthly Cash Flows'!Q$12,Occupancy!$B$25:$EC$25)/'Project Summary'!$J$12","v":3457.343057804027},{"$f":"+R63*SUMIF(Occupancy!$B$24:$EC$24,'Monthly Cash Flows'!R$12,Occupancy!$B$25:$EC$25)/'Project Summary'!$J$12","v":3490.7421754071415},{"$f":"+S63*SUMIF(Occupancy!$B$24:$EC$24,'Monthly Cash Flows'!S$12,Occupancy!$B$25:$EC$25)/'Project Summary'!$J$12","v":3564.2202341339939},{"$f":"+T63*SUMIF(Occupancy!$B$24:$EC$24,'Monthly Cash Flows'!T$12,Occupancy!$B$25:$EC$25)/'Project Summary'!$J$12","v":3564.2202341339939},{"$f":"+U63*SUMIF(Occupancy!$B$24:$EC$24,'Monthly Cash Flows'!U$12,Occupancy!$B$25:$EC$25)/'Project Summary'!$J$12","v":3564.2202341339939},{"$f":"+V63*SUMIF(Occupancy!$B$24:$EC$24,'Monthly Cash Flows'!V$12,Occupancy!$B$25:$EC$25)/'Project Summary'!$J$12","v":3564.2202341339939},{"$f":"+W63*SUMIF(Occupancy!$B$24:$EC$24,'Monthly Cash Flows'!W$12,Occupancy!$B$25:$EC$25)/'Project Summary'!$J$12","v":3564.2202341339939},{"$f":"+X63*SUMIF(Occupancy!$B$24:$EC$24,'Monthly Cash Flows'!X$12,Occupancy!$B$25:$EC$25)/'Project Summary'!$J$12","v":3564.2202341339939},{"$f":"+Y63*SUMIF(Occupancy!$B$24:$EC$24,'Monthly Cash Flows'!Y$12,Occupancy!$B$25:$EC$25)/'Project Summary'!$J$12","v":3564.2202341339939},{"$f":"+Z63*SUMIF(Occupancy!$B$24:$EC$24,'Monthly Cash Flows'!Z$12,Occupancy!$B$25:$EC$25)/'Project Summary'!$J$12","v":3671.1468411580145},{"$f":"+AA63*SUMIF(Occupancy!$B$24:$EC$24,'Monthly Cash Flows'!AA$12,Occupancy!$B$25:$EC$25)/'Project Summary'!$J$12","v":3671.1468411580145},{"$f":"+AB63*SUMIF(Occupancy!$B$24:$EC$24,'Monthly Cash Flows'!AB$12,Occupancy!$B$25:$EC$25)/'Project Summary'!$J$12","v":3671.1468411580145},{"$f":"+AC63*SUMIF(Occupancy!$B$24:$EC$24,'Monthly Cash Flows'!AC$12,Occupancy!$B$25:$EC$25)/'Project Summary'!$J$12","v":3671.1468411580145},{"$f":"+AD63*SUMIF(Occupancy!$B$24:$EC$24,'Monthly Cash Flows'!AD$12,Occupancy!$B$25:$EC$25)/'Project Summary'!$J$12","v":3671.1468411580145},{"$f":"+AE63*SUMIF(Occupancy!$B$24:$EC$24,'Monthly Cash Flows'!AE$12,Occupancy!$B$25:$EC$25)/'Project Summary'!$J$12","v":3671.1468411580145},{"$f":"+AF63*SUMIF(Occupancy!$B$24:$EC$24,'Monthly Cash Flows'!AF$12,Occupancy!$B$25:$EC$25)/'Project Summary'!$J$12","v":3671.1468411580145},{"$f":"+AG63*SUMIF(Occupancy!$B$24:$EC$24,'Monthly Cash Flows'!AG$12,Occupancy!$B$25:$EC$25)/'Project Summary'!$J$12","v":3671.1468411580145},{"$f":"+AH63*SUMIF(Occupancy!$B$24:$EC$24,'Monthly Cash Flows'!AH$12,Occupancy!$B$25:$EC$25)/'Project Summary'!$J$12","v":3671.1468411580145},{"$f":"+AI63*SUMIF(Occupancy!$B$24:$EC$24,'Monthly Cash Flows'!AI$12,Occupancy!$B$25:$EC$25)/'Project Summary'!$J$12","v":3671.1468411580145},{"$f":"+AJ63*SUMIF(Occupancy!$B$24:$EC$24,'Monthly Cash Flows'!AJ$12,Occupancy!$B$25:$EC$25)/'Project Summary'!$J$12","v":3671.1468411580145},{"$f":"+AK63*SUMIF(Occupancy!$B$24:$EC$24,'Monthly Cash Flows'!AK$12,Occupancy!$B$25:$EC$25)/'Project Summary'!$J$12","v":3671.1468411580145},{"$f":"+AL63*SUMIF(Occupancy!$B$24:$EC$24,'Monthly Cash Flows'!AL$12,Occupancy!$B$25:$EC$25)/'Project Summary'!$J$12","v":3781.2812463927548},{"$f":"+AM63*SUMIF(Occupancy!$B$24:$EC$24,'Monthly Cash Flows'!AM$12,Occupancy!$B$25:$EC$25)/'Project Summary'!$J$12","v":3781.2812463927548},{"$f":"+AN63*SUMIF(Occupancy!$B$24:$EC$24,'Monthly Cash Flows'!AN$12,Occupancy!$B$25:$EC$25)/'Project Summary'!$J$12","v":3781.2812463927548},{"$f":"+AO63*SUMIF(Occupancy!$B$24:$EC$24,'Monthly Cash Flows'!AO$12,Occupancy!$B$25:$EC$25)/'Project Summary'!$J$12","v":3781.2812463927548},{"$f":"+AP63*SUMIF(Occupancy!$B$24:$EC$24,'Monthly Cash Flows'!AP$12,Occupancy!$B$25:$EC$25)/'Project Summary'!$J$12","v":3781.2812463927548},{"$f":"+AQ63*SUMIF(Occupancy!$B$24:$EC$24,'Monthly Cash Flows'!AQ$12,Occupancy!$B$25:$EC$25)/'Project Summary'!$J$12","v":3781.2812463927548},{"$f":"+AR63*SUMIF(Occupancy!$B$24:$EC$24,'Monthly Cash Flows'!AR$12,Occupancy!$B$25:$EC$25)/'Project Summary'!$J$12","v":3781.2812463927548},{"$f":"+AS63*SUMIF(Occupancy!$B$24:$EC$24,'Monthly Cash Flows'!AS$12,Occupancy!$B$25:$EC$25)/'Project Summary'!$J$12","v":3781.2812463927548},{"$f":"+AT63*SUMIF(Occupancy!$B$24:$EC$24,'Monthly Cash Flows'!AT$12,Occupancy!$B$25:$EC$25)/'Project Summary'!$J$12","v":3781.2812463927548},{"$f":"+AU63*SUMIF(Occupancy!$B$24:$EC$24,'Monthly Cash Flows'!AU$12,Occupancy!$B$25:$EC$25)/'Project Summary'!$J$12","v":3781.2812463927548},{"$f":"+AV63*SUMIF(Occupancy!$B$24:$EC$24,'Monthly Cash Flows'!AV$12,Occupancy!$B$25:$EC$25)/'Project Summary'!$J$12","v":3781.2812463927548},{"$f":"+AW63*SUMIF(Occupancy!$B$24:$EC$24,'Monthly Cash Flows'!AW$12,Occupancy!$B$25:$EC$25)/'Project Summary'!$J$12","v":3781.2812463927548},{"$f":"+AX63*SUMIF(Occupancy!$B$24:$EC$24,'Monthly Cash Flows'!AX$12,Occupancy!$B$25:$EC$25)/'Project Summary'!$J$12","v":3894.7196837845377},{"$f":"+AY63*SUMIF(Occupancy!$B$24:$EC$24,'Monthly Cash Flows'!AY$12,Occupancy!$B$25:$EC$25)/'Project Summary'!$J$12","v":3894.7196837845377},{"$f":"+AZ63*SUMIF(Occupancy!$B$24:$EC$24,'Monthly Cash Flows'!AZ$12,Occupancy!$B$25:$EC$25)/'Project Summary'!$J$12","v":3894.7196837845377},{"$f":"+BA63*SUMIF(Occupancy!$B$24:$EC$24,'Monthly Cash Flows'!BA$12,Occupancy!$B$25:$EC$25)/'Project Summary'!$J$12","v":3894.7196837845377},{"$f":"+BB63*SUMIF(Occupancy!$B$24:$EC$24,'Monthly Cash Flows'!BB$12,Occupancy!$B$25:$EC$25)/'Project Summary'!$J$12","v":3894.7196837845377},{"$f":"+BC63*SUMIF(Occupancy!$B$24:$EC$24,'Monthly Cash Flows'!BC$12,Occupancy!$B$25:$EC$25)/'Project Summary'!$J$12","v":3894.7196837845377},{"$f":"+BD63*SUMIF(Occupancy!$B$24:$EC$24,'Monthly Cash Flows'!BD$12,Occupancy!$B$25:$EC$25)/'Project Summary'!$J$12","v":3894.7196837845377},{"$f":"+BE63*SUMIF(Occupancy!$B$24:$EC$24,'Monthly Cash Flows'!BE$12,Occupancy!$B$25:$EC$25)/'Project Summary'!$J$12","v":3894.7196837845377},{"$f":"+BF63*SUMIF(Occupancy!$B$24:$EC$24,'Monthly Cash Flows'!BF$12,Occupancy!$B$25:$EC$25)/'Project Summary'!$J$12","v":3894.7196837845377},{"$f":"+BG63*SUMIF(Occupancy!$B$24:$EC$24,'Monthly Cash Flows'!BG$12,Occupancy!$B$25:$EC$25)/'Project Summary'!$J$12","v":3894.7196837845377},{"$f":"+BH63*SUMIF(Occupancy!$B$24:$EC$24,'Monthly Cash Flows'!BH$12,Occupancy!$B$25:$EC$25)/'Project Summary'!$J$12","v":3894.7196837845377},{"$f":"+BI63*SUMIF(Occupancy!$B$24:$EC$24,'Monthly Cash Flows'!BI$12,Occupancy!$B$25:$EC$25)/'Project Summary'!$J$12","v":3894.7196837845377},{"$f":"+BJ63*SUMIF(Occupancy!$B$24:$EC$24,'Monthly Cash Flows'!BJ$12,Occupancy!$B$25:$EC$25)/'Project Summary'!$J$12","v":4011.5612742980738},{"$f":"+BK63*SUMIF(Occupancy!$B$24:$EC$24,'Monthly Cash Flows'!BK$12,Occupancy!$B$25:$EC$25)/'Project Summary'!$J$12","v":4011.5612742980738},{"$f":"+BL63*SUMIF(Occupancy!$B$24:$EC$24,'Monthly Cash Flows'!BL$12,Occupancy!$B$25:$EC$25)/'Project Summary'!$J$12","v":4011.5612742980738},{"$f":"+BM63*SUMIF(Occupancy!$B$24:$EC$24,'Monthly Cash Flows'!BM$12,Occupancy!$B$25:$EC$25)/'Project Summary'!$J$12","v":4011.5612742980738},{"$f":"+BN63*SUMIF(Occupancy!$B$24:$EC$24,'Monthly Cash Flows'!BN$12,Occupancy!$B$25:$EC$25)/'Project Summary'!$J$12","v":4011.5612742980738},{"$f":"+BO63*SUMIF(Occupancy!$B$24:$EC$24,'Monthly Cash Flows'!BO$12,Occupancy!$B$25:$EC$25)/'Project Summary'!$J$12","v":4011.5612742980738},{"$f":"+BP63*SUMIF(Occupancy!$B$24:$EC$24,'Monthly Cash Flows'!BP$12,Occupancy!$B$25:$EC$25)/'Project Summary'!$J$12","v":4011.5612742980738},{"$f":"+BQ63*SUMIF(Occupancy!$B$24:$EC$24,'Monthly Cash Flows'!BQ$12,Occupancy!$B$25:$EC$25)/'Project Summary'!$J$12","v":4011.5612742980738},{"$f":"+BR63*SUMIF(Occupancy!$B$24:$EC$24,'Monthly Cash Flows'!BR$12,Occupancy!$B$25:$EC$25)/'Project Summary'!$J$12","v":4011.5612742980738},{"$f":"+BS63*SUMIF(Occupancy!$B$24:$EC$24,'Monthly Cash Flows'!BS$12,Occupancy!$B$25:$EC$25)/'Project Summary'!$J$12","v":4011.5612742980738},{"$f":"+BT63*SUMIF(Occupancy!$B$24:$EC$24,'Monthly Cash Flows'!BT$12,Occupancy!$B$25:$EC$25)/'Project Summary'!$J$12","v":4011.5612742980738},{"$f":"+BU63*SUMIF(Occupancy!$B$24:$EC$24,'Monthly Cash Flows'!BU$12,Occupancy!$B$25:$EC$25)/'Project Summary'!$J$12","v":4011.5612742980738},{"$f":"+BV63*SUMIF(Occupancy!$B$24:$EC$24,'Monthly Cash Flows'!BV$12,Occupancy!$B$25:$EC$25)/'Project Summary'!$J$12","v":4131.908112527015},{"$f":"+BW63*SUMIF(Occupancy!$B$24:$EC$24,'Monthly Cash Flows'!BW$12,Occupancy!$B$25:$EC$25)/'Project Summary'!$J$12","v":4131.908112527015},{"$f":"+BX63*SUMIF(Occupancy!$B$24:$EC$24,'Monthly Cash Flows'!BX$12,Occupancy!$B$25:$EC$25)/'Project Summary'!$J$12","v":4131.908112527015},{"$f":"+BY63*SUMIF(Occupancy!$B$24:$EC$24,'Monthly Cash Flows'!BY$12,Occupancy!$B$25:$EC$25)/'Project Summary'!$J$12","v":4131.908112527015},{"$f":"+BZ63*SUMIF(Occupancy!$B$24:$EC$24,'Monthly Cash Flows'!BZ$12,Occupancy!$B$25:$EC$25)/'Project Summary'!$J$12","v":4131.908112527015},{"$f":"+CA63*SUMIF(Occupancy!$B$24:$EC$24,'Monthly Cash Flows'!CA$12,Occupancy!$B$25:$EC$25)/'Project Summary'!$J$12","v":4131.908112527015},{"$f":"+CB63*SUMIF(Occupancy!$B$24:$EC$24,'Monthly Cash Flows'!CB$12,Occupancy!$B$25:$EC$25)/'Project Summary'!$J$12","v":4131.908112527015},{"$f":"+CC63*SUMIF(Occupancy!$B$24:$EC$24,'Monthly Cash Flows'!CC$12,Occupancy!$B$25:$EC$25)/'Project Summary'!$J$12","v":4131.908112527015},{"$f":"+CD63*SUMIF(Occupancy!$B$24:$EC$24,'Monthly Cash Flows'!CD$12,Occupancy!$B$25:$EC$25)/'Project Summary'!$J$12","v":4131.908112527015},{"$f":"+CE63*SUMIF(Occupancy!$B$24:$EC$24,'Monthly Cash Flows'!CE$12,Occupancy!$B$25:$EC$25)/'Project Summary'!$J$12","v":4131.908112527015},{"$f":"+CF63*SUMIF(Occupancy!$B$24:$EC$24,'Monthly Cash Flows'!CF$12,Occupancy!$B$25:$EC$25)/'Project Summary'!$J$12","v":4131.908112527015},{"$f":"+CG63*SUMIF(Occupancy!$B$24:$EC$24,'Monthly Cash Flows'!CG$12,Occupancy!$B$25:$EC$25)/'Project Summary'!$J$12","v":4131.908112527015},{"$f":"+CH63*SUMIF(Occupancy!$B$24:$EC$24,'Monthly Cash Flows'!CH$12,Occupancy!$B$25:$EC$25)/'Project Summary'!$J$12","v":4255.8653559028262},{"$f":"+CI63*SUMIF(Occupancy!$B$24:$EC$24,'Monthly Cash Flows'!CI$12,Occupancy!$B$25:$EC$25)/'Project Summary'!$J$12","v":4255.8653559028262},{"$f":"+CJ63*SUMIF(Occupancy!$B$24:$EC$24,'Monthly Cash Flows'!CJ$12,Occupancy!$B$25:$EC$25)/'Project Summary'!$J$12","v":4255.8653559028262},{"$f":"+CK63*SUMIF(Occupancy!$B$24:$EC$24,'Monthly Cash Flows'!CK$12,Occupancy!$B$25:$EC$25)/'Project Summary'!$J$12","v":4255.8653559028262},{"$f":"+CL63*SUMIF(Occupancy!$B$24:$EC$24,'Monthly Cash Flows'!CL$12,Occupancy!$B$25:$EC$25)/'Project Summary'!$J$12","v":4255.8653559028262},{"$f":"+CM63*SUMIF(Occupancy!$B$24:$EC$24,'Monthly Cash Flows'!CM$12,Occupancy!$B$25:$EC$25)/'Project Summary'!$J$12","v":4255.8653559028262},{"$f":"+CN63*SUMIF(Occupancy!$B$24:$EC$24,'Monthly Cash Flows'!CN$12,Occupancy!$B$25:$EC$25)/'Project Summary'!$J$12","v":4255.8653559028262},{"$f":"+CO63*SUMIF(Occupancy!$B$24:$EC$24,'Monthly Cash Flows'!CO$12,Occupancy!$B$25:$EC$25)/'Project Summary'!$J$12","v":4255.8653559028262},{"$f":"+CP63*SUMIF(Occupancy!$B$24:$EC$24,'Monthly Cash Flows'!CP$12,Occupancy!$B$25:$EC$25)/'Project Summary'!$J$12","v":4255.8653559028262},{"$f":"+CQ63*SUMIF(Occupancy!$B$24:$EC$24,'Monthly Cash Flows'!CQ$12,Occupancy!$B$25:$EC$25)/'Project Summary'!$J$12","v":4255.8653559028262},{"$f":"+CR63*SUMIF(Occupancy!$B$24:$EC$24,'Monthly Cash Flows'!CR$12,Occupancy!$B$25:$EC$25)/'Project Summary'!$J$12","v":4255.8653559028262},{"$f":"+CS63*SUMIF(Occupancy!$B$24:$EC$24,'Monthly Cash Flows'!CS$12,Occupancy!$B$25:$EC$25)/'Project Summary'!$J$12","v":4255.8653559028262},{"$f":"+CT63*SUMIF(Occupancy!$B$24:$EC$24,'Monthly Cash Flows'!CT$12,Occupancy!$B$25:$EC$25)/'Project Summary'!$J$12","v":4383.5413165799109},{"$f":"+CU63*SUMIF(Occupancy!$B$24:$EC$24,'Monthly Cash Flows'!CU$12,Occupancy!$B$25:$EC$25)/'Project Summary'!$J$12","v":4383.5413165799109},{"$f":"+CV63*SUMIF(Occupancy!$B$24:$EC$24,'Monthly Cash Flows'!CV$12,Occupancy!$B$25:$EC$25)/'Project Summary'!$J$12","v":4383.5413165799109},{"$f":"+CW63*SUMIF(Occupancy!$B$24:$EC$24,'Monthly Cash Flows'!CW$12,Occupancy!$B$25:$EC$25)/'Project Summary'!$J$12","v":4383.5413165799109},{"$f":"+CX63*SUMIF(Occupancy!$B$24:$EC$24,'Monthly Cash Flows'!CX$12,Occupancy!$B$25:$EC$25)/'Project Summary'!$J$12","v":4383.5413165799109},{"$f":"+CY63*SUMIF(Occupancy!$B$24:$EC$24,'Monthly Cash Flows'!CY$12,Occupancy!$B$25:$EC$25)/'Project Summary'!$J$12","v":4383.5413165799109},{"$f":"+CZ63*SUMIF(Occupancy!$B$24:$EC$24,'Monthly Cash Flows'!CZ$12,Occupancy!$B$25:$EC$25)/'Project Summary'!$J$12","v":4383.5413165799109},{"$f":"+DA63*SUMIF(Occupancy!$B$24:$EC$24,'Monthly Cash Flows'!DA$12,Occupancy!$B$25:$EC$25)/'Project Summary'!$J$12","v":4383.5413165799109},{"$f":"+DB63*SUMIF(Occupancy!$B$24:$EC$24,'Monthly Cash Flows'!DB$12,Occupancy!$B$25:$EC$25)/'Project Summary'!$J$12","v":4383.5413165799109},{"$f":"+DC63*SUMIF(Occupancy!$B$24:$EC$24,'Monthly Cash Flows'!DC$12,Occupancy!$B$25:$EC$25)/'Project Summary'!$J$12","v":4383.5413165799109},{"$f":"+DD63*SUMIF(Occupancy!$B$24:$EC$24,'Monthly Cash Flows'!DD$12,Occupancy!$B$25:$EC$25)/'Project Summary'!$J$12","v":4383.5413165799109},{"$f":"+DE63*SUMIF(Occupancy!$B$24:$EC$24,'Monthly Cash Flows'!DE$12,Occupancy!$B$25:$EC$25)/'Project Summary'!$J$12","v":4383.5413165799109},{"$f":"+DF63*SUMIF(Occupancy!$B$24:$EC$24,'Monthly Cash Flows'!DF$12,Occupancy!$B$25:$EC$25)/'Project Summary'!$J$12","v":4515.0475560773075},{"$f":"+DG63*SUMIF(Occupancy!$B$24:$EC$24,'Monthly Cash Flows'!DG$12,Occupancy!$B$25:$EC$25)/'Project Summary'!$J$12","v":4515.0475560773075},{"$f":"+DH63*SUMIF(Occupancy!$B$24:$EC$24,'Monthly Cash Flows'!DH$12,Occupancy!$B$25:$EC$25)/'Project Summary'!$J$12","v":4515.0475560773075},{"$f":"+DI63*SUMIF(Occupancy!$B$24:$EC$24,'Monthly Cash Flows'!DI$12,Occupancy!$B$25:$EC$25)/'Project Summary'!$J$12","v":4515.0475560773075},{"$f":"+DJ63*SUMIF(Occupancy!$B$24:$EC$24,'Monthly Cash Flows'!DJ$12,Occupancy!$B$25:$EC$25)/'Project Summary'!$J$12","v":4515.0475560773075},{"$f":"+DK63*SUMIF(Occupancy!$B$24:$EC$24,'Monthly Cash Flows'!DK$12,Occupancy!$B$25:$EC$25)/'Project Summary'!$J$12","v":4515.0475560773075},{"$f":"+DL63*SUMIF(Occupancy!$B$24:$EC$24,'Monthly Cash Flows'!DL$12,Occupancy!$B$25:$EC$25)/'Project Summary'!$J$12","v":4515.0475560773075},{"$f":"+DM63*SUMIF(Occupancy!$B$24:$EC$24,'Monthly Cash Flows'!DM$12,Occupancy!$B$25:$EC$25)/'Project Summary'!$J$12","v":4515.0475560773075},{"$f":"+DN63*SUMIF(Occupancy!$B$24:$EC$24,'Monthly Cash Flows'!DN$12,Occupancy!$B$25:$EC$25)/'Project Summary'!$J$12","v":4515.0475560773075},{"$f":"+DO63*SUMIF(Occupancy!$B$24:$EC$24,'Monthly Cash Flows'!DO$12,Occupancy!$B$25:$EC$25)/'Project Summary'!$J$12","v":4515.0475560773075},{"$f":"+DP63*SUMIF(Occupancy!$B$24:$EC$24,'Monthly Cash Flows'!DP$12,Occupancy!$B$25:$EC$25)/'Project Summary'!$J$12","v":4515.0475560773075},{"$f":"+DQ63*SUMIF(Occupancy!$B$24:$EC$24,'Monthly Cash Flows'!DQ$12,Occupancy!$B$25:$EC$25)/'Project Summary'!$J$12","v":4515.0475560773075},{"$f":"+DR63*SUMIF(Occupancy!$B$24:$EC$24,'Monthly Cash Flows'!DR$12,Occupancy!$B$25:$EC$25)/'Project Summary'!$J$12","v":4650.4989827596264},{"$f":"+DS63*SUMIF(Occupancy!$B$24:$EC$24,'Monthly Cash Flows'!DS$12,Occupancy!$B$25:$EC$25)/'Project Summary'!$J$12","v":4650.4989827596264},{"$f":"+DT63*SUMIF(Occupancy!$B$24:$EC$24,'Monthly Cash Flows'!DT$12,Occupancy!$B$25:$EC$25)/'Project Summary'!$J$12","v":4650.4989827596264},{"$f":"+DU63*SUMIF(Occupancy!$B$24:$EC$24,'Monthly Cash Flows'!DU$12,Occupancy!$B$25:$EC$25)/'Project Summary'!$J$12","v":4650.4989827596264},{"$f":"+DV63*SUMIF(Occupancy!$B$24:$EC$24,'Monthly Cash Flows'!DV$12,Occupancy!$B$25:$EC$25)/'Project Summary'!$J$12","v":4650.4989827596264},{"$f":"+DW63*SUMIF(Occupancy!$B$24:$EC$24,'Monthly Cash Flows'!DW$12,Occupancy!$B$25:$EC$25)/'Project Summary'!$J$12","v":4650.4989827596264},{"$f":"+DX63*SUMIF(Occupancy!$B$24:$EC$24,'Monthly Cash Flows'!DX$12,Occupancy!$B$25:$EC$25)/'Project Summary'!$J$12","v":4650.4989827596264},{"$f":"+DY63*SUMIF(Occupancy!$B$24:$EC$24,'Monthly Cash Flows'!DY$12,Occupancy!$B$25:$EC$25)/'Project Summary'!$J$12","v":4650.4989827596264},{"$f":"+DZ63*SUMIF(Occupancy!$B$24:$EC$24,'Monthly Cash Flows'!DZ$12,Occupancy!$B$25:$EC$25)/'Project Summary'!$J$12","v":4650.4989827596264},{"$f":"+EA63*SUMIF(Occupancy!$B$24:$EC$24,'Monthly Cash Flows'!EA$12,Occupancy!$B$25:$EC$25)/'Project Summary'!$J$12","v":4650.4989827596264},{"$f":"+EB63*SUMIF(Occupancy!$B$24:$EC$24,'Monthly Cash Flows'!EB$12,Occupancy!$B$25:$EC$25)/'Project Summary'!$J$12","v":4650.4989827596264},{"$f":"+EC63*SUMIF(Occupancy!$B$24:$EC$24,'Monthly Cash Flows'!EC$12,Occupancy!$B$25:$EC$25)/'Project Summary'!$J$12","v":4650.4989827596264}]
[null," ___________"," ___________"," ___________"," ___________"," ___________"," ___________"," ___________"," ___________"," ___________"," ___________"," ___________"," ___________"," ___________"," ___________"," ___________"," ___________"," ___________"," ___________"," ___________"," ___________"," ___________"," ___________"," ___________"," ___________"," ___________"," ___________"," ___________"," ___________"," ___________"," ___________"," ___________"," ___________"," ___________"," ___________"," ___________"," ___________"," ___________"," ___________"," ___________"," ___________"," ___________"," ___________"," ___________"," ___________"," ___________"," ___________"," ___________"," ___________"," ___________"," ___________"," ___________"," ___________"," ___________"," ___________"," ___________"," ___________"," ___________"," ___________"," ___________"," ___________"," ___________"," ___________"," ___________"," ___________"," ___________"," ___________"," ___________"," ___________"," ___________"," ___________"," ___________"," ___________"," ___________"," ___________"," ___________"," ___________"," ___________"," ___________"," ___________"," ___________"," ___________"," ___________"," ___________"," ___________"," ___________"," ___________"," ___________"," ___________"," ___________"," ___________"," ___________"," ___________"," ___________"," ___________"," ___________"," ___________"," ___________"," ___________"," ___________"," ___________"," ___________"," ___________"," ___________"," ___________"," ___________"," ___________"," ___________"," ___________"," ___________"," ___________"," ___________"," ___________"," ___________"," ___________"," ___________"," ___________"," ___________"," ___________"," ___________"," ___________"," ___________"," ___________"," ___________"," ___________"," ___________"," ___________"," ___________"," ___________"," ___________"," ___________"," ___________"," ___________"]
["  Total Reimbursement Revenue",{"$f":"+SUM(B22:B37)","v":28780.616645134069},{"$f":"+SUM(C22:C37)","v":28780.616645134069},28780.616645134069,28780.616645134069,29317.36816779603,29317.36816779603,29317.36816779603,29317.36816779603,29615.563458163782,29615.563458163782,29615.563458163782,29615.563458163782,31700.985384320171,31700.985384320171,31700.985384320171,31700.985384320171,32007.227756362368,32680.960974855207,32680.960974855207,32680.960974855207,32680.960974855207,32680.960974855207,32680.960974855207,32680.960974855207,33565.475913864357,33565.475913864357,33565.475913864357,33565.475913864357,33565.475913864357,33565.475913864357,33565.475913864357,33565.475913864357,33565.475913864357,33565.475913864357,33565.475913864357,33565.475913864357,34476.526301043777,34476.526301043777,34476.526301043777,34476.526301043777,34476.526301043777,34476.526301043777,34476.526301043777,34476.526301043777,34476.526301043777,34476.526301043777,34476.526301043777,34476.526301043777,35414.908199838588,35414.908199838588,35414.908199838588,35414.908199838588,35414.908199838588,35414.908199838588,35414.908199838588,35414.908199838588,35414.908199838588,35414.908199838588,35414.908199838588,35414.908199838588,36381.441555597237,36381.441555597237,36381.441555597237,36381.441555597237,36381.441555597237,{"$f":"+SUM(BO22:BO37)","v":36381.441555597237},36381.441555597237,36381.441555597237,36381.441555597237,36381.441555597237,36381.441555597237,36381.441555597237,37376.97091202865,37376.97091202865,37376.97091202865,37376.97091202865,37376.97091202865,37376.97091202865,37376.97091202865,37376.97091202865,37376.97091202865,37376.97091202865,37376.97091202865,37376.97091202865,38402.366149153,38402.366149153,38402.366149153,38402.366149153,38402.366149153,38402.366149153,38402.366149153,38402.366149153,38402.366149153,38402.366149153,38402.366149153,38402.366149153,39458.523243391086,39458.523243391086,39458.523243391086,39458.523243391086,39458.523243391086,39458.523243391086,39458.523243391086,39458.523243391086,39458.523243391086,39458.523243391086,39458.523243391086,39458.523243391086,40546.365050456297,40546.365050456297,40546.365050456297,40546.365050456297,40546.365050456297,40546.365050456297,40546.365050456297,40546.365050456297,40546.365050456297,40546.365050456297,40546.365050456297,40546.365050456297,41666.842111733495,41666.842111733495,41666.842111733495,41666.842111733495,41666.842111733495,41666.842111733495,41666.842111733495,41666.842111733495,41666.842111733495,{"$f":"+SUM(EA22:EA37)","v":41666.842111733495},41666.842111733495,41666.842111733495]
[]
[null," ___________"," ___________"," ___________"," ___________"," ___________"," ___________"," ___________"," ___________"," ___________"," ___________"," ___________"," ___________"," ___________"," ___________"," ___________"," ___________"," ___________"," ___________"," ___________"," ___________"," ___________"," ___________"," ___________"," ___________"," ___________"," ___________"," ___________"," ___________"," ___________"," ___________"," ___________"," ___________"," ___________"," ___________"," ___________"," ___________"," ___________"," ___________"," ___________"," ___________"," ___________"," ___________"," ___________"," ___________"," ___________"," ___________"," ___________"," ___________"," ___________"," ___________"," ___________"," ___________"," ___________"," ___________"," ___________"," ___________"," ___________"," ___________"," ___________"," ___________"," ___________"," ___________"," ___________"," ___________"," ___________"," ___________"," ___________"," ___________"," ___________"," ___________"," ___________"," ___________"," ___________"," ___________"," ___________"," ___________"," ___________"," ___________"," ___________"," ___________"," ___________"," ___________"," ___________"," ___________"," ___________"," ___________"," ___________"," ___________"," ___________"," ___________"," ___________"," ___________"," ___________"," ___________"," ___________"," ___________"," ___________"," ___________"," ___________"," ___________"," ___________"," ___________"," ___________"," ___________"," ___________"," ___________"," ___________"," ___________"," ___________"," ___________"," ___________"," ___________"," ___________"," ___________"," ___________"," ___________"," ___________"," ___________"," ___________"," ___________"," ___________"," ___________"," ___________"," ___________"," ___________"," ___________"," ___________"," ___________"," ___________"," ___________"," ___________"," ___________"]
["Total Potential Gross Revenue",{"$f":"+SUM(B39,B19)","v":108362.27497846739},{"$f":"+SUM(C39,C19)","v":108924.77497846741},108924.77497846741,108924.77497846741,111786.52650112937,111786.52650112937,111786.52650112937,111786.52650112937,113376.38845816378,113376.38845816378,113584.72179149713,114605.55512483047,121486.62705098683,121740.87705098683,121740.87705098683,122164.54371765351,123762.45275636236,129950.18597485519,129950.18597485519,129950.18597485519,131500.18597485521,131500.18597485521,131500.18597485521,131500.18597485521,133398.03424719768,133398.03424719768,133398.03424719768,133398.03424719768,133531.36758053102,133531.36758053102,133531.36758053102,133531.36758053102,133791.70091386436,133791.70091386436,133791.70091386436,133791.70091386436,134702.75130104378,134702.75130104378,134702.75130104378,134702.75130104378,134702.75130104378,134702.75130104378,134702.75130104378,134702.75130104378,134702.75130104378,134702.75130104378,134702.75130104378,134702.75130104378,135641.13319983857,136557.79986650526,136557.79986650526,136557.79986650526,136557.79986650526,136557.79986650526,136557.79986650526,136557.79986650526,136557.79986650526,136557.79986650526,136557.79986650526,136557.79986650526,137524.3332222639,138274.3332222639,138274.3332222639,138274.3332222639,138274.3332222639,{"$f":"+SUM(BO39,BO19)","v":138274.3332222639},138274.3332222639,138274.3332222639,138274.3332222639,138274.3332222639,138565.99988893059,140035.99988893059,141031.52924536201,141364.52924536201,141364.52924536201,141364.52924536201,141364.52924536201,141364.52924536201,141364.52924536201,141364.52924536201,141364.52924536201,141364.52924536201,141364.52924536201,141364.52924536201,142389.92448248636,142389.92448248636,142389.92448248636,142389.92448248636,142389.92448248636,142389.92448248636,142389.92448248636,142389.92448248636,142389.92448248636,142389.92448248636,142389.92448248636,142389.92448248636,143446.08157672442,143446.08157672442,143446.08157672442,143446.08157672442,143446.08157672442,143446.08157672442,143446.08157672442,143446.08157672442,143446.08157672442,143446.08157672442,143446.08157672442,143446.08157672442,144533.92338378966,145450.59005045632,145450.59005045632,145450.59005045632,145450.59005045632,145450.59005045632,145450.59005045632,145450.59005045632,145450.59005045632,145450.59005045632,145450.59005045632,145450.59005045632,146571.06711173352,146571.06711173352,146571.06711173352,146571.06711173352,146571.06711173352,146571.06711173352,146571.06711173352,146571.06711173352,146571.06711173352,{"$f":"+SUM(EA39,EA19)","v":146571.06711173352},146571.06711173352,146571.06711173352]
["  General Vacancy"]
[null," ___________"," ___________"," ___________"," ___________"," ___________"," ___________"," ___________"," ___________"," ___________"," ___________"," ___________"," ___________"," ___________"," ___________"," ___________"," ___________"," ___________"," ___________"," ___________"," ___________"," ___________"," ___________"," ___________"," ___________"," ___________"," ___________"," ___________"," ___________"," ___________"," ___________"," ___________"," ___________"," ___________"," ___________"," ___________"," ___________"," ___________"," ___________"," ___________"," ___________"," ___________"," ___________"," ___________"," ___________"," ___________"," ___________"," ___________"," ___________"," ___________"," ___________"," ___________"," ___________"," ___________"," ___________"," ___________"," ___________"," ___________"," ___________"," ___________"," ___________"," ___________"," ___________"," ___________"," ___________"," ___________"," ___________"," ___________"," ___________"," ___________"," ___________"," ___________"," ___________"," ___________"," ___________"," ___________"," ___________"," ___________"," ___________"," ___________"," ___________"," ___________"," ___________"," ___________"," ___________"," ___________"," ___________"," ___________"," ___________"," ___________"," ___________"," ___________"," ___________"," ___________"," ___________"," ___________"," ___________"," ___________"," ___________"," ___________"," ___________"," ___________"," ___________"," ___________"," ___________"," ___________"," ___________"," ___________"," ___________"," ___________"," ___________"," ___________"," ___________"," ___________"," ___________"," ___________"," ___________"," ___________"," ___________"," ___________"," ___________"," ___________"," ___________"," ___________"," ___________"," ___________"," ___________"," ___________"," ___________"," ___________"," ___________"," ___________"," ___________"]
["Effective Gross Revenue",{"$f":"+B42","v":108362.27497846739},{"$f":"+C42","v":108924.77497846741},108924.77497846741,108924.77497846741,111786.52650112937,111786.52650112937,111786.52650112937,111786.52650112937,113376.38845816378,113376.38845816378,113584.72179149713,114605.55512483047,121486.62705098683,121740.87705098683,121740.87705098683,122164.54371765351,123762.45275636236,129950.18597485519,129950.18597485519,129950.18597485519,131500.18597485521,131500.18597485521,131500.18597485521,131500.18597485521,133398.03424719768,133398.03424719768,133398.03424719768,133398.03424719768,133531.36758053102,133531.36758053102,133531.36758053102,133531.36758053102,133791.70091386436,133791.70091386436,133791.70091386436,133791.70091386436,134702.75130104378,134702.75130104378,134702.75130104378,134702.75130104378,134702.75130104378,134702.75130104378,134702.75130104378,134702.75130104378,134702.75130104378,134702.75130104378,134702.75130104378,134702.75130104378,135641.13319983857,136557.79986650526,136557.79986650526,136557.79986650526,136557.79986650526,136557.79986650526,136557.79986650526,136557.79986650526,136557.79986650526,136557.79986650526,136557.79986650526,136557.79986650526,137524.3332222639,138274.3332222639,138274.3332222639,138274.3332222639,138274.3332222639,{"$f":"+BO42","v":138274.3332222639},138274.3332222639,138274.3332222639,138274.3332222639,138274.3332222639,138565.99988893059,140035.99988893059,141031.52924536201,141364.52924536201,141364.52924536201,141364.52924536201,141364.52924536201,141364.52924536201,141364.52924536201,141364.52924536201,141364.52924536201,141364.52924536201,141364.52924536201,141364.52924536201,142389.92448248636,142389.92448248636,142389.92448248636,142389.92448248636,142389.92448248636,142389.92448248636,142389.92448248636,142389.92448248636,142389.92448248636,142389.92448248636,142389.92448248636,142389.92448248636,143446.08157672442,143446.08157672442,143446.08157672442,143446.08157672442,143446.08157672442,143446.08157672442,143446.08157672442,143446.08157672442,143446.08157672442,143446.08157672442,143446.08157672442,143446.08157672442,144533.92338378966,145450.59005045632,145450.59005045632,145450.59005045632,145450.59005045632,145450.59005045632,145450.59005045632,145450.59005045632,145450.59005045632,145450.59005045632,145450.59005045632,145450.59005045632,146571.06711173352,146571.06711173352,146571.06711173352,146571.06711173352,146571.06711173352,146571.06711173352,146571.06711173352,146571.06711173352,146571.06711173352,{"$f":"+EA42","v":146571.06711173352},146571.06711173352,146571.06711173352]
[null," ___________"," ___________"," ___________"," ___________"," ___________"," ___________"," ___________"," ___________"," ___________"," ___________"," ___________"," ___________"," ___________"," ___________"," ___________"," ___________"," ___________"," ___________"," ___________"," ___________"," ___________"," ___________"," ___________"," ___________"," ___________"," ___________"," ___________"," ___________"," ___________"," ___________"," ___________"," ___________"," ___________"," ___________"," ___________"," ___________"," ___________"," ___________"," ___________"," ___________"," ___________"," ___________"," ___________"," ___________"," ___________"," ___________"," ___________"," ___________"," ___________"," ___________"," ___________"," ___________"," ___________"," ___________"," ___________"," ___________"," ___________"," ___________"," ___________"," ___________"," ___________"," ___________"," ___________"," ___________"," ___________"," ___________"," ___________"," ___________"," ___________"," ___________"," ___________"," ___________"," ___________"," ___________"," ___________"," ___________"," ___________"," ___________"," ___________"," ___________"," ___________"," ___________"," ___________"," ___________"," ___________"," ___________"," ___________"," ___________"," ___________"," ___________"," ___________"," ___________"," ___________"," ___________"," ___________"," ___________"," ___________"," ___________"," ___________"," ___________"," ___________"," ___________"," ___________"," ___________"," ___________"," ___________"," ___________"," ___________"," ___________"," ___________"," ___________"," ___________"," ___________"," ___________"," ___________"," ___________"," ___________"," ___________"," ___________"," ___________"," ___________"," ___________"," ___________"," ___________"," ___________"," ___________"," ___________"," ___________"," ___________"," ___________"," ___________"," ___________"]
["Operating Expenses"]
["Management Fee",3434.75,{"$f":"+IF(MOD(C$12,12)=1,B48*1.03,B48)","v":3434.75},{"$f":"+IF(MOD(D$12,12)=1,C48*1.03,C48)","v":3434.75},3434.75,3434.75,3434.75,3434.75,3434.75,3434.75,3434.75,3434.75,3434.75,3537.7925,3537.7925,3537.7925,3537.7925,3537.7925,3537.7925,3537.7925,3537.7925,3537.7925,3537.7925,3537.7925,3537.7925,3643.9262750000003,3643.9262750000003,3643.9262750000003,3643.9262750000003,3643.9262750000003,3643.9262750000003,3643.9262750000003,3643.9262750000003,3643.9262750000003,3643.9262750000003,3643.9262750000003,3643.9262750000003,3753.2440632500002,3753.2440632500002,3753.2440632500002,3753.2440632500002,3753.2440632500002,3753.2440632500002,3753.2440632500002,3753.2440632500002,3753.2440632500002,3753.2440632500002,3753.2440632500002,3753.2440632500002,3865.8413851475002,3865.8413851475002,3865.8413851475002,3865.8413851475002,3865.8413851475002,3865.8413851475002,3865.8413851475002,3865.8413851475002,3865.8413851475002,3865.8413851475002,3865.8413851475002,3865.8413851475002,3981.8166267019251,3981.8166267019251,3981.8166267019251,3981.8166267019251,3981.8166267019251,3981.8166267019251,{"$f":"+IF(MOD(BP$12,12)=1,BO48*1.03,BO48)","v":3981.8166267019251},3981.8166267019251,3981.8166267019251,3981.8166267019251,3981.8166267019251,3981.8166267019251,4101.2711255029826,4101.2711255029826,4101.2711255029826,4101.2711255029826,4101.2711255029826,4101.2711255029826,4101.2711255029826,4101.2711255029826,4101.2711255029826,4101.2711255029826,4101.2711255029826,4101.2711255029826,4224.3092592680723,4224.3092592680723,4224.3092592680723,4224.3092592680723,4224.3092592680723,4224.3092592680723,4224.3092592680723,4224.3092592680723,4224.3092592680723,4224.3092592680723,4224.3092592680723,4224.3092592680723,4351.0385370461145,4351.0385370461145,4351.0385370461145,4351.0385370461145,4351.0385370461145,4351.0385370461145,4351.0385370461145,4351.0385370461145,4351.0385370461145,4351.0385370461145,4351.0385370461145,4351.0385370461145,4481.5696931574976,4481.5696931574976,4481.5696931574976,4481.5696931574976,4481.5696931574976,4481.5696931574976,4481.5696931574976,4481.5696931574976,4481.5696931574976,4481.5696931574976,4481.5696931574976,4481.5696931574976,4616.0167839522228,4616.0167839522228,4616.0167839522228,4616.0167839522228,4616.0167839522228,4616.0167839522228,4616.0167839522228,4616.0167839522228,4616.0167839522228,4616.0167839522228,{"$f":"+IF(MOD(EB$12,12)=1,EA48*1.03,EA48)","v":4616.0167839522228},4616.0167839522228]
["Water & Sewer",532.33333333333337,{"$f":"+IF(MOD(C$12,12)=1,B49*1.03,B49)","v":532.33333333333337},532.33333333333337,532.33333333333337,532.33333333333337,532.33333333333337,532.33333333333337,532.33333333333337,532.33333333333337,532.33333333333337,532.33333333333337,532.33333333333337,548.3033333333334,548.3033333333334,548.3033333333334,548.3033333333334,548.3033333333334,548.3033333333334,548.3033333333334,548.3033333333334,548.3033333333334,548.3033333333334,548.3033333333334,548.3033333333334,564.75243333333344,564.75243333333344,564.75243333333344,564.75243333333344,564.75243333333344,564.75243333333344,564.75243333333344,564.75243333333344,564.75243333333344,564.75243333333344,564.75243333333344,564.75243333333344,581.69500633333348,581.69500633333348,581.69500633333348,581.69500633333348,581.69500633333348,581.69500633333348,581.69500633333348,581.69500633333348,581.69500633333348,581.69500633333348,581.69500633333348,581.69500633333348,599.14585652333346,599.14585652333346,599.14585652333346,599.14585652333346,599.14585652333346,599.14585652333346,599.14585652333346,599.14585652333346,599.14585652333346,599.14585652333346,599.14585652333346,599.14585652333346,617.12023221903348,617.12023221903348,617.12023221903348,617.12023221903348,617.12023221903348,{"$f":"+IF(MOD(BO$12,12)=1,BN49*1.03,BN49)","v":617.12023221903348},617.12023221903348,617.12023221903348,617.12023221903348,617.12023221903348,617.12023221903348,617.12023221903348,635.63383918560453,635.63383918560453,635.63383918560453,635.63383918560453,635.63383918560453,635.63383918560453,635.63383918560453,635.63383918560453,635.63383918560453,635.63383918560453,635.63383918560453,635.63383918560453,654.70285436117263,654.70285436117263,654.70285436117263,654.70285436117263,654.70285436117263,654.70285436117263,654.70285436117263,654.70285436117263,654.70285436117263,654.70285436117263,654.70285436117263,654.70285436117263,674.34393999200779,674.34393999200779,674.34393999200779,674.34393999200779,674.34393999200779,674.34393999200779,674.34393999200779,674.34393999200779,674.34393999200779,674.34393999200779,674.34393999200779,674.34393999200779,694.57425819176808,694.57425819176808,694.57425819176808,694.57425819176808,694.57425819176808,694.57425819176808,694.57425819176808,694.57425819176808,694.57425819176808,694.57425819176808,694.57425819176808,694.57425819176808,715.41148593752109,715.41148593752109,715.41148593752109,715.41148593752109,715.41148593752109,715.41148593752109,715.41148593752109,715.41148593752109,715.41148593752109,{"$f":"+IF(MOD(EA$12,12)=1,DZ49*1.03,DZ49)","v":715.41148593752109},715.41148593752109,715.41148593752109]
["Electricity",1865.5833333333333,{"$f":"+IF(MOD(C$12,12)=1,B50*1.03,B50)","v":1865.5833333333333},1865.5833333333333,1865.5833333333333,1865.5833333333333,1865.5833333333333,1865.5833333333333,1865.5833333333333,1865.5833333333333,1865.5833333333333,1865.5833333333333,1865.5833333333333,1921.5508333333332,1921.5508333333332,1921.5508333333332,1921.5508333333332,1921.5508333333332,1921.5508333333332,1921.5508333333332,1921.5508333333332,1921.5508333333332,1921.5508333333332,1921.5508333333332,1921.5508333333332,1979.1973583333333,1979.1973583333333,1979.1973583333333,1979.1973583333333,1979.1973583333333,1979.1973583333333,1979.1973583333333,1979.1973583333333,1979.1973583333333,1979.1973583333333,1979.1973583333333,1979.1973583333333,2038.5732790833333,2038.5732790833333,2038.5732790833333,2038.5732790833333,2038.5732790833333,2038.5732790833333,2038.5732790833333,2038.5732790833333,2038.5732790833333,2038.5732790833333,2038.5732790833333,2038.5732790833333,2099.7304774558334,2099.7304774558334,2099.7304774558334,2099.7304774558334,2099.7304774558334,2099.7304774558334,2099.7304774558334,2099.7304774558334,2099.7304774558334,2099.7304774558334,2099.7304774558334,2099.7304774558334,2162.7223917795086,2162.7223917795086,2162.7223917795086,2162.7223917795086,2162.7223917795086,{"$f":"+IF(MOD(BO$12,12)=1,BN50*1.03,BN50)","v":2162.7223917795086},2162.7223917795086,2162.7223917795086,2162.7223917795086,2162.7223917795086,2162.7223917795086,2162.7223917795086,2227.6040635328941,2227.6040635328941,2227.6040635328941,2227.6040635328941,2227.6040635328941,2227.6040635328941,2227.6040635328941,2227.6040635328941,2227.6040635328941,2227.6040635328941,2227.6040635328941,2227.6040635328941,2294.4321854388809,2294.4321854388809,2294.4321854388809,2294.4321854388809,2294.4321854388809,2294.4321854388809,2294.4321854388809,2294.4321854388809,2294.4321854388809,2294.4321854388809,2294.4321854388809,2294.4321854388809,2363.2651510020473,2363.2651510020473,2363.2651510020473,2363.2651510020473,2363.2651510020473,2363.2651510020473,2363.2651510020473,2363.2651510020473,2363.2651510020473,2363.2651510020473,2363.2651510020473,2363.2651510020473,2434.1631055321086,2434.1631055321086,2434.1631055321086,2434.1631055321086,2434.1631055321086,2434.1631055321086,2434.1631055321086,2434.1631055321086,2434.1631055321086,2434.1631055321086,2434.1631055321086,2434.1631055321086,2507.1879986980721,2507.1879986980721,2507.1879986980721,2507.1879986980721,2507.1879986980721,2507.1879986980721,2507.1879986980721,2507.1879986980721,2507.1879986980721,{"$f":"+IF(MOD(EA$12,12)=1,DZ50*1.03,DZ50)","v":2507.1879986980721},2507.1879986980721,2507.1879986980721]
["Landscaping",895.41666666666663,{"$f":"+IF(MOD(C$12,12)=1,B51*1.03,B51)","v":895.41666666666663},895.41666666666663,895.41666666666663,895.41666666666663,895.41666666666663,895.41666666666663,895.41666666666663,895.41666666666663,895.41666666666663,895.41666666666663,895.41666666666663,922.2791666666667,922.2791666666667,922.2791666666667,922.2791666666667,922.2791666666667,922.2791666666667,922.2791666666667,922.2791666666667,922.2791666666667,922.2791666666667,922.2791666666667,922.2791666666667,949.94754166666667,949.94754166666667,949.94754166666667,949.94754166666667,949.94754166666667,949.94754166666667,949.94754166666667,949.94754166666667,949.94754166666667,949.94754166666667,949.94754166666667,949.94754166666667,978.44596791666675,978.44596791666675,978.44596791666675,978.44596791666675,978.44596791666675,978.44596791666675,978.44596791666675,978.44596791666675,978.44596791666675,978.44596791666675,978.44596791666675,978.44596791666675,1007.7993469541668,1007.7993469541668,1007.7993469541668,1007.7993469541668,1007.7993469541668,1007.7993469541668,1007.7993469541668,1007.7993469541668,1007.7993469541668,1007.7993469541668,1007.7993469541668,1007.7993469541668,1038.0333273627919,1038.0333273627919,1038.0333273627919,1038.0333273627919,1038.0333273627919,{"$f":"+IF(MOD(BO$12,12)=1,BN51*1.03,BN51)","v":1038.0333273627919},1038.0333273627919,1038.0333273627919,1038.0333273627919,1038.0333273627919,1038.0333273627919,1038.0333273627919,1069.1743271836756,1069.1743271836756,1069.1743271836756,1069.1743271836756,1069.1743271836756,1069.1743271836756,1069.1743271836756,1069.1743271836756,1069.1743271836756,1069.1743271836756,1069.1743271836756,1069.1743271836756,1101.2495569991859,1101.2495569991859,1101.2495569991859,1101.2495569991859,1101.2495569991859,1101.2495569991859,1101.2495569991859,1101.2495569991859,1101.2495569991859,1101.2495569991859,1101.2495569991859,1101.2495569991859,1134.2870437091615,1134.2870437091615,1134.2870437091615,1134.2870437091615,1134.2870437091615,1134.2870437091615,1134.2870437091615,1134.2870437091615,1134.2870437091615,1134.2870437091615,1134.2870437091615,1134.2870437091615,1168.3156550204365,1168.3156550204365,1168.3156550204365,1168.3156550204365,1168.3156550204365,1168.3156550204365,1168.3156550204365,1168.3156550204365,1168.3156550204365,1168.3156550204365,1168.3156550204365,1168.3156550204365,1203.3651246710497,1203.3651246710497,1203.3651246710497,1203.3651246710497,1203.3651246710497,1203.3651246710497,1203.3651246710497,1203.3651246710497,1203.3651246710497,{"$f":"+IF(MOD(EA$12,12)=1,DZ51*1.03,DZ51)","v":1203.3651246710497},1203.3651246710497,1203.3651246710497]
["Garbage and Trash Removal",94.75,{"$f":"+IF(MOD(C$12,12)=1,B52*1.03,B52)","v":94.75},94.75,94.75,94.75,94.75,94.75,94.75,94.75,94.75,94.75,94.75,97.592500000000001,97.592500000000001,97.592500000000001,97.592500000000001,97.592500000000001,97.592500000000001,97.592500000000001,97.592500000000001,97.592500000000001,97.592500000000001,97.592500000000001,97.592500000000001,100.520275,100.520275,100.520275,100.520275,100.520275,100.520275,100.520275,100.520275,100.520275,100.520275,100.520275,100.520275,103.53588325,103.53588325,103.53588325,103.53588325,103.53588325,103.53588325,103.53588325,103.53588325,103.53588325,103.53588325,103.53588325,103.53588325,106.6419597475,106.6419597475,106.6419597475,106.6419597475,106.6419597475,106.6419597475,106.6419597475,106.6419597475,106.6419597475,106.6419597475,106.6419597475,106.6419597475,109.84121853992499,109.84121853992499,109.84121853992499,109.84121853992499,109.84121853992499,{"$f":"+IF(MOD(BO$12,12)=1,BN52*1.03,BN52)","v":109.84121853992499},109.84121853992499,109.84121853992499,109.84121853992499,109.84121853992499,109.84121853992499,109.84121853992499,113.13645509612275,113.13645509612275,113.13645509612275,113.13645509612275,113.13645509612275,113.13645509612275,113.13645509612275,113.13645509612275,113.13645509612275,113.13645509612275,113.13645509612275,113.13645509612275,116.53054874900643,116.53054874900643,116.53054874900643,116.53054874900643,116.53054874900643,116.53054874900643,116.53054874900643,116.53054874900643,116.53054874900643,116.53054874900643,116.53054874900643,116.53054874900643,120.02646521147662,120.02646521147662,120.02646521147662,120.02646521147662,120.02646521147662,120.02646521147662,120.02646521147662,120.02646521147662,120.02646521147662,120.02646521147662,120.02646521147662,120.02646521147662,123.62725916782092,123.62725916782092,123.62725916782092,123.62725916782092,123.62725916782092,123.62725916782092,123.62725916782092,123.62725916782092,123.62725916782092,123.62725916782092,123.62725916782092,123.62725916782092,127.33607694285556,127.33607694285556,127.33607694285556,127.33607694285556,127.33607694285556,127.33607694285556,127.33607694285556,127.33607694285556,127.33607694285556,{"$f":"+IF(MOD(EA$12,12)=1,DZ52*1.03,DZ52)","v":127.33607694285556},127.33607694285556,127.33607694285556]
["Security",3408.7916666666652,3408.7916666666652,3408.7916666666652,3408.7916666666652,3408.7916666666652,3408.7916666666652,3408.7916666666652,3408.7916666666652,3408.7916666666652,3408.7916666666652,3408.7916666666652,3408.7916666666652,3408.7916666666652,3408.7916666666652,3408.7916666666652,3408.7916666666652,3408.7916666666652,3408.7916666666652,3408.7916666666652,3408.7916666666652,3408.7916666666652,3408.7916666666652,3408.7916666666652,3408.7916666666652,3408.7916666666652,3408.7916666666652,3408.7916666666652,3408.7916666666652,3408.7916666666652,3408.7916666666652,3408.7916666666652,3408.7916666666652,3408.7916666666652,3408.7916666666652,3408.7916666666652,3408.7916666666652,3408.7916666666652,3408.7916666666652,3408.7916666666652,3408.7916666666652,3408.7916666666652,3408.7916666666652,3408.7916666666652,3408.7916666666652,3408.7916666666652,3408.7916666666652,3408.7916666666652,3408.7916666666652,3408.7916666666652,3408.7916666666652,3408.7916666666652,3408.7916666666652,3408.7916666666652,3408.7916666666652,3408.7916666666652,3408.7916666666652,3408.7916666666652,3408.7916666666652,3408.7916666666652,3408.7916666666652,3408.7916666666652,3408.7916666666652,3408.7916666666652,3408.7916666666652,3408.7916666666652,3408.7916666666652,3408.7916666666652,3408.7916666666652,3408.7916666666652,3408.7916666666652,3408.7916666666652,3408.7916666666652,3408.7916666666652,3408.7916666666652,3408.7916666666652,3408.7916666666652,3408.7916666666652,3408.7916666666652,3408.7916666666652,3408.7916666666652,3408.7916666666652,3408.7916666666652,3408.7916666666652,3408.7916666666652,3408.7916666666652,3408.7916666666652,3408.7916666666652,3408.7916666666652,3408.7916666666652,3408.7916666666652,3408.7916666666652,3408.7916666666652,3408.7916666666652,3408.7916666666652,3408.7916666666652,3408.7916666666652,3408.7916666666652,3408.7916666666652,3408.7916666666652,3408.7916666666652,3408.7916666666652,3408.7916666666652,3408.7916666666652,3408.7916666666652,3408.7916666666652,3408.7916666666652,3408.7916666666652,3408.7916666666652,3408.7916666666652,3408.7916666666652,3408.7916666666652,3408.7916666666652,3408.7916666666652,3408.7916666666652,3408.7916666666652,3408.7916666666652,3408.7916666666652,3408.7916666666652,3408.7916666666652,3408.7916666666652,3408.7916666666652,3408.7916666666652,3408.7916666666652,3408.7916666666652,3408.7916666666652,3408.7916666666652,3408.7916666666652,3408.7916666666652,3408.7916666666652,3408.7916666666652,3408.7916666666652,3408.7916666666652]
["Power Washing",685.66666666666663,{"$f":"+IF(MOD(C$12,12)=1,B54*1.03,B54)","v":685.66666666666663},685.66666666666663,685.66666666666663,685.66666666666663,685.66666666666663,685.66666666666663,685.66666666666663,685.66666666666663,685.66666666666663,685.66666666666663,685.66666666666663,706.23666666666668,706.23666666666668,706.23666666666668,706.23666666666668,706.23666666666668,706.23666666666668,706.23666666666668,706.23666666666668,706.23666666666668,706.23666666666668,706.23666666666668,706.23666666666668,727.42376666666667,727.42376666666667,727.42376666666667,727.42376666666667,727.42376666666667,727.42376666666667,727.42376666666667,727.42376666666667,727.42376666666667,727.42376666666667,727.42376666666667,727.42376666666667,749.24647966666669,749.24647966666669,749.24647966666669,749.24647966666669,749.24647966666669,749.24647966666669,749.24647966666669,749.24647966666669,749.24647966666669,749.24647966666669,749.24647966666669,749.24647966666669,771.72387405666666,771.72387405666666,771.72387405666666,771.72387405666666,771.72387405666666,771.72387405666666,771.72387405666666,771.72387405666666,771.72387405666666,771.72387405666666,771.72387405666666,771.72387405666666,794.87559027836664,794.87559027836664,794.87559027836664,794.87559027836664,794.87559027836664,{"$f":"+IF(MOD(BO$12,12)=1,BN54*1.03,BN54)","v":794.87559027836664},794.87559027836664,794.87559027836664,794.87559027836664,794.87559027836664,794.87559027836664,794.87559027836664,818.72185798671762,818.72185798671762,818.72185798671762,818.72185798671762,818.72185798671762,818.72185798671762,818.72185798671762,818.72185798671762,818.72185798671762,818.72185798671762,818.72185798671762,818.72185798671762,843.28351372631914,843.28351372631914,843.28351372631914,843.28351372631914,843.28351372631914,843.28351372631914,843.28351372631914,843.28351372631914,843.28351372631914,843.28351372631914,843.28351372631914,843.28351372631914,868.58201913810876,868.58201913810876,868.58201913810876,868.58201913810876,868.58201913810876,868.58201913810876,868.58201913810876,868.58201913810876,868.58201913810876,868.58201913810876,868.58201913810876,868.58201913810876,894.63947971225207,894.63947971225207,894.63947971225207,894.63947971225207,894.63947971225207,894.63947971225207,894.63947971225207,894.63947971225207,894.63947971225207,894.63947971225207,894.63947971225207,894.63947971225207,921.47866410361962,921.47866410361962,921.47866410361962,921.47866410361962,921.47866410361962,921.47866410361962,921.47866410361962,921.47866410361962,921.47866410361962,{"$f":"+IF(MOD(EA$12,12)=1,DZ54*1.03,DZ54)","v":921.47866410361962},921.47866410361962,921.47866410361962]
["Roof Repairs",107.25,{"$f":"+IF(MOD(C$12,12)=1,B55*1.03,B55)","v":107.25},107.25,107.25,107.25,107.25,107.25,107.25,107.25,107.25,107.25,107.25,110.4675,110.4675,110.4675,110.4675,110.4675,110.4675,110.4675,110.4675,110.4675,110.4675,110.4675,110.4675,113.781525,113.781525,113.781525,113.781525,113.781525,113.781525,113.781525,113.781525,113.781525,113.781525,113.781525,113.781525,117.19497075000001,117.19497075000001,117.19497075000001,117.19497075000001,117.19497075000001,117.19497075000001,117.19497075000001,117.19497075000001,117.19497075000001,117.19497075000001,117.19497075000001,117.19497075000001,120.71081987250001,120.71081987250001,120.71081987250001,120.71081987250001,120.71081987250001,120.71081987250001,120.71081987250001,120.71081987250001,120.71081987250001,120.71081987250001,120.71081987250001,120.71081987250001,124.33214446867501,124.33214446867501,124.33214446867501,124.33214446867501,124.33214446867501,{"$f":"+IF(MOD(BO$12,12)=1,BN55*1.03,BN55)","v":124.33214446867501},124.33214446867501,124.33214446867501,124.33214446867501,124.33214446867501,124.33214446867501,124.33214446867501,128.06210880273525,128.06210880273525,128.06210880273525,128.06210880273525,128.06210880273525,128.06210880273525,128.06210880273525,128.06210880273525,128.06210880273525,128.06210880273525,128.06210880273525,128.06210880273525,131.90397206681732,131.90397206681732,131.90397206681732,131.90397206681732,131.90397206681732,131.90397206681732,131.90397206681732,131.90397206681732,131.90397206681732,131.90397206681732,131.90397206681732,131.90397206681732,135.86109122882183,135.86109122882183,135.86109122882183,135.86109122882183,135.86109122882183,135.86109122882183,135.86109122882183,135.86109122882183,135.86109122882183,135.86109122882183,135.86109122882183,135.86109122882183,139.9369239656865,139.9369239656865,139.9369239656865,139.9369239656865,139.9369239656865,139.9369239656865,139.9369239656865,139.9369239656865,139.9369239656865,139.9369239656865,139.9369239656865,139.9369239656865,144.13503168465709,144.13503168465709,144.13503168465709,144.13503168465709,144.13503168465709,144.13503168465709,144.13503168465709,144.13503168465709,144.13503168465709,{"$f":"+IF(MOD(EA$12,12)=1,DZ55*1.03,DZ55)","v":144.13503168465709},144.13503168465709,144.13503168465709]
["Parking and Sidewalks",2979.4166666666665,{"$f":"+IF(MOD(C$12,12)=1,B56*1.03,B56)","v":2979.4166666666665},2979.4166666666665,2979.4166666666665,2979.4166666666665,2979.4166666666665,2979.4166666666665,2979.4166666666665,2979.4166666666665,2979.4166666666665,2979.4166666666665,2979.4166666666665,3068.7991666666667,3068.7991666666667,3068.7991666666667,3068.7991666666667,3068.7991666666667,3068.7991666666667,3068.7991666666667,3068.7991666666667,3068.7991666666667,3068.7991666666667,3068.7991666666667,3068.7991666666667,3160.8631416666667,3160.8631416666667,3160.8631416666667,3160.8631416666667,3160.8631416666667,3160.8631416666667,3160.8631416666667,3160.8631416666667,3160.8631416666667,3160.8631416666667,3160.8631416666667,3160.8631416666667,3255.6890359166669,3255.6890359166669,3255.6890359166669,3255.6890359166669,3255.6890359166669,3255.6890359166669,3255.6890359166669,3255.6890359166669,3255.6890359166669,3255.6890359166669,3255.6890359166669,3255.6890359166669,3353.359706994167,3353.359706994167,3353.359706994167,3353.359706994167,3353.359706994167,3353.359706994167,3353.359706994167,3353.359706994167,3353.359706994167,3353.359706994167,3353.359706994167,3353.359706994167,3453.9604982039923,3453.9604982039923,3453.9604982039923,3453.9604982039923,3453.9604982039923,{"$f":"+IF(MOD(BO$12,12)=1,BN56*1.03,BN56)","v":3453.9604982039923},3453.9604982039923,3453.9604982039923,3453.9604982039923,3453.9604982039923,3453.9604982039923,3453.9604982039923,3557.5793131501123,3557.5793131501123,3557.5793131501123,3557.5793131501123,3557.5793131501123,3557.5793131501123,3557.5793131501123,3557.5793131501123,3557.5793131501123,3557.5793131501123,3557.5793131501123,3557.5793131501123,3664.3066925446155,3664.3066925446155,3664.3066925446155,3664.3066925446155,3664.3066925446155,3664.3066925446155,3664.3066925446155,3664.3066925446155,3664.3066925446155,3664.3066925446155,3664.3066925446155,3664.3066925446155,3774.2358933209539,3774.2358933209539,3774.2358933209539,3774.2358933209539,3774.2358933209539,3774.2358933209539,3774.2358933209539,3774.2358933209539,3774.2358933209539,3774.2358933209539,3774.2358933209539,3774.2358933209539,3887.4629701205827,3887.4629701205827,3887.4629701205827,3887.4629701205827,3887.4629701205827,3887.4629701205827,3887.4629701205827,3887.4629701205827,3887.4629701205827,3887.4629701205827,3887.4629701205827,3887.4629701205827,4004.0868592242005,4004.0868592242005,4004.0868592242005,4004.0868592242005,4004.0868592242005,4004.0868592242005,4004.0868592242005,4004.0868592242005,4004.0868592242005,{"$f":"+IF(MOD(EA$12,12)=1,DZ56*1.03,DZ56)","v":4004.0868592242005},4004.0868592242005,4004.0868592242005]
["Plumbing Repairs",8.5833333333333339,{"$f":"+IF(MOD(C$12,12)=1,B57*1.03,B57)","v":8.5833333333333339},8.5833333333333339,8.5833333333333339,8.5833333333333339,8.5833333333333339,8.5833333333333339,8.5833333333333339,8.5833333333333339,8.5833333333333339,8.5833333333333339,8.5833333333333339,8.8408333333333342,8.8408333333333342,8.8408333333333342,8.8408333333333342,8.8408333333333342,8.8408333333333342,8.8408333333333342,8.8408333333333342,8.8408333333333342,8.8408333333333342,8.8408333333333342,8.8408333333333342,9.1060583333333351,9.1060583333333351,9.1060583333333351,9.1060583333333351,9.1060583333333351,9.1060583333333351,9.1060583333333351,9.1060583333333351,9.1060583333333351,9.1060583333333351,9.1060583333333351,9.1060583333333351,9.379240083333336,9.379240083333336,9.379240083333336,9.379240083333336,9.379240083333336,9.379240083333336,9.379240083333336,9.379240083333336,9.379240083333336,9.379240083333336,9.379240083333336,9.379240083333336,9.6606172858333359,9.6606172858333359,9.6606172858333359,9.6606172858333359,9.6606172858333359,9.6606172858333359,9.6606172858333359,9.6606172858333359,9.6606172858333359,9.6606172858333359,9.6606172858333359,9.6606172858333359,9.9504358044083361,9.9504358044083361,9.9504358044083361,9.9504358044083361,9.9504358044083361,{"$f":"+IF(MOD(BO$12,12)=1,BN57*1.03,BN57)","v":9.9504358044083361},9.9504358044083361,9.9504358044083361,9.9504358044083361,9.9504358044083361,9.9504358044083361,9.9504358044083361,10.248948878540586,10.248948878540586,10.248948878540586,10.248948878540586,10.248948878540586,10.248948878540586,10.248948878540586,10.248948878540586,10.248948878540586,10.248948878540586,10.248948878540586,10.248948878540586,10.556417344896804,10.556417344896804,10.556417344896804,10.556417344896804,10.556417344896804,10.556417344896804,10.556417344896804,10.556417344896804,10.556417344896804,10.556417344896804,10.556417344896804,10.556417344896804,10.873109865243709,10.873109865243709,10.873109865243709,10.873109865243709,10.873109865243709,10.873109865243709,10.873109865243709,10.873109865243709,10.873109865243709,10.873109865243709,10.873109865243709,10.873109865243709,11.199303161201021,11.199303161201021,11.199303161201021,11.199303161201021,11.199303161201021,11.199303161201021,11.199303161201021,11.199303161201021,11.199303161201021,11.199303161201021,11.199303161201021,11.199303161201021,11.535282256037052,11.535282256037052,11.535282256037052,11.535282256037052,11.535282256037052,11.535282256037052,11.535282256037052,11.535282256037052,11.535282256037052,{"$f":"+IF(MOD(EA$12,12)=1,DZ57*1.03,DZ57)","v":11.535282256037052},11.535282256037052,11.535282256037052]
["Light Bulbs and Fixtures",614.66666666666663,{"$f":"+IF(MOD(C$12,12)=1,B58*1.03,B58)","v":614.66666666666663},614.66666666666663,614.66666666666663,614.66666666666663,614.66666666666663,614.66666666666663,614.66666666666663,614.66666666666663,614.66666666666663,614.66666666666663,614.66666666666663,633.10666666666668,633.10666666666668,633.10666666666668,633.10666666666668,633.10666666666668,633.10666666666668,633.10666666666668,633.10666666666668,633.10666666666668,633.10666666666668,633.10666666666668,633.10666666666668,652.09986666666668,652.09986666666668,652.09986666666668,652.09986666666668,652.09986666666668,652.09986666666668,652.09986666666668,652.09986666666668,652.09986666666668,652.09986666666668,652.09986666666668,652.09986666666668,671.66286266666668,671.66286266666668,671.66286266666668,671.66286266666668,671.66286266666668,671.66286266666668,671.66286266666668,671.66286266666668,671.66286266666668,671.66286266666668,671.66286266666668,671.66286266666668,691.81274854666674,691.81274854666674,691.81274854666674,691.81274854666674,691.81274854666674,691.81274854666674,691.81274854666674,691.81274854666674,691.81274854666674,691.81274854666674,691.81274854666674,691.81274854666674,712.56713100306672,712.56713100306672,712.56713100306672,712.56713100306672,712.56713100306672,{"$f":"+IF(MOD(BO$12,12)=1,BN58*1.03,BN58)","v":712.56713100306672},712.56713100306672,712.56713100306672,712.56713100306672,712.56713100306672,712.56713100306672,712.56713100306672,733.94414493315878,733.94414493315878,733.94414493315878,733.94414493315878,733.94414493315878,733.94414493315878,733.94414493315878,733.94414493315878,733.94414493315878,733.94414493315878,733.94414493315878,733.94414493315878,755.96246928115352,755.96246928115352,755.96246928115352,755.96246928115352,755.96246928115352,755.96246928115352,755.96246928115352,755.96246928115352,755.96246928115352,755.96246928115352,755.96246928115352,755.96246928115352,778.64134335958818,778.64134335958818,778.64134335958818,778.64134335958818,778.64134335958818,778.64134335958818,778.64134335958818,778.64134335958818,778.64134335958818,778.64134335958818,778.64134335958818,778.64134335958818,802.00058366037581,802.00058366037581,802.00058366037581,802.00058366037581,802.00058366037581,802.00058366037581,802.00058366037581,802.00058366037581,802.00058366037581,802.00058366037581,802.00058366037581,802.00058366037581,826.06060117018706,826.06060117018706,826.06060117018706,826.06060117018706,826.06060117018706,826.06060117018706,826.06060117018706,826.06060117018706,826.06060117018706,{"$f":"+IF(MOD(EA$12,12)=1,DZ58*1.03,DZ58)","v":826.06060117018706},826.06060117018706,826.06060117018706]
["Smoke Alarm / Fire Protection",16.666666666666668,{"$f":"+IF(MOD(C$12,12)=1,B59*1.03,B59)","v":16.666666666666668},16.666666666666668,16.666666666666668,16.666666666666668,16.666666666666668,16.666666666666668,16.666666666666668,16.666666666666668,16.666666666666668,16.666666666666668,16.666666666666668,17.166666666666668,17.166666666666668,17.166666666666668,17.166666666666668,17.166666666666668,17.166666666666668,17.166666666666668,17.166666666666668,17.166666666666668,17.166666666666668,17.166666666666668,17.166666666666668,17.681666666666668,17.681666666666668,17.681666666666668,17.681666666666668,17.681666666666668,17.681666666666668,17.681666666666668,17.681666666666668,17.681666666666668,17.681666666666668,17.681666666666668,17.681666666666668,18.21211666666667,18.21211666666667,18.21211666666667,18.21211666666667,18.21211666666667,18.21211666666667,18.21211666666667,18.21211666666667,18.21211666666667,18.21211666666667,18.21211666666667,18.21211666666667,18.758480166666672,18.758480166666672,18.758480166666672,18.758480166666672,18.758480166666672,18.758480166666672,18.758480166666672,18.758480166666672,18.758480166666672,18.758480166666672,18.758480166666672,18.758480166666672,19.321234571666672,19.321234571666672,19.321234571666672,19.321234571666672,19.321234571666672,{"$f":"+IF(MOD(BO$12,12)=1,BN59*1.03,BN59)","v":19.321234571666672},19.321234571666672,19.321234571666672,19.321234571666672,19.321234571666672,19.321234571666672,19.321234571666672,19.900871608816672,19.900871608816672,19.900871608816672,19.900871608816672,19.900871608816672,19.900871608816672,19.900871608816672,19.900871608816672,19.900871608816672,19.900871608816672,19.900871608816672,19.900871608816672,20.497897757081173,20.497897757081173,20.497897757081173,20.497897757081173,20.497897757081173,20.497897757081173,20.497897757081173,20.497897757081173,20.497897757081173,20.497897757081173,20.497897757081173,20.497897757081173,21.112834689793608,21.112834689793608,21.112834689793608,21.112834689793608,21.112834689793608,21.112834689793608,21.112834689793608,21.112834689793608,21.112834689793608,21.112834689793608,21.112834689793608,21.112834689793608,21.746219730487418,21.746219730487418,21.746219730487418,21.746219730487418,21.746219730487418,21.746219730487418,21.746219730487418,21.746219730487418,21.746219730487418,21.746219730487418,21.746219730487418,21.746219730487418,22.398606322402042,22.398606322402042,22.398606322402042,22.398606322402042,22.398606322402042,22.398606322402042,22.398606322402042,22.398606322402042,22.398606322402042,{"$f":"+IF(MOD(EA$12,12)=1,DZ59*1.03,DZ59)","v":22.398606322402042},22.398606322402042,22.398606322402042]
["General Maintenance",151.08333333333334,{"$f":"+IF(MOD(C$12,12)=1,B60*1.03,B60)","v":151.08333333333334},151.08333333333334,151.08333333333334,151.08333333333334,151.08333333333334,151.08333333333334,151.08333333333334,151.08333333333334,151.08333333333334,151.08333333333334,151.08333333333334,155.61583333333334,155.61583333333334,155.61583333333334,155.61583333333334,155.61583333333334,155.61583333333334,155.61583333333334,155.61583333333334,155.61583333333334,155.61583333333334,155.61583333333334,155.61583333333334,160.28430833333334,160.28430833333334,160.28430833333334,160.28430833333334,160.28430833333334,160.28430833333334,160.28430833333334,160.28430833333334,160.28430833333334,160.28430833333334,160.28430833333334,160.28430833333334,165.09283758333333,165.09283758333333,165.09283758333333,165.09283758333333,165.09283758333333,165.09283758333333,165.09283758333333,165.09283758333333,165.09283758333333,165.09283758333333,165.09283758333333,165.09283758333333,170.04562271083333,170.04562271083333,170.04562271083333,170.04562271083333,170.04562271083333,170.04562271083333,170.04562271083333,170.04562271083333,170.04562271083333,170.04562271083333,170.04562271083333,170.04562271083333,175.14699139215833,175.14699139215833,175.14699139215833,175.14699139215833,175.14699139215833,{"$f":"+IF(MOD(BO$12,12)=1,BN60*1.03,BN60)","v":175.14699139215833},175.14699139215833,175.14699139215833,175.14699139215833,175.14699139215833,175.14699139215833,175.14699139215833,180.40140113392309,180.40140113392309,180.40140113392309,180.40140113392309,180.40140113392309,180.40140113392309,180.40140113392309,180.40140113392309,180.40140113392309,180.40140113392309,180.40140113392309,180.40140113392309,185.81344316794079,185.81344316794079,185.81344316794079,185.81344316794079,185.81344316794079,185.81344316794079,185.81344316794079,185.81344316794079,185.81344316794079,185.81344316794079,185.81344316794079,185.81344316794079,191.38784646297901,191.38784646297901,191.38784646297901,191.38784646297901,191.38784646297901,191.38784646297901,191.38784646297901,191.38784646297901,191.38784646297901,191.38784646297901,191.38784646297901,191.38784646297901,197.12948185686838,197.12948185686838,197.12948185686838,197.12948185686838,197.12948185686838,197.12948185686838,197.12948185686838,197.12948185686838,197.12948185686838,197.12948185686838,197.12948185686838,197.12948185686838,203.04336631257445,203.04336631257445,203.04336631257445,203.04336631257445,203.04336631257445,203.04336631257445,203.04336631257445,203.04336631257445,203.04336631257445,{"$f":"+IF(MOD(EA$12,12)=1,DZ60*1.03,DZ60)","v":203.04336631257445},203.04336631257445,203.04336631257445]
["Property Taxes - Main Parcel",15125.5,{"$f":"+IF(MOD(C$12,12)=1,B61*1.03,B61)","v":15125.5},15125.5,15125.5,15125.5,15125.5,15125.5,15125.5,15125.5,15125.5,15125.5,15125.5,15579.265000000001,15579.265000000001,15579.265000000001,15579.265000000001,15579.265000000001,15579.265000000001,15579.265000000001,15579.265000000001,15579.265000000001,15579.265000000001,15579.265000000001,15579.265000000001,16046.642950000001,16046.642950000001,16046.642950000001,16046.642950000001,16046.642950000001,16046.642950000001,16046.642950000001,16046.642950000001,16046.642950000001,16046.642950000001,16046.642950000001,16046.642950000001,16528.042238500002,16528.042238500002,16528.042238500002,16528.042238500002,16528.042238500002,16528.042238500002,16528.042238500002,16528.042238500002,16528.042238500002,16528.042238500002,16528.042238500002,16528.042238500002,17023.883505655001,17023.883505655001,17023.883505655001,17023.883505655001,17023.883505655001,17023.883505655001,17023.883505655001,17023.883505655001,17023.883505655001,17023.883505655001,17023.883505655001,17023.883505655001,17534.600010824652,17534.600010824652,17534.600010824652,17534.600010824652,17534.600010824652,{"$f":"+IF(MOD(BO$12,12)=1,BN61*1.03,BN61)","v":17534.600010824652},17534.600010824652,17534.600010824652,17534.600010824652,17534.600010824652,17534.600010824652,17534.600010824652,18060.638011149393,18060.638011149393,18060.638011149393,18060.638011149393,18060.638011149393,18060.638011149393,18060.638011149393,18060.638011149393,18060.638011149393,18060.638011149393,18060.638011149393,18060.638011149393,18602.457151483875,18602.457151483875,18602.457151483875,18602.457151483875,18602.457151483875,18602.457151483875,18602.457151483875,18602.457151483875,18602.457151483875,18602.457151483875,18602.457151483875,18602.457151483875,19160.530866028392,19160.530866028392,19160.530866028392,19160.530866028392,19160.530866028392,19160.530866028392,19160.530866028392,19160.530866028392,19160.530866028392,19160.530866028392,19160.530866028392,19160.530866028392,19735.346792009244,19735.346792009244,19735.346792009244,19735.346792009244,19735.346792009244,19735.346792009244,19735.346792009244,19735.346792009244,19735.346792009244,19735.346792009244,19735.346792009244,19735.346792009244,20327.407195769523,20327.407195769523,20327.407195769523,20327.407195769523,20327.407195769523,20327.407195769523,20327.407195769523,20327.407195769523,20327.407195769523,{"$f":"+IF(MOD(EA$12,12)=1,DZ61*1.03,DZ61)","v":20327.407195769523},20327.407195769523,20327.407195769523]
["Property Taxes - Title Max",319,{"$f":"+IF(MOD(C$12,12)=1,B62*1.03,B62)","v":319},319,319,319,319,319,319,319,319,319,319,328.57,328.57,328.57,328.57,328.57,328.57,328.57,328.57,328.57,328.57,328.57,328.57,338.4271,338.4271,338.4271,338.4271,338.4271,338.4271,338.4271,338.4271,338.4271,338.4271,338.4271,338.4271,348.57991299999998,348.57991299999998,348.57991299999998,348.57991299999998,348.57991299999998,348.57991299999998,348.57991299999998,348.57991299999998,348.57991299999998,348.57991299999998,348.57991299999998,348.57991299999998,359.03731038999996,359.03731038999996,359.03731038999996,359.03731038999996,359.03731038999996,359.03731038999996,359.03731038999996,359.03731038999996,359.03731038999996,359.03731038999996,359.03731038999996,359.03731038999996,369.80842970169999,369.80842970169999,369.80842970169999,369.80842970169999,369.80842970169999,{"$f":"+IF(MOD(BO$12,12)=1,BN62*1.03,BN62)","v":369.80842970169999},369.80842970169999,369.80842970169999,369.80842970169999,369.80842970169999,369.80842970169999,369.80842970169999,380.90268259275098,380.90268259275098,380.90268259275098,380.90268259275098,380.90268259275098,380.90268259275098,380.90268259275098,380.90268259275098,380.90268259275098,380.90268259275098,380.90268259275098,380.90268259275098,392.32976307053355,392.32976307053355,392.32976307053355,392.32976307053355,392.32976307053355,392.32976307053355,392.32976307053355,392.32976307053355,392.32976307053355,392.32976307053355,392.32976307053355,392.32976307053355,404.09965596264954,404.09965596264954,404.09965596264954,404.09965596264954,404.09965596264954,404.09965596264954,404.09965596264954,404.09965596264954,404.09965596264954,404.09965596264954,404.09965596264954,404.09965596264954,416.22264564152903,416.22264564152903,416.22264564152903,416.22264564152903,416.22264564152903,416.22264564152903,416.22264564152903,416.22264564152903,416.22264564152903,416.22264564152903,416.22264564152903,416.22264564152903,428.70932501077493,428.70932501077493,428.70932501077493,428.70932501077493,428.70932501077493,428.70932501077493,428.70932501077493,428.70932501077493,428.70932501077493,{"$f":"+IF(MOD(EA$12,12)=1,DZ62*1.03,DZ62)","v":428.70932501077493},428.70932501077493,428.70932501077493]
["Insurance",3689.5,{"$f":"+IF(MOD(C$12,12)=1,B63*1.03,B63)","v":3689.5},3689.5,3689.5,3689.5,3689.5,3689.5,3689.5,3689.5,3689.5,3689.5,3689.5,3800.1849999999999,3800.1849999999999,3800.1849999999999,3800.1849999999999,3800.1849999999999,3800.1849999999999,3800.1849999999999,3800.1849999999999,3800.1849999999999,3800.1849999999999,3800.1849999999999,3800.1849999999999,3914.1905500000003,3914.1905500000003,3914.1905500000003,3914.1905500000003,3914.1905500000003,3914.1905500000003,3914.1905500000003,3914.1905500000003,3914.1905500000003,3914.1905500000003,3914.1905500000003,3914.1905500000003,4031.6162665000002,4031.6162665000002,4031.6162665000002,4031.6162665000002,4031.6162665000002,4031.6162665000002,4031.6162665000002,4031.6162665000002,4031.6162665000002,4031.6162665000002,4031.6162665000002,4031.6162665000002,4152.5647544950007,4152.5647544950007,4152.5647544950007,4152.5647544950007,4152.5647544950007,4152.5647544950007,4152.5647544950007,4152.5647544950007,4152.5647544950007,4152.5647544950007,4152.5647544950007,4152.5647544950007,4277.1416971298504,4277.1416971298504,4277.1416971298504,4277.1416971298504,4277.1416971298504,{"$f":"+IF(MOD(BO$12,12)=1,BN63*1.03,BN63)","v":4277.1416971298504},4277.1416971298504,4277.1416971298504,4277.1416971298504,4277.1416971298504,4277.1416971298504,4277.1416971298504,4405.4559480437456,4405.4559480437456,4405.4559480437456,4405.4559480437456,4405.4559480437456,4405.4559480437456,4405.4559480437456,4405.4559480437456,4405.4559480437456,4405.4559480437456,4405.4559480437456,4405.4559480437456,4537.6196264850578,4537.6196264850578,4537.6196264850578,4537.6196264850578,4537.6196264850578,4537.6196264850578,4537.6196264850578,4537.6196264850578,4537.6196264850578,4537.6196264850578,4537.6196264850578,4537.6196264850578,4673.7482152796092,4673.7482152796092,4673.7482152796092,4673.7482152796092,4673.7482152796092,4673.7482152796092,4673.7482152796092,4673.7482152796092,4673.7482152796092,4673.7482152796092,4673.7482152796092,4673.7482152796092,4813.9606617379977,4813.9606617379977,4813.9606617379977,4813.9606617379977,4813.9606617379977,4813.9606617379977,4813.9606617379977,4813.9606617379977,4813.9606617379977,4813.9606617379977,4813.9606617379977,4813.9606617379977,4958.3794815901374,4958.3794815901374,4958.3794815901374,4958.3794815901374,4958.3794815901374,4958.3794815901374,4958.3794815901374,4958.3794815901374,4958.3794815901374,{"$f":"+IF(MOD(EA$12,12)=1,DZ63*1.03,DZ63)","v":4958.3794815901374},4958.3794815901374,4958.3794815901374]
[null," ___________"," ___________"," ___________"," ___________"," ___________"," ___________"," ___________"," ___________"," ___________"," ___________"," ___________"," ___________"," ___________"," ___________"," ___________"," ___________"," ___________"," ___________"," ___________"," ___________"," ___________"," ___________"," ___________"," ___________"," ___________"," ___________"," ___________"," ___________"," ___________"," ___________"," ___________"," ___________"," ___________"," ___________"," ___________"," ___________"," ___________"," ___________"," ___________"," ___________"," ___________"," ___________"," ___________"," ___________"," ___________"," ___________"," ___________"," ___________"," ___________"," ___________"," ___________"," ___________"," ___________"," ___________"," ___________"," ___________"," ___________"," ___________"," ___________"," ___________"," ___________"," ___________"," ___________"," ___________"," ___________"," ___________"," ___________"," ___________"," ___________"," ___________"," ___________"," ___________"," ___________"," ___________"," ___________"," ___________"," ___________"," ___________"," ___________"," ___________"," ___________"," ___________"," ___________"," ___________"," ___________"," ___________"," ___________"," ___________"," ___________"," ___________"," ___________"," ___________"," ___________"," ___________"," ___________"," ___________"," ___________"," ___________"," ___________"," ___________"," ___________"," ___________"," ___________"," ___________"," ___________"," ___________"," ___________"," ___________"," ___________"," ___________"," ___________"," ___________"," ___________"," ___________"," ___________"," ___________"," ___________"," ___________"," ___________"," ___________"," ___________"," ___________"," ___________"," ___________"," ___________"," ___________"," ___________"," ___________"," ___________"," ___________"," ___________"," ___________"]
["Total Operating Expenses",{"$f":"+SUM(B48:B63)","v":33928.958333333328},{"$f":"+SUM(C48:C63)","v":33928.958333333328},33928.958333333328,33928.958333333328,33928.958333333328,33928.958333333328,33928.958333333328,33928.958333333328,33928.958333333328,33928.958333333328,33928.958333333328,33928.958333333328,34844.563333333332,34844.563333333332,34844.563333333332,34844.563333333332,34844.563333333332,34844.563333333332,34844.563333333332,34844.563333333332,34844.563333333332,34844.563333333332,34844.563333333332,34844.563333333332,35787.636483333335,35787.636483333335,35787.636483333335,35787.636483333335,35787.636483333335,35787.636483333335,35787.636483333335,35787.636483333335,35787.636483333335,35787.636483333335,35787.636483333335,35787.636483333335,36759.001827833337,36759.001827833337,36759.001827833337,36759.001827833337,36759.001827833337,36759.001827833337,36759.001827833337,36759.001827833337,36759.001827833337,36759.001827833337,36759.001827833337,36759.001827833337,37759.508132668328,37759.508132668328,37759.508132668328,37759.508132668328,37759.508132668328,37759.508132668328,37759.508132668328,37759.508132668328,37759.508132668328,37759.508132668328,37759.508132668328,37759.508132668328,38790.029626648393,38790.029626648393,38790.029626648393,38790.029626648393,38790.029626648393,{"$f":"+SUM(BO48:BO63)","v":38790.029626648393},38790.029626648393,38790.029626648393,38790.029626648393,38790.029626648393,38790.029626648393,38790.029626648393,39851.466765447833,39851.466765447833,39851.466765447833,39851.466765447833,39851.466765447833,39851.466765447833,39851.466765447833,39851.466765447833,39851.466765447833,39851.466765447833,39851.466765447833,39851.466765447833,40944.747018411275,40944.747018411275,40944.747018411275,40944.747018411275,40944.747018411275,40944.747018411275,40944.747018411275,40944.747018411275,40944.747018411275,40944.747018411275,40944.747018411275,40944.747018411275,42070.825678963614,42070.825678963614,42070.825678963614,42070.825678963614,42070.825678963614,42070.825678963614,42070.825678963614,42070.825678963614,42070.825678963614,42070.825678963614,42070.825678963614,42070.825678963614,43230.686699332524,43230.686699332524,43230.686699332524,43230.686699332524,43230.686699332524,43230.686699332524,43230.686699332524,43230.686699332524,43230.686699332524,43230.686699332524,43230.686699332524,43230.686699332524,44425.343550312493,44425.343550312493,44425.343550312493,44425.343550312493,44425.343550312493,44425.343550312493,44425.343550312493,44425.343550312493,44425.343550312493,{"$f":"+SUM(EA48:EA63)","v":44425.343550312493},44425.343550312493,44425.343550312493]
[null," ___________"," ___________"," ___________"," ___________"," ___________"," ___________"," ___________"," ___________"," ___________"," ___________"," ___________"," ___________"," ___________"," ___________"," ___________"," ___________"," ___________"," ___________"," ___________"," ___________"," ___________"," ___________"," ___________"," ___________"," ___________"," ___________"," ___________"," ___________"," ___________"," ___________"," ___________"," ___________"," ___________"," ___________"," ___________"," ___________"," ___________"," ___________"," ___________"," ___________"," ___________"," ___________"," ___________"," ___________"," ___________"," ___________"," ___________"," ___________"," ___________"," ___________"," ___________"," ___________"," ___________"," ___________"," ___________"," ___________"," ___________"," ___________"," ___________"," ___________"," ___________"," ___________"," ___________"," ___________"," ___________"," ___________"," ___________"," ___________"," ___________"," ___________"," ___________"," ___________"," ___________"," ___________"," ___________"," ___________"," ___________"," ___________"," ___________"," ___________"," ___________"," ___________"," ___________"," ___________"," ___________"," ___________"," ___________"," ___________"," ___________"," ___________"," ___________"," ___________"," ___________"," ___________"," ___________"," ___________"," ___________"," ___________"," ___________"," ___________"," ___________"," ___________"," ___________"," ___________"," ___________"," ___________"," ___________"," ___________"," ___________"," ___________"," ___________"," ___________"," ___________"," ___________"," ___________"," ___________"," ___________"," ___________"," ___________"," ___________"," ___________"," ___________"," ___________"," ___________"," ___________"," ___________"," ___________"," ___________"," ___________"," ___________"," ___________"," ___________"]
["Net Operating Income",{"$f":"+B45-B65","v":74433.316645134066},{"$f":"+C45-C65","v":74995.81664513408},74995.81664513408,74995.81664513408,77857.568167796038,77857.568167796038,77857.568167796038,77857.568167796038,79447.430124830455,79447.430124830455,79655.763458163798,80676.596791497141,86642.063717653509,86896.313717653509,86896.313717653509,87319.980384320166,88917.889423029032,95105.622641521855,95105.622641521855,95105.622641521855,96655.622641521884,96655.622641521884,96655.622641521884,96655.622641521884,97610.397763864341,97610.397763864341,97610.397763864341,97610.397763864341,97743.731097197684,97743.731097197684,97743.731097197684,97743.731097197684,98004.064430531027,98004.064430531027,98004.064430531027,98004.064430531027,97943.749473210453,97943.749473210453,97943.749473210453,97943.749473210453,97943.749473210453,97943.749473210453,97943.749473210453,97943.749473210453,97943.749473210453,97943.749473210453,97943.749473210453,97943.749473210453,97881.625067170244,98798.29173383693,98798.29173383693,98798.29173383693,98798.29173383693,98798.29173383693,98798.29173383693,98798.29173383693,98798.29173383693,98798.29173383693,98798.29173383693,98798.29173383693,98734.303595615507,99484.303595615507,99484.303595615507,99484.303595615507,99484.303595615507,{"$f":"+BO45-BO65","v":99484.303595615507},99484.303595615507,99484.303595615507,99484.303595615507,99484.303595615507,99775.970262282193,101245.97026228219,101180.06247991417,101513.06247991417,101513.06247991417,101513.06247991417,101513.06247991417,101513.06247991417,101513.06247991417,101513.06247991417,101513.06247991417,101513.06247991417,101513.06247991417,101513.06247991417,101445.17746407508,101445.17746407508,101445.17746407508,101445.17746407508,101445.17746407508,101445.17746407508,101445.17746407508,101445.17746407508,101445.17746407508,101445.17746407508,101445.17746407508,101445.17746407508,101375.2558977608,101375.2558977608,101375.2558977608,101375.2558977608,101375.2558977608,101375.2558977608,101375.2558977608,101375.2558977608,101375.2558977608,101375.2558977608,101375.2558977608,101375.2558977608,101303.23668445714,102219.90335112379,102219.90335112379,102219.90335112379,102219.90335112379,102219.90335112379,102219.90335112379,102219.90335112379,102219.90335112379,102219.90335112379,102219.90335112379,102219.90335112379,102145.72356142102,102145.72356142102,102145.72356142102,102145.72356142102,102145.72356142102,102145.72356142102,102145.72356142102,102145.72356142102,102145.72356142102,{"$f":"+EA45-EA65","v":102145.72356142102},102145.72356142102,102145.72356142102]
[null," ___________"," ___________"," ___________"," ___________"," ___________"," ___________"," ___________"," ___________"," ___________"," ___________"," ___________"," ___________"," ___________"," ___________"," ___________"," ___________"," ___________"," ___________"," ___________"," ___________"," ___________"," ___________"," ___________"," ___________"," ___________"," ___________"," ___________"," ___________"," ___________"," ___________"," ___________"," ___________"," ___________"," ___________"," ___________"," ___________"," ___________"," ___________"," ___________"," ___________"," ___________"," ___________"," ___________"," ___________"," ___________"," ___________"," ___________"," ___________"," ___________"," ___________"," ___________"," ___________"," ___________"," ___________"," ___________"," ___________"," ___________"," ___________"," ___________"," ___________"," ___________"," ___________"," ___________"," ___________"," ___________"," ___________"," ___________"," ___________"," ___________"," ___________"," ___________"," ___________"," ___________"," ___________"," ___________"," ___________"," ___________"," ___________"," ___________"," ___________"," ___________"," ___________"," ___________"," ___________"," ___________"," ___________"," ___________"," ___________"," ___________"," ___________"," ___________"," ___________"," ___________"," ___________"," ___________"," ___________"," ___________"," ___________"," ___________"," ___________"," ___________"," ___________"," ___________"," ___________"," ___________"," ___________"," ___________"," ___________"," ___________"," ___________"," ___________"," ___________"," ___________"," ___________"," ___________"," ___________"," ___________"," ___________"," ___________"," ___________"," ___________"," ___________"," ___________"," ___________"," ___________"," ___________"," ___________"," ___________"," ___________"," ___________"," ___________"," ___________"]
["Leasing & Capital Costs"]
["  Tenant Improvements"]
["  Leasing Commissions",null,null,null,null,{"$f":"13.5*1800*5*0.06","v":7290},null,null,null,{"$f":"1000*13.5*5*0.06","v":4050},null,null,null,{"$f":"2400*7*5*0.06+1800*13.5*5*0.06","v":12330},null,null,null,{"$f":"1000*13.5*5*0.06","v":4050},{"$f":"2200*10*5*0.06","v":6600}]
["  Replacement Reserves",1896.3500000000001,1896.3500000000001,1896.3500000000001,1896.3500000000001,1896.3500000000001,1896.3500000000001,1896.3500000000001,1896.3500000000001,1896.3500000000001,1896.3500000000001,1896.3500000000001,1896.3500000000001,1896.3500000000001,1896.3500000000001,1896.3500000000001,1896.3500000000001,1896.3500000000001,1896.3500000000001,1896.3500000000001,1896.3500000000001,1896.3500000000001,1896.3500000000001,1896.3500000000001,1896.3500000000001,1896.3500000000001,1896.3500000000001,1896.3500000000001,1896.3500000000001,1896.3500000000001,1896.3500000000001,1896.3500000000001,1896.3500000000001,1896.3500000000001,1896.3500000000001,1896.3500000000001,1896.3500000000001,1896.3500000000001,1896.3500000000001,1896.3500000000001,1896.3500000000001,1896.3500000000001,1896.3500000000001,1896.3500000000001,1896.3500000000001,1896.3500000000001,1896.3500000000001,1896.3500000000001,1896.3500000000001,1896.3500000000001,1896.3500000000001,1896.3500000000001,1896.3500000000001,1896.3500000000001,1896.3500000000001,1896.3500000000001,1896.3500000000001,1896.3500000000001,1896.3500000000001,1896.3500000000001,1896.3500000000001,1896.3500000000001,1896.3500000000001,1896.3500000000001,1896.3500000000001,1896.3500000000001,1896.3500000000001,1896.3500000000001,1896.3500000000001,1896.3500000000001,1896.3500000000001,1896.3500000000001,1896.3500000000001,1896.3500000000001,1896.3500000000001,1896.3500000000001,1896.3500000000001,1896.3500000000001,1896.3500000000001,1896.3500000000001,1896.3500000000001,1896.3500000000001,1896.3500000000001,1896.3500000000001,1896.3500000000001,1896.3500000000001,1896.3500000000001,1896.3500000000001,1896.3500000000001,1896.3500000000001,1896.3500000000001,1896.3500000000001,1896.3500000000001,1896.3500000000001,1896.3500000000001,1896.3500000000001,1896.3500000000001,1896.3500000000001,1896.3500000000001,1896.3500000000001,1896.3500000000001,1896.3500000000001,1896.3500000000001,1896.3500000000001,1896.3500000000001,1896.3500000000001,1896.3500000000001,1896.3500000000001,1896.3500000000001,1896.3500000000001,1896.3500000000001,1896.3500000000001,1896.3500000000001,1896.3500000000001,1896.3500000000001,1896.3500000000001,1896.3500000000001,1896.3500000000001,1896.3500000000001,1896.3500000000001,1896.3500000000001,1896.3500000000001,1896.3500000000001,1896.3500000000001,1896.3500000000001,1896.3500000000001,1896.3500000000001,1896.3500000000001,1896.3500000000001,1896.3500000000001,1896.3500000000001,1896.3500000000001,1896.3500000000001]
[null," ___________"," ___________"," ___________"," ___________"," ___________"," ___________"," ___________"," ___________"," ___________"," ___________"," ___________"," ___________"," ___________"," ___________"," ___________"," ___________"," ___________"," ___________"," ___________"," ___________"," ___________"," ___________"," ___________"," ___________"," ___________"," ___________"," ___________"," ___________"," ___________"," ___________"," ___________"," ___________"," ___________"," ___________"," ___________"," ___________"," ___________"," ___________"," ___________"," ___________"," ___________"," ___________"," ___________"," ___________"," ___________"," ___________"," ___________"," ___________"," ___________"," ___________"," ___________"," ___________"," ___________"," ___________"," ___________"," ___________"," ___________"," ___________"," ___________"," ___________"," ___________"," ___________"," ___________"," ___________"," ___________"," ___________"," ___________"," ___________"," ___________"," ___________"," ___________"," ___________"," ___________"," ___________"," ___________"," ___________"," ___________"," ___________"," ___________"," ___________"," ___________"," ___________"," ___________"," ___________"," ___________"," ___________"," ___________"," ___________"," ___________"," ___________"," ___________"," ___________"," ___________"," ___________"," ___________"," ___________"," ___________"," ___________"," ___________"," ___________"," ___________"," ___________"," ___________"," ___________"," ___________"," ___________"," ___________"," ___________"," ___________"," ___________"," ___________"," ___________"," ___________"," ___________"," ___________"," ___________"," ___________"," ___________"," ___________"," ___________"," ___________"," ___________"," ___________"," ___________"," ___________"," ___________"," ___________"," ___________"," ___________"," ___________"," ___________"," ___________"]
["Total Leasing & Capital Costs",{"$f":"+SUM(B70:B72)","v":1896.3500000000001},{"$f":"+SUM(C70:C72)","v":1896.3500000000001},1896.3500000000001,1896.3500000000001,9186.35,1896.3500000000001,1896.3500000000001,1896.3500000000001,5946.35,1896.3500000000001,1896.3500000000001,1896.3500000000001,14226.35,1896.3500000000001,1896.3500000000001,1896.3500000000001,5946.35,8496.35,1896.3500000000001,1896.3500000000001,1896.3500000000001,1896.3500000000001,1896.3500000000001,1896.3500000000001,1896.3500000000001,1896.3500000000001,1896.3500000000001,1896.3500000000001,1896.3500000000001,1896.3500000000001,1896.3500000000001,1896.3500000000001,1896.3500000000001,1896.3500000000001,1896.3500000000001,1896.3500000000001,1896.3500000000001,1896.3500000000001,1896.3500000000001,1896.3500000000001,1896.3500000000001,1896.3500000000001,1896.3500000000001,1896.3500000000001,1896.3500000000001,1896.3500000000001,1896.3500000000001,1896.3500000000001,1896.3500000000001,1896.3500000000001,1896.3500000000001,1896.3500000000001,1896.3500000000001,1896.3500000000001,1896.3500000000001,1896.3500000000001,1896.3500000000001,1896.3500000000001,1896.3500000000001,1896.3500000000001,1896.3500000000001,1896.3500000000001,1896.3500000000001,1896.3500000000001,1896.3500000000001,{"$f":"+SUM(BO70:BO72)","v":1896.3500000000001},1896.3500000000001,1896.3500000000001,1896.3500000000001,1896.3500000000001,1896.3500000000001,1896.3500000000001,1896.3500000000001,1896.3500000000001,1896.3500000000001,1896.3500000000001,1896.3500000000001,1896.3500000000001,1896.3500000000001,1896.3500000000001,1896.3500000000001,1896.3500000000001,1896.3500000000001,1896.3500000000001,1896.3500000000001,1896.3500000000001,1896.3500000000001,1896.3500000000001,1896.3500000000001,1896.3500000000001,1896.3500000000001,1896.3500000000001,1896.3500000000001,1896.3500000000001,1896.3500000000001,1896.3500000000001,1896.3500000000001,1896.3500000000001,1896.3500000000001,1896.3500000000001,1896.3500000000001,1896.3500000000001,1896.3500000000001,1896.3500000000001,1896.3500000000001,1896.3500000000001,1896.3500000000001,1896.3500000000001,1896.3500000000001,1896.3500000000001,1896.3500000000001,1896.3500000000001,1896.3500000000001,1896.3500000000001,1896.3500000000001,1896.3500000000001,1896.3500000000001,1896.3500000000001,1896.3500000000001,1896.3500000000001,1896.3500000000001,1896.3500000000001,1896.3500000000001,1896.3500000000001,1896.3500000000001,1896.3500000000001,1896.3500000000001,1896.3500000000001,1896.3500000000001,{"$f":"+SUM(EA70:EA72)","v":1896.3500000000001},1896.3500000000001,1896.3500000000001]
[null," ___________"," ___________"," ___________"," ___________"," ___________"," ___________"," ___________"," ___________"," ___________"," ___________"," ___________"," ___________"," ___________"," ___________"," ___________"," ___________"," ___________"," ___________"," ___________"," ___________"," ___________"," ___________"," ___________"," ___________"," ___________"," ___________"," ___________"," ___________"," ___________"," ___________"," ___________"," ___________"," ___________"," ___________"," ___________"," ___________"," ___________"," ___________"," ___________"," ___________"," ___________"," ___________"," ___________"," ___________"," ___________"," ___________"," ___________"," ___________"," ___________"," ___________"," ___________"," ___________"," ___________"," ___________"," ___________"," ___________"," ___________"," ___________"," ___________"," ___________"," ___________"," ___________"," ___________"," ___________"," ___________"," ___________"," ___________"," ___________"," ___________"," ___________"," ___________"," ___________"," ___________"," ___________"," ___________"," ___________"," ___________"," ___________"," ___________"," ___________"," ___________"," ___________"," ___________"," ___________"," ___________"," ___________"," ___________"," ___________"," ___________"," ___________"," ___________"," ___________"," ___________"," ___________"," ___________"," ___________"," ___________"," ___________"," ___________"," ___________"," ___________"," ___________"," ___________"," ___________"," ___________"," ___________"," ___________"," ___________"," ___________"," ___________"," ___________"," ___________"," ___________"," ___________"," ___________"," ___________"," ___________"," ___________"," ___________"," ___________"," ___________"," ___________"," ___________"," ___________"," ___________"," ___________"," ___________"," ___________"," ___________"," ___________"," ___________"," ___________"]
["Cash Flow Before Debt Service",{"$f":"+B67-B74","v":72536.96664513406},{"$f":"+C67-C74","v":73099.466645134074},73099.466645134074,73099.466645134074,68671.218167796033,75961.218167796033,75961.218167796033,75961.218167796033,73501.080124830449,77551.080124830449,77759.413458163792,78780.246791497135,72415.713717653503,84999.963717653503,84999.963717653503,85423.63038432016,82971.539423029026,86609.272641521849,93209.272641521849,93209.272641521849,94759.272641521879,94759.272641521879,94759.272641521879,94759.272641521879,95714.047763864335,95714.047763864335,95714.047763864335,95714.047763864335,95847.381097197678,95847.381097197678,95847.381097197678,95847.381097197678,96107.714430531021,96107.714430531021,96107.714430531021,96107.714430531021,96047.399473210447,96047.399473210447,96047.399473210447,96047.399473210447,96047.399473210447,96047.399473210447,96047.399473210447,96047.399473210447,96047.399473210447,96047.399473210447,96047.399473210447,96047.399473210447,95985.275067170238,96901.941733836924,96901.941733836924,96901.941733836924,96901.941733836924,96901.941733836924,96901.941733836924,96901.941733836924,96901.941733836924,96901.941733836924,96901.941733836924,96901.941733836924,96837.953595615501,97587.953595615501,97587.953595615501,97587.953595615501,97587.953595615501,{"$f":"+BO67-BO74","v":97587.953595615501},97587.953595615501,97587.953595615501,97587.953595615501,97587.953595615501,97879.620262282187,99349.620262282187,99283.71247991416,99616.71247991416,99616.71247991416,99616.71247991416,99616.71247991416,99616.71247991416,99616.71247991416,99616.71247991416,99616.71247991416,99616.71247991416,99616.71247991416,99616.71247991416,99548.827464075075,99548.827464075075,99548.827464075075,99548.827464075075,99548.827464075075,99548.827464075075,99548.827464075075,99548.827464075075,99548.827464075075,99548.827464075075,99548.827464075075,99548.827464075075,99478.905897760793,99478.905897760793,99478.905897760793,99478.905897760793,99478.905897760793,99478.905897760793,99478.905897760793,99478.905897760793,99478.905897760793,99478.905897760793,99478.905897760793,99478.905897760793,99406.886684457131,100323.55335112379,100323.55335112379,100323.55335112379,100323.55335112379,100323.55335112379,100323.55335112379,100323.55335112379,100323.55335112379,100323.55335112379,100323.55335112379,100323.55335112379,100249.37356142102,100249.37356142102,100249.37356142102,100249.37356142102,100249.37356142102,100249.37356142102,100249.37356142102,100249.37356142102,100249.37356142102,{"$f":"+EA67-EA74","v":100249.37356142102},100249.37356142102,100249.37356142102]
["& Taxes"," ==========="," ==========="," ==========="," ==========="," ==========="," ==========="," ==========="," ==========="," ==========="," ==========="," ==========="," ==========="," ==========="," ==========="," ==========="," ==========="," ==========="," ==========="," ==========="," ==========="," ==========="," ==========="," ==========="," ==========="," ==========="," ==========="," ==========="," ==========="," ==========="," ==========="," ==========="," ==========="," ==========="," ==========="," ==========="," ==========="," ==========="," ==========="," ==========="," ==========="," ==========="," ==========="," ==========="," ==========="," ==========="," ==========="," ==========="," ==========="," ==========="," ==========="," ==========="," ==========="," ==========="," ==========="," ==========="," ==========="," ==========="," ==========="," ==========="," ==========="," ==========="," ==========="," ==========="," ==========="," ==========="," ==========="," ==========="," ==========="," ==========="," ==========="," ==========="," ==========="," ==========="," ==========="," ==========="," ==========="," ==========="," ==========="," ==========="," ==========="," ==========="," ==========="," ==========="," ==========="," ==========="," ==========="," ==========="," ==========="," ==========="," ==========="," ==========="," ==========="," ==========="," ==========="," ==========="," ==========="," ==========="," ==========="," ==========="," ==========="," ==========="," ==========="," ==========="," ==========="," ==========="," ==========="," ==========="," ==========="," ==========="," ==========="," ==========="," ==========="," ==========="," ==========="," ==========="," ==========="," ==========="," ==========="," ==========="," ==========="," ==========="," ==========="," ==========="," ==========="," ==========="," ==========="," ==========="," ==========="," ==========="," ==========="," ==========="," ==========="]
[]
[]
[]
[]
[]
[]
[]
[]
[]
[]
[]
[]
[]
[]
[]
[]
[]
[]
[]
[]
[]
[]
[]
[]
[]
[]
[]
[]
[]
[null,null,null,null,null,null,null,null,null,null,null,null,null,null,null,null,null,null,null,null,null,null,null,null,null,null,null,null,null,null,null,null,null,null,null,null,null,null,null,null,null,null,null,null,null,null,null,null,null,null,null,null,null,null,null,null,null,null,null,null,null,null,null,null,null,null,null,null,null,null,null,null,null,null,null,null,null,null,null,null,{"$f":"+CC95/50000","v":0}]

{"sheet":"Prevailing Market Rate","index":8,"n_rows":39,"n_cols":138,"rows_kept":39,"cut":false,"hidden":true,"merged":[]}
[null,null,null,null,null,"YEAR",1,{"$f":"IF(MONTH($G$3)=MONTH(H$3),G1+1,G1)","v":1},{"$f":"IF(MONTH($G$3)=MONTH(I$3),H1+1,H1)","v":1},1,1,1,1,1,1,1,1,1,2,2,2,2,2,2,2,2,2,2,2,2,3,3,3,3,3,3,3,3,3,3,3,3,4,4,4,4,4,4,4,4,4,4,4,4,5,5,5,5,5,5,5,5,5,5,5,5,6,6,6,6,6,6,{"$f":"IF(MONTH($G$3)=MONTH(BU$3),BT1+1,BT1)","v":6},6,6,6,6,6,7,7,7,7,7,7,7,7,7,7,7,7,8,8,8,8,8,8,8,8,8,8,8,8,9,9,9,9,9,9,9,9,9,9,9,9,10,10,10,10,10,10,10,10,10,10,10,10,11,11,11,11,11,11,11,11,11,11,{"$f":"IF(MONTH($G$3)=MONTH(EG$3),EF1+1,EF1)","v":11},11]
["                        ","        ","   Month One","       Lease","       First","MONTH",1,{"$f":"G2+1","v":2},{"$f":"H2+1","v":3},4,5,6,7,8,9,10,11,12,13,14,15,16,17,18,19,20,21,22,23,24,25,26,27,28,29,30,31,32,33,34,35,36,37,38,39,40,41,42,43,44,45,46,47,48,49,50,51,52,53,54,55,56,57,58,59,60,61,62,63,64,65,66,{"$f":"BT2+1","v":67},68,69,70,71,72,73,74,75,76,77,78,79,80,81,82,83,84,85,86,87,88,89,90,91,92,93,94,95,96,97,98,99,100,101,102,103,104,105,106,107,108,109,110,111,112,113,114,115,116,117,118,119,120,121,122,123,124,125,126,127,128,129,130,{"$f":"EF2+1","v":131},{"$f":"EG2+1","v":132}]
["For the Months          ","        ","Occupied Area","       Start","  Expiration","For the Months",{"$f":"'Monthly Cash Flows'!B13","v":"2018-01-01"},{"$f":"+EOMONTH(G3,1)","v":"2018-02-28"},{"$f":"+EOMONTH(H3,1)","v":"2018-03-31"},"2018-04-30","2018-05-31","2018-06-30","2018-07-31","2018-08-31","2018-09-30","2018-10-31","2018-11-30","2018-12-31","2019-01-31","2019-02-28","2019-03-31","2019-04-30","2019-05-31","2019-06-30","2019-07-31","2019-08-31","2019-09-30","2019-10-31","2019-11-30","2019-12-31","2020-01-31","2020-02-29","2020-03-31","2020-04-30","2020-05-31","2020-06-30","2020-07-31","2020-08-31","2020-09-30","2020-10-31","2020-11-30","2020-12-31","2021-01-31","2021-02-28","2021-03-31","2021-04-30","2021-05-31","2021-06-30","2021-07-31","2021-08-31","2021-09-30","2021-10-31","2021-11-30","2021-12-31","2022-01-31","2022-02-28","2022-03-31","2022-04-30","2022-05-31","2022-06-30","2022-07-31","2022-08-31","2022-09-30","2022-10-31","2022-11-30","2022-12-31","2023-01-31","2023-02-28","2023-03-31","2023-04-30","2023-05-31","2023-06-30",{"$f":"+EOMONTH(BT3,1)","v":"2023-07-31"},"2023-08-31","2023-09-30","2023-10-31","2023-11-30","2023-12-31","2024-01-31","2024-02-29","2024-03-31","2024-04-30","2024-05-31","2024-06-30","2024-07-31","2024-08-31","2024-09-30","2024-10-31","2024-11-30","2024-12-31","2025-01-31","2025-02-28","2025-03-31","2025-04-30","2025-05-31","2025-06-30","2025-07-31","2025-08-31","2025-09-30","2025-10-31","2025-11-30","2025-12-31","2026-01-31","2026-02-28","2026-03-31","2026-04-30","2026-05-31","2026-06-30","2026-07-31","2026-08-31","2026-09-30","2026-10-31","2026-11-30","2026-12-31","2027-01-31","2027-02-28","2027-03-31","2027-04-30","2027-05-31","2027-06-30","2027-07-31","2027-08-31","2027-09-30","2027-10-31","2027-11-30","2027-12-31","2028-01-31","2028-02-29","2028-03-31","2028-04-30","2028-05-31","2028-06-30","2028-07-31","2028-08-31","2028-09-30","2028-10-31",{"$f":"+EOMONTH(EF3,1)","v":"2028-11-30"},"2028-12-31"]
["                        ","        ","            ","            ","            ",null," __________ "," __________ "," __________ "," __________ "," __________ "," __________ "," __________ "," __________ "," __________ "," __________ "," __________ "," __________ "," __________ "," __________ "," __________ "," __________ "," __________ "," __________ "," __________ "," __________ "," __________ "," __________ "," __________ "," __________ "," __________ "," __________ "," __________ "," __________ "," __________ "," __________ "," __________ "," __________ "," __________ "," __________ "," __________ "," __________ "," __________ "," __________ "," __________ "," __________ "," __________ "," __________ "," __________ "," __________ "," __________ "," __________ "," __________ "," __________ "," __________ "," __________ "," __________ "," __________ "," __________ "," __________ "," __________ "," __________ "," __________ "," __________ "," __________ "," __________ "," __________ "," __________ "," __________ "," __________ "," __________ "," __________ "," __________ "," __________ "," __________ "," __________ "," __________ "," __________ "," __________ "," __________ "," __________ "," __________ "," __________ "," __________ "," __________ "," __________ "," __________ "," __________ "," __________ "," __________ "," __________ "," __________ "," __________ "," __________ "," __________ "," __________ "," __________ "," __________ "," __________ "," __________ "," __________ "," __________ "," __________ "," __________ "," __________ "," __________ "," __________ "," __________ "," __________ "," __________ "," __________ "," __________ "," __________ "," __________ "," __________ "," __________ "," __________ "," __________ "," __________ "," __________ "," __________ "," __________ "," __________ "," __________ "," __________ "," __________ "," __________ "," __________ "," __________ "," __________ "," __________ "," __________ "," __________ "," __________ "," __________ "," __________ "," __________ "," __________ "]
["Tenant","Suite"]
["Mai Thai Seafood","421",2200,"2009-03-13","2019-08-31",null,14.58,{"$f":"+IF(MOD(H$2,12)=1,G6*1.03,G6)","v":14.58},{"$f":"+IF(MOD(I$2,12)=1,H6*1.03,H6)","v":14.58},14.58,14.58,14.58,14.58,14.58,14.58,14.58,14.58,14.58,15.0174,15.0174,15.0174,15.0174,15.0174,15.0174,15.0174,15.0174,15.0174,15.0174,15.0174,15.0174,15.467922000000002,15.467922000000002,15.467922000000002,15.467922000000002,15.467922000000002,15.467922000000002,15.467922000000002,15.467922000000002,15.467922000000002,15.467922000000002,15.467922000000002,15.467922000000002,15.931959660000002,15.931959660000002,15.931959660000002,15.931959660000002,15.931959660000002,15.931959660000002,15.931959660000002,15.931959660000002,15.931959660000002,15.931959660000002,15.931959660000002,15.931959660000002,16.409918449800003,16.409918449800003,16.409918449800003,16.409918449800003,16.409918449800003,16.409918449800003,16.409918449800003,16.409918449800003,16.409918449800003,16.409918449800003,16.409918449800003,16.409918449800003,16.902216003294004,16.902216003294004,16.902216003294004,16.902216003294004,16.902216003294004,16.902216003294004,{"$f":"+IF(MOD(BU$2,12)=1,BT6*1.03,BT6)","v":16.902216003294004},16.902216003294004,16.902216003294004,16.902216003294004,16.902216003294004,16.902216003294004,17.409282483392825,17.409282483392825,17.409282483392825,17.409282483392825,17.409282483392825,17.409282483392825,17.409282483392825,17.409282483392825,17.409282483392825,17.409282483392825,17.409282483392825,17.409282483392825,17.931560957894611,17.931560957894611,17.931560957894611,17.931560957894611,17.931560957894611,17.931560957894611,17.931560957894611,17.931560957894611,17.931560957894611,17.931560957894611,17.931560957894611,17.931560957894611,18.46950778663145,18.46950778663145,18.46950778663145,18.46950778663145,18.46950778663145,18.46950778663145,18.46950778663145,18.46950778663145,18.46950778663145,18.46950778663145,18.46950778663145,18.46950778663145,19.023593020230393,19.023593020230393,19.023593020230393,19.023593020230393,19.023593020230393,19.023593020230393,19.023593020230393,19.023593020230393,19.023593020230393,19.023593020230393,19.023593020230393,19.023593020230393,19.594300810837307,19.594300810837307,19.594300810837307,19.594300810837307,19.594300810837307,19.594300810837307,19.594300810837307,19.594300810837307,19.594300810837307,19.594300810837307,{"$f":"+IF(MOD(EG$2,12)=1,EF6*1.03,EF6)","v":19.594300810837307},19.594300810837307]
["Rainbow Shops","425",4500,"2006-11-12","2023-01-31",null,14.5,{"$f":"+IF(MOD(H$2,12)=1,G7*1.03,G7)","v":14.5},14.5,14.5,14.5,14.5,14.5,14.5,14.5,14.5,14.5,14.5,14.935,14.935,14.935,14.935,14.935,14.935,14.935,14.935,14.935,14.935,14.935,14.935,15.383050000000001,15.383050000000001,15.383050000000001,15.383050000000001,15.383050000000001,15.383050000000001,15.383050000000001,15.383050000000001,15.383050000000001,15.383050000000001,15.383050000000001,15.383050000000001,15.844541500000002,15.844541500000002,15.844541500000002,15.844541500000002,15.844541500000002,15.844541500000002,15.844541500000002,15.844541500000002,15.844541500000002,15.844541500000002,15.844541500000002,15.844541500000002,16.319877745000003,16.319877745000003,16.319877745000003,16.319877745000003,16.319877745000003,16.319877745000003,16.319877745000003,16.319877745000003,16.319877745000003,16.319877745000003,16.319877745000003,16.319877745000003,16.809474077350004,16.809474077350004,16.809474077350004,16.809474077350004,16.809474077350004,16.809474077350004,16.809474077350004,16.809474077350004,16.809474077350004,16.809474077350004,16.809474077350004,16.809474077350004,17.313758299670504,17.313758299670504,17.313758299670504,17.313758299670504,17.313758299670504,17.313758299670504,17.313758299670504,17.313758299670504,17.313758299670504,17.313758299670504,17.313758299670504,17.313758299670504,17.833171048660621,17.833171048660621,17.833171048660621,17.833171048660621,17.833171048660621,17.833171048660621,17.833171048660621,17.833171048660621,17.833171048660621,17.833171048660621,17.833171048660621,17.833171048660621,18.36816618012044,18.36816618012044,18.36816618012044,18.36816618012044,18.36816618012044,18.36816618012044,18.36816618012044,18.36816618012044,18.36816618012044,18.36816618012044,18.36816618012044,18.36816618012044,18.919211165524054,18.919211165524054,18.919211165524054,18.919211165524054,18.919211165524054,18.919211165524054,18.919211165524054,18.919211165524054,18.919211165524054,18.919211165524054,18.919211165524054,18.919211165524054,19.486787500489775,19.486787500489775,19.486787500489775,19.486787500489775,19.486787500489775,19.486787500489775,19.486787500489775,19.486787500489775,19.486787500489775,19.486787500489775,19.486787500489775,19.486787500489775]
["Palais Royal","431",24500,"1992-11-05","2023-11-30",null,5.5,5.5,{"$f":"+IF(MOD(I$2,12)=1,H8*1.03,H8)","v":5.5},5.5,5.5,5.5,5.5,5.5,5.5,5.5,5.5,5.5,5.665,5.665,5.665,5.665,5.665,5.665,5.665,5.665,5.665,5.665,5.665,5.665,5.8349500000000001,5.8349500000000001,5.8349500000000001,5.8349500000000001,5.8349500000000001,5.8349500000000001,5.8349500000000001,5.8349500000000001,5.8349500000000001,5.8349500000000001,5.8349500000000001,5.8349500000000001,6.0099985,6.0099985,6.0099985,6.0099985,6.0099985,6.0099985,6.0099985,6.0099985,6.0099985,6.0099985,6.0099985,6.0099985,6.1902984549999998,6.1902984549999998,6.1902984549999998,6.1902984549999998,6.1902984549999998,6.1902984549999998,6.1902984549999998,6.1902984549999998,6.1902984549999998,6.1902984549999998,6.1902984549999998,6.1902984549999998,6.3760074086499996,6.3760074086499996,6.3760074086499996,6.3760074086499996,6.3760074086499996,6.3760074086499996,6.3760074086499996,6.3760074086499996,6.3760074086499996,6.3760074086499996,6.3760074086499996,6.3760074086499996,6.5672876309095001,6.5672876309095001,6.5672876309095001,6.5672876309095001,6.5672876309095001,6.5672876309095001,6.5672876309095001,6.5672876309095001,6.5672876309095001,6.5672876309095001,6.5672876309095001,6.5672876309095001,6.7643062598367854,6.7643062598367854,6.7643062598367854,6.7643062598367854,6.7643062598367854,6.7643062598367854,6.7643062598367854,6.7643062598367854,6.7643062598367854,6.7643062598367854,6.7643062598367854,6.7643062598367854,6.9672354476318894,6.9672354476318894,6.9672354476318894,6.9672354476318894,6.9672354476318894,6.9672354476318894,6.9672354476318894,6.9672354476318894,6.9672354476318894,6.9672354476318894,6.9672354476318894,6.9672354476318894,7.1762525110608459,7.1762525110608459,7.1762525110608459,7.1762525110608459,7.1762525110608459,7.1762525110608459,7.1762525110608459,7.1762525110608459,7.1762525110608459,7.1762525110608459,7.1762525110608459,7.1762525110608459,7.3915400863926717,7.3915400863926717,7.3915400863926717,7.3915400863926717,7.3915400863926717,7.3915400863926717,7.3915400863926717,7.3915400863926717,7.3915400863926717,7.3915400863926717,7.3915400863926717,7.3915400863926717]
["Vantage Sale and Lease","433",2800,"2010-10-14","2021-04-30",null,12.94,12.94,12.94,12.94,12.94,12.94,12.94,12.94,12.94,12.94,12.94,12.94,13.328200000000001,13.328200000000001,13.328200000000001,13.328200000000001,13.328200000000001,13.328200000000001,13.328200000000001,13.328200000000001,13.328200000000001,13.328200000000001,13.328200000000001,13.328200000000001,13.728046000000001,13.728046000000001,13.728046000000001,13.728046000000001,13.728046000000001,13.728046000000001,13.728046000000001,13.728046000000001,13.728046000000001,13.728046000000001,13.728046000000001,13.728046000000001,14.139887380000001,14.139887380000001,14.139887380000001,14.139887380000001,14.139887380000001,14.139887380000001,14.139887380000001,14.139887380000001,14.139887380000001,14.139887380000001,14.139887380000001,14.139887380000001,14.564084001400001,14.564084001400001,14.564084001400001,14.564084001400001,14.564084001400001,14.564084001400001,14.564084001400001,14.564084001400001,14.564084001400001,14.564084001400001,14.564084001400001,14.564084001400001,15.001006521442001,15.001006521442001,15.001006521442001,15.001006521442001,15.001006521442001,15.001006521442001,15.001006521442001,15.001006521442001,15.001006521442001,15.001006521442001,15.001006521442001,15.001006521442001,15.451036717085261,15.451036717085261,15.451036717085261,15.451036717085261,15.451036717085261,15.451036717085261,15.451036717085261,15.451036717085261,15.451036717085261,15.451036717085261,15.451036717085261,15.451036717085261,15.914567818597819,15.914567818597819,15.914567818597819,15.914567818597819,15.914567818597819,15.914567818597819,15.914567818597819,15.914567818597819,15.914567818597819,15.914567818597819,15.914567818597819,15.914567818597819,16.392004853155754,16.392004853155754,16.392004853155754,16.392004853155754,16.392004853155754,16.392004853155754,16.392004853155754,16.392004853155754,16.392004853155754,16.392004853155754,16.392004853155754,16.392004853155754,16.883764998750426,16.883764998750426,16.883764998750426,16.883764998750426,16.883764998750426,16.883764998750426,16.883764998750426,16.883764998750426,16.883764998750426,16.883764998750426,16.883764998750426,16.883764998750426,17.390277948712939,17.390277948712939,17.390277948712939,17.390277948712939,17.390277948712939,17.390277948712939,17.390277948712939,17.390277948712939,17.390277948712939,{"$f":"+IF(MOD(EF$2,12)=1,EE9*1.03,EE9)","v":17.390277948712939},17.390277948712939,17.390277948712939]
["LNA Beauty Supply","437",3535,"2013-04-19","2021-04-30",null,11.79,11.79,11.79,11.79,11.79,11.79,11.79,11.79,11.79,11.79,11.79,11.79,12.143699999999999,12.143699999999999,12.143699999999999,12.143699999999999,12.143699999999999,12.143699999999999,12.143699999999999,12.143699999999999,12.143699999999999,12.143699999999999,12.143699999999999,12.143699999999999,12.508011,12.508011,12.508011,12.508011,12.508011,12.508011,12.508011,12.508011,12.508011,12.508011,12.508011,12.508011,12.88325133,12.88325133,12.88325133,12.88325133,12.88325133,12.88325133,12.88325133,12.88325133,12.88325133,12.88325133,12.88325133,12.88325133,13.269748869900001,13.269748869900001,13.269748869900001,13.269748869900001,13.269748869900001,13.269748869900001,13.269748869900001,13.269748869900001,13.269748869900001,13.269748869900001,13.269748869900001,13.269748869900001,13.667841335997002,13.667841335997002,13.667841335997002,13.667841335997002,13.667841335997002,13.667841335997002,{"$f":"+IF(MOD(BU$2,12)=1,BT10*1.03,BT10)","v":13.667841335997002},13.667841335997002,13.667841335997002,13.667841335997002,13.667841335997002,13.667841335997002,14.077876576076912,14.077876576076912,14.077876576076912,14.077876576076912,14.077876576076912,14.077876576076912,14.077876576076912,14.077876576076912,14.077876576076912,14.077876576076912,14.077876576076912,14.077876576076912,14.500212873359221,14.500212873359221,14.500212873359221,14.500212873359221,14.500212873359221,14.500212873359221,14.500212873359221,14.500212873359221,14.500212873359221,14.500212873359221,14.500212873359221,14.500212873359221,14.935219259559998,14.935219259559998,14.935219259559998,14.935219259559998,14.935219259559998,14.935219259559998,14.935219259559998,14.935219259559998,14.935219259559998,14.935219259559998,14.935219259559998,14.935219259559998,15.383275837346799,15.383275837346799,15.383275837346799,15.383275837346799,15.383275837346799,15.383275837346799,15.383275837346799,15.383275837346799,15.383275837346799,15.383275837346799,15.383275837346799,15.383275837346799,15.844774112467203,15.844774112467203,15.844774112467203,15.844774112467203,15.844774112467203,15.844774112467203,15.844774112467203,15.844774112467203,15.844774112467203,15.844774112467203,15.844774112467203,15.844774112467203]
["dd's DISCOUNTS","435",22000,"2011-09-22","2022-01-31",null,5.25,5.25,5.25,5.25,5.25,5.25,5.25,5.25,5.25,5.25,5.25,5.25,5.4074999999999998,5.4074999999999998,5.4074999999999998,5.4074999999999998,5.4074999999999998,5.4074999999999998,5.4074999999999998,5.4074999999999998,5.4074999999999998,5.4074999999999998,5.4074999999999998,5.4074999999999998,5.569725,5.569725,5.569725,5.569725,5.569725,5.569725,5.569725,5.569725,5.569725,5.569725,5.569725,5.569725,5.73681675,5.73681675,5.73681675,5.73681675,5.73681675,5.73681675,5.73681675,5.73681675,5.73681675,5.73681675,5.73681675,5.73681675,5.9089212524999999,5.9089212524999999,5.9089212524999999,5.9089212524999999,5.9089212524999999,5.9089212524999999,5.9089212524999999,5.9089212524999999,5.9089212524999999,5.9089212524999999,5.9089212524999999,5.9089212524999999,6.0861888900750003,6.0861888900750003,6.0861888900750003,6.0861888900750003,6.0861888900750003,{"$f":"+IF(MOD(BT$2,12)=1,BS11*1.03,BS11)","v":6.0861888900750003},6.0861888900750003,6.0861888900750003,6.0861888900750003,6.0861888900750003,6.0861888900750003,6.0861888900750003,6.2687745567772506,6.2687745567772506,6.2687745567772506,6.2687745567772506,6.2687745567772506,6.2687745567772506,6.2687745567772506,6.2687745567772506,6.2687745567772506,6.2687745567772506,6.2687745567772506,6.2687745567772506,6.4568377934805685,6.4568377934805685,6.4568377934805685,6.4568377934805685,6.4568377934805685,6.4568377934805685,6.4568377934805685,6.4568377934805685,6.4568377934805685,6.4568377934805685,6.4568377934805685,6.4568377934805685,6.6505429272849854,6.6505429272849854,6.6505429272849854,6.6505429272849854,6.6505429272849854,6.6505429272849854,6.6505429272849854,6.6505429272849854,6.6505429272849854,6.6505429272849854,6.6505429272849854,6.6505429272849854,6.8500592151035349,6.8500592151035349,6.8500592151035349,6.8500592151035349,6.8500592151035349,6.8500592151035349,6.8500592151035349,6.8500592151035349,6.8500592151035349,6.8500592151035349,6.8500592151035349,6.8500592151035349,7.0555609915566411,7.0555609915566411,7.0555609915566411,7.0555609915566411,7.0555609915566411,7.0555609915566411,7.0555609915566411,7.0555609915566411,7.0555609915566411,7.0555609915566411,7.0555609915566411,7.0555609915566411]
["Advance Auto Parts","439",6060,"2008-08-19","2018-12-31",null,11.25,11.25,{"$f":"+IF(MOD(I$2,12)=1,H12*1.03,H12)","v":11.25},11.25,11.25,11.25,11.25,11.25,11.25,11.25,11.25,11.25,11.5875,11.5875,11.5875,11.5875,11.5875,11.5875,11.5875,11.5875,11.5875,11.5875,11.5875,11.5875,11.935125000000001,11.935125000000001,11.935125000000001,11.935125000000001,11.935125000000001,11.935125000000001,11.935125000000001,11.935125000000001,11.935125000000001,11.935125000000001,11.935125000000001,11.935125000000001,12.293178750000001,12.293178750000001,12.293178750000001,12.293178750000001,12.293178750000001,12.293178750000001,12.293178750000001,12.293178750000001,12.293178750000001,12.293178750000001,12.293178750000001,12.293178750000001,12.661974112500001,12.661974112500001,12.661974112500001,12.661974112500001,12.661974112500001,12.661974112500001,12.661974112500001,12.661974112500001,12.661974112500001,12.661974112500001,12.661974112500001,12.661974112500001,13.041833335875001,13.041833335875001,13.041833335875001,13.041833335875001,13.041833335875001,13.041833335875001,13.041833335875001,13.041833335875001,13.041833335875001,13.041833335875001,13.041833335875001,13.041833335875001,13.433088335951252,13.433088335951252,13.433088335951252,13.433088335951252,13.433088335951252,13.433088335951252,13.433088335951252,13.433088335951252,13.433088335951252,13.433088335951252,13.433088335951252,13.433088335951252,13.83608098602979,13.83608098602979,13.83608098602979,13.83608098602979,13.83608098602979,13.83608098602979,13.83608098602979,13.83608098602979,13.83608098602979,13.83608098602979,13.83608098602979,13.83608098602979,14.251163415610684,14.251163415610684,14.251163415610684,14.251163415610684,14.251163415610684,14.251163415610684,14.251163415610684,14.251163415610684,14.251163415610684,14.251163415610684,14.251163415610684,14.251163415610684,14.678698318079004,14.678698318079004,14.678698318079004,14.678698318079004,14.678698318079004,14.678698318079004,14.678698318079004,14.678698318079004,14.678698318079004,14.678698318079004,14.678698318079004,14.678698318079004,15.119059267621374,15.119059267621374,15.119059267621374,15.119059267621374,15.119059267621374,15.119059267621374,15.119059267621374,15.119059267621374,15.119059267621374,15.119059267621374,15.119059267621374,15.119059267621374]
["Jay's Barber Shop","441",450,"2007-05-18","2018-01-31",null,18,18,18,18,18,18,18,18,18,18,18,18,18.54,18.54,18.54,18.54,18.54,18.54,18.54,18.54,18.54,18.54,18.54,18.54,19.0962,19.0962,19.0962,19.0962,19.0962,19.0962,19.0962,19.0962,19.0962,19.0962,19.0962,19.0962,19.669086,19.669086,19.669086,19.669086,19.669086,19.669086,19.669086,19.669086,19.669086,19.669086,19.669086,19.669086,20.259158580000001,20.259158580000001,20.259158580000001,20.259158580000001,20.259158580000001,20.259158580000001,20.259158580000001,20.259158580000001,20.259158580000001,20.259158580000001,20.259158580000001,20.259158580000001,20.866933337400003,20.866933337400003,20.866933337400003,20.866933337400003,20.866933337400003,20.866933337400003,20.866933337400003,20.866933337400003,20.866933337400003,20.866933337400003,20.866933337400003,20.866933337400003,21.492941337522002,21.492941337522002,21.492941337522002,21.492941337522002,21.492941337522002,21.492941337522002,21.492941337522002,21.492941337522002,21.492941337522002,21.492941337522002,21.492941337522002,21.492941337522002,22.137729577647661,22.137729577647661,22.137729577647661,22.137729577647661,22.137729577647661,22.137729577647661,22.137729577647661,22.137729577647661,22.137729577647661,22.137729577647661,22.137729577647661,22.137729577647661,22.80186146497709,22.80186146497709,22.80186146497709,22.80186146497709,22.80186146497709,22.80186146497709,22.80186146497709,22.80186146497709,22.80186146497709,22.80186146497709,22.80186146497709,22.80186146497709,23.485917308926403,23.485917308926403,23.485917308926403,23.485917308926403,23.485917308926403,23.485917308926403,23.485917308926403,23.485917308926403,23.485917308926403,23.485917308926403,23.485917308926403,23.485917308926403,24.190494828194197,24.190494828194197,24.190494828194197,24.190494828194197,24.190494828194197,24.190494828194197,24.190494828194197,24.190494828194197,24.190494828194197,24.190494828194197,24.190494828194197,24.190494828194197]
["Arena Salon","443",1200,"2009-02-13","2022-02-28",null,17.5,17.5,17.5,17.5,17.5,17.5,17.5,17.5,17.5,17.5,17.5,17.5,18.025000000000002,18.025000000000002,18.025000000000002,18.025000000000002,18.025000000000002,18.025000000000002,18.025000000000002,18.025000000000002,18.025000000000002,18.025000000000002,18.025000000000002,18.025000000000002,18.565750000000001,18.565750000000001,18.565750000000001,18.565750000000001,18.565750000000001,18.565750000000001,18.565750000000001,18.565750000000001,18.565750000000001,18.565750000000001,18.565750000000001,18.565750000000001,19.122722500000002,19.122722500000002,19.122722500000002,19.122722500000002,19.122722500000002,19.122722500000002,19.122722500000002,19.122722500000002,19.122722500000002,19.122722500000002,19.122722500000002,19.122722500000002,19.696404175000001,19.696404175000001,19.696404175000001,19.696404175000001,19.696404175000001,19.696404175000001,19.696404175000001,19.696404175000001,19.696404175000001,19.696404175000001,19.696404175000001,19.696404175000001,20.287296300250002,20.287296300250002,20.287296300250002,20.287296300250002,20.287296300250002,20.287296300250002,20.287296300250002,20.287296300250002,20.287296300250002,20.287296300250002,20.287296300250002,20.287296300250002,20.895915189257504,20.895915189257504,20.895915189257504,20.895915189257504,20.895915189257504,20.895915189257504,20.895915189257504,20.895915189257504,20.895915189257504,20.895915189257504,20.895915189257504,20.895915189257504,21.52279264493523,21.52279264493523,21.52279264493523,21.52279264493523,21.52279264493523,21.52279264493523,21.52279264493523,21.52279264493523,21.52279264493523,21.52279264493523,21.52279264493523,21.52279264493523,22.168476424283288,22.168476424283288,22.168476424283288,22.168476424283288,22.168476424283288,22.168476424283288,22.168476424283288,22.168476424283288,22.168476424283288,22.168476424283288,22.168476424283288,22.168476424283288,22.833530717011786,22.833530717011786,22.833530717011786,22.833530717011786,22.833530717011786,22.833530717011786,22.833530717011786,22.833530717011786,22.833530717011786,22.833530717011786,22.833530717011786,22.833530717011786,23.518536638522139,23.518536638522139,23.518536638522139,23.518536638522139,23.518536638522139,23.518536638522139,23.518536638522139,23.518536638522139,23.518536638522139,23.518536638522139,23.518536638522139,23.518536638522139]
["QW World Party Supply","447",7800,"2014-06-01","2019-05-31",null,8.32,8.32,8.32,8.32,8.32,8.32,8.32,8.32,8.32,8.32,8.32,8.32,8.5696000000000012,8.5696000000000012,8.5696000000000012,8.5696000000000012,8.5696000000000012,8.5696000000000012,8.5696000000000012,8.5696000000000012,8.5696000000000012,8.5696000000000012,8.5696000000000012,8.5696000000000012,8.8266880000000008,8.8266880000000008,8.8266880000000008,8.8266880000000008,8.8266880000000008,8.8266880000000008,8.8266880000000008,8.8266880000000008,8.8266880000000008,8.8266880000000008,8.8266880000000008,8.8266880000000008,9.0914886400000015,9.0914886400000015,9.0914886400000015,9.0914886400000015,9.0914886400000015,9.0914886400000015,9.0914886400000015,9.0914886400000015,9.0914886400000015,9.0914886400000015,9.0914886400000015,9.0914886400000015,9.3642332992000021,9.3642332992000021,9.3642332992000021,9.3642332992000021,9.3642332992000021,9.3642332992000021,9.3642332992000021,9.3642332992000021,9.3642332992000021,9.3642332992000021,9.3642332992000021,9.3642332992000021,9.6451602981760018,9.6451602981760018,9.6451602981760018,9.6451602981760018,9.6451602981760018,{"$f":"+IF(MOD(BT$2,12)=1,BS15*1.03,BS15)","v":9.6451602981760018},9.6451602981760018,9.6451602981760018,9.6451602981760018,9.6451602981760018,9.6451602981760018,9.6451602981760018,9.9345151071212818,9.9345151071212818,9.9345151071212818,9.9345151071212818,9.9345151071212818,9.9345151071212818,9.9345151071212818,9.9345151071212818,9.9345151071212818,9.9345151071212818,9.9345151071212818,9.9345151071212818,10.232550560334921,10.232550560334921,10.232550560334921,10.232550560334921,10.232550560334921,10.232550560334921,10.232550560334921,10.232550560334921,10.232550560334921,10.232550560334921,10.232550560334921,10.232550560334921,10.539527077144969,10.539527077144969,10.539527077144969,10.539527077144969,10.539527077144969,10.539527077144969,10.539527077144969,10.539527077144969,10.539527077144969,10.539527077144969,10.539527077144969,10.539527077144969,10.855712889459319,10.855712889459319,10.855712889459319,10.855712889459319,10.855712889459319,10.855712889459319,10.855712889459319,10.855712889459319,10.855712889459319,10.855712889459319,10.855712889459319,10.855712889459319,11.181384276143099,11.181384276143099,11.181384276143099,11.181384276143099,11.181384276143099,11.181384276143099,11.181384276143099,11.181384276143099,11.181384276143099,11.181384276143099,11.181384276143099,11.181384276143099]
["Advance America","453",1525,"2002-11-07","2020-11-30",null,17.05,17.05,{"$f":"+IF(MOD(I$2,12)=1,H16*1.03,H16)","v":17.05},17.05,17.05,17.05,17.05,17.05,17.05,17.05,17.05,17.05,17.561500000000002,17.561500000000002,17.561500000000002,17.561500000000002,17.561500000000002,17.561500000000002,17.561500000000002,17.561500000000002,17.561500000000002,17.561500000000002,17.561500000000002,17.561500000000002,18.088345000000004,18.088345000000004,18.088345000000004,18.088345000000004,18.088345000000004,18.088345000000004,18.088345000000004,18.088345000000004,18.088345000000004,18.088345000000004,18.088345000000004,18.088345000000004,18.630995350000003,18.630995350000003,18.630995350000003,18.630995350000003,18.630995350000003,18.630995350000003,18.630995350000003,18.630995350000003,18.630995350000003,18.630995350000003,18.630995350000003,18.630995350000003,19.189925210500004,19.189925210500004,19.189925210500004,19.189925210500004,19.189925210500004,19.189925210500004,19.189925210500004,19.189925210500004,19.189925210500004,19.189925210500004,19.189925210500004,19.189925210500004,19.765622966815005,19.765622966815005,19.765622966815005,19.765622966815005,19.765622966815005,19.765622966815005,19.765622966815005,19.765622966815005,19.765622966815005,19.765622966815005,19.765622966815005,19.765622966815005,20.358591655819456,20.358591655819456,20.358591655819456,20.358591655819456,20.358591655819456,20.358591655819456,20.358591655819456,20.358591655819456,20.358591655819456,20.358591655819456,20.358591655819456,20.358591655819456,20.969349405494039,20.969349405494039,20.969349405494039,20.969349405494039,20.969349405494039,20.969349405494039,20.969349405494039,20.969349405494039,20.969349405494039,20.969349405494039,20.969349405494039,20.969349405494039,21.59842988765886,21.59842988765886,21.59842988765886,21.59842988765886,21.59842988765886,21.59842988765886,21.59842988765886,21.59842988765886,21.59842988765886,21.59842988765886,21.59842988765886,21.59842988765886,22.246382784288627,22.246382784288627,22.246382784288627,22.246382784288627,22.246382784288627,22.246382784288627,22.246382784288627,22.246382784288627,22.246382784288627,22.246382784288627,22.246382784288627,22.246382784288627,22.913774267817288,22.913774267817288,22.913774267817288,22.913774267817288,22.913774267817288,22.913774267817288,22.913774267817288,22.913774267817288,22.913774267817288,22.913774267817288,22.913774267817288,22.913774267817288]
["Woodforest Insurance and Tax","457",1200,"2013-08-01","2020-09-30",null,12.5,12.5,12.5,12.5,12.5,12.5,12.5,12.5,12.5,12.5,12.5,12.5,12.875,12.875,12.875,12.875,12.875,12.875,12.875,12.875,12.875,12.875,12.875,12.875,13.26125,13.26125,13.26125,13.26125,13.26125,13.26125,13.26125,13.26125,13.26125,13.26125,13.26125,13.26125,13.6590875,13.6590875,13.6590875,13.6590875,13.6590875,13.6590875,13.6590875,13.6590875,13.6590875,13.6590875,13.6590875,13.6590875,14.068860125,14.068860125,14.068860125,14.068860125,14.068860125,14.068860125,14.068860125,14.068860125,14.068860125,14.068860125,14.068860125,14.068860125,14.49092592875,14.49092592875,14.49092592875,14.49092592875,14.49092592875,14.49092592875,14.49092592875,14.49092592875,14.49092592875,14.49092592875,14.49092592875,14.49092592875,14.925653706612501,14.925653706612501,14.925653706612501,14.925653706612501,14.925653706612501,14.925653706612501,14.925653706612501,14.925653706612501,14.925653706612501,14.925653706612501,14.925653706612501,14.925653706612501,15.373423317810875,15.373423317810875,15.373423317810875,15.373423317810875,15.373423317810875,15.373423317810875,15.373423317810875,15.373423317810875,15.373423317810875,15.373423317810875,15.373423317810875,15.373423317810875,15.834626017345203,15.834626017345203,15.834626017345203,15.834626017345203,15.834626017345203,15.834626017345203,15.834626017345203,15.834626017345203,15.834626017345203,15.834626017345203,15.834626017345203,15.834626017345203,16.309664797865558,16.309664797865558,16.309664797865558,16.309664797865558,16.309664797865558,16.309664797865558,16.309664797865558,16.309664797865558,16.309664797865558,16.309664797865558,16.309664797865558,16.309664797865558,16.798954741801527,16.798954741801527,16.798954741801527,16.798954741801527,16.798954741801527,16.798954741801527,16.798954741801527,16.798954741801527,16.798954741801527,16.798954741801527,16.798954741801527,16.798954741801527]
["Glass Etching by Matisse",455,1475,"2010-12-04","2018-11-30",null,12.28,12.28,12.28,12.28,12.28,12.28,12.28,12.28,12.28,12.28,12.28,12.28,12.648400000000001,12.648400000000001,12.648400000000001,12.648400000000001,12.648400000000001,12.648400000000001,12.648400000000001,12.648400000000001,12.648400000000001,12.648400000000001,12.648400000000001,12.648400000000001,13.027852000000001,13.027852000000001,13.027852000000001,13.027852000000001,13.027852000000001,13.027852000000001,13.027852000000001,13.027852000000001,13.027852000000001,13.027852000000001,13.027852000000001,13.027852000000001,13.418687560000002,13.418687560000002,13.418687560000002,13.418687560000002,13.418687560000002,13.418687560000002,13.418687560000002,13.418687560000002,13.418687560000002,13.418687560000002,13.418687560000002,13.418687560000002,13.821248186800002,13.821248186800002,13.821248186800002,13.821248186800002,13.821248186800002,13.821248186800002,13.821248186800002,13.821248186800002,13.821248186800002,13.821248186800002,13.821248186800002,13.821248186800002,14.235885632404003,14.235885632404003,14.235885632404003,14.235885632404003,14.235885632404003,14.235885632404003,14.235885632404003,14.235885632404003,14.235885632404003,14.235885632404003,14.235885632404003,14.235885632404003,14.662962201376123,14.662962201376123,14.662962201376123,14.662962201376123,14.662962201376123,14.662962201376123,14.662962201376123,14.662962201376123,14.662962201376123,14.662962201376123,14.662962201376123,14.662962201376123,15.102851067417408,15.102851067417408,15.102851067417408,15.102851067417408,15.102851067417408,15.102851067417408,15.102851067417408,15.102851067417408,15.102851067417408,15.102851067417408,15.102851067417408,15.102851067417408,15.55593659943993,15.55593659943993,15.55593659943993,15.55593659943993,15.55593659943993,15.55593659943993,15.55593659943993,15.55593659943993,15.55593659943993,15.55593659943993,15.55593659943993,15.55593659943993,16.022614697423126,16.022614697423126,16.022614697423126,16.022614697423126,16.022614697423126,16.022614697423126,16.022614697423126,16.022614697423126,16.022614697423126,16.022614697423126,16.022614697423126,16.022614697423126,16.503293138345821,16.503293138345821,16.503293138345821,16.503293138345821,16.503293138345821,16.503293138345821,16.503293138345821,16.503293138345821,16.503293138345821,16.503293138345821,16.503293138345821,16.503293138345821]
["Regional Finance Corp",459,1200,"2011-05-27","2019-05-31",null,14.41,14.41,14.41,14.41,14.41,14.41,14.41,14.41,14.41,14.41,14.41,14.41,14.8423,14.8423,14.8423,14.8423,14.8423,14.8423,14.8423,14.8423,14.8423,14.8423,14.8423,14.8423,15.287569,15.287569,15.287569,15.287569,15.287569,15.287569,15.287569,15.287569,15.287569,15.287569,15.287569,15.287569,15.74619607,15.74619607,15.74619607,15.74619607,15.74619607,15.74619607,15.74619607,15.74619607,15.74619607,15.74619607,15.74619607,15.74619607,16.218581952099999,16.218581952099999,16.218581952099999,16.218581952099999,16.218581952099999,16.218581952099999,16.218581952099999,16.218581952099999,16.218581952099999,16.218581952099999,16.218581952099999,16.218581952099999,16.705139410663001,16.705139410663001,16.705139410663001,16.705139410663001,16.705139410663001,{"$f":"+IF(MOD(BT$2,12)=1,BS19*1.03,BS19)","v":16.705139410663001},16.705139410663001,16.705139410663001,16.705139410663001,16.705139410663001,16.705139410663001,16.705139410663001,17.206293592982892,17.206293592982892,17.206293592982892,17.206293592982892,17.206293592982892,17.206293592982892,17.206293592982892,17.206293592982892,17.206293592982892,17.206293592982892,17.206293592982892,17.206293592982892,17.722482400772378,17.722482400772378,17.722482400772378,17.722482400772378,17.722482400772378,17.722482400772378,17.722482400772378,17.722482400772378,17.722482400772378,17.722482400772378,17.722482400772378,17.722482400772378,18.254156872795551,18.254156872795551,18.254156872795551,18.254156872795551,18.254156872795551,18.254156872795551,18.254156872795551,18.254156872795551,18.254156872795551,18.254156872795551,18.254156872795551,18.254156872795551,18.801781578979419,18.801781578979419,18.801781578979419,18.801781578979419,18.801781578979419,18.801781578979419,18.801781578979419,18.801781578979419,18.801781578979419,18.801781578979419,18.801781578979419,18.801781578979419,19.365835026348801,19.365835026348801,19.365835026348801,19.365835026348801,19.365835026348801,19.365835026348801,19.365835026348801,19.365835026348801,19.365835026348801,19.365835026348801,19.365835026348801,19.365835026348801]
["Cici's Pizza",469,3800,"1994-08-24","2019-12-31",null,21.3,21.3,{"$f":"+IF(MOD(I$2,12)=1,H20*1.03,H20)","v":21.3},21.3,21.3,21.3,21.3,21.3,21.3,21.3,21.3,21.3,21.939,21.939,21.939,21.939,21.939,21.939,21.939,21.939,21.939,21.939,21.939,21.939,22.597170000000002,22.597170000000002,22.597170000000002,22.597170000000002,22.597170000000002,22.597170000000002,22.597170000000002,22.597170000000002,22.597170000000002,22.597170000000002,22.597170000000002,22.597170000000002,23.275085100000002,23.275085100000002,23.275085100000002,23.275085100000002,23.275085100000002,23.275085100000002,23.275085100000002,23.275085100000002,23.275085100000002,23.275085100000002,23.275085100000002,23.275085100000002,23.973337653000002,23.973337653000002,23.973337653000002,23.973337653000002,23.973337653000002,23.973337653000002,23.973337653000002,23.973337653000002,23.973337653000002,23.973337653000002,23.973337653000002,23.973337653000002,24.692537782590001,24.692537782590001,24.692537782590001,24.692537782590001,24.692537782590001,24.692537782590001,24.692537782590001,24.692537782590001,24.692537782590001,24.692537782590001,24.692537782590001,24.692537782590001,25.433313916067704,25.433313916067704,25.433313916067704,25.433313916067704,25.433313916067704,25.433313916067704,25.433313916067704,25.433313916067704,25.433313916067704,25.433313916067704,25.433313916067704,25.433313916067704,26.196313333549735,26.196313333549735,26.196313333549735,26.196313333549735,26.196313333549735,26.196313333549735,26.196313333549735,26.196313333549735,26.196313333549735,26.196313333549735,26.196313333549735,26.196313333549735,26.982202733556228,26.982202733556228,26.982202733556228,26.982202733556228,26.982202733556228,26.982202733556228,26.982202733556228,26.982202733556228,26.982202733556228,26.982202733556228,26.982202733556228,26.982202733556228,27.791668815562915,27.791668815562915,27.791668815562915,27.791668815562915,27.791668815562915,27.791668815562915,27.791668815562915,27.791668815562915,27.791668815562915,27.791668815562915,27.791668815562915,27.791668815562915,28.625418880029802,28.625418880029802,28.625418880029802,28.625418880029802,28.625418880029802,28.625418880029802,28.625418880029802,28.625418880029802,28.625418880029802,28.625418880029802,28.625418880029802,28.625418880029802]
["Texan Credit Corporation",452,1000,"2011-05-16","2022-05-31",null,20,20,20,20,20,20,20,20,20,20,20,20,20.6,20.6,20.6,20.6,20.6,20.6,20.6,20.6,20.6,20.6,20.6,20.6,21.218000000000004,21.218000000000004,21.218000000000004,21.218000000000004,21.218000000000004,21.218000000000004,21.218000000000004,21.218000000000004,21.218000000000004,21.218000000000004,21.218000000000004,21.218000000000004,21.854540000000004,21.854540000000004,21.854540000000004,21.854540000000004,21.854540000000004,21.854540000000004,21.854540000000004,21.854540000000004,21.854540000000004,21.854540000000004,21.854540000000004,21.854540000000004,22.510176200000004,22.510176200000004,22.510176200000004,22.510176200000004,22.510176200000004,22.510176200000004,22.510176200000004,22.510176200000004,22.510176200000004,22.510176200000004,22.510176200000004,22.510176200000004,23.185481486000004,23.185481486000004,23.185481486000004,23.185481486000004,23.185481486000004,23.185481486000004,23.185481486000004,23.185481486000004,23.185481486000004,23.185481486000004,23.185481486000004,23.185481486000004,23.881045930580004,23.881045930580004,23.881045930580004,23.881045930580004,23.881045930580004,23.881045930580004,23.881045930580004,23.881045930580004,23.881045930580004,23.881045930580004,23.881045930580004,23.881045930580004,24.597477308497407,24.597477308497407,24.597477308497407,24.597477308497407,24.597477308497407,24.597477308497407,24.597477308497407,24.597477308497407,24.597477308497407,24.597477308497407,24.597477308497407,24.597477308497407,25.335401627752329,25.335401627752329,25.335401627752329,25.335401627752329,25.335401627752329,25.335401627752329,25.335401627752329,25.335401627752329,25.335401627752329,25.335401627752329,25.335401627752329,25.335401627752329,26.095463676584899,26.095463676584899,26.095463676584899,26.095463676584899,26.095463676584899,26.095463676584899,26.095463676584899,26.095463676584899,26.095463676584899,26.095463676584899,26.095463676584899,26.095463676584899,26.878327586882445,26.878327586882445,26.878327586882445,26.878327586882445,26.878327586882445,26.878327586882445,26.878327586882445,26.878327586882445,26.878327586882445,26.878327586882445,26.878327586882445,26.878327586882445]
["Freeway Insurance",454,1000,"2016-09-01","2021-08-31",null,15,15,15,15,15,15,15,15,15,15,15,15,15.450000000000001,15.450000000000001,15.450000000000001,15.450000000000001,15.450000000000001,15.450000000000001,15.450000000000001,15.450000000000001,15.450000000000001,15.450000000000001,15.450000000000001,15.450000000000001,15.913500000000001,15.913500000000001,15.913500000000001,15.913500000000001,15.913500000000001,15.913500000000001,15.913500000000001,15.913500000000001,15.913500000000001,15.913500000000001,15.913500000000001,15.913500000000001,16.390905,16.390905,16.390905,16.390905,16.390905,16.390905,16.390905,16.390905,16.390905,16.390905,16.390905,16.390905,16.882632149999999,16.882632149999999,16.882632149999999,16.882632149999999,16.882632149999999,16.882632149999999,16.882632149999999,16.882632149999999,16.882632149999999,16.882632149999999,16.882632149999999,16.882632149999999,17.3891111145,17.3891111145,17.3891111145,17.3891111145,17.3891111145,17.3891111145,17.3891111145,17.3891111145,17.3891111145,17.3891111145,17.3891111145,17.3891111145,17.910784447935001,17.910784447935001,17.910784447935001,17.910784447935001,17.910784447935001,17.910784447935001,17.910784447935001,17.910784447935001,17.910784447935001,17.910784447935001,17.910784447935001,17.910784447935001,18.448107981373052,18.448107981373052,18.448107981373052,18.448107981373052,18.448107981373052,18.448107981373052,18.448107981373052,18.448107981373052,18.448107981373052,18.448107981373052,18.448107981373052,18.448107981373052,19.001551220814246,19.001551220814246,19.001551220814246,19.001551220814246,19.001551220814246,19.001551220814246,19.001551220814246,19.001551220814246,19.001551220814246,19.001551220814246,19.001551220814246,19.001551220814246,19.571597757438674,19.571597757438674,19.571597757438674,19.571597757438674,19.571597757438674,19.571597757438674,19.571597757438674,19.571597757438674,19.571597757438674,19.571597757438674,19.571597757438674,19.571597757438674,20.158745690161833,20.158745690161833,20.158745690161833,20.158745690161833,20.158745690161833,20.158745690161833,20.158745690161833,20.158745690161833,20.158745690161833,20.158745690161833,20.158745690161833,20.158745690161833]
["Pizza Patron",450,1000,"2013-11-04","2018-10-31",null,16,16,16,16,16,16,16,16,16,16,16,16,16.48,16.48,16.48,16.48,16.48,16.48,16.48,16.48,16.48,16.48,16.48,16.48,16.974399999999999,16.974399999999999,16.974399999999999,16.974399999999999,16.974399999999999,16.974399999999999,16.974399999999999,16.974399999999999,16.974399999999999,16.974399999999999,16.974399999999999,16.974399999999999,17.483632,17.483632,17.483632,17.483632,17.483632,17.483632,17.483632,17.483632,17.483632,17.483632,17.483632,17.483632,18.008140960000002,18.008140960000002,18.008140960000002,18.008140960000002,18.008140960000002,18.008140960000002,18.008140960000002,18.008140960000002,18.008140960000002,18.008140960000002,18.008140960000002,18.008140960000002,18.548385188800001,18.548385188800001,18.548385188800001,18.548385188800001,18.548385188800001,{"$f":"+IF(MOD(BT$2,12)=1,BS23*1.03,BS23)","v":18.548385188800001},18.548385188800001,18.548385188800001,18.548385188800001,18.548385188800001,18.548385188800001,18.548385188800001,19.104836744464002,19.104836744464002,19.104836744464002,19.104836744464002,19.104836744464002,19.104836744464002,19.104836744464002,19.104836744464002,19.104836744464002,19.104836744464002,19.104836744464002,19.104836744464002,19.677981846797923,19.677981846797923,19.677981846797923,19.677981846797923,19.677981846797923,19.677981846797923,19.677981846797923,19.677981846797923,19.677981846797923,19.677981846797923,19.677981846797923,19.677981846797923,20.268321302201862,20.268321302201862,20.268321302201862,20.268321302201862,20.268321302201862,20.268321302201862,20.268321302201862,20.268321302201862,20.268321302201862,20.268321302201862,20.268321302201862,20.268321302201862,20.876370941267918,20.876370941267918,20.876370941267918,20.876370941267918,20.876370941267918,20.876370941267918,20.876370941267918,20.876370941267918,20.876370941267918,20.876370941267918,20.876370941267918,20.876370941267918,21.502662069505956,21.502662069505956,21.502662069505956,21.502662069505956,21.502662069505956,21.502662069505956,21.502662069505956,21.502662069505956,21.502662069505956,21.502662069505956,21.502662069505956,21.502662069505956]
["Young Tream Hair Braiding",446,1000,"2014-11-01","2021-02-28",null,16,16,{"$f":"+IF(MOD(I$2,12)=1,H24*1.03,H24)","v":16},16,16,16,16,16,16,16,16,16,16.48,16.48,16.48,16.48,16.48,16.48,16.48,16.48,16.48,16.48,16.48,16.48,16.974399999999999,16.974399999999999,16.974399999999999,16.974399999999999,16.974399999999999,16.974399999999999,16.974399999999999,16.974399999999999,16.974399999999999,16.974399999999999,16.974399999999999,16.974399999999999,17.483632,17.483632,17.483632,17.483632,17.483632,17.483632,17.483632,17.483632,17.483632,17.483632,17.483632,17.483632,18.008140960000002,18.008140960000002,18.008140960000002,18.008140960000002,18.008140960000002,18.008140960000002,18.008140960000002,18.008140960000002,18.008140960000002,18.008140960000002,18.008140960000002,18.008140960000002,18.548385188800001,18.548385188800001,18.548385188800001,18.548385188800001,18.548385188800001,18.548385188800001,18.548385188800001,18.548385188800001,18.548385188800001,18.548385188800001,18.548385188800001,18.548385188800001,19.104836744464002,19.104836744464002,19.104836744464002,19.104836744464002,19.104836744464002,19.104836744464002,19.104836744464002,19.104836744464002,19.104836744464002,19.104836744464002,19.104836744464002,19.104836744464002,19.677981846797923,19.677981846797923,19.677981846797923,19.677981846797923,19.677981846797923,19.677981846797923,19.677981846797923,19.677981846797923,19.677981846797923,19.677981846797923,19.677981846797923,19.677981846797923,20.268321302201862,20.268321302201862,20.268321302201862,20.268321302201862,20.268321302201862,20.268321302201862,20.268321302201862,20.268321302201862,20.268321302201862,20.268321302201862,20.268321302201862,20.268321302201862,20.876370941267918,20.876370941267918,20.876370941267918,20.876370941267918,20.876370941267918,20.876370941267918,20.876370941267918,20.876370941267918,20.876370941267918,20.876370941267918,20.876370941267918,20.876370941267918,21.502662069505956,21.502662069505956,21.502662069505956,21.502662069505956,21.502662069505956,21.502662069505956,21.502662069505956,21.502662069505956,21.502662069505956,21.502662069505956,21.502662069505956,21.502662069505956]
["Income Tax",444,1000,"1999-09-21","2025-04-30",null,15.95,15.95,15.95,15.95,15.95,15.95,15.95,15.95,15.95,15.95,15.95,15.95,16.4285,16.4285,16.4285,16.4285,16.4285,16.4285,16.4285,16.4285,16.4285,16.4285,16.4285,16.4285,16.921354999999998,16.921354999999998,16.921354999999998,16.921354999999998,16.921354999999998,16.921354999999998,16.921354999999998,16.921354999999998,16.921354999999998,16.921354999999998,16.921354999999998,16.921354999999998,17.428995649999997,17.428995649999997,17.428995649999997,17.428995649999997,17.428995649999997,17.428995649999997,17.428995649999997,17.428995649999997,17.428995649999997,17.428995649999997,17.428995649999997,17.428995649999997,17.951865519499997,17.951865519499997,17.951865519499997,17.951865519499997,17.951865519499997,17.951865519499997,17.951865519499997,17.951865519499997,17.951865519499997,17.951865519499997,17.951865519499997,17.951865519499997,18.490421485084997,18.490421485084997,18.490421485084997,18.490421485084997,18.490421485084997,18.490421485084997,18.490421485084997,18.490421485084997,18.490421485084997,18.490421485084997,18.490421485084997,18.490421485084997,19.04513412963755,19.04513412963755,19.04513412963755,19.04513412963755,19.04513412963755,19.04513412963755,19.04513412963755,19.04513412963755,19.04513412963755,19.04513412963755,19.04513412963755,19.04513412963755,19.616488153526678,19.616488153526678,19.616488153526678,19.616488153526678,19.616488153526678,19.616488153526678,19.616488153526678,19.616488153526678,19.616488153526678,19.616488153526678,19.616488153526678,19.616488153526678,20.20498279813248,20.20498279813248,20.20498279813248,20.20498279813248,20.20498279813248,20.20498279813248,20.20498279813248,20.20498279813248,20.20498279813248,20.20498279813248,20.20498279813248,20.20498279813248,20.811132282076457,20.811132282076457,20.811132282076457,20.811132282076457,20.811132282076457,20.811132282076457,20.811132282076457,20.811132282076457,20.811132282076457,20.811132282076457,20.811132282076457,20.811132282076457,21.435466250538752,21.435466250538752,21.435466250538752,21.435466250538752,21.435466250538752,21.435466250538752,21.435466250538752,21.435466250538752,21.435466250538752,21.435466250538752,{"$f":"+IF(MOD(EG$2,12)=1,EF25*1.03,EF25)","v":21.435466250538752},21.435466250538752]
["Great Cuts N Style",442,1000,"2012-03-09","2019-05-31",null,13.72,13.72,13.72,13.72,13.72,13.72,13.72,13.72,13.72,13.72,13.72,13.72,14.131600000000001,14.131600000000001,14.131600000000001,14.131600000000001,14.131600000000001,14.131600000000001,14.131600000000001,14.131600000000001,14.131600000000001,14.131600000000001,14.131600000000001,14.131600000000001,14.555548000000002,14.555548000000002,14.555548000000002,14.555548000000002,14.555548000000002,14.555548000000002,14.555548000000002,14.555548000000002,14.555548000000002,14.555548000000002,14.555548000000002,14.555548000000002,14.992214440000001,14.992214440000001,14.992214440000001,14.992214440000001,14.992214440000001,14.992214440000001,14.992214440000001,14.992214440000001,14.992214440000001,14.992214440000001,14.992214440000001,14.992214440000001,15.441980873200002,15.441980873200002,15.441980873200002,15.441980873200002,15.441980873200002,15.441980873200002,15.441980873200002,15.441980873200002,15.441980873200002,15.441980873200002,15.441980873200002,15.441980873200002,15.905240299396002,15.905240299396002,15.905240299396002,15.905240299396002,15.905240299396002,15.905240299396002,15.905240299396002,15.905240299396002,15.905240299396002,15.905240299396002,15.905240299396002,15.905240299396002,16.382397508377881,16.382397508377881,16.382397508377881,16.382397508377881,16.382397508377881,16.382397508377881,16.382397508377881,16.382397508377881,16.382397508377881,16.382397508377881,16.382397508377881,16.382397508377881,16.873869433629217,16.873869433629217,16.873869433629217,16.873869433629217,16.873869433629217,16.873869433629217,16.873869433629217,16.873869433629217,16.873869433629217,16.873869433629217,16.873869433629217,16.873869433629217,17.380085516638093,17.380085516638093,17.380085516638093,17.380085516638093,17.380085516638093,17.380085516638093,17.380085516638093,17.380085516638093,17.380085516638093,17.380085516638093,17.380085516638093,17.380085516638093,17.901488082137238,17.901488082137238,17.901488082137238,17.901488082137238,17.901488082137238,17.901488082137238,17.901488082137238,17.901488082137238,17.901488082137238,17.901488082137238,17.901488082137238,17.901488082137238,18.438532724601355,18.438532724601355,18.438532724601355,18.438532724601355,18.438532724601355,18.438532724601355,18.438532724601355,18.438532724601355,18.438532724601355,{"$f":"+IF(MOD(EF$2,12)=1,EE26*1.03,EE26)","v":18.438532724601355},18.438532724601355,18.438532724601355]
["Dollar Daze",440,2300,"2016-01-01","2020-12-31",null,14,14,14,14,14,14,14,14,14,14,14,14,14.42,14.42,14.42,14.42,14.42,14.42,14.42,14.42,14.42,14.42,14.42,14.42,14.852600000000001,14.852600000000001,14.852600000000001,14.852600000000001,14.852600000000001,14.852600000000001,14.852600000000001,14.852600000000001,14.852600000000001,14.852600000000001,14.852600000000001,14.852600000000001,15.298178000000002,15.298178000000002,15.298178000000002,15.298178000000002,15.298178000000002,15.298178000000002,15.298178000000002,15.298178000000002,15.298178000000002,15.298178000000002,15.298178000000002,15.298178000000002,15.757123340000001,15.757123340000001,15.757123340000001,15.757123340000001,15.757123340000001,15.757123340000001,15.757123340000001,15.757123340000001,15.757123340000001,15.757123340000001,15.757123340000001,15.757123340000001,16.229837040200003,16.229837040200003,16.229837040200003,16.229837040200003,16.229837040200003,{"$f":"+IF(MOD(BT$2,12)=1,BS27*1.03,BS27)","v":16.229837040200003},16.229837040200003,16.229837040200003,16.229837040200003,16.229837040200003,16.229837040200003,16.229837040200003,16.716732151406003,16.716732151406003,16.716732151406003,16.716732151406003,16.716732151406003,16.716732151406003,16.716732151406003,16.716732151406003,16.716732151406003,16.716732151406003,16.716732151406003,16.716732151406003,17.218234115948182,17.218234115948182,17.218234115948182,17.218234115948182,17.218234115948182,17.218234115948182,17.218234115948182,17.218234115948182,17.218234115948182,17.218234115948182,17.218234115948182,17.218234115948182,17.734781139426627,17.734781139426627,17.734781139426627,17.734781139426627,17.734781139426627,17.734781139426627,17.734781139426627,17.734781139426627,17.734781139426627,17.734781139426627,17.734781139426627,17.734781139426627,18.266824573609426,18.266824573609426,18.266824573609426,18.266824573609426,18.266824573609426,18.266824573609426,18.266824573609426,18.266824573609426,18.266824573609426,18.266824573609426,18.266824573609426,18.266824573609426,18.814829310817711,18.814829310817711,18.814829310817711,18.814829310817711,18.814829310817711,18.814829310817711,18.814829310817711,18.814829310817711,18.814829310817711,18.814829310817711,18.814829310817711,18.814829310817711]
["MetroPCS",432,2700,"2017-02-01","2024-01-31",null,11.21,11.21,{"$f":"+IF(MOD(I$2,12)=1,H28*1.03,H28)","v":11.21},11.21,11.21,11.21,11.21,11.21,11.21,11.21,11.21,11.21,11.5463,11.5463,11.5463,11.5463,11.5463,11.5463,11.5463,11.5463,11.5463,11.5463,11.5463,11.5463,11.892689000000001,11.892689000000001,11.892689000000001,11.892689000000001,11.892689000000001,11.892689000000001,11.892689000000001,11.892689000000001,11.892689000000001,11.892689000000001,11.892689000000001,11.892689000000001,12.249469670000002,12.249469670000002,12.249469670000002,12.249469670000002,12.249469670000002,12.249469670000002,12.249469670000002,12.249469670000002,12.249469670000002,12.249469670000002,12.249469670000002,12.249469670000002,12.616953760100001,12.616953760100001,12.616953760100001,12.616953760100001,12.616953760100001,12.616953760100001,12.616953760100001,12.616953760100001,12.616953760100001,12.616953760100001,12.616953760100001,12.616953760100001,12.995462372903001,12.995462372903001,12.995462372903001,12.995462372903001,12.995462372903001,12.995462372903001,12.995462372903001,12.995462372903001,12.995462372903001,12.995462372903001,12.995462372903001,12.995462372903001,13.385326244090091,13.385326244090091,13.385326244090091,13.385326244090091,13.385326244090091,13.385326244090091,13.385326244090091,13.385326244090091,13.385326244090091,13.385326244090091,13.385326244090091,13.385326244090091,13.786886031412795,13.786886031412795,13.786886031412795,13.786886031412795,13.786886031412795,13.786886031412795,13.786886031412795,13.786886031412795,13.786886031412795,13.786886031412795,13.786886031412795,13.786886031412795,14.200492612355179,14.200492612355179,14.200492612355179,14.200492612355179,14.200492612355179,14.200492612355179,14.200492612355179,14.200492612355179,14.200492612355179,14.200492612355179,14.200492612355179,14.200492612355179,14.626507390725834,14.626507390725834,14.626507390725834,14.626507390725834,14.626507390725834,14.626507390725834,14.626507390725834,14.626507390725834,14.626507390725834,14.626507390725834,14.626507390725834,14.626507390725834,15.06530261244761,15.06530261244761,15.06530261244761,15.06530261244761,15.06530261244761,15.06530261244761,15.06530261244761,15.06530261244761,15.06530261244761,15.06530261244761,15.06530261244761,15.06530261244761]
["Title Max",474,1271,"2014-03-03","2019-03-31",null,40,40,40,40,40,40,40,40,40,40,40,40,41.2,41.2,41.2,41.2,41.2,41.2,41.2,41.2,41.2,41.2,41.2,41.2,42.436000000000007,42.436000000000007,42.436000000000007,42.436000000000007,42.436000000000007,42.436000000000007,42.436000000000007,42.436000000000007,42.436000000000007,42.436000000000007,42.436000000000007,42.436000000000007,43.709080000000007,43.709080000000007,43.709080000000007,43.709080000000007,43.709080000000007,43.709080000000007,43.709080000000007,43.709080000000007,43.709080000000007,43.709080000000007,43.709080000000007,43.709080000000007,45.020352400000007,45.020352400000007,45.020352400000007,45.020352400000007,45.020352400000007,45.020352400000007,45.020352400000007,45.020352400000007,45.020352400000007,45.020352400000007,45.020352400000007,45.020352400000007,46.370962972000008,46.370962972000008,46.370962972000008,46.370962972000008,46.370962972000008,46.370962972000008,46.370962972000008,46.370962972000008,46.370962972000008,46.370962972000008,46.370962972000008,46.370962972000008,47.762091861160009,47.762091861160009,47.762091861160009,47.762091861160009,47.762091861160009,47.762091861160009,47.762091861160009,47.762091861160009,47.762091861160009,47.762091861160009,47.762091861160009,47.762091861160009,49.194954616994814,49.194954616994814,49.194954616994814,49.194954616994814,49.194954616994814,49.194954616994814,49.194954616994814,49.194954616994814,49.194954616994814,49.194954616994814,49.194954616994814,49.194954616994814,50.670803255504659,50.670803255504659,50.670803255504659,50.670803255504659,50.670803255504659,50.670803255504659,50.670803255504659,50.670803255504659,50.670803255504659,50.670803255504659,50.670803255504659,50.670803255504659,52.190927353169798,52.190927353169798,52.190927353169798,52.190927353169798,52.190927353169798,52.190927353169798,52.190927353169798,52.190927353169798,52.190927353169798,52.190927353169798,52.190927353169798,52.190927353169798,53.756655173764891,53.756655173764891,53.756655173764891,53.756655173764891,53.756655173764891,53.756655173764891,53.756655173764891,53.756655173764891,53.756655173764891,53.756655173764891,53.756655173764891,53.756655173764891]
["Vacant","423",2200,null,null,null,10,10,10,10,10,10,10,10,10,10,10,10,10.3,10.3,10.3,10.3,10.3,10.3,10.3,10.3,10.3,10.3,10.3,10.3,10.609000000000002,10.609000000000002,10.609000000000002,10.609000000000002,10.609000000000002,10.609000000000002,10.609000000000002,10.609000000000002,10.609000000000002,10.609000000000002,10.609000000000002,10.609000000000002,10.927270000000002,10.927270000000002,10.927270000000002,10.927270000000002,10.927270000000002,10.927270000000002,10.927270000000002,10.927270000000002,10.927270000000002,10.927270000000002,10.927270000000002,10.927270000000002,11.255088100000002,11.255088100000002,11.255088100000002,11.255088100000002,11.255088100000002,11.255088100000002,11.255088100000002,11.255088100000002,11.255088100000002,11.255088100000002,11.255088100000002,11.255088100000002,11.592740743000002,11.592740743000002,11.592740743000002,11.592740743000002,11.592740743000002,11.592740743000002,11.592740743000002,11.592740743000002,11.592740743000002,11.592740743000002,11.592740743000002,11.592740743000002,11.940522965290002,11.940522965290002,11.940522965290002,11.940522965290002,11.940522965290002,11.940522965290002,11.940522965290002,11.940522965290002,11.940522965290002,11.940522965290002,11.940522965290002,11.940522965290002,12.298738654248703,12.298738654248703,12.298738654248703,12.298738654248703,12.298738654248703,12.298738654248703,12.298738654248703,12.298738654248703,12.298738654248703,12.298738654248703,12.298738654248703,12.298738654248703,12.667700813876165,12.667700813876165,12.667700813876165,12.667700813876165,12.667700813876165,12.667700813876165,12.667700813876165,12.667700813876165,12.667700813876165,12.667700813876165,12.667700813876165,12.667700813876165,13.047731838292449,13.047731838292449,13.047731838292449,13.047731838292449,13.047731838292449,13.047731838292449,13.047731838292449,13.047731838292449,13.047731838292449,13.047731838292449,13.047731838292449,13.047731838292449,13.439163793441223,13.439163793441223,13.439163793441223,13.439163793441223,13.439163793441223,13.439163793441223,13.439163793441223,13.439163793441223,13.439163793441223,13.439163793441223,13.439163793441223,13.439163793441223]
["Vacant","433A",1800,null,null,null,13.5,13.5,13.5,13.5,13.5,13.5,13.5,13.5,13.5,13.5,13.5,13.5,13.905000000000001,13.905000000000001,13.905000000000001,13.905000000000001,13.905000000000001,13.905000000000001,13.905000000000001,13.905000000000001,13.905000000000001,13.905000000000001,13.905000000000001,13.905000000000001,14.322150000000002,14.322150000000002,14.322150000000002,14.322150000000002,14.322150000000002,14.322150000000002,14.322150000000002,14.322150000000002,14.322150000000002,14.322150000000002,14.322150000000002,14.322150000000002,14.751814500000004,14.751814500000004,14.751814500000004,14.751814500000004,14.751814500000004,14.751814500000004,14.751814500000004,14.751814500000004,14.751814500000004,14.751814500000004,14.751814500000004,14.751814500000004,15.194368935000004,15.194368935000004,15.194368935000004,15.194368935000004,15.194368935000004,15.194368935000004,15.194368935000004,15.194368935000004,15.194368935000004,15.194368935000004,15.194368935000004,15.194368935000004,15.650200003050005,15.650200003050005,15.650200003050005,15.650200003050005,15.650200003050005,{"$f":"+IF(MOD(BT$2,12)=1,BS31*1.03,BS31)","v":15.650200003050005},15.650200003050005,15.650200003050005,15.650200003050005,15.650200003050005,15.650200003050005,15.650200003050005,16.119706003141506,16.119706003141506,16.119706003141506,16.119706003141506,16.119706003141506,16.119706003141506,16.119706003141506,16.119706003141506,16.119706003141506,16.119706003141506,16.119706003141506,16.119706003141506,16.60329718323575,16.60329718323575,16.60329718323575,16.60329718323575,16.60329718323575,16.60329718323575,16.60329718323575,16.60329718323575,16.60329718323575,16.60329718323575,16.60329718323575,16.60329718323575,17.101396098732824,17.101396098732824,17.101396098732824,17.101396098732824,17.101396098732824,17.101396098732824,17.101396098732824,17.101396098732824,17.101396098732824,17.101396098732824,17.101396098732824,17.101396098732824,17.61443798169481,17.61443798169481,17.61443798169481,17.61443798169481,17.61443798169481,17.61443798169481,17.61443798169481,17.61443798169481,17.61443798169481,17.61443798169481,17.61443798169481,17.61443798169481,18.142871121145653,18.142871121145653,18.142871121145653,18.142871121145653,18.142871121145653,18.142871121145653,18.142871121145653,18.142871121145653,18.142871121145653,18.142871121145653,18.142871121145653,18.142871121145653]
["Vacant - dd's Expansion","435A",5865,null,null,null,0,0,{"$f":"+IF(MOD(I$2,12)=1,H32*1.03,H32)","v":0},0,0,0,0,0,0,0,0,0,0,0,0,0,0,0,0,0,0,0,0,0,0,0,0,0,0,0,0,0,0,0,0,0,0,0,0,0,0,0,0,0,0,0,0,0,0,0,0,0,0,0,0,0,0,0,0,0,0,0,0,0,0,0,0,0,0,0,0,0,0,0,0,0,0,0,0,0,0,0,0,0,0,0,0,0,0,0,0,0,0,0,0,0,0,0,0,0,0,0,0,0,0,0,0,0,0,0,0,0,0,0,0,0,0,0,0,0,0,0,0,0,0,0,0,0,0,0,0,0]
["Vacant",448,1000,null,null,null,13.5,13.5,13.5,13.5,13.5,13.5,13.5,13.5,13.5,13.5,13.5,13.5,13.905000000000001,13.905000000000001,13.905000000000001,13.905000000000001,13.905000000000001,13.905000000000001,13.905000000000001,13.905000000000001,13.905000000000001,13.905000000000001,13.905000000000001,13.905000000000001,14.322150000000002,14.322150000000002,14.322150000000002,14.322150000000002,14.322150000000002,14.322150000000002,14.322150000000002,14.322150000000002,14.322150000000002,14.322150000000002,14.322150000000002,14.322150000000002,14.751814500000004,14.751814500000004,14.751814500000004,14.751814500000004,14.751814500000004,14.751814500000004,14.751814500000004,14.751814500000004,14.751814500000004,14.751814500000004,14.751814500000004,14.751814500000004,15.194368935000004,15.194368935000004,15.194368935000004,15.194368935000004,15.194368935000004,15.194368935000004,15.194368935000004,15.194368935000004,15.194368935000004,15.194368935000004,15.194368935000004,15.194368935000004,15.650200003050005,15.650200003050005,15.650200003050005,15.650200003050005,15.650200003050005,15.650200003050005,15.650200003050005,15.650200003050005,15.650200003050005,15.650200003050005,15.650200003050005,15.650200003050005,16.119706003141506,16.119706003141506,16.119706003141506,16.119706003141506,16.119706003141506,16.119706003141506,16.119706003141506,16.119706003141506,16.119706003141506,16.119706003141506,16.119706003141506,16.119706003141506,16.60329718323575,16.60329718323575,16.60329718323575,16.60329718323575,16.60329718323575,16.60329718323575,16.60329718323575,16.60329718323575,16.60329718323575,16.60329718323575,16.60329718323575,16.60329718323575,17.101396098732824,17.101396098732824,17.101396098732824,17.101396098732824,17.101396098732824,17.101396098732824,17.101396098732824,17.101396098732824,17.101396098732824,17.101396098732824,17.101396098732824,17.101396098732824,17.61443798169481,17.61443798169481,17.61443798169481,17.61443798169481,17.61443798169481,17.61443798169481,17.61443798169481,17.61443798169481,17.61443798169481,17.61443798169481,17.61443798169481,17.61443798169481,18.142871121145653,18.142871121145653,18.142871121145653,18.142871121145653,18.142871121145653,18.142871121145653,18.142871121145653,18.142871121145653,18.142871121145653,18.142871121145653,18.142871121145653,18.142871121145653]
["Vacant","451",1800,null,null,null,13.5,13.5,13.5,13.5,13.5,13.5,13.5,13.5,13.5,13.5,13.5,13.5,13.905000000000001,13.905000000000001,13.905000000000001,13.905000000000001,13.905000000000001,13.905000000000001,13.905000000000001,13.905000000000001,13.905000000000001,13.905000000000001,13.905000000000001,13.905000000000001,14.322150000000002,14.322150000000002,14.322150000000002,14.322150000000002,14.322150000000002,14.322150000000002,14.322150000000002,14.322150000000002,14.322150000000002,14.322150000000002,14.322150000000002,14.322150000000002,14.751814500000004,14.751814500000004,14.751814500000004,14.751814500000004,14.751814500000004,14.751814500000004,14.751814500000004,14.751814500000004,14.751814500000004,14.751814500000004,14.751814500000004,14.751814500000004,15.194368935000004,15.194368935000004,15.194368935000004,15.194368935000004,15.194368935000004,15.194368935000004,15.194368935000004,15.194368935000004,15.194368935000004,15.194368935000004,15.194368935000004,15.194368935000004,15.650200003050005,15.650200003050005,15.650200003050005,15.650200003050005,15.650200003050005,15.650200003050005,15.650200003050005,15.650200003050005,15.650200003050005,15.650200003050005,15.650200003050005,15.650200003050005,16.119706003141506,16.119706003141506,16.119706003141506,16.119706003141506,16.119706003141506,16.119706003141506,16.119706003141506,16.119706003141506,16.119706003141506,16.119706003141506,16.119706003141506,16.119706003141506,16.60329718323575,16.60329718323575,16.60329718323575,16.60329718323575,16.60329718323575,16.60329718323575,16.60329718323575,16.60329718323575,16.60329718323575,16.60329718323575,16.60329718323575,16.60329718323575,17.101396098732824,17.101396098732824,17.101396098732824,17.101396098732824,17.101396098732824,17.101396098732824,17.101396098732824,17.101396098732824,17.101396098732824,17.101396098732824,17.101396098732824,17.101396098732824,17.61443798169481,17.61443798169481,17.61443798169481,17.61443798169481,17.61443798169481,17.61443798169481,17.61443798169481,17.61443798169481,17.61443798169481,17.61443798169481,17.61443798169481,17.61443798169481,18.142871121145653,18.142871121145653,18.142871121145653,18.142871121145653,18.142871121145653,18.142871121145653,18.142871121145653,18.142871121145653,18.142871121145653,18.142871121145653,18.142871121145653,18.142871121145653]
["Vacant",456,1000,null,null,null,13.5,13.5,13.5,13.5,13.5,13.5,13.5,13.5,13.5,13.5,13.5,13.5,13.905000000000001,13.905000000000001,13.905000000000001,13.905000000000001,13.905000000000001,13.905000000000001,13.905000000000001,13.905000000000001,13.905000000000001,13.905000000000001,13.905000000000001,13.905000000000001,14.322150000000002,14.322150000000002,14.322150000000002,14.322150000000002,14.322150000000002,14.322150000000002,14.322150000000002,14.322150000000002,14.322150000000002,14.322150000000002,14.322150000000002,14.322150000000002,14.751814500000004,14.751814500000004,14.751814500000004,14.751814500000004,14.751814500000004,14.751814500000004,14.751814500000004,14.751814500000004,14.751814500000004,14.751814500000004,14.751814500000004,14.751814500000004,15.194368935000004,15.194368935000004,15.194368935000004,15.194368935000004,15.194368935000004,15.194368935000004,15.194368935000004,15.194368935000004,15.194368935000004,15.194368935000004,15.194368935000004,15.194368935000004,15.650200003050005,15.650200003050005,15.650200003050005,15.650200003050005,15.650200003050005,{"$f":"+IF(MOD(BT$2,12)=1,BS35*1.03,BS35)","v":15.650200003050005},15.650200003050005,15.650200003050005,15.650200003050005,15.650200003050005,15.650200003050005,15.650200003050005,16.119706003141506,16.119706003141506,16.119706003141506,16.119706003141506,16.119706003141506,16.119706003141506,16.119706003141506,16.119706003141506,16.119706003141506,16.119706003141506,16.119706003141506,16.119706003141506,16.60329718323575,16.60329718323575,16.60329718323575,16.60329718323575,16.60329718323575,16.60329718323575,16.60329718323575,16.60329718323575,16.60329718323575,16.60329718323575,16.60329718323575,16.60329718323575,17.101396098732824,17.101396098732824,17.101396098732824,17.101396098732824,17.101396098732824,17.101396098732824,17.101396098732824,17.101396098732824,17.101396098732824,17.101396098732824,17.101396098732824,17.101396098732824,17.61443798169481,17.61443798169481,17.61443798169481,17.61443798169481,17.61443798169481,17.61443798169481,17.61443798169481,17.61443798169481,17.61443798169481,17.61443798169481,17.61443798169481,17.61443798169481,18.142871121145653,18.142871121145653,18.142871121145653,18.142871121145653,18.142871121145653,18.142871121145653,18.142871121145653,18.142871121145653,18.142871121145653,18.142871121145653,18.142871121145653,18.142871121145653]
["Vacant",461,2400,null,null,null,7,7,{"$f":"+IF(MOD(I$2,12)=1,H36*1.03,H36)","v":7},7,7,7,7,7,7,7,7,7,7.21,7.21,7.21,7.21,7.21,7.21,7.21,7.21,7.21,7.21,7.21,7.21,7.4263000000000003,7.4263000000000003,7.4263000000000003,7.4263000000000003,7.4263000000000003,7.4263000000000003,7.4263000000000003,7.4263000000000003,7.4263000000000003,7.4263000000000003,7.4263000000000003,7.4263000000000003,7.6490890000000009,7.6490890000000009,7.6490890000000009,7.6490890000000009,7.6490890000000009,7.6490890000000009,7.6490890000000009,7.6490890000000009,7.6490890000000009,7.6490890000000009,7.6490890000000009,7.6490890000000009,7.8785616700000007,7.8785616700000007,7.8785616700000007,7.8785616700000007,7.8785616700000007,7.8785616700000007,7.8785616700000007,7.8785616700000007,7.8785616700000007,7.8785616700000007,7.8785616700000007,7.8785616700000007,8.1149185201000016,8.1149185201000016,8.1149185201000016,8.1149185201000016,8.1149185201000016,8.1149185201000016,8.1149185201000016,8.1149185201000016,8.1149185201000016,8.1149185201000016,8.1149185201000016,8.1149185201000016,8.3583660757030014,8.3583660757030014,8.3583660757030014,8.3583660757030014,8.3583660757030014,8.3583660757030014,8.3583660757030014,8.3583660757030014,8.3583660757030014,8.3583660757030014,8.3583660757030014,8.3583660757030014,8.6091170579740908,8.6091170579740908,8.6091170579740908,8.6091170579740908,8.6091170579740908,8.6091170579740908,8.6091170579740908,8.6091170579740908,8.6091170579740908,8.6091170579740908,8.6091170579740908,8.6091170579740908,8.8673905697133133,8.8673905697133133,8.8673905697133133,8.8673905697133133,8.8673905697133133,8.8673905697133133,8.8673905697133133,8.8673905697133133,8.8673905697133133,8.8673905697133133,8.8673905697133133,8.8673905697133133,9.1334122868047132,9.1334122868047132,9.1334122868047132,9.1334122868047132,9.1334122868047132,9.1334122868047132,9.1334122868047132,9.1334122868047132,9.1334122868047132,9.1334122868047132,9.1334122868047132,9.1334122868047132,9.4074146554088554,9.4074146554088554,9.4074146554088554,9.4074146554088554,9.4074146554088554,9.4074146554088554,9.4074146554088554,9.4074146554088554,9.4074146554088554,9.4074146554088554,9.4074146554088554,9.4074146554088554]
["Vacant - Former Law Office",465,1200,null,null,null,13.5,13.5,13.5,13.5,13.5,13.5,13.5,13.5,13.5,13.5,13.5,13.5,13.905000000000001,13.905000000000001,13.905000000000001,13.905000000000001,13.905000000000001,13.905000000000001,13.905000000000001,13.905000000000001,13.905000000000001,13.905000000000001,13.905000000000001,13.905000000000001,14.322150000000002,14.322150000000002,14.322150000000002,14.322150000000002,14.322150000000002,14.322150000000002,14.322150000000002,14.322150000000002,14.322150000000002,14.322150000000002,14.322150000000002,14.322150000000002,14.751814500000004,14.751814500000004,14.751814500000004,14.751814500000004,14.751814500000004,14.751814500000004,14.751814500000004,14.751814500000004,14.751814500000004,14.751814500000004,14.751814500000004,14.751814500000004,15.194368935000004,15.194368935000004,15.194368935000004,15.194368935000004,15.194368935000004,15.194368935000004,15.194368935000004,15.194368935000004,15.194368935000004,15.194368935000004,15.194368935000004,15.194368935000004,15.650200003050005,15.650200003050005,15.650200003050005,15.650200003050005,15.650200003050005,15.650200003050005,15.650200003050005,15.650200003050005,15.650200003050005,15.650200003050005,15.650200003050005,15.650200003050005,16.119706003141506,16.119706003141506,16.119706003141506,16.119706003141506,16.119706003141506,16.119706003141506,16.119706003141506,16.119706003141506,16.119706003141506,16.119706003141506,16.119706003141506,16.119706003141506,16.60329718323575,16.60329718323575,16.60329718323575,16.60329718323575,16.60329718323575,16.60329718323575,16.60329718323575,16.60329718323575,16.60329718323575,16.60329718323575,16.60329718323575,16.60329718323575,17.101396098732824,17.101396098732824,17.101396098732824,17.101396098732824,17.101396098732824,17.101396098732824,17.101396098732824,17.101396098732824,17.101396098732824,17.101396098732824,17.101396098732824,17.101396098732824,17.61443798169481,17.61443798169481,17.61443798169481,17.61443798169481,17.61443798169481,17.61443798169481,17.61443798169481,17.61443798169481,17.61443798169481,17.61443798169481,17.61443798169481,17.61443798169481,18.142871121145653,18.142871121145653,18.142871121145653,18.142871121145653,18.142871121145653,18.142871121145653,18.142871121145653,18.142871121145653,18.142871121145653,18.142871121145653,18.142871121145653,18.142871121145653]
[null,null,null,null,null,null,"=============","=============","=============","=============","=============","=============","=============","=============","=============","=============","=============","=============","=============","=============","=============","=============","=============","=============","=============","=============","=============","=============","=============","=============","=============","=============","=============","=============","=============","=============","=============","=============","=============","=============","=============","=============","=============","=============","=============","=============","=============","=============","=============","=============","=============","=============","=============","=============","=============","=============","=============","=============","=============","=============","=============","=============","=============","=============","=============","=============","=============","=============","=============","=============","=============","=============","=============","=============","=============","=============","=============","=============","=============","=============","=============","=============","=============","=============","=============","=============","=============","=============","=============","=============","=============","=============","=============","=============","=============","=============","=============","=============","=============","=============","=============","=============","=============","=============","=============","=============","=============","=============","=============","=============","=============","=============","=============","=============","=============","=============","=============","=============","=============","=============","=============","=============","=============","=============","=============","=============","=============","=============","=============","=============","=============","=============","=============","=============","=============","=============","=============","============="]
[null,null,null,null,null,null,{"$f":"+SUMPRODUCT(G6:G37,$C$6:$C$37)/SUM($C$6:$C$37)","v":9.5409593868923626},{"$f":"+SUMPRODUCT(H6:H37,$C$6:$C$37)/SUM($C$6:$C$37)","v":9.5409593868923626},9.5409593868923626,9.5409593868923626,9.5409593868923626,9.5409593868923626,9.5409593868923626,9.5409593868923626,9.5409593868923626,9.5409593868923626,9.5409593868923626,9.5409593868923626,9.8271881684991342,9.8271881684991342,9.8271881684991342,9.8271881684991342,9.8271881684991342,9.8271881684991342,9.8271881684991342,9.8271881684991342,9.8271881684991342,9.8271881684991342,9.8271881684991342,9.8271881684991342,10.122003813554111,10.122003813554111,10.122003813554111,10.122003813554111,10.122003813554111,10.122003813554111,10.122003813554111,10.122003813554111,10.122003813554111,10.122003813554111,10.122003813554111,10.122003813554111,10.425663927960734,10.425663927960734,10.425663927960734,10.425663927960734,10.425663927960734,10.425663927960734,10.425663927960734,10.425663927960734,10.425663927960734,10.425663927960734,10.425663927960734,10.425663927960734,10.738433845799552,10.738433845799552,10.738433845799552,10.738433845799552,10.738433845799552,10.738433845799552,10.738433845799552,10.738433845799552,10.738433845799552,10.738433845799552,10.738433845799552,10.738433845799552,11.060586861173544,11.060586861173544,11.060586861173544,11.060586861173544,11.060586861173544,{"$f":"+SUMPRODUCT(BT6:BT37,$C$6:$C$37)/SUM($C$6:$C$37)","v":11.060586861173544},11.060586861173544,11.060586861173544,11.060586861173544,11.060586861173544,11.060586861173544,11.060586861173544,11.392404467008753,11.392404467008753,11.392404467008753,11.392404467008753,11.392404467008753,11.392404467008753,11.392404467008753,11.392404467008753,11.392404467008753,11.392404467008753,11.392404467008753,11.392404467008753,11.73417660101901,11.73417660101901,11.73417660101901,11.73417660101901,11.73417660101901,11.73417660101901,11.73417660101901,11.73417660101901,11.73417660101901,11.73417660101901,11.73417660101901,11.73417660101901,12.086201899049577,12.086201899049577,12.086201899049577,12.086201899049577,12.086201899049577,12.086201899049577,12.086201899049577,12.086201899049577,12.086201899049577,12.086201899049577,12.086201899049577,12.086201899049577,12.448787956021064,12.448787956021064,12.448787956021064,12.448787956021064,12.448787956021064,12.448787956021064,12.448787956021064,12.448787956021064,12.448787956021064,12.448787956021064,12.448787956021064,12.448787956021064,12.822251594701701,12.822251594701701,12.822251594701701,12.822251594701701,12.822251594701701,12.822251594701701,12.822251594701701,12.822251594701701,12.822251594701701,{"$f":"+SUMPRODUCT(EF6:EF37,$C$6:$C$37)/SUM($C$6:$C$37)","v":12.822251594701701},12.822251594701701,12.822251594701701]

{"sheet":"Scheduled Base Rental Revenue","index":9,"n_rows":39,"n_cols":138,"rows_kept":39,"cut":false,"hidden":true,"merged":[]}
[null,null,null,null,null,"YEAR",1,{"$f":"IF(MONTH($G$3)=MONTH(H$3),G1+1,G1)","v":1},{"$f":"IF(MONTH($G$3)=MONTH(I$3),H1+1,H1)","v":1},1,1,1,1,1,1,1,1,1,2,2,2,2,2,2,2,2,2,2,2,2,3,3,3,3,3,3,3,3,3,3,3,3,4,4,4,4,4,4,4,4,4,4,4,4,5,5,5,5,5,5,5,5,5,5,5,5,6,6,6,6,6,6,{"$f":"IF(MONTH($G$3)=MONTH(BU$3),BT1+1,BT1)","v":6},6,6,6,6,6,7,7,7,7,7,7,7,7,7,7,7,7,8,8,8,8,8,8,8,8,8,8,8,8,9,9,9,9,9,9,9,9,9,9,9,9,10,10,10,10,10,10,10,10,10,10,10,10,11,11,11,11,11,11,11,11,11,11,{"$f":"IF(MONTH($G$3)=MONTH(EG$3),EF1+1,EF1)","v":11},11]
["                        ","        ","   Month One","       Lease","       First","MONTH",1,{"$f":"G2+1","v":2},{"$f":"H2+1","v":3},4,5,6,7,8,9,10,11,12,13,14,15,16,17,18,19,20,21,22,23,24,25,26,27,28,29,30,31,32,33,34,35,36,37,38,39,40,41,42,43,44,45,46,47,48,49,50,51,52,53,54,55,56,57,58,59,60,61,62,63,64,65,66,{"$f":"BT2+1","v":67},68,69,70,71,72,73,74,75,76,77,78,79,80,81,82,83,84,85,86,87,88,89,90,91,92,93,94,95,96,97,98,99,100,101,102,103,104,105,106,107,108,109,110,111,112,113,114,115,116,117,118,119,120,121,122,123,124,125,126,127,128,129,130,{"$f":"EF2+1","v":131},{"$f":"EG2+1","v":132}]
["For the Months          ","        ","Occupied Area","       Start","  Expiration","For the Months",{"$f":"+'Monthly Cash Flows'!B13","v":"2018-01-01"},{"$f":"+EOMONTH(G3,1)","v":"2018-02-28"},{"$f":"+EOMONTH(H3,1)","v":"2018-03-31"},"2018-04-30","2018-05-31","2018-06-30","2018-07-31","2018-08-31","2018-09-30","2018-10-31","2018-11-30","2018-12-31","2019-01-31","2019-02-28","2019-03-31","2019-04-30","2019-05-31","2019-06-30","2019-07-31","2019-08-31","2019-09-30","2019-10-31","2019-11-30","2019-12-31","2020-01-31","2020-02-29","2020-03-31","2020-04-30","2020-05-31","2020-06-30","2020-07-31","2020-08-31","2020-09-30","2020-10-31","2020-11-30","2020-12-31","2021-01-31","2021-02-28","2021-03-31","2021-04-30","2021-05-31","2021-06-30","2021-07-31","2021-08-31","2021-09-30","2021-10-31","2021-11-30","2021-12-31","2022-01-31","2022-02-28","2022-03-31","2022-04-30","2022-05-31","2022-06-30","2022-07-31","2022-08-31","2022-09-30","2022-10-31","2022-11-30","2022-12-31","2023-01-31","2023-02-28","2023-03-31","2023-04-30","2023-05-31","2023-06-30",{"$f":"+EOMONTH(BT3,1)","v":"2023-07-31"},"2023-08-31","2023-09-30","2023-10-31","2023-11-30","2023-12-31","2024-01-31","2024-02-29","2024-03-31","2024-04-30","2024-05-31","2024-06-30","2024-07-31","2024-08-31","2024-09-30","2024-10-31","2024-11-30","2024-12-31","2025-01-31","2025-02-28","2025-03-31","2025-04-30","2025-05-31","2025-06-30","2025-07-31","2025-08-31","2025-09-30","2025-10-31","2025-11-30","2025-12-31","2026-01-31","2026-02-28","2026-03-31","2026-04-30","2026-05-31","2026-06-30","2026-07-31","2026-08-31","2026-09-30","2026-10-31","2026-11-30","2026-12-31","2027-01-31","2027-02-28","2027-03-31","2027-04-30","2027-05-31","2027-06-30","2027-07-31","2027-08-31","2027-09-30","2027-10-31","2027-11-30","2027-12-31","2028-01-31","2028-02-29","2028-03-31","2028-04-30","2028-05-31","2028-06-30","2028-07-31","2028-08-31","2028-09-30","2028-10-31",{"$f":"+EOMONTH(EF3,1)","v":"2028-11-30"},{"$f":"+EOMONTH(EG3,1)","v":"2028-12-31"}]
["                        ","        ","            ","            ","            ",null," __________ "," __________ "," __________ "," __________ "," __________ "," __________ "," __________ "," __________ "," __________ "," __________ "," __________ "," __________ "," __________ "," __________ "," __________ "," __________ "," __________ "," __________ "," __________ "," __________ "," __________ "," __________ "," __________ "," __________ "," __________ "," __________ "," __________ "," __________ "," __________ "," __________ "," __________ "," __________ "," __________ "," __________ "," __________ "," __________ "," __________ "," __________ "," __________ "," __________ "," __________ "," __________ "," __________ "," __________ "," __________ "," __________ "," __________ "," __________ "," __________ "," __________ "," __________ "," __________ "," __________ "," __________ "," __________ "," __________ "," __________ "," __________ "," __________ "," __________ "," __________ "," __________ "," __________ "," __________ "," __________ "," __________ "," __________ "," __________ "," __________ "," __________ "," __________ "," __________ "," __________ "," __________ "," __________ "," __________ "," __________ "," __________ "," __________ "," __________ "," __________ "," __________ "," __________ "," __________ "," __________ "," __________ "," __________ "," __________ "," __________ "," __________ "," __________ "," __________ "," __________ "," __________ "," __________ "," __________ "," __________ "," __________ "," __________ "," __________ "," __________ "," __________ "," __________ "," __________ "," __________ "," __________ "," __________ "," __________ "," __________ "," __________ "," __________ "," __________ "," __________ "," __________ "," __________ "," __________ "," __________ "," __________ "," __________ "," __________ "," __________ "," __________ "," __________ "," __________ "," __________ "," __________ "," __________ "," __________ "," __________ "," __________ "," __________ "," __________ "]
["Tenant","Suite"]
["Mai Thai Seafood","421",2200,"2009-03-13","2019-08-31",null,14.58,14.58,14.58,14.58,14.58,14.58,14.58,14.58,14.58,14.58,14.58,14.58,14.58,14.58,14.58,14.58,14.58,14.58,14.58,14.58,14.58,14.58,14.58,14.58,14.58,14.58,14.58,14.58,14.58,14.58,14.58,14.58,16,16,16,16,16,16,16,16,16,16,16,16,16,16,16,16,16,16,16,16,16,16,16,16,16,16,16,16,16,16,16,16,16,16,16,16,16,16,16,16,16,16,16,16,16,16,16,16,16,16,16,16,16,16,16,16,16,16,16,16,16,16,16,16,16,16,16,16,16,16,16,16,16,16,16,16,16,16,16,16,16,16,16,16,16,16,16,16,16,16,16,16,16,16,16,16,16,16,16,16]
["Rainbow Shops","425",4500,"2006-11-12","2023-01-31",null,14.5,16,16,16,16,16,16,16,16,16,16,16,16,16,16,16,16,16,16,16,16,16,16,16,16,16,16,16,16,16,16,16,16,16,16,16,16,16,16,16,16,16,16,16,16,16,16,16,16,16,16,16,16,16,16,16,16,16,16,16,16,18,18,18,18,18,18,18,18,18,18,18,18,18,18,18,18,18,18,18,18,18,18,18,18,18,18,18,18,18,18,18,18,18,18,18,18,18,18,18,18,18,18,18,18,18,18,18,18,18,18,18,18,18,18,18,18,18,18,18,18,18,18,18,18,18,18,18,18,18,18,18]
["Palais Royal","431",24500,"1992-11-05","2023-11-30",null,5.5,5.5,5.5,5.5,5.5,5.5,5.5,5.5,5.5,5.5,5.5,6,6,6,6,6,6,6,6,6,6,6,6,6,6,6,6,6,6,6,6,6,6,6,6,6,6,6,6,6,6,6,6,6,6,6,6,6,6,6,6,6,6,6,6,6,6,6,6,6,6,6,6,6,6,6,6,6,6,6,6,6.72,6.72,6.72,6.72,6.72,6.72,6.72,6.72,6.72,6.72,6.72,6.72,6.72,6.72,6.72,6.72,6.72,6.72,6.72,6.72,6.72,6.72,6.72,6.72,6.72,6.72,6.72,6.72,6.72,6.72,6.72,6.72,6.72,6.72,6.72,6.72,6.72,6.72,6.72,6.72,6.72,6.72,6.72,6.72,6.72,6.72,6.72,6.72,6.72,6.72,6.72,6.72,6.72,6.72,6.72,6.72,6.72,6.72,6.72,6.72,6.72]
["Vantage Sale and Lease","433",2800,"2010-10-14","2021-04-30",null,12.94,12.94,12.94,12.94,12.94,12.94,12.94,12.94,12.94,12.94,12.94,12.94,12.94,12.94,12.94,12.94,12.94,12.94,12.94,12.94,12.94,12.94,12.94,12.94,12.94,12.94,12.94,12.94,12.94,12.94,12.94,12.94,12.94,12.94,12.94,12.94,12.94,12.94,12.94,12.94,12.94,12.94,12.94,12.94,12.94,12.94,12.94,12.94,12.94,12.94,12.94,12.94,12.94,12.94,12.94,12.94,12.94,12.94,12.94,12.94,12.94,12.94,12.94,12.94,12.94,12.94,12.94,12.94,12.94,12.94,12.94,12.94,12.94,12.94,12.94,12.94,12.94,12.94,12.94,12.94,12.94,12.94,12.94,12.94,12.94,12.94,12.94,12.94,12.94,12.94,12.94,12.94,12.94,12.94,12.94,12.94,12.94,12.94,12.94,12.94,12.94,12.94,12.94,12.94,12.94,12.94,12.94,12.94,12.94,12.94,12.94,12.94,12.94,12.94,12.94,12.94,12.94,12.94,12.94,12.94,12.94,12.94,12.94,12.94,12.94,12.94,12.94,12.94,12.94,12.94,12.94,12.94]
["LNA Beauty Supply","437",3535,"2013-04-19","2021-04-30",null,11.79,11.79,11.79,11.79,11.79,11.79,11.79,11.79,11.79,11.79,11.79,11.79,11.79,11.79,11.79,11.79,11.79,11.79,11.79,11.79,11.79,11.79,11.79,11.79,11.79,11.79,11.79,11.79,11.79,11.79,11.79,11.79,11.79,11.79,11.79,11.79,11.79,11.79,11.79,11.79,11.79,11.79,11.79,11.79,11.79,11.79,11.79,11.79,11.79,11.79,11.79,11.79,11.79,11.79,11.79,11.79,11.79,11.79,11.79,11.79,11.79,11.79,11.79,11.79,11.79,11.79,11.79,11.79,11.79,11.79,11.79,11.79,11.79,11.79,11.79,11.79,11.79,11.79,11.79,11.79,11.79,11.79,11.79,11.79,11.79,11.79,11.79,11.79,11.79,11.79,11.79,11.79,11.79,11.79,11.79,11.79,11.79,11.79,11.79,11.79,11.79,11.79,11.79,11.79,11.79,11.79,11.79,11.79,11.79,11.79,11.79,11.79,11.79,11.79,11.79,11.79,11.79,11.79,11.79,11.79,11.79,11.79,11.79,11.79,11.79,11.79,11.79,11.79,11.79,11.79,11.79,11.79]
["dd's DISCOUNTS","435",22000,"2011-09-22","2022-01-31",null,5.25,5.25,5.25,5.25,5.25,5.25,5.25,5.25,5.25,5.25,5.25,5.25,5.25,5.25,5.25,5.25,5.25,5.25,5.25,5.25,5.25,5.25,5.25,5.25,5.25,5.25,5.25,5.25,5.25,5.25,5.25,5.25,5.25,5.25,5.25,5.25,5.25,5.25,5.25,5.25,5.25,5.25,5.25,5.25,5.25,5.25,5.25,5.25,5.25,5.75,5.75,5.75,5.75,5.75,5.75,5.75,5.75,5.75,5.75,5.75,5.75,5.75,5.75,5.75,5.75,5.75,5.75,5.75,5.75,5.75,5.75,5.75,5.75,5.75,5.75,5.75,5.75,5.75,5.75,5.75,5.75,5.75,5.75,5.75,5.75,5.75,5.75,5.75,5.75,5.75,5.75,5.75,5.75,5.75,5.75,5.75,5.75,5.75,5.75,5.75,5.75,5.75,5.75,5.75,5.75,5.75,5.75,5.75,5.75,6.25,6.25,6.25,6.25,6.25,6.25,6.25,6.25,6.25,6.25,6.25,6.25,6.25,6.25,6.25,6.25,6.25,6.25,6.25,6.25,6.25,6.25,6.25]
["Advance Auto Parts","439",6060,"2008-08-19","2018-12-31",null,11.25,11.25,11.25,11.25,11.25,11.25,11.25,11.25,11.25,11.25,11.25,11.25,12.38,12.38,12.38,12.38,12.38,12.38,12.38,12.38,12.38,12.38,12.38,12.38,12.38,12.38,12.38,12.38,12.38,12.38,12.38,12.38,12.38,12.38,12.38,12.38,12.38,12.38,12.38,12.38,12.38,12.38,12.38,12.38,12.38,12.38,12.38,12.38,12.38,12.38,12.38,12.38,12.38,12.38,12.38,12.38,12.38,12.38,12.38,12.38,12.38,12.38,12.38,12.38,12.38,12.38,12.38,12.38,12.38,12.38,12.38,12.38,12.38,12.38,12.38,12.38,12.38,12.38,12.38,12.38,12.38,12.38,12.38,12.38,12.38,12.38,12.38,12.38,12.38,12.38,12.38,12.38,12.38,12.38,12.38,12.38,12.38,12.38,12.38,12.38,12.38,12.38,12.38,12.38,12.38,12.38,12.38,12.38,12.38,12.38,12.38,12.38,12.38,12.38,12.38,12.38,12.38,12.38,12.38,12.38,12.38,12.38,12.38,12.38,12.38,12.38,12.38,12.38,12.38,12.38,12.38,12.38]
["Jay's Barber Shop","441",450,"2007-05-18","2018-01-31",null,18,18,18,18,18,18,18,18,18,18,18,18,18,18,18,18,18,18,18,18,18,18,18,18,18,18,18,18,18,18,18,18,18,18,18,18,18,18,18,18,18,18,18,18,18,18,18,18,18,18,18,18,18,18,18,18,18,18,18,18,18,18,18,18,18,18,18,18,18,18,18,18,18,18,18,18,18,18,18,18,18,18,18,18,18,18,18,18,18,18,18,18,18,18,18,18,18,18,18,18,18,18,18,18,18,18,18,18,18,18,18,18,18,18,18,18,18,18,18,18,18,18,18,18,18,18,18,18,18,18,18,18]
["Arena Salon","443",1200,"2009-02-13","2022-02-28",null,17.5,17.5,17.5,17.5,17.5,17.5,17.5,17.5,17.5,17.5,17.5,17.5,17.5,17.5,17.5,17.5,17.5,17.5,17.5,17.5,17.5,17.5,17.5,17.5,17.5,17.5,17.5,17.5,17.5,17.5,17.5,17.5,17.5,17.5,17.5,17.5,17.5,17.5,17.5,17.5,17.5,17.5,17.5,17.5,17.5,17.5,17.5,17.5,17.5,17.5,17.5,17.5,17.5,17.5,17.5,17.5,17.5,17.5,17.5,17.5,17.5,17.5,17.5,17.5,17.5,17.5,17.5,17.5,17.5,17.5,17.5,17.5,17.5,17.5,17.5,17.5,17.5,17.5,17.5,17.5,17.5,17.5,17.5,17.5,17.5,17.5,17.5,17.5,17.5,17.5,17.5,17.5,17.5,17.5,17.5,17.5,17.5,17.5,17.5,17.5,17.5,17.5,17.5,17.5,17.5,17.5,17.5,17.5,17.5,17.5,17.5,17.5,17.5,17.5,17.5,17.5,17.5,17.5,17.5,17.5,17.5,17.5,17.5,17.5,17.5,17.5,17.5,17.5,17.5,17.5,17.5,17.5]
["QW World Party Supply","447",7800,"2014-06-01","2019-05-31",null,8.32,8.32,8.32,8.32,8.32,8.32,8.32,8.32,8.32,8.32,8.32,8.32,8.32,8.32,8.32,8.32,8.32,9.15,9.15,9.15,9.15,9.15,9.15,9.15,9.15,9.15,9.15,9.15,9.15,9.15,9.15,9.15,9.15,9.15,9.15,9.15,9.15,9.15,9.15,9.15,9.15,9.15,9.15,9.15,9.15,9.15,9.15,9.15,9.15,9.15,9.15,9.15,9.15,9.15,9.15,9.15,9.15,9.15,9.15,9.15,9.15,9.15,9.15,9.15,9.15,9.15,9.15,9.15,9.15,9.15,9.15,9.15,9.15,9.15,9.15,9.15,9.15,9.15,9.15,9.15,9.15,9.15,9.15,9.15,9.15,9.15,9.15,9.15,9.15,9.15,9.15,9.15,9.15,9.15,9.15,9.15,9.15,9.15,9.15,9.15,9.15,9.15,9.15,9.15,9.15,9.15,9.15,9.15,9.15,9.15,9.15,9.15,9.15,9.15,9.15,9.15,9.15,9.15,9.15,9.15,9.15,9.15,9.15,9.15,9.15,9.15,9.15,9.15,9.15,9.15,9.15,9.15]
["Advance America","453",1525,"2002-11-07","2020-11-30",null,17.05,17.05,17.05,17.05,17.05,17.05,17.05,17.05,17.05,17.05,17.05,17.05,17.05,17.05,17.05,17.05,17.05,17.05,17.05,17.05,17.05,17.05,17.05,17.05,17.05,17.05,17.05,17.05,17.05,17.05,17.05,17.05,17.05,17.05,17.05,17.05,17.05,17.05,17.05,17.05,17.05,17.05,17.05,17.05,17.05,17.05,17.05,17.05,17.05,17.05,17.05,17.05,17.05,17.05,17.05,17.05,17.05,17.05,17.05,17.05,17.05,17.05,17.05,17.05,17.05,17.05,17.05,17.05,17.05,17.05,17.05,17.05,17.05,17.05,17.05,17.05,17.05,17.05,17.05,17.05,17.05,17.05,17.05,17.05,17.05,17.05,17.05,17.05,17.05,17.05,17.05,17.05,17.05,17.05,17.05,17.05,17.05,17.05,17.05,17.05,17.05,17.05,17.05,17.05,17.05,17.05,17.05,17.05,17.05,17.05,17.05,17.05,17.05,17.05,17.05,17.05,17.05,17.05,17.05,17.05,17.05,17.05,17.05,17.05,17.05,17.05,17.05,17.05,17.05,17.05,17.05,17.05]
["Woodforest Insurance and Tax","457",1200,"2013-08-01","2020-09-30",null,12.5,12.5,12.5,12.5,12.5,12.5,12.5,12.5,12.5,12.5,12.5,12.5,12.5,12.5,12.5,12.5,12.5,12.5,12.5,12.5,12.5,12.5,12.5,12.5,12.5,12.5,12.5,12.5,12.5,12.5,12.5,12.5,12.5,12.5,12.5,12.5,12.5,12.5,12.5,12.5,12.5,12.5,12.5,12.5,12.5,12.5,12.5,12.5,12.5,12.5,12.5,12.5,12.5,12.5,12.5,12.5,12.5,12.5,12.5,12.5,12.5,12.5,12.5,12.5,12.5,12.5,12.5,12.5,12.5,12.5,12.5,12.5,12.5,12.5,12.5,12.5,12.5,12.5,12.5,12.5,12.5,12.5,12.5,12.5,12.5,12.5,12.5,12.5,12.5,12.5,12.5,12.5,12.5,12.5,12.5,12.5,12.5,12.5,12.5,12.5,12.5,12.5,12.5,12.5,12.5,12.5,12.5,12.5,12.5,12.5,12.5,12.5,12.5,12.5,12.5,12.5,12.5,12.5,12.5,12.5,12.5,12.5,12.5,12.5,12.5,12.5,12.5,12.5,12.5,12.5,12.5,12.5]
["Glass Etching by Matisse",455,1475,"2010-12-04","2018-11-30",null,12.28,12.28,12.28,12.28,12.28,12.28,12.28,12.28,12.28,12.28,12.28,12.28,12.28,12.28,12.28,12.28,12.28,12.28,12.28,12.28,12.28,12.28,12.28,12.28,12.28,12.28,12.28,12.28,12.28,12.28,12.28,12.28,12.28,12.28,12.28,12.28,12.28,12.28,12.28,12.28,12.28,12.28,12.28,12.28,12.28,12.28,12.28,12.28,12.28,12.28,12.28,12.28,12.28,12.28,12.28,12.28,12.28,12.28,12.28,12.28,12.28,12.28,12.28,12.28,12.28,12.28,12.28,12.28,12.28,12.28,12.28,12.28,12.28,12.28,12.28,12.28,12.28,12.28,12.28,12.28,12.28,12.28,12.28,12.28,12.28,12.28,12.28,12.28,12.28,12.28,12.28,12.28,12.28,12.28,12.28,12.28,12.28,12.28,12.28,12.28,12.28,12.28,12.28,12.28,12.28,12.28,12.28,12.28,12.28,12.28,12.28,12.28,12.28,12.28,12.28,12.28,12.28,12.28,12.28,12.28,12.28,12.28,12.28,12.28,12.28,12.28,12.28,12.28,12.28,12.28,12.28,12.28]
["Regional Finance Corp",459,1200,"2011-05-27","2019-05-31",null,14.41,14.41,14.41,14.41,14.41,14.41,14.41,14.41,14.41,14.41,14.41,14.41,14.41,14.41,14.41,14.41,14.41,15.28,15.28,15.28,15.28,15.28,15.28,15.28,15.28,15.28,15.28,15.28,15.28,15.28,15.28,15.28,15.28,15.28,15.28,15.28,15.28,15.28,15.28,15.28,15.28,15.28,15.28,15.28,15.28,15.28,15.28,15.28,15.28,15.28,15.28,15.28,15.28,15.28,15.28,15.28,15.28,15.28,15.28,15.28,15.28,15.28,15.28,15.28,15.28,15.28,15.28,15.28,15.28,15.28,15.28,15.28,15.28,15.28,15.28,15.28,15.28,15.28,15.28,15.28,15.28,15.28,15.28,15.28,15.28,15.28,15.28,15.28,15.28,15.28,15.28,15.28,15.28,15.28,15.28,15.28,15.28,15.28,15.28,15.28,15.28,15.28,15.28,15.28,15.28,15.28,15.28,15.28,15.28,15.28,15.28,15.28,15.28,15.28,15.28,15.28,15.28,15.28,15.28,15.28,15.28,15.28,15.28,15.28,15.28,15.28,15.28,15.28,15.28,15.28,15.28,15.28]
["Cici's Pizza",469,3800,"1994-08-24","2019-12-31",null,21.3,21.3,21.3,21.3,21.3,21.3,21.3,21.3,21.3,21.3,21.3,21.3,21.3,21.3,21.3,21.3,21.3,21.3,21.3,21.3,21.3,21.3,21.3,21.3,24.5,24.5,24.5,24.5,24.5,24.5,24.5,24.5,24.5,24.5,24.5,24.5,24.5,24.5,24.5,24.5,24.5,24.5,24.5,24.5,24.5,24.5,24.5,24.5,24.5,24.5,24.5,24.5,24.5,24.5,24.5,24.5,24.5,24.5,24.5,24.5,24.5,24.5,24.5,24.5,24.5,24.5,24.5,24.5,24.5,24.5,24.5,24.5,24.5,24.5,24.5,24.5,24.5,24.5,24.5,24.5,24.5,24.5,24.5,24.5,24.5,24.5,24.5,24.5,24.5,24.5,24.5,24.5,24.5,24.5,24.5,24.5,24.5,24.5,24.5,24.5,24.5,24.5,24.5,24.5,24.5,24.5,24.5,24.5,24.5,24.5,24.5,24.5,24.5,24.5,24.5,24.5,24.5,24.5,24.5,24.5,24.5,24.5,24.5,24.5,24.5,24.5,24.5,24.5,24.5,24.5,24.5,24.5]
["Texan Credit Corporation",452,1000,"2011-05-16","2022-05-31",null,20,20,20,20,20,20,20,20,20,20,20,20,20,20,20,20,20,20,20,20,20,20,20,20,20,20,20,20,20,20,20,20,20,20,20,20,20,20,20,20,20,20,20,20,20,20,20,20,20,20,20,20,20,20,20,20,20,20,20,20,20,20,20,20,20,20,20,20,20,20,20,20,20,20,20,20,20,20,20,20,20,20,20,20,20,20,20,20,20,20,20,20,20,20,20,20,20,20,20,20,20,20,20,20,20,20,20,20,20,20,20,20,20,20,20,20,20,20,20,20,20,20,20,20,20,20,20,20,20,20,20,20]
["Freeway Insurance",454,1000,"2016-09-01","2021-08-31",null,15,15,15,15,15,15,15,15,15,15,15,15,15,15,15,15,15,15,15,15,15,15,15,15,15,15,15,15,15,15,15,15,15,15,15,15,15,15,15,15,15,15,15,15,15,15,15,15,15,15,15,15,15,15,15,15,15,15,15,15,15,15,15,15,15,15,15,15,15,15,15,15,15,15,15,15,15,15,15,15,15,15,15,15,15,15,15,15,15,15,15,15,15,15,15,15,15,15,15,15,15,15,15,15,15,15,15,15,15,15,15,15,15,15,15,15,15,15,15,15,15,15,15,15,15,15,15,15,15,15,15,15]
["Pizza Patron",450,1000,"2013-11-04","2018-10-31",null,16,16,16,16,16,16,16,16,16,16,18.5,18.5,18.5,18.5,18.5,18.5,18.5,18.5,18.5,18.5,18.5,18.5,18.5,18.5,18.5,18.5,18.5,18.5,18.5,18.5,18.5,18.5,18.5,18.5,18.5,18.5,18.5,18.5,18.5,18.5,18.5,18.5,18.5,18.5,18.5,18.5,18.5,18.5,18.5,18.5,18.5,18.5,18.5,18.5,18.5,18.5,18.5,18.5,18.5,18.5,18.5,18.5,18.5,18.5,18.5,18.5,18.5,18.5,18.5,18.5,22,22,22,22,22,22,22,22,22,22,22,22,22,22,22,22,22,22,22,22,22,22,22,22,22,22,22,22,22,22,22,22,22,22,22,22,22,22,22,22,22,22,22,22,22,22,22,22,22,22,22,22,22,22,22,22,22,22,22,22,22,22]
["Young Tream Hair Braiding",446,1000,"2014-11-01","2021-02-28",null,16,16,16,16,16,16,16,16,16,16,16,16,16,16,16,16,16,16,16,16,16,16,16,16,16,16,16,16,16,16,16,16,16,16,16,16,16,16,16,16,16,16,16,16,16,16,16,16,16,16,16,16,16,16,16,16,16,16,16,16,16,16,16,16,16,16,16,16,16,16,16,16,16,16,16,16,16,16,16,16,16,16,16,16,16,16,16,16,16,16,16,16,16,16,16,16,16,16,16,16,16,16,16,16,16,16,16,16,16,16,16,16,16,16,16,16,16,16,16,16,16,16,16,16,16,16,16,16,16,16,16,16]
["Income Tax",444,1000,"1999-09-21","2025-04-30",null,15.95,15.95,15.95,15.95,15.95,15.95,15.95,15.95,15.95,15.95,15.95,15.95,15.95,15.95,15.95,15.95,15.95,15.95,15.95,15.95,15.95,15.95,15.95,15.95,15.95,15.95,15.95,15.95,17.55,17.55,17.55,17.55,17.55,17.55,17.55,17.55,17.55,17.55,17.55,17.55,17.55,17.55,17.55,17.55,17.55,17.55,17.55,17.55,17.55,17.55,17.55,17.55,17.55,17.55,17.55,17.55,17.55,17.55,17.55,17.55,17.55,17.55,17.55,17.55,17.55,17.55,17.55,17.55,17.55,17.55,17.55,17.55,17.55,17.55,17.55,17.55,17.55,17.55,17.55,17.55,17.55,17.55,17.55,17.55,17.55,17.55,17.55,17.55,17.55,17.55,17.55,17.55,17.55,17.55,17.55,17.55,17.55,17.55,17.55,17.55,17.55,17.55,17.55,17.55,17.55,17.55,17.55,17.55,17.55,17.55,17.55,17.55,17.55,17.55,17.55,17.55,17.55,17.55,17.55,17.55,17.55,17.55,17.55,17.55,17.55,17.55,17.55,17.55,17.55,17.55,17.55,17.55]
["Great Cuts N Style",442,1000,"2012-03-09","2019-05-31",null,13.72,13.72,13.72,13.72,13.72,13.72,13.72,13.72,13.72,13.72,13.72,13.72,13.72,13.72,13.72,13.72,13.72,13.72,13.72,13.72,13.72,13.72,13.72,13.72,13.72,13.72,13.72,13.72,13.72,13.72,13.72,13.72,13.72,13.72,13.72,13.72,13.72,13.72,13.72,13.72,13.72,13.72,13.72,13.72,13.72,13.72,13.72,13.72,13.72,13.72,13.72,13.72,13.72,13.72,13.72,13.72,13.72,13.72,13.72,13.72,13.72,13.72,13.72,13.72,13.72,13.72,13.72,13.72,13.72,13.72,13.72,13.72,13.72,13.72,13.72,13.72,13.72,13.72,13.72,13.72,13.72,13.72,13.72,13.72,13.72,13.72,13.72,13.72,13.72,13.72,13.72,13.72,13.72,13.72,13.72,13.72,13.72,13.72,13.72,13.72,13.72,13.72,13.72,13.72,13.72,13.72,13.72,13.72,13.72,13.72,13.72,13.72,13.72,13.72,13.72,13.72,13.72,13.72,13.72,13.72,13.72,13.72,13.72,13.72,13.72,13.72,13.72,13.72,13.72,13.72,13.72,13.72]
["Dollar Daze",440,2300,"2016-01-01","2020-12-31",null,14,14,14,14,14,14,14,14,14,14,14,14,14,14,14,14,14,14,14,14,14,14,14,14,14,14,14,14,14,14,14,14,14,14,14,14,14,14,14,14,14,14,14,14,14,14,14,14,14,14,14,14,14,14,14,14,14,14,14,14,14,14,14,14,14,14,14,14,14,14,14,14,14,14,14,14,14,14,14,14,14,14,14,14,14,14,14,14,14,14,14,14,14,14,14,14,14,14,14,14,14,14,14,14,14,14,14,14,14,14,14,14,14,14,14,14,14,14,14,14,14,14,14,14,14,14,14,14,14,14,14,14]
["MetroPCS",432,2700,"2017-02-01","2024-01-31",null,11.21,11.21,11.21,11.21,11.21,11.21,11.21,11.21,11.21,11.21,11.21,11.21,11.21,12.34,12.34,12.34,12.34,12.34,12.34,12.34,12.34,12.34,12.34,12.34,12.34,12.34,12.34,12.34,12.34,12.34,12.34,12.34,12.34,12.34,12.34,12.34,12.34,12.34,12.34,12.34,12.34,12.34,12.34,12.34,12.34,12.34,12.34,12.34,12.34,12.34,12.34,12.34,12.34,12.34,12.34,12.34,12.34,12.34,12.34,12.34,12.34,12.34,12.34,12.34,12.34,12.34,12.34,12.34,12.34,12.34,12.34,12.34,12.34,13.82,13.82,13.82,13.82,13.82,13.82,13.82,13.82,13.82,13.82,13.82,13.82,13.82,13.82,13.82,13.82,13.82,13.82,13.82,13.82,13.82,13.82,13.82,13.82,13.82,13.82,13.82,13.82,13.82,13.82,13.82,13.82,13.82,13.82,13.82,13.82,13.82,13.82,13.82,13.82,13.82,13.82,13.82,13.82,13.82,13.82,13.82,13.82,13.82,13.82,13.82,13.82,13.82,13.82,13.82,13.82,13.82,13.82,13.82]
["Title Max",474,1271,"2014-03-03","2019-03-31",null,40,40,40,40,40,40,40,40,40,40,40,40,40,40,40,44,44,44,44,44,44,44,44,44,44,44,44,44,44,44,44,44,44,44,44,44,44,44,44,44,44,44,44,44,44,44,44,44,44,44,44,44,44,44,44,44,44,44,44,44,44,44,44,44,44,44,44,44,44,44,44,44,44,44,44,44,44,44,44,44,44,44,44,44,44,44,44,44,44,44,44,44,44,44,44,44,44,44,44,44,44,44,44,44,44,44,44,44,44,44,44,44,44,44,44,44,44,44,44,44,44,44,44,44,44,44,44,44,44,44,44,44]
["Vacant","423",2200,null,null,null,0,0,0,0,0,0,0,0,0,0,0,0,0,0,0,0,0,0,0,0,0,0,0,0,0,0,0,0,0,0,0,0,0,0,0,0,0,0,0,0,0,0,0,0,0,0,0,0,0,0,0,0,0,0,0,0,0,0,0,0,0,0,0,0,0,0,0,0,0,0,0,0,0,0,0,0,0,0,0,0,0,0,0,0,0,0,0,0,0,0,0,0,0,0,0,0,0,0,0,0,0,0,0,0,0,0,0,0,0,0,0,0,0,0,0,0,0,0,0,0,0,0,0,0,0,0,0,0,0,0,0,0]
["Vacant","433A",1800,null,null,null,0,0,0,0,15.5,15.5,15.5,15.5,15.5,15.5,15.5,15.5,15.5,15.5,15.5,15.5,15.5,15.5,15.5,15.5,15.5,15.5,15.5,15.5,15.5,15.5,15.5,15.5,15.5,15.5,15.5,15.5,15.5,15.5,15.5,15.5,15.5,15.5,15.5,15.5,15.5,15.5,15.5,15.5,15.5,15.5,15.5,15.5,15.5,15.5,15.5,15.5,15.5,15.5,15.5,15.5,15.5,15.5,15.5,15.5,15.5,15.5,15.5,15.5,15.5,15.5,15.5,15.5,15.5,15.5,15.5,15.5,15.5,15.5,15.5,15.5,15.5,15.5,15.5,15.5,15.5,15.5,15.5,15.5,15.5,15.5,15.5,15.5,15.5,15.5,15.5,15.5,15.5,15.5,15.5,15.5,15.5,15.5,15.5,15.5,15.5,15.5,15.5,15.5,15.5,15.5,15.5,15.5,15.5,15.5,15.5,15.5,15.5,15.5,15.5,15.5,15.5,15.5,15.5,15.5,15.5,15.5,15.5,15.5,15.5,15.5,15.5,15.5,15.5,15.5,15.5,15.5]
["Vacant - dd's Expansion","435A",5865,null,null,null,0,0,0,0,0,0,0,0,0,0,0,0,0,0,0,0,0,10,10,10,10,10,10,10,10,10,10,10,10,10,10,10,10,10,10,10,10,10,10,10,10,10,10,10,10,10,10,10,10,10,10,10,10,10,10,10,10,10,10,10,10,10,10,10,10,10,10,10,10,10,10,10,10,10,10,10,10,10,10,10,10,10,10,10,10,10,10,10,10,10,10,10,10,10,10,10,10,10,10,10,10,10,10,10,10,10,10,10,10,10,10,10,10,10,10,10,10,10,10,10,10,10,10,10,10,10,10,10,10,10,10,10]
["Vacant",448,1000,null,null,null,0,0,0,0,0,0,0,0,15.5,15.5,15.5,15.5,15.5,15.5,15.5,15.5,15.5,15.5,15.5,15.5,15.5,15.5,15.5,15.5,15.5,15.5,15.5,15.5,15.5,15.5,15.5,15.5,15.5,15.5,15.5,15.5,15.5,15.5,15.5,15.5,15.5,15.5,15.5,15.5,15.5,15.5,15.5,15.5,15.5,15.5,15.5,15.5,15.5,15.5,15.5,15.5,15.5,15.5,15.5,15.5,15.5,15.5,15.5,15.5,15.5,15.5,15.5,15.5,15.5,15.5,15.5,15.5,15.5,15.5,15.5,15.5,15.5,15.5,15.5,15.5,15.5,15.5,15.5,15.5,15.5,15.5,15.5,15.5,15.5,15.5,15.5,15.5,15.5,15.5,15.5,15.5,15.5,15.5,15.5,15.5,15.5,15.5,15.5,15.5,15.5,15.5,15.5,15.5,15.5,15.5,15.5,15.5,15.5,15.5,15.5,15.5,15.5,15.5,15.5,15.5,15.5,15.5,15.5,15.5,15.5,15.5,15.5,15.5,15.5,15.5,15.5,15.5]
["Vacant","451",1800,null,null,null,0,0,0,0,0,0,0,0,0,0,0,0,15.5,15.5,15.5,15.5,15.5,15.5,15.5,15.5,15.5,15.5,15.5,15.5,15.5,15.5,15.5,15.5,15.5,15.5,15.5,15.5,15.5,15.5,15.5,15.5,15.5,15.5,15.5,15.5,15.5,15.5,15.5,15.5,15.5,15.5,15.5,15.5,15.5,15.5,15.5,15.5,15.5,15.5,15.5,15.5,15.5,15.5,15.5,15.5,15.5,15.5,15.5,15.5,15.5,15.5,15.5,15.5,15.5,15.5,15.5,15.5,15.5,15.5,15.5,15.5,15.5,15.5,15.5,15.5,15.5,15.5,15.5,15.5,15.5,15.5,15.5,15.5,15.5,15.5,15.5,15.5,15.5,15.5,15.5,15.5,15.5,15.5,15.5,15.5,15.5,15.5,15.5,15.5,15.5,15.5,15.5,15.5,15.5,15.5,15.5,15.5,15.5,15.5,15.5,15.5,15.5,15.5,15.5,15.5,15.5,15.5,15.5,15.5,15.5,15.5,15.5,15.5,15.5,15.5,15.5,15.5]
["Vacant",456,1000,null,null,null,0,0,0,0,0,0,0,0,0,0,0,0,0,0,0,0,15.5,15.5,15.5,15.5,15.5,15.5,15.5,15.5,15.5,15.5,15.5,15.5,15.5,15.5,15.5,15.5,15.5,15.5,15.5,15.5,15.5,15.5,15.5,15.5,15.5,15.5,15.5,15.5,15.5,15.5,15.5,15.5,15.5,15.5,15.5,15.5,15.5,15.5,15.5,15.5,15.5,15.5,15.5,15.5,15.5,15.5,15.5,15.5,15.5,15.5,15.5,15.5,15.5,15.5,15.5,15.5,15.5,15.5,15.5,15.5,15.5,15.5,15.5,15.5,15.5,15.5,15.5,15.5,15.5,15.5,15.5,15.5,15.5,15.5,15.5,15.5,15.5,15.5,15.5,15.5,15.5,15.5,15.5,15.5,15.5,15.5,15.5,15.5,15.5,15.5,15.5,15.5,15.5,15.5,15.5,15.5,15.5,15.5,15.5,15.5,15.5,15.5,15.5,15.5,15.5,15.5,15.5,15.5,15.5,15.5,15.5,15.5,15.5,15.5,15.5,15.5]
["Vacant",461,2400,null,null,null,0,0,0,0,0,0,0,0,0,0,0,0,9.5,9.5,9.5,9.5,9.5,9.5,9.5,9.5,9.5,9.5,9.5,9.5,9.5,9.5,9.5,9.5,9.5,9.5,9.5,9.5,9.5,9.5,9.5,9.5,9.5,9.5,9.5,9.5,9.5,9.5,9.5,9.5,9.5,9.5,9.5,9.5,9.5,9.5,9.5,9.5,9.5,9.5,9.5,9.5,9.5,9.5,9.5,9.5,9.5,9.5,9.5,9.5,9.5,9.5,9.5,9.5,9.5,9.5,9.5,9.5,9.5,9.5,9.5,9.5,9.5,9.5,9.5,9.5,9.5,9.5,9.5,9.5,9.5,9.5,9.5,9.5,9.5,9.5,9.5,9.5,9.5,9.5,9.5,9.5,9.5,9.5,9.5,9.5,9.5,9.5,9.5,9.5,9.5,9.5,9.5,9.5,9.5,9.5,9.5,9.5,9.5,9.5,9.5,9.5,9.5,9.5,9.5,9.5,9.5,9.5,9.5,9.5,9.5,9.5,9.5,9.5,9.5,9.5,9.5,9.5]
["Vacant - Former Law Office",465,1200,null,null,null,0,0,0,0,0,0,0,0,0,0,0,0,0,0,0,0,0,0,0,0,15.5,15.5,15.5,15.5,15.5,15.5,15.5,15.5,15.5,15.5,15.5,15.5,15.5,15.5,15.5,15.5,15.5,15.5,15.5,15.5,15.5,15.5,15.5,15.5,15.5,15.5,15.5,15.5,15.5,15.5,15.5,15.5,15.5,15.5,15.5,15.5,15.5,15.5,15.5,15.5,15.5,15.5,15.5,15.5,15.5,15.5,15.5,15.5,15.5,15.5,15.5,15.5,15.5,15.5,15.5,15.5,15.5,15.5,15.5,15.5,15.5,15.5,15.5,15.5,15.5,15.5,15.5,15.5,15.5,15.5,15.5,15.5,15.5,15.5,15.5,15.5,15.5,15.5,15.5,15.5,15.5,15.5,15.5,15.5,15.5,15.5,15.5,15.5,15.5,15.5,15.5,15.5,15.5,15.5,15.5,15.5,15.5,15.5,15.5,15.5,15.5,15.5,15.5,15.5,15.5,15.5,15.5,15.5,15.5,15.5,15.5,15.5]
[null,null,null,null,null,null,"=============","=============","=============","=============","=============","=============","=============","=============","=============","=============","=============","=============","=============","=============","=============","=============","=============","=============","=============","=============","=============","=============","=============","=============","=============","=============","=============","=============","=============","=============","=============","=============","=============","=============","=============","=============","=============","=============","=============","=============","=============","=============","=============","=============","=============","=============","=============","=============","=============","=============","=============","=============","=============","=============","=============","=============","=============","=============","=============","=============","=============","=============","=============","=============","=============","=============","=============","=============","=============","=============","=============","=============","=============","=============","=============","=============","=============","=============","=============","=============","=============","=============","=============","=============","=============","=============","=============","=============","=============","=============","=============","=============","=============","=============","=============","=============","=============","=============","=============","=============","=============","=============","=============","=============","=============","=============","=============","=============","=============","=============","=============","=============","=============","=============","=============","=============","=============","=============","=============","=============","=============","=============","=============","=============","=============","=============","=============","=============","=============","=============","=============","============="]
[null,null,null,null,null,null,{"$f":"+SUMPRODUCT(G6:G37,$C$6:$C$37)/SUM($C$6:$C$37)","v":8.3931403309867196},{"$f":"+SUMPRODUCT(H6:H37,$C$6:$C$37)/SUM($C$6:$C$37)","v":8.4524648227735746},8.4524648227735746,8.4524648227735746,8.6976727221592363,8.6976727221592363,8.6976727221592363,8.6976727221592363,8.8338993329290485,8.8338993329290485,8.8558713669241786,8.9635343335003217,9.4693112206783194,9.4961258909659776,9.4961258909659776,9.5408082192984764,9.6770348300682887,10.258573048224219,10.258573048224219,10.258573048224219,10.422044981147994,10.422044981147994,10.422044981147994,10.422044981147994,10.528916954500312,10.528916954500312,10.528916954500312,10.528916954500312,10.542979056257195,10.542979056257195,10.542979056257195,10.542979056257195,10.570435309937512,10.570435309937512,10.570435309937512,10.570435309937512,10.570435309937512,10.570435309937512,10.570435309937512,10.570435309937512,10.570435309937512,10.570435309937512,10.570435309937512,10.570435309937512,10.570435309937512,10.570435309937512,10.570435309937512,10.570435309937512,10.570435309937512,10.66711225951609,10.66711225951609,10.66711225951609,10.66711225951609,10.66711225951609,10.66711225951609,10.66711225951609,10.66711225951609,10.66711225951609,10.66711225951609,10.66711225951609,10.66711225951609,10.746211581898562,10.746211581898562,10.746211581898562,10.746211581898562,{"$f":"+SUMPRODUCT(BT6:BT37,$C$6:$C$37)/SUM($C$6:$C$37)","v":10.746211581898562},10.746211581898562,10.746211581898562,10.746211581898562,10.746211581898562,10.776972429491744,10.932007101361389,10.932007101361389,10.967127200499206,10.967127200499206,10.967127200499206,10.967127200499206,10.967127200499206,10.967127200499206,10.967127200499206,10.967127200499206,10.967127200499206,10.967127200499206,10.967127200499206,10.967127200499206,10.967127200499206,10.967127200499206,10.967127200499206,10.967127200499206,10.967127200499206,10.967127200499206,10.967127200499206,10.967127200499206,10.967127200499206,10.967127200499206,10.967127200499206,10.967127200499206,10.967127200499206,10.967127200499206,10.967127200499206,10.967127200499206,10.967127200499206,10.967127200499206,10.967127200499206,10.967127200499206,10.967127200499206,10.967127200499206,10.967127200499206,10.967127200499206,11.063804150077782,11.063804150077782,11.063804150077782,11.063804150077782,11.063804150077782,11.063804150077782,11.063804150077782,11.063804150077782,11.063804150077782,11.063804150077782,11.063804150077782,11.063804150077782,11.063804150077782,11.063804150077782,11.063804150077782,11.063804150077782,11.063804150077782,11.063804150077782,11.063804150077782,11.063804150077782,{"$f":"+SUMPRODUCT(EF6:EF37,$C$6:$C$37)/SUM($C$6:$C$37)","v":11.063804150077782},11.063804150077782,11.063804150077782]

{"sheet":"Occupancy","index":10,"n_rows":25,"n_cols":133,"rows_kept":25,"cut":false,"hidden":true,"merged":[]}
["                                ","    Year  1","    Year  2","    Year  3","    Year  4","    Year  5","    Year  6","    Year  7","    Year  8","    Year  9","    Year  10","    Year  11","    Year  12","    Year  13","    Year  14","    Year  15","    Year  16"]
["For the Years Ending            ",{"$f":"+EOMONTH('Project Summary'!$J$14,12)","v":"2019-01-31"},{"$f":"+EOMONTH(B2,12)","v":"2020-01-31"},{"$f":"+EOMONTH(C2,12)","v":"2021-01-31"},"2022-01-31","2023-01-31","2024-01-31","2025-01-31","2026-01-31","2027-01-31","2028-01-31","2029-01-31",{"$f":"+EOMONTH(L2,12)","v":"2030-01-31"},{"$f":"+EOMONTH(M2,12)","v":"2031-01-31"},{"$f":"+EOMONTH(N2,12)","v":"2032-01-31"},{"$f":"+EOMONTH(O2,12)","v":"2033-01-31"},{"$f":"+EOMONTH(P2,12)","v":"2034-01-31"}]
["                                "," __________ "," __________ "," __________ "," __________ "," __________ "," __________ "," __________ "," __________ "," __________ "," __________ "," __________ "," __________ "," __________ "," __________ "," __________ "," __________ "]
["Square Feet Occupied"]
["  January",96516,{"$f":"96516+1800+1000+1800+2400","v":103516},{"$f":"96516+1800+1000+1800+2400+1000+2200","v":106716},106716,106716,106716,106716,106716,106716,106716,106716]
["  February",96516,{"$f":"96516+1800+1000+1800+2400","v":103516},106716,106716,106716,106716,106716,106716,106716,106716,106716]
["  March",96516,103516,106716,106716,106716,106716,106716,106716,106716,106716,106716]
["  April",96516,103516,106716,106716,106716,106716,106716,106716,106716,106716,106716]
["  May",{"$f":"96516+1800","v":98316},{"$f":"96516+1800+1000+1800+2400+1000","v":104516},106716,106716,106716,106716,106716,106716,106716,106716,106716]
["  June",{"$f":"96516+1800","v":98316},{"$f":"96516+1800+1000+1800+2400+1000+2200","v":106716},106716,106716,106716,106716,106716,106716,106716,106716,106716]
["  July",98316,{"$f":"96516+1800+1000+1800+2400+1000+2200","v":106716},106716,106716,106716,106716,106716,106716,106716,106716,106716]
["  August",98316,106716,106716,106716,106716,106716,106716,106716,106716,106716,106716]
["  September",{"$f":"96516+1800+1000","v":99316},106716,106716,106716,106716,106716,106716,106716,106716,106716,106716]
["  October",{"$f":"96516+1800+1000","v":99316},106716,106716,106716,106716,106716,106716,106716,106716,106716,106716]
["  November",99316,106716,106716,106716,106716,106716,106716,106716,106716,106716,106716]
["  December",99316,106716,106716,106716,106716,106716,106716,106716,106716,106716,106716]
[null," ___________"," ___________"," ___________"," ___________"," ___________"," ___________"," ___________"," ___________"," ___________"," ___________"," ___________"]
["Average Occupied For The Year",{"$f":"+AVERAGE(B5:B16)","v":98049.333333333328},{"$f":"+AVERAGE(C5:C16)","v":105466},106716,106716,106716,106716,106716,106716,106716,106716,106716]
[null," ==========="," ==========="," ==========="," ==========="," ==========="," ==========="," ==========="," ==========="," ==========="," ==========="," ==========="]
[]
[]
[]
[]
[null,1,2,3,{"$f":"+D24+1","v":4},{"$f":"+E24+1","v":5},6,7,8,9,10,11,12,13,14,15,16,17,18,19,20,21,22,23,24,25,26,27,28,29,30,31,32,33,34,35,36,37,38,39,40,41,42,43,44,45,46,47,48,49,50,51,52,53,54,55,56,57,58,59,60,61,62,63,64,65,66,67,68,{"$f":"+BQ24+1","v":69},70,71,72,73,74,75,76,77,78,79,80,81,82,83,84,85,86,87,88,89,90,91,92,93,94,95,96,97,98,99,100,101,102,103,104,105,106,107,108,109,110,111,112,113,114,115,116,117,118,119,120,121,122,123,124,125,126,127,128,129,130,131,132]
[null,96516,96516,96516,96516,{"$f":"96516+1800","v":98316},{"$f":"96516+1800","v":98316},{"$f":"96516+1800","v":98316},{"$f":"96516+1800","v":98316},{"$f":"96516+1800+1000","v":99316},{"$f":"96516+1800+1000","v":99316},{"$f":"96516+1800+1000","v":99316},{"$f":"96516+1800+1000","v":99316},{"$f":"96516+1800+1000+1800+2400","v":103516},{"$f":"96516+1800+1000+1800+2400","v":103516},{"$f":"96516+1800+1000+1800+2400","v":103516},{"$f":"96516+1800+1000+1800+2400","v":103516},{"$f":"96516+1800+1000+1800+2400+1000","v":104516},{"$f":"96516+1800+1000+1800+2400+1000+2200","v":106716},106716,106716,106716,106716,106716,106716,106716,106716,106716,106716,106716,106716,106716,106716,106716,106716,106716,106716,{"$f":"96516+1800+1000+1800+2400+1000+2200","v":106716},106716,106716,106716,106716,106716,106716,106716,106716,106716,106716,106716,106716,106716,106716,106716,106716,106716,106716,106716,106716,106716,106716,106716,106716,106716,106716,106716,106716,106716,106716,106716,106716,106716,106716,106716,106716,106716,106716,106716,106716,106716,106716,106716,106716,106716,106716,106716,106716,106716,106716,106716,106716,106716,106716,106716,106716,106716,106716,106716,106716,106716,106716,106716,{"$f":"96516+1800+1000+1800+2400+1000+2200","v":106716},106716,106716,106716,106716,106716,106716,106716,106716,106716,106716,106716,106716,106716,106716,106716,106716,106716,106716,106716,106716,106716,106716,106716,106716,106716,106716,106716,106716,106716,106716,106716]

{"sheet":"Waterfall","index":11,"n_rows":123,"n_cols":123,"rows_kept":123,"cut":false,"hidden":true,"merged":[]}
[]
["EQUITY WATERFALL"]
[]
["Scenario:",null,null,null,null,null,null,null,null,null,null,{"$f":"I28*0.2","v":880318.13414754404}]
["Base",null,null,null,null,null,null,null,null,null,null,{"$f":"(I28*0.8)*0.416","v":1464849.3752215132}]
[null,null,null,null,null,null,null,null,null,null,null,{"$f":"L5+L4","v":2345167.5093690571}]
["Multiple",1,null,null,null,null,null,null,null,null,null,{"$f":"L6/2","v":1172583.7546845286}]
[]
[]
[]
["Month",null,0,{"$f":"C11+1","v":1},2,3,4,5,6,7,8,9,10,11,12,13,14,15,16,17,18,19,20,21,22,23,24,25,26,27,28,29,30,31,32,33,34,35,36,37,38,39,40,41,42,43,44,45,46,47,48,49,50,51,52,53,54,55,56,57,58,59,60,61,62,63,64,{"$f":"BO11+1","v":65},66,67,68,69,70,71,72,73,74,75,76,77,78,79,80,81,82,83,84,85,86,87,88,89,90,91,92,93,94,95,96,97,98,99,100,101,102,103,104,105,106,107,108,109,110,111,112,113,114,115,116,117,118,119,120]
[]
["NET EQUITY CASH FLOW","Method of Distribution",{"$f":"+'Monthly CF'!E75","v":-4369999.9999999991},{"$f":"+'Monthly CF'!F75","v":30912.007937189279},{"$f":"+'Monthly CF'!G75","v":30912.007937189279},{"$f":"+'Monthly CF'!H75","v":30912.007937189279},{"$f":"+'Monthly CF'!I75","v":26483.759459851237},{"$f":"+'Monthly CF'!J75","v":33773.759459851237},{"$f":"+'Monthly CF'!K75","v":33773.759459851237},{"$f":"+'Monthly CF'!L75","v":33773.759459851237},{"$f":"+'Monthly CF'!M75","v":31313.621416885653},{"$f":"+'Monthly CF'!N75","v":35363.621416885653},{"$f":"+'Monthly CF'!O75","v":35571.954750218996},{"$f":"+'Monthly CF'!P75","v":36592.788083552339},{"$f":"+'Monthly CF'!Q75","v":30228.255009708708},{"$f":"+'Monthly CF'!R75","v":42812.505009708708},{"$f":"+'Monthly CF'!S75","v":42812.505009708708},{"$f":"+'Monthly CF'!T75","v":43236.171676375365},{"$f":"+'Monthly CF'!U75","v":40784.08071508423},{"$f":"+'Monthly CF'!V75","v":44421.813933577054},{"$f":"+'Monthly CF'!W75","v":51021.813933577054},{"$f":"+'Monthly CF'!X75","v":51021.813933577054},{"$f":"+'Monthly CF'!Y75","v":52571.813933577083},{"$f":"+'Monthly CF'!Z75","v":52571.813933577083},{"$f":"+'Monthly CF'!AA75","v":52571.813933577083},{"$f":"+'Monthly CF'!AB75","v":52571.813933577083},{"$f":"+'Monthly CF'!AC75","v":53526.58905591954},{"$f":"+'Monthly CF'!AD75","v":53526.58905591954},{"$f":"+'Monthly CF'!AE75","v":53526.58905591954},{"$f":"+'Monthly CF'!AF75","v":53526.58905591954},{"$f":"+'Monthly CF'!AG75","v":53659.922389252883},{"$f":"+'Monthly CF'!AH75","v":53659.922389252883},{"$f":"+'Monthly CF'!AI75","v":53659.922389252883},{"$f":"+'Monthly CF'!AJ75","v":53659.922389252883},{"$f":"+'Monthly CF'!AK75","v":53920.255722586226},{"$f":"+'Monthly CF'!AL75","v":53920.255722586226},{"$f":"+'Monthly CF'!AM75","v":53920.255722586226},{"$f":"+'Monthly CF'!AN75","v":53920.255722586226},{"$f":"+'Monthly CF'!AO75","v":53859.940765265652},{"$f":"+'Monthly CF'!AP75","v":53859.940765265652},{"$f":"+'Monthly CF'!AQ75","v":53859.940765265652},{"$f":"+'Monthly CF'!AR75","v":53859.940765265652},{"$f":"+'Monthly CF'!AS75","v":53859.940765265652},{"$f":"+'Monthly CF'!AT75","v":53859.940765265652},{"$f":"+'Monthly CF'!AU75","v":53859.940765265652},{"$f":"+'Monthly CF'!AV75","v":53859.940765265652},{"$f":"+'Monthly CF'!AW75","v":53859.940765265652},{"$f":"+'Monthly CF'!AX75","v":53859.940765265652},{"$f":"+'Monthly CF'!AY75","v":53859.940765265652},{"$f":"+'Monthly CF'!AZ75","v":53859.940765265652},{"$f":"+'Monthly CF'!BA75","v":53797.816359225442},{"$f":"+'Monthly CF'!BB75","v":54714.483025892128},{"$f":"+'Monthly CF'!BC75","v":54714.483025892128},{"$f":"+'Monthly CF'!BD75","v":54714.483025892128},{"$f":"+'Monthly CF'!BE75","v":54714.483025892128},{"$f":"+'Monthly CF'!BF75","v":54714.483025892128},{"$f":"+'Monthly CF'!BG75","v":54714.483025892128},{"$f":"+'Monthly CF'!BH75","v":54714.483025892128},{"$f":"+'Monthly CF'!BI75","v":54714.483025892128},{"$f":"+'Monthly CF'!BJ75","v":54714.483025892128},{"$f":"+'Monthly CF'!BK75","v":54714.483025892128},{"$f":"+'Monthly CF'!BL75","v":54714.483025892128},{"$f":"+'Monthly CF'!BM75","v":54650.494887670706},{"$f":"+'Monthly CF'!BN75","v":55400.494887670706},{"$f":"+'Monthly CF'!BO75","v":55400.494887670706},{"$f":"+'Monthly CF'!BP75","v":55400.494887670706},{"$f":"+'Monthly CF'!BQ75","v":55400.494887670706},{"$f":"+'Monthly CF'!BR75","v":55400.494887670706},{"$f":"+'Monthly CF'!BS75","v":55400.494887670706},{"$f":"+'Monthly CF'!BT75","v":55400.494887670706},{"$f":"+'Monthly CF'!BU75","v":55400.494887670706},{"$f":"+'Monthly CF'!BV75","v":55400.494887670706},{"$f":"+'Monthly CF'!BW75","v":55692.161554337392},{"$f":"+'Monthly CF'!BX75","v":57162.161554337392},{"$f":"+'Monthly CF'!BY75","v":57096.253771969365},{"$f":"+'Monthly CF'!BZ75","v":57429.253771969365},{"$f":"+'Monthly CF'!CA75","v":57429.253771969365},{"$f":"+'Monthly CF'!CB75","v":57429.253771969365},{"$f":"+'Monthly CF'!CC75","v":57429.253771969365},{"$f":"+'Monthly CF'!CD75","v":57429.253771969365},{"$f":"+'Monthly CF'!CE75","v":57429.253771969365},{"$f":"+'Monthly CF'!CF75","v":57429.253771969365},{"$f":"+'Monthly CF'!CG75","v":57429.253771969365},{"$f":"+'Monthly CF'!CH75","v":57429.253771969365},{"$f":"+'Monthly CF'!CI75","v":57429.253771969365},{"$f":"+'Monthly CF'!CJ75","v":57429.253771969365},{"$f":"+'Monthly CF'!CK75","v":8955841.2744540237},{"$f":"+'Monthly CF'!CL75","v":0},{"$f":"+'Monthly CF'!CM75","v":0},{"$f":"+'Monthly CF'!CN75","v":0},{"$f":"+'Monthly CF'!CO75","v":0},{"$f":"+'Monthly CF'!CP75","v":0},{"$f":"+'Monthly CF'!CQ75","v":0},{"$f":"+'Monthly CF'!CR75","v":0},{"$f":"+'Monthly CF'!CS75","v":0},{"$f":"+'Monthly CF'!CT75","v":0},{"$f":"+'Monthly CF'!CU75","v":0},{"$f":"+'Monthly CF'!CV75","v":0},{"$f":"+'Monthly CF'!CW75","v":0},{"$f":"+'Monthly CF'!CX75","v":0},{"$f":"+'Monthly CF'!CY75","v":0},{"$f":"+'Monthly CF'!CZ75","v":0},{"$f":"+'Monthly CF'!DA75","v":0},{"$f":"+'Monthly CF'!DB75","v":0},{"$f":"+'Monthly CF'!DC75","v":0},{"$f":"+'Monthly CF'!DD75","v":0},{"$f":"+'Monthly CF'!DE75","v":0},{"$f":"+'Monthly CF'!DF75","v":0},{"$f":"+'Monthly CF'!DG75","v":0},{"$f":"+'Monthly CF'!DH75","v":0},{"$f":"+'Monthly CF'!DI75","v":0},{"$f":"+'Monthly CF'!DJ75","v":0},{"$f":"+'Monthly CF'!DK75","v":0},{"$f":"+'Monthly CF'!DL75","v":0},{"$f":"+'Monthly CF'!DM75","v":0},{"$f":"+'Monthly CF'!DN75","v":0},{"$f":"+'Monthly CF'!DO75","v":0},{"$f":"+'Monthly CF'!DP75","v":0},{"$f":"+'Monthly CF'!DQ75","v":0},{"$f":"+'Monthly CF'!DR75","v":0},{"$f":"+'Monthly CF'!DS75","v":0},{"$f":"+'Monthly CF'!DT75","v":0},{"$f":"+'Monthly CF'!DU75","v":0}]
["Cash Flow Distribution","As Received",null,{"$f":"-IF(D13<0,0,IF($B$14=\"As Received\",D13,IF(D11=$B$59,D13+D15)))","v":-30912.007937189279},-30912.007937189279,-30912.007937189279,-26483.759459851237,-33773.759459851237,-33773.759459851237,-33773.759459851237,-31313.621416885653,-35363.621416885653,-35571.954750218996,-36592.788083552339,-30228.255009708708,-42812.505009708708,-42812.505009708708,-43236.171676375365,-40784.08071508423,-44421.813933577054,-51021.813933577054,-51021.813933577054,-52571.813933577083,-52571.813933577083,-52571.813933577083,-52571.813933577083,-53526.58905591954,-53526.58905591954,-53526.58905591954,-53526.58905591954,-53659.922389252883,-53659.922389252883,-53659.922389252883,-53659.922389252883,-53920.255722586226,-53920.255722586226,-53920.255722586226,-53920.255722586226,-53859.940765265652,-53859.940765265652,-53859.940765265652,-53859.940765265652,-53859.940765265652,-53859.940765265652,-53859.940765265652,-53859.940765265652,-53859.940765265652,-53859.940765265652,-53859.940765265652,-53859.940765265652,-53797.816359225442,-54714.483025892128,-54714.483025892128,-54714.483025892128,-54714.483025892128,-54714.483025892128,-54714.483025892128,-54714.483025892128,-54714.483025892128,-54714.483025892128,-54714.483025892128,-54714.483025892128,-54650.494887670706,-55400.494887670706,-55400.494887670706,-55400.494887670706,-55400.494887670706,{"$f":"-IF(BP13<0,0,IF($B$14=\"As Received\",BP13,IF(BP11=$B$59,BP13+BP15)))","v":-55400.494887670706},-55400.494887670706,-55400.494887670706,-55400.494887670706,-55400.494887670706,-55692.161554337392,-57162.161554337392,-57096.253771969365,-57429.253771969365,-57429.253771969365,-57429.253771969365,-57429.253771969365,-57429.253771969365,-57429.253771969365,-57429.253771969365,-57429.253771969365,-57429.253771969365,-57429.253771969365,-57429.253771969365,-8955841.2744540237,0,0,0,0,0,0,0,0,0,0,0,0,0,0,0,0,0,0,0,0,0,0,0,0,0,0,0,0,0,0,0,0,0,0,0,0]
["Undistributed Cash Balance",null,null,{"$f":"IF($B$14=\"As Received\",0,IF(D13>0,D13+C15+D14,0))","v":0},0,0,0,0,0,0,0,0,0,0,0,0,0,0,0,0,0,0,0,0,0,0,0,0,0,0,0,0,0,0,0,0,0,0,0,0,0,0,0,0,0,0,0,0,0,0,0,0,0,0,0,0,0,0,0,0,0,0,0,0,0,0,0,{"$f":"IF($B$14=\"As Received\",0,IF(BP13>0,BP13+BO15+BP14,0))","v":0},0,0,0,0,0,0,0,0,0,0,0,0,0,0,0,0,0,0,0,0,0,0,0,0,0,0,0,0,0,0,0,0,0,0,0,0,0,0,0,0,0,0,0,0,0,0,0,0,0,0,0,0,0,0,0]
["Leveraged IRR",{"$f":"((IF(ISERROR(IRR(C13:OFFSET(C13,,$B$59),0.01)),\"N/A\",(1+IRR(C13:OFFSET(C13,,$B$59),0.01))^$B$113-1))*1)","v":0.2201883134514413}]
[]
["EQUITY CONTRIBUTIONS","Contribution %",{"$f":"IF(C13>0,0,C13)","v":-4369999.9999999991},0,0,0,0,0,0,0,0,0,0,0,0,0,0,0,0,0,0,0,0,0,0,0,0,0,0,0,0,0,0,0,0,0,0,0,0,0,0,0,0,0,0,0,0,0,0,0,0,0,0,0,0,0,0,0,0,0,0,0,0,0,0,0,{"$f":"IF(BO13>0,0,BO13)","v":0},0,0,0,0,0,0,0,0,0,0,0,0,0,0,0,0,0,0,0,0,0,0,0,0,0,0,0,0,0,0,0,0,0,0,0,0,0,0,0,0,0,0,0,0,0,0,0,0,0,0,0,0,0,0,0,0]
["LP - Raised",0.7712,{"$f":"C$18*$B19","v":-3370143.9999999991},0,0,0,0,0,0,0,0,0,0,0,0,0,0,0,{"$f":"S$18*$B19","v":0},0,0,0,0,0,0,0,0,0,0,0,0,0,0,0,{"$f":"AI$18*$B19","v":0},0,0,0,0,0,0,0,0,0,0,0,0,0,0,0,{"$f":"AY$18*$B19","v":0},0,0,0,0,0,0,0,0,0,0,0,0,0,0,0,{"$f":"BO$18*$B19","v":0},0,0,0,0,0,0,0,0,0,0,0,0,0,0,0,{"$f":"CE$18*$B19","v":0},0,0,0,0,0,0,0,0,0,0,0,0,0,0,0,{"$f":"CU$18*$B19","v":0},0,0,0,0,0,0,0,0,0,0,0,0,0,0,0,{"$f":"DK$18*$B19","v":0},0,0,0,0,0,0,0,0]
["LP - Alan and Adam",0.2288,-999855.99999999977,0,0,0,0,0,0,0,0,0,0,0,0,0,0,0,0,0,0,0,0,0,0,0,0,0,0,0,0,0,0,0,0,0,0,0,0,0,0,0,0,0,0,0,0,0,0,0,0,0,0,0,0,0,0,0,0,0,0,0,0,0,0,0,0,0,0,0,0,0,0,0,0,0,0,0,0,0,0,0,0,0,0,0,0,0,0,0,0,0,0,0,0,0,0,0,0,0,0,0,0,0,0,0,0,0,0,0,0,0,0,0,0,0,0,0,0,0,0,0,0]
["GP",0,0,0,0,0,0,0,0,0,0,0,0,0,0,0,0,0,0,0,0,0,0,0,0,0,0,0,0,0,0,0,0,0,0,0,0,0,0,0,0,0,0,0,0,0,0,0,0,0,0,0,0,0,0,0,0,0,0,0,0,0,0,0,0,0,0,0,0,0,0,0,0,0,0,0,0,0,0,0,0,0,0,0,0,0,0,0,0,0,0,0,0,0,0,0,0,0,0,0,0,0,0,0,0,0,0,0,0,0,0,0,0,0,0,0,0,0,0,0,0,0,0]
["Total",null,{"$f":"SUM(C19:C21)","v":-4369999.9999999991},0,0,0,0,0,0,0,0,0,0,0,0,0,0,0,0,0,0,0,0,0,0,0,0,0,0,0,0,0,0,0,0,0,0,0,0,0,0,0,0,0,0,0,0,0,0,0,0,0,0,0,0,0,0,0,0,0,0,0,0,0,0,0,{"$f":"SUM(BO19:BO21)","v":0},0,0,0,0,0,0,0,0,0,0,0,0,0,0,0,0,0,0,0,0,0,0,0,0,0,0,0,0,0,0,0,0,0,0,0,0,0,0,0,0,0,0,0,0,0,0,0,0,0,0,0,0,0,0,0,0]
[]
["Assumptions",null,"Equity In","Tier 1","Tier 2","Tier 3","Residual",null,"Equity Out","Multiple","True Equity Out","True Multiple","IRR"]
["All Equity",null,{"$f":"SUM(C26:C28)","v":-4369999.9999999991},null,null,null,null,null,{"$f":"SUM(I26:I28)","v":13173181.341475438},{"$f":"IF(C25=0,0,I25/(-C25))","v":3.0144579728776755},{"$f":"I25","v":13173181.341475438},{"$f":"J25","v":3.0144579728776755},{"$f":"B92","v":0.2201883134514413}]
[{"$f":"A19","v":"LP - Raised"},null,{"$f":"SUM(C19:OFFSET(C19,,$B$59))","v":-3370143.9999999991},{"$f":"+$B$19*(100%-D28)","v":0.3856},{"$f":"+$B$19*(100%-E28)","v":0.3856},{"$f":"+$B$19*(100%-F28)","v":0.3856},{"$f":"+$B$19*(100%-G28)","v":0.3856},null,{"$f":"SUM(C59:OFFSET(C59,4,$B$59))","v":6764650.7252729293},{"$f":"IF(C26=0,0,I26/(-C26))","v":2.0072289864388382},{"$f":"IF(J26<$B$7, $I26+MIN($I$28*$B19,(-$B$7*$C26)-$I26),$I26)","v":6764650.7252729293},{"$f":"K26/-C26","v":2.0072289864388382},{"$f":"B65","v":0.14594303425646338}]
[{"$f":"A20","v":"LP - Alan and Adam"},null,{"$f":"SUM(C20:OFFSET(C20,,$B$59))","v":-999855.99999999977},{"$f":"+$B$20*(100%-D28)","v":0.1144},{"$f":"+$B$20*(100%-E28)","v":0.1144},{"$f":"+$B$20*(100%-F28)","v":0.1144},{"$f":"+$B$20*(100%-G28)","v":0.1144},null,{"$f":"SUM(C69:OFFSET(C69,4,$B$59))","v":2006939.9454647901},{"$f":"IF(C27=0,0,I27/(-C27))","v":2.0072289864388377},{"$f":"IF(J27<B7, $I27+MIN($I$28*$B20,$B$7*-$C27-$I27),$I27)","v":2006939.9454647901},{"$f":"K27/-C27","v":2.0072289864388377},{"$f":"B75","v":0.14594303425646338}]
[{"$f":"A21","v":"GP"},null,{"$f":"SUM(C21:OFFSET(C21,,$B$59))","v":0},0.5,0.5,0.5,0.5,null,{"$f":"SUM(C79:OFFSET(C79,4,$B$59))","v":4401590.6707377201},null,{"$f":"K25-K26-K27","v":4401590.6707377192},null,{"$f":"B85","v":"N/A"}]
["Hurdle Rate",null,null,0,0,0,0,null,{"$f":"I27+I28","v":6408530.61620251}]
[null,null,null,null,null,null,null,null,{"$f":"((I28*1)*0.4166667)","v":1833996.2595270723}]
[{"$f":"A11","v":"Month"},null,{"$f":"C11","v":0},1,2,3,4,5,6,7,8,9,10,11,12,13,14,15,16,17,18,19,20,21,22,23,24,25,26,27,28,29,30,31,32,33,34,35,36,37,38,39,40,41,42,43,44,45,46,47,48,49,50,51,52,53,54,55,56,57,58,59,60,61,62,63,{"$f":"BO11","v":64},65,66,67,68,69,70,71,72,73,74,75,76,77,78,79,80,81,82,83,84,85,86,87,88,89,90,91,92,93,94,95,96,97,98,99,100,101,102,103,104,105,106,107,108,109,110,111,112,113,114,115,116,117,118,119,120]
["Contribution"]
[{"$f":"A26","v":"LP - Raised"},null,{"$f":"C19","v":-3370143.9999999991},0,0,0,0,0,0,0,0,0,0,0,0,0,0,0,0,0,0,0,0,0,0,0,0,0,0,0,0,0,0,0,0,0,0,0,0,0,0,0,0,0,0,0,0,0,0,0,0,0,0,0,0,0,0,0,0,0,0,0,0,0,0,0,{"$f":"BO19","v":0},0,0,0,0,0,0,0,0,0,0,0,0,0,0,0,0,0,0,0,0,0,0,0,0,0,0,0,0,0,0,0,0,0,0,0,0,0,0,0,0,0,0,0,0,0,0,0,0,0,0,0,0,0,0,0,0]
[{"$f":"A27","v":"LP - Alan and Adam"},null,-999855.99999999977,0,0,0,0,0,0,0,0,0,0,0,0,0,0,0,0,0,0,0,0,0,0,0,0,0,0,0,0,0,0,0,0,0,0,0,0,0,0,0,0,0,0,0,0,0,0,0,0,0,0,0,0,0,0,0,0,0,0,0,0,0,0,0,0,0,0,0,0,0,0,0,0,0,0,0,0,0,0,0,0,0,0,0,0,0,0,0,0,0,0,0,0,0,0,0,0,0,0,0,0,0,0,0,0,0,0,0,0,0,0,0,0,0,0,0,0,0,0,0,0]
[{"$f":"A28","v":"GP"},null,0,0,0,0,0,0,0,0,0,0,0,0,0,0,0,0,0,0,0,0,0,0,0,0,0,0,0,0,0,0,0,0,0,0,0,0,0,0,0,0,0,0,0,0,0,0,0,0,0,0,0,0,0,0,0,0,0,0,0,0,0,0,0,0,0,0,0,0,0,0,0,0,0,0,0,0,0,0,0,0,0,0,0,0,0,0,0,0,0,0,0,0,0,0,0,0,0,0,0,0,0,0,0,0,0,0,0,0,0,0,0,0,0,0,0,0,0,0,0,0,0]
[]
["Calculation of Hurdles"]
["Tier 1 Preferred Return",{"$f":"B113*((C38+1)^(1/B113)-1)","v":0},{"$f":"D29","v":0},"Effective Annual Rate"]
[{"$f":"A33","v":"LP - Raised"},{"$f":"D26","v":0.3856},{"$f":"-C33","v":3370143.9999999991},{"$f":"MAX(0,-D33+(C39-C59-C60-C61-C62-C63)*(1+IF(D31<=$B$117,$C$116,$B$38)/$B$113))","v":3370143.9999999991},3346304.6594788386,3322465.318957678,3298625.9784365175,3278201.7031410802,3252155.379845643,3226109.0565502057,3200062.7332547684,3175913.6684180661,3148641.2435813639,3121208.1520779952,3092987.7939079595,3069675.7636444722,3036658.7597809848,3003641.7559174974,2970298.0203206767,2938845.3372732038,2904587.234367629,2865239.2114620544,2825891.1885564798,2785347.8056509052,2744804.4227453307,2704261.0398397562,2663717.6569341817,2622437.9514542567,2581158.2459743316,2539878.5404944066,2498598.8350144816,2457216.3028678899,2415833.7707212982,2374451.2385747065,2333068.7064281148,2291485.4052148564,2249902.104001598,2208318.8027883396,2166735.5015750811,2125198.7152569084,2083661.9289387355,2042125.1426205626,2000588.3563023896,1959051.5699842167,1917514.7836660438,1875977.9973478708,1834441.2110296979,1792904.424711525,1751367.638393352,1709830.8520751791,1668294.0657570062,1626805.1897807715,1584609.3804712035,1542413.5711616355,1500217.7618520674,1458021.9525424994,1415826.1432329314,1373630.3339233634,1331434.5246137953,1289238.7153042273,1247042.9059946593,1204847.0966850913,1162651.2873755232,1120504.8257181516,1077779.9640607799,1035055.1024034083,992330.24074603664,{"$f":"MAX(0,-BP33+(BO39-BO59-BO60-BO61-BO62-BO63)*(1+IF(BP31<=$B$117,$C$116,$B$38)/$B$113))","v":949605.37908866501},906880.51743129338,864155.65577392175,821430.79411655013,778705.9324591785,735981.07080180687,693031.27581110189,648947.81682039693,604915.18591145414,560625.74540251133,516336.30489356857,472046.86438462581,427757.42387568305,383467.98336674029,339178.54285779753,294889.10234885477,250599.66183991201,206310.22133096925,162020.78082202649,117731.34031308371,0,0,0,0,0,0,0,0,0,0,0,0,0,0,0,0,0,0,0,0,0,0,0,0,0,0,0,0,0,0,0,0,0,0,0,0]
[{"$f":"A34","v":"LP - Alan and Adam"},{"$f":"D27","v":0.1144},{"$f":"-C34","v":999855.99999999977},{"$f":"MAX(0,-D34+(C40-C69-C70-C71-C72-C73)*(1+IF(D31<=$B$117,$C$116,0)/$B$113))","v":999855.99999999977},992783.33258397086,985710.66516794194,978637.99775191303,972578.51358749904,964851.07742308511,957123.64125867118,949396.20509425725,942231.64851407381,934140.45193389035,926001.58868704026,917629.15877352352,910712.9340273022,900917.43288108089,891121.93173485959,881229.49565530487,871898.09798769362,861734.38695969118,850060.59593168879,838386.8049036864,826358.37387568399,814329.94284768158,802301.51181967917,790273.08079167677,778026.19721568236,765779.31363968796,753532.43006369355,741285.54648769915,729008.15624503803,716730.76600237691,704453.3757597158,692175.98551705468,679839.03100772691,667502.07649839914,655165.12198907137,642828.1674797436,630505.01303265081,618181.85858555802,605858.70413846523,593535.54969137243,581212.39524427964,568889.24079718685,556566.08635009406,544242.93190300127,531919.77745590848,519596.62300881569,507273.4685617229,494950.31411463011,482641.37373163935,470122.7000153152,457604.02629899106,445085.35258266691,432566.67886634276,420048.00515001861,407529.33143369446,395010.65771737031,382491.98400104616,369973.31028472201,357454.63656839787,344935.96285207372,332431.92962177465,319756.2963914756,307080.66316117655,294405.0299308775,{"$f":"MAX(0,-BP34+(BO40-BO69-BO70-BO71-BO72-BO73)*(1+IF(BP31<=$B$117,$C$116,0)/$B$113))","v":281729.39670057845},269053.7634702794,256378.13023998035,243702.4970096813,231026.86377938226,218351.23054908321,205608.86398545082,192530.16142181843,179466.53855879183,166326.72529576524,153186.91203273865,140047.09876971206,126907.28550668547,113767.47224365888,100627.65898063229,87487.845717605698,74348.032454579108,61208.219191552518,48068.405928525928,34928.592665499338,0,0,0,0,0,0,0,0,0,0,0,0,0,0,0,0,0,0,0,0,0,0,0,0,0,0,0,0,0,0,0,0,0,0,0,0]
[{"$f":"A35","v":"GP"},{"$f":"D28","v":0.5},{"$f":"-C35","v":0},{"$f":"MAX(0,-D35+(C41-C79-C80-C81-C82-C83)*(1+IF(D31<=$B$117,$C$116,$B$38)/$B$113))","v":0},0,0,0,0,0,0,0,0,0,0,0,0,0,0,0,0,0,0,0,0,0,0,0,0,0,0,0,0,0,0,0,0,0,0,0,0,0,0,0,0,0,0,0,0,0,0,0,0,0,0,0,0,0,0,0,0,0,0,0,0,0,0,0,{"$f":"MAX(0,-BP35+(BO41-BO79-BO80-BO81-BO82-BO83)*(1+IF(BP31<=$B$117,$C$116,$B$38)/$B$113))","v":0},0,0,0,0,0,0,0,0,0,0,0,0,0,0,0,0,0,0,0,0,0,0,0,0,0,0,0,0,0,0,0,0,0,0,0,0,0,0,0,0,0,0,0,0,0,0,0,0,0,0,0,0,0,0,0]
["Tier 1 Breakpoint",null,{"$f":"MAX(IF($B$39=0,0,(C39-C59)/$B$39),IF($B$40=0,0,(C40-C69)/$B$40),IF($B$41=0,0,(C41-C79)/$B$41))","v":8739999.9999999981},8678175.9841256198,8616351.9682512414,8554527.9523768611,8501560.4334571585,8434012.9145374577,8366465.3956177551,8298917.8766980525,8236290.6338642817,8165563.39103051,8094419.4815300722,8021233.9053629674,7960777.3953435505,7875152.3853241336,7789527.3753047166,7703055.0319519658,7621486.8705217969,7532643.242654643,7430599.6147874892,7328555.9869203353,7223412.3590531815,7118268.7311860276,7013125.1033188738,6907981.4754517199,6800928.2973398808,6693875.1192280417,6586821.9411162026,6479768.7630043635,6372448.9182258565,6265129.0734473504,6157809.2286688443,6050489.3838903392,5942648.872445167,5834808.3609999949,5726967.8495548228,5619127.3381096506,5511407.456579119,5403687.5750485882,5295967.6935180565,5188247.8119875249,5080527.9304569932,4972808.0489264624,4865088.1673959307,4757368.2858653991,4649648.4043348674,4541928.5228043366,4434208.6412738049,4326488.7597432733,4218893.1270248219,4109464.1609730381,4000035.1949212537,3890606.2288694694,3781177.262817685,3671748.2967659007,3562319.3307141168,3452890.3646623325,3343461.3986105481,3234032.4325587638,3124603.4665069794,3015174.5004551951,2905873.5106798536,2795072.5209045121,2684271.5311291707,2573470.5413538297,{"$f":"MAX(IF($B$39=0,0,(BO39-BO59)/$B$39),IF($B$40=0,0,(BO40-BO69)/$B$40),IF($B$41=0,0,(BO41-BO79)/$B$41))","v":2462669.5515784882},2351868.5618031467,2241067.5720278053,2130266.5822524643,2019465.5924771226,1908664.6027017813,1797280.2795931066,1682955.9564844319,1568763.4489404932,1453904.9413965542,1339046.4338526155,1224187.9263086768,1109329.4187647381,994470.91122079955,879612.40367686085,764753.89613292215,649895.38858898345,535036.88104504475,420178.37350110605,305319.86595716729,0,0,0,0,0,0,0,0,0,0,0,0,0,0,0,0,0,0,0,0,0,0,0,0,0,0,0,0,0,0,0,0,0,0,0,0,0]
[]
["Tier 2 Preferred Return",{"$f":"B113*((C44+1)^(1/B113)-1)","v":0},{"$f":"E29","v":0},{"$f":"D38","v":"Effective Annual Rate"}]
[{"$f":"A39","v":"LP - Raised"},{"$f":"E26","v":0.3856},{"$f":"-C33","v":3370143.9999999991},{"$f":"MAX(0,-D33+(C45-C59-C60-C61-C62-C63)*(1+$B$44/$B$113))","v":3370143.9999999991},3346304.6594788386,3322465.318957678,3298625.9784365175,3278201.7031410802,3252155.379845643,3226109.0565502057,3200062.7332547684,3175913.6684180661,3148641.2435813639,3121208.1520779952,3092987.7939079595,3069675.7636444722,3036658.7597809848,3003641.7559174974,2970298.0203206767,2938845.3372732038,2904587.234367629,2865239.2114620544,2825891.1885564798,2785347.8056509052,2744804.4227453307,2704261.0398397562,2663717.6569341817,2622437.9514542567,2581158.2459743316,2539878.5404944066,2498598.8350144816,2457216.3028678899,2415833.7707212982,2374451.2385747065,2333068.7064281148,2291485.4052148564,2249902.104001598,2208318.8027883396,2166735.5015750811,2125198.7152569084,2083661.9289387355,2042125.1426205626,2000588.3563023896,1959051.5699842167,1917514.7836660438,1875977.9973478708,1834441.2110296979,1792904.424711525,1751367.638393352,1709830.8520751791,1668294.0657570062,1626805.1897807715,1584609.3804712035,1542413.5711616355,1500217.7618520674,1458021.9525424994,1415826.1432329314,1373630.3339233634,1331434.5246137953,1289238.7153042273,1247042.9059946593,1204847.0966850913,1162651.2873755232,1120504.8257181516,1077779.9640607799,1035055.1024034083,992330.24074603664,{"$f":"MAX(0,-BP33+(BO45-BO59-BO60-BO61-BO62-BO63)*(1+$B$44/$B$113))","v":949605.37908866501},906880.51743129338,864155.65577392175,821430.79411655013,778705.9324591785,735981.07080180687,693031.27581110189,648947.81682039693,604915.18591145414,560625.74540251133,516336.30489356857,472046.86438462581,427757.42387568305,383467.98336674029,339178.54285779753,294889.10234885477,250599.66183991201,206310.22133096925,162020.78082202649,117731.34031308371,0,0,0,0,0,0,0,0,0,0,0,0,0,0,0,0,0,0,0,0,0,0,0,0,0,0,0,0,0,0,0,0,0,0,0,0]
[{"$f":"A40","v":"LP - Alan and Adam"},{"$f":"E27","v":0.1144},{"$f":"-C34","v":999855.99999999977},{"$f":"MAX(0,-D34+(C46-C69-C70-C71-C72-C73)*(1+$B$44/$B$113))","v":999855.99999999977},992783.33258397086,985710.66516794194,978637.99775191303,972578.51358749904,964851.07742308511,957123.64125867118,949396.20509425725,942231.64851407381,934140.45193389035,926001.58868704026,917629.15877352352,910712.9340273022,900917.43288108089,891121.93173485959,881229.49565530487,871898.09798769362,861734.38695969118,850060.59593168879,838386.8049036864,826358.37387568399,814329.94284768158,802301.51181967917,790273.08079167677,778026.19721568236,765779.31363968796,753532.43006369355,741285.54648769915,729008.15624503803,716730.76600237691,704453.3757597158,692175.98551705468,679839.03100772691,667502.07649839914,655165.12198907137,642828.1674797436,630505.01303265081,618181.85858555802,605858.70413846523,593535.54969137243,581212.39524427964,568889.24079718685,556566.08635009406,544242.93190300127,531919.77745590848,519596.62300881569,507273.4685617229,494950.31411463011,482641.37373163935,470122.7000153152,457604.02629899106,445085.35258266691,432566.67886634276,420048.00515001861,407529.33143369446,395010.65771737031,382491.98400104616,369973.31028472201,357454.63656839787,344935.96285207372,332431.92962177465,319756.2963914756,307080.66316117655,294405.0299308775,{"$f":"MAX(0,-BP34+(BO46-BO69-BO70-BO71-BO72-BO73)*(1+$B$44/$B$113))","v":281729.39670057845},269053.7634702794,256378.13023998035,243702.4970096813,231026.86377938226,218351.23054908321,205608.86398545082,192530.16142181843,179466.53855879183,166326.72529576524,153186.91203273865,140047.09876971206,126907.28550668547,113767.47224365888,100627.65898063229,87487.845717605698,74348.032454579108,61208.219191552518,48068.405928525928,34928.592665499338,0,0,0,0,0,0,0,0,0,0,0,0,0,0,0,0,0,0,0,0,0,0,0,0,0,0,0,0,0,0,0,0,0,0,0,0]
[{"$f":"A41","v":"GP"},{"$f":"E28","v":0.5},{"$f":"-C35","v":0},null,{"$f":"MAX(0,-E35+(D47-D79-D80-D81-D82-D83)*(1+$B$44/$B$113))","v":0},0,0,0,0,0,0,0,0,0,0,0,0,0,0,0,0,0,0,0,0,0,0,0,0,0,0,0,0,0,0,0,0,0,0,0,0,0,0,0,0,0,0,0,0,0,0,0,0,0,0,0,0,0,0,0,0,0,0,0,0,0,0,0,{"$f":"MAX(0,-BQ35+(BP47-BP79-BP80-BP81-BP82-BP83)*(1+$B$44/$B$113))","v":0},0,0,0,0,0,0,0,0,0,0,0,0,0,0,0,0,0,0,0,0,0,0,0,0,0,0,0,0,0,0,0,0,0,0,0,0,0,0,0,0,0,0,0,0,0,0,0,0,0,0,0,0,0,0]
["Tier 2 Breakpoint",null,{"$f":"MAX(IF($B45=0,0,(C45-C59-C60)/$B45),IF($B46=0,0,(C46-C69-C70)/$B46),IF($B47=0,0,(C47-C79-C80)/$B47))","v":8739999.9999999981},{"$f":"MAX(IF($B45=0,0,(D45-D59-D60)/$B45),IF($B46=0,0,(D46-D69-D70)/$B46),IF($B47=0,0,(D47-D79-D80)/$B47))","v":8678175.9841256198},{"$f":"MAX(IF($B45=0,0,(E45-E59-E60)/$B45),IF($B46=0,0,(E46-E69-E70)/$B46),IF($B47=0,0,(E47-E79-E80)/$B47))","v":8616351.9682512414},8554527.9523768611,8501560.4334571585,8434012.9145374577,8366465.3956177551,8298917.8766980525,8236290.6338642817,8165563.39103051,8094419.4815300722,8021233.9053629674,7960777.3953435505,7875152.3853241336,7789527.3753047166,7703055.0319519658,7621486.8705217969,7532643.242654643,7430599.6147874892,7328555.9869203353,7223412.3590531815,7118268.7311860276,7013125.1033188738,6907981.4754517199,6800928.2973398808,6693875.1192280417,6586821.9411162026,6479768.7630043635,6372448.9182258565,6265129.0734473504,6157809.2286688443,6050489.3838903392,5942648.872445167,5834808.3609999949,5726967.8495548228,5619127.3381096506,5511407.456579119,5403687.5750485882,5295967.6935180565,5188247.8119875249,5080527.9304569932,4972808.0489264624,4865088.1673959307,4757368.2858653991,4649648.4043348674,4541928.5228043366,4434208.6412738049,4326488.7597432733,4218893.1270248219,4109464.1609730381,4000035.1949212537,3890606.2288694694,3781177.262817685,3671748.2967659007,3562319.3307141168,3452890.3646623325,3343461.3986105481,3234032.4325587638,3124603.4665069794,3015174.5004551951,2905873.5106798536,2795072.5209045121,2684271.5311291707,2573470.5413538297,2462669.5515784882,2351868.5618031467,{"$f":"MAX(IF($B45=0,0,(BQ45-BQ59-BQ60)/$B45),IF($B46=0,0,(BQ46-BQ69-BQ70)/$B46),IF($B47=0,0,(BQ47-BQ79-BQ80)/$B47))","v":2241067.5720278053},2130266.5822524643,2019465.5924771226,1908664.6027017813,1797280.2795931066,1682955.9564844319,1568763.4489404932,1453904.9413965542,1339046.4338526155,1224187.9263086768,1109329.4187647381,994470.91122079955,879612.40367686085,764753.89613292215,649895.38858898345,535036.88104504475,420178.37350110605,305319.86595716729,0,0,0,0,0,0,0,0,0,0,0,0,0,0,0,0,0,0,0,0,0,0,0,0,0,0,0,0,0,0,0,0,0,0,0,0,0]
[]
["Tier 3 Preferred Return",{"$f":"B113*((C50+1)^(1/B113)-1)","v":0},{"$f":"F29","v":0},{"$f":"D44","v":"Effective Annual Rate"}]
[{"$f":"A45","v":"LP - Raised"},{"$f":"F26","v":0.3856},{"$f":"-C33","v":3370143.9999999991},{"$f":"MAX(0,-D33+(C51-C59-C60-C61-C62-C63)*(1+$B$50/$B$113))","v":3370143.9999999991},3346304.6594788386,3322465.318957678,3298625.9784365175,3278201.7031410802,3252155.379845643,3226109.0565502057,3200062.7332547684,3175913.6684180661,3148641.2435813639,3121208.1520779952,3092987.7939079595,3069675.7636444722,3036658.7597809848,3003641.7559174974,2970298.0203206767,2938845.3372732038,2904587.234367629,2865239.2114620544,2825891.1885564798,2785347.8056509052,2744804.4227453307,2704261.0398397562,2663717.6569341817,2622437.9514542567,2581158.2459743316,2539878.5404944066,2498598.8350144816,2457216.3028678899,2415833.7707212982,2374451.2385747065,2333068.7064281148,2291485.4052148564,2249902.104001598,2208318.8027883396,2166735.5015750811,2125198.7152569084,2083661.9289387355,2042125.1426205626,2000588.3563023896,1959051.5699842167,1917514.7836660438,1875977.9973478708,1834441.2110296979,1792904.424711525,1751367.638393352,1709830.8520751791,1668294.0657570062,1626805.1897807715,1584609.3804712035,1542413.5711616355,1500217.7618520674,1458021.9525424994,1415826.1432329314,1373630.3339233634,1331434.5246137953,1289238.7153042273,1247042.9059946593,1204847.0966850913,1162651.2873755232,1120504.8257181516,1077779.9640607799,1035055.1024034083,992330.24074603664,{"$f":"MAX(0,-BP33+(BO51-BO59-BO60-BO61-BO62-BO63)*(1+$B$50/$B$113))","v":949605.37908866501},906880.51743129338,864155.65577392175,821430.79411655013,778705.9324591785,735981.07080180687,693031.27581110189,648947.81682039693,604915.18591145414,560625.74540251133,516336.30489356857,472046.86438462581,427757.42387568305,383467.98336674029,339178.54285779753,294889.10234885477,250599.66183991201,206310.22133096925,162020.78082202649,117731.34031308371,0,0,0,0,0,0,0,0,0,0,0,0,0,0,0,0,0,0,0,0,0,0,0,0,0,0,0,0,0,0,0,0,0,0,0,0]
[{"$f":"A46","v":"LP - Alan and Adam"},{"$f":"F27","v":0.1144},{"$f":"-C34","v":999855.99999999977},{"$f":"MAX(0,-D34+(C52-C69-C70-C71-C72-C73)*(1+$B$50/$B$113))","v":999855.99999999977},992783.33258397086,985710.66516794194,978637.99775191303,972578.51358749904,964851.07742308511,957123.64125867118,949396.20509425725,942231.64851407381,934140.45193389035,926001.58868704026,917629.15877352352,910712.9340273022,900917.43288108089,891121.93173485959,881229.49565530487,871898.09798769362,861734.38695969118,850060.59593168879,838386.8049036864,826358.37387568399,814329.94284768158,802301.51181967917,790273.08079167677,778026.19721568236,765779.31363968796,753532.43006369355,741285.54648769915,729008.15624503803,716730.76600237691,704453.3757597158,692175.98551705468,679839.03100772691,667502.07649839914,655165.12198907137,642828.1674797436,630505.01303265081,618181.85858555802,605858.70413846523,593535.54969137243,581212.39524427964,568889.24079718685,556566.08635009406,544242.93190300127,531919.77745590848,519596.62300881569,507273.4685617229,494950.31411463011,482641.37373163935,470122.7000153152,457604.02629899106,445085.35258266691,432566.67886634276,420048.00515001861,407529.33143369446,395010.65771737031,382491.98400104616,369973.31028472201,357454.63656839787,344935.96285207372,332431.92962177465,319756.2963914756,307080.66316117655,294405.0299308775,{"$f":"MAX(0,-BP34+(BO52-BO69-BO70-BO71-BO72-BO73)*(1+$B$50/$B$113))","v":281729.39670057845},269053.7634702794,256378.13023998035,243702.4970096813,231026.86377938226,218351.23054908321,205608.86398545082,192530.16142181843,179466.53855879183,166326.72529576524,153186.91203273865,140047.09876971206,126907.28550668547,113767.47224365888,100627.65898063229,87487.845717605698,74348.032454579108,61208.219191552518,48068.405928525928,34928.592665499338,0,0,0,0,0,0,0,0,0,0,0,0,0,0,0,0,0,0,0,0,0,0,0,0,0,0,0,0,0,0,0,0,0,0,0,0]
[{"$f":"A47","v":"GP"},{"$f":"F28","v":0.5},{"$f":"-C35","v":0},{"$f":"MAX(0,-D35+(C53-C79-C80-C81-C82-C83)*(1+$B$50/$B$113))","v":0},0,0,0,0,0,0,0,0,0,0,0,0,0,0,0,0,0,0,0,0,0,0,0,0,0,0,0,0,0,0,0,0,0,0,0,0,0,0,0,0,0,0,0,0,0,0,0,0,0,0,0,0,0,0,0,0,0,0,0,0,0,0,0,{"$f":"MAX(0,-BP35+(BO53-BO79-BO80-BO81-BO82-BO83)*(1+$B$50/$B$113))","v":0},0,0,0,0,0,0,0,0,0,0,0,0,0,0,0,0,0,0,0,0,0,0,0,0,0,0,0,0,0,0,0,0,0,0,0,0,0,0,0,0,0,0,0,0,0,0,0,0,0,0,0,0,0,0,0]
["Tier 2 Breakpoint",null,{"$f":"MAX(IF($B51=0,0,(C51-C59-C60-C61)/$B51),IF($B52=0,0,(C52-C69-C70-C71)/$B52),IF($B53=0,0,(C53-C79-C80-C81)/$B53))","v":8739999.9999999981},8678175.9841256198,8616351.9682512414,8554527.9523768611,8501560.4334571585,8434012.9145374577,8366465.3956177551,8298917.8766980525,8236290.6338642817,8165563.39103051,8094419.4815300722,8021233.9053629674,7960777.3953435505,7875152.3853241336,7789527.3753047166,7703055.0319519658,7621486.8705217969,7532643.242654643,7430599.6147874892,7328555.9869203353,7223412.3590531815,7118268.7311860276,7013125.1033188738,6907981.4754517199,6800928.2973398808,6693875.1192280417,6586821.9411162026,6479768.7630043635,6372448.9182258565,6265129.0734473504,6157809.2286688443,6050489.3838903392,5942648.872445167,5834808.3609999949,5726967.8495548228,5619127.3381096506,5511407.456579119,5403687.5750485882,5295967.6935180565,5188247.8119875249,5080527.9304569932,4972808.0489264624,4865088.1673959307,4757368.2858653991,4649648.4043348674,4541928.5228043366,4434208.6412738049,4326488.7597432733,4218893.1270248219,4109464.1609730381,4000035.1949212537,3890606.2288694694,3781177.262817685,3671748.2967659007,3562319.3307141168,3452890.3646623325,3343461.3986105481,3234032.4325587638,3124603.4665069794,3015174.5004551951,2905873.5106798536,2795072.5209045121,2684271.5311291707,2573470.5413538297,{"$f":"MAX(IF($B51=0,0,(BO51-BO59-BO60-BO61)/$B51),IF($B52=0,0,(BO52-BO69-BO70-BO71)/$B52),IF($B53=0,0,(BO53-BO79-BO80-BO81)/$B53))","v":2462669.5515784882},2351868.5618031467,2241067.5720278053,2130266.5822524643,2019465.5924771226,1908664.6027017813,1797280.2795931066,1682955.9564844319,1568763.4489404932,1453904.9413965542,1339046.4338526155,1224187.9263086768,1109329.4187647381,994470.91122079955,879612.40367686085,764753.89613292215,649895.38858898345,535036.88104504475,420178.37350110605,305319.86595716729,0,0,0,0,0,0,0,0,0,0,0,0,0,0,0,0,0,0,0,0,0,0,0,0,0,0,0,0,0,0,0,0,0,0,0,0,0]
[]
["Net Cash Flows"]
[{"$f":"A26&\" Cash Flows\"","v":"LP - Raised Cash Flows"}]
["Contributions",null,{"$f":"C33","v":-3370143.9999999991},0,0,0,0,0,0,0,0,0,0,0,0,0,0,0,0,0,0,0,0,0,0,0,0,0,0,0,0,0,0,0,0,0,0,0,0,0,0,0,0,0,0,0,0,0,0,0,0,0,0,0,0,0,0,0,0,0,0,0,0,0,0,0,{"$f":"BO33","v":0},0,0,0,0,0,0,0,0,0,0,0,0,0,0,0,0,0,0,0,0,0,0,0,0,0,0,0,0,0,0,0,0,0,0,0,0,0,0,0,0,0,0,0,0,0,0,0,0,0,0,0,0,0,0,0,0]
["Return of Equity",84,{"$f":"IF($B$14=\"As Received\",-C$14*$B$19,IF($B59=C$31,-SUM($C58:C58),0))","v":0},{"$f":"IF($B$14=\"As Received\",MIN(-D$14*$B$19,-SUM($C58:D58)-SUM($C$59:C59)),IF($B59=D$31,-SUM($C58:D58),0))","v":23839.340521160371},{"$f":"IF($B$14=\"As Received\",MIN(-E$14*$B$19,-SUM($C58:E58)-SUM($C$59:D59)),IF($B59=E$31,-SUM($C58:E58),0))","v":23839.340521160371},{"$f":"IF($B$14=\"As Received\",MIN(-F$14*$B$19,-SUM($C58:F58)-SUM($C$59:E59)),IF($B59=F$31,-SUM($C58:F58),0))","v":23839.340521160371},{"$f":"IF($B$14=\"As Received\",MIN(-G$14*$B$19,-SUM($C58:G58)-SUM($C$59:F59)),IF($B59=G$31,-SUM($C58:G58),0))","v":20424.275295437274},{"$f":"IF($B$14=\"As Received\",MIN(-H$14*$B$19,-SUM($C58:H58)-SUM($C$59:G59)),IF($B59=H$31,-SUM($C58:H58),0))","v":26046.323295437272},{"$f":"IF($B$14=\"As Received\",MIN(-I$14*$B$19,-SUM($C58:I58)-SUM($C$59:H59)),IF($B59=I$31,-SUM($C58:I58),0))","v":26046.323295437272},{"$f":"IF($B$14=\"As Received\",MIN(-J$14*$B$19,-SUM($C58:J58)-SUM($C$59:I59)),IF($B59=J$31,-SUM($C58:J58),0))","v":26046.323295437272},{"$f":"IF($B$14=\"As Received\",MIN(-K$14*$B$19,-SUM($C58:K58)-SUM($C$59:J59)),IF($B59=K$31,-SUM($C58:K58),0))","v":24149.064836702215},{"$f":"IF($B$14=\"As Received\",MIN(-L$14*$B$19,-SUM($C58:L58)-SUM($C$59:K59)),IF($B59=L$31,-SUM($C58:L58),0))","v":27272.424836702216},{"$f":"IF($B$14=\"As Received\",MIN(-M$14*$B$19,-SUM($C58:M58)-SUM($C$59:L59)),IF($B59=M$31,-SUM($C58:M58),0))","v":27433.091503368891},{"$f":"IF($B$14=\"As Received\",MIN(-N$14*$B$19,-SUM($C58:N58)-SUM($C$59:M59)),IF($B59=N$31,-SUM($C58:N58),0))","v":28220.358170035564},{"$f":"IF($B$14=\"As Received\",MIN(-O$14*$B$19,-SUM($C58:O58)-SUM($C$59:N59)),IF($B59=O$31,-SUM($C58:O58),0))","v":23312.030263487355},{"$f":"IF($B$14=\"As Received\",MIN(-P$14*$B$19,-SUM($C58:P58)-SUM($C$59:O59)),IF($B59=P$31,-SUM($C58:P58),0))","v":33017.003863487356},{"$f":"IF($B$14=\"As Received\",MIN(-Q$14*$B$19,-SUM($C58:Q58)-SUM($C$59:P59)),IF($B59=Q$31,-SUM($C58:Q58),0))","v":33017.003863487356},{"$f":"IF($B$14=\"As Received\",MIN(-R$14*$B$19,-SUM($C58:R58)-SUM($C$59:Q59)),IF($B59=R$31,-SUM($C58:R58),0))","v":33343.735596820683},{"$f":"IF($B$14=\"As Received\",MIN(-S$14*$B$19,-SUM($C58:S58)-SUM($C$59:R59)),IF($B59=S$31,-SUM($C58:S58),0))","v":31452.683047472958},{"$f":"IF($B$14=\"As Received\",MIN(-T$14*$B$19,-SUM($C58:T58)-SUM($C$59:S59)),IF($B59=T$31,-SUM($C58:T58),0))","v":34258.102905574626},{"$f":"IF($B$14=\"As Received\",MIN(-U$14*$B$19,-SUM($C58:U58)-SUM($C$59:T59)),IF($B59=U$31,-SUM($C58:U58),0))","v":39348.022905574624},{"$f":"IF($B$14=\"As Received\",MIN(-V$14*$B$19,-SUM($C58:V58)-SUM($C$59:U59)),IF($B59=V$31,-SUM($C58:V58),0))","v":39348.022905574624},{"$f":"IF($B$14=\"As Received\",MIN(-W$14*$B$19,-SUM($C58:W58)-SUM($C$59:V59)),IF($B59=W$31,-SUM($C58:W58),0))","v":40543.382905574646},{"$f":"IF($B$14=\"As Received\",MIN(-X$14*$B$19,-SUM($C58:X58)-SUM($C$59:W59)),IF($B59=X$31,-SUM($C58:X58),0))","v":40543.382905574646},{"$f":"IF($B$14=\"As Received\",MIN(-Y$14*$B$19,-SUM($C58:Y58)-SUM($C$59:X59)),IF($B59=Y$31,-SUM($C58:Y58),0))","v":40543.382905574646},{"$f":"IF($B$14=\"As Received\",MIN(-Z$14*$B$19,-SUM($C58:Z58)-SUM($C$59:Y59)),IF($B59=Z$31,-SUM($C58:Z58),0))","v":40543.382905574646},{"$f":"IF($B$14=\"As Received\",MIN(-AA$14*$B$19,-SUM($C58:AA58)-SUM($C$59:Z59)),IF($B59=AA$31,-SUM($C58:AA58),0))","v":41279.705479925149},{"$f":"IF($B$14=\"As Received\",MIN(-AB$14*$B$19,-SUM($C58:AB58)-SUM($C$59:AA59)),IF($B59=AB$31,-SUM($C58:AB58),0))","v":41279.705479925149},{"$f":"IF($B$14=\"As Received\",MIN(-AC$14*$B$19,-SUM($C58:AC58)-SUM($C$59:AB59)),IF($B59=AC$31,-SUM($C58:AC58),0))","v":41279.705479925149},{"$f":"IF($B$14=\"As Received\",MIN(-AD$14*$B$19,-SUM($C58:AD58)-SUM($C$59:AC59)),IF($B59=AD$31,-SUM($C58:AD58),0))","v":41279.705479925149},{"$f":"IF($B$14=\"As Received\",MIN(-AE$14*$B$19,-SUM($C58:AE58)-SUM($C$59:AD59)),IF($B59=AE$31,-SUM($C58:AE58),0))","v":41382.532146591824},{"$f":"IF($B$14=\"As Received\",MIN(-AF$14*$B$19,-SUM($C58:AF58)-SUM($C$59:AE59)),IF($B59=AF$31,-SUM($C58:AF58),0))","v":41382.532146591824},{"$f":"IF($B$14=\"As Received\",MIN(-AG$14*$B$19,-SUM($C58:AG58)-SUM($C$59:AF59)),IF($B59=AG$31,-SUM($C58:AG58),0))","v":41382.532146591824},{"$f":"IF($B$14=\"As Received\",MIN(-AH$14*$B$19,-SUM($C58:AH58)-SUM($C$59:AG59)),IF($B59=AH$31,-SUM($C58:AH58),0))","v":41382.532146591824},{"$f":"IF($B$14=\"As Received\",MIN(-AI$14*$B$19,-SUM($C58:AI58)-SUM($C$59:AH59)),IF($B59=AI$31,-SUM($C58:AI58),0))","v":41583.301213258499},{"$f":"IF($B$14=\"As Received\",MIN(-AJ$14*$B$19,-SUM($C58:AJ58)-SUM($C$59:AI59)),IF($B59=AJ$31,-SUM($C58:AJ58),0))","v":41583.301213258499},{"$f":"IF($B$14=\"As Received\",MIN(-AK$14*$B$19,-SUM($C58:AK58)-SUM($C$59:AJ59)),IF($B59=AK$31,-SUM($C58:AK58),0))","v":41583.301213258499},{"$f":"IF($B$14=\"As Received\",MIN(-AL$14*$B$19,-SUM($C58:AL58)-SUM($C$59:AK59)),IF($B59=AL$31,-SUM($C58:AL58),0))","v":41583.301213258499},{"$f":"IF($B$14=\"As Received\",MIN(-AM$14*$B$19,-SUM($C58:AM58)-SUM($C$59:AL59)),IF($B59=AM$31,-SUM($C58:AM58),0))","v":41536.786318172868},{"$f":"IF($B$14=\"As Received\",MIN(-AN$14*$B$19,-SUM($C58:AN58)-SUM($C$59:AM59)),IF($B59=AN$31,-SUM($C58:AN58),0))","v":41536.786318172868},{"$f":"IF($B$14=\"As Received\",MIN(-AO$14*$B$19,-SUM($C58:AO58)-SUM($C$59:AN59)),IF($B59=AO$31,-SUM($C58:AO58),0))","v":41536.786318172868},{"$f":"IF($B$14=\"As Received\",MIN(-AP$14*$B$19,-SUM($C58:AP58)-SUM($C$59:AO59)),IF($B59=AP$31,-SUM($C58:AP58),0))","v":41536.786318172868},{"$f":"IF($B$14=\"As Received\",MIN(-AQ$14*$B$19,-SUM($C58:AQ58)-SUM($C$59:AP59)),IF($B59=AQ$31,-SUM($C58:AQ58),0))","v":41536.786318172868},{"$f":"IF($B$14=\"As Received\",MIN(-AR$14*$B$19,-SUM($C58:AR58)-SUM($C$59:AQ59)),IF($B59=AR$31,-SUM($C58:AR58),0))","v":41536.786318172868},{"$f":"IF($B$14=\"As Received\",MIN(-AS$14*$B$19,-SUM($C58:AS58)-SUM($C$59:AR59)),IF($B59=AS$31,-SUM($C58:AS58),0))","v":41536.786318172868},{"$f":"IF($B$14=\"As Received\",MIN(-AT$14*$B$19,-SUM($C58:AT58)-SUM($C$59:AS59)),IF($B59=AT$31,-SUM($C58:AT58),0))","v":41536.786318172868},{"$f":"IF($B$14=\"As Received\",MIN(-AU$14*$B$19,-SUM($C58:AU58)-SUM($C$59:AT59)),IF($B59=AU$31,-SUM($C58:AU58),0))","v":41536.786318172868},{"$f":"IF($B$14=\"As Received\",MIN(-AV$14*$B$19,-SUM($C58:AV58)-SUM($C$59:AU59)),IF($B59=AV$31,-SUM($C58:AV58),0))","v":41536.786318172868},{"$f":"IF($B$14=\"As Received\",MIN(-AW$14*$B$19,-SUM($C58:AW58)-SUM($C$59:AV59)),IF($B59=AW$31,-SUM($C58:AW58),0))","v":41536.786318172868},{"$f":"IF($B$14=\"As Received\",MIN(-AX$14*$B$19,-SUM($C58:AX58)-SUM($C$59:AW59)),IF($B59=AX$31,-SUM($C58:AX58),0))","v":41536.786318172868},{"$f":"IF($B$14=\"As Received\",MIN(-AY$14*$B$19,-SUM($C58:AY58)-SUM($C$59:AX59)),IF($B59=AY$31,-SUM($C58:AY58),0))","v":41488.87597623466},{"$f":"IF($B$14=\"As Received\",MIN(-AZ$14*$B$19,-SUM($C58:AZ58)-SUM($C$59:AY59)),IF($B59=AZ$31,-SUM($C58:AZ58),0))","v":42195.809309568009},{"$f":"IF($B$14=\"As Received\",MIN(-BA$14*$B$19,-SUM($C58:BA58)-SUM($C$59:AZ59)),IF($B59=BA$31,-SUM($C58:BA58),0))","v":42195.809309568009},{"$f":"IF($B$14=\"As Received\",MIN(-BB$14*$B$19,-SUM($C58:BB58)-SUM($C$59:BA59)),IF($B59=BB$31,-SUM($C58:BB58),0))","v":42195.809309568009},{"$f":"IF($B$14=\"As Received\",MIN(-BC$14*$B$19,-SUM($C58:BC58)-SUM($C$59:BB59)),IF($B59=BC$31,-SUM($C58:BC58),0))","v":42195.809309568009},{"$f":"IF($B$14=\"As Received\",MIN(-BD$14*$B$19,-SUM($C58:BD58)-SUM($C$59:BC59)),IF($B59=BD$31,-SUM($C58:BD58),0))","v":42195.809309568009},{"$f":"IF($B$14=\"As Received\",MIN(-BE$14*$B$19,-SUM($C58:BE58)-SUM($C$59:BD59)),IF($B59=BE$31,-SUM($C58:BE58),0))","v":42195.809309568009},{"$f":"IF($B$14=\"As Received\",MIN(-BF$14*$B$19,-SUM($C58:BF58)-SUM($C$59:BE59)),IF($B59=BF$31,-SUM($C58:BF58),0))","v":42195.809309568009},{"$f":"IF($B$14=\"As Received\",MIN(-BG$14*$B$19,-SUM($C58:BG58)-SUM($C$59:BF59)),IF($B59=BG$31,-SUM($C58:BG58),0))","v":42195.809309568009},{"$f":"IF($B$14=\"As Received\",MIN(-BH$14*$B$19,-SUM($C58:BH58)-SUM($C$59:BG59)),IF($B59=BH$31,-SUM($C58:BH58),0))","v":42195.809309568009},{"$f":"IF($B$14=\"As Received\",MIN(-BI$14*$B$19,-SUM($C58:BI58)-SUM($C$59:BH59)),IF($B59=BI$31,-SUM($C58:BI58),0))","v":42195.809309568009},{"$f":"IF($B$14=\"As Received\",MIN(-BJ$14*$B$19,-SUM($C58:BJ58)-SUM($C$59:BI59)),IF($B59=BJ$31,-SUM($C58:BJ58),0))","v":42195.809309568009},{"$f":"IF($B$14=\"As Received\",MIN(-BK$14*$B$19,-SUM($C58:BK58)-SUM($C$59:BJ59)),IF($B59=BK$31,-SUM($C58:BK58),0))","v":42146.461657371648},{"$f":"IF($B$14=\"As Received\",MIN(-BL$14*$B$19,-SUM($C58:BL58)-SUM($C$59:BK59)),IF($B59=BL$31,-SUM($C58:BL58),0))","v":42724.86165737165},{"$f":"IF($B$14=\"As Received\",MIN(-BM$14*$B$19,-SUM($C58:BM58)-SUM($C$59:BL59)),IF($B59=BM$31,-SUM($C58:BM58),0))","v":42724.86165737165},{"$f":"IF($B$14=\"As Received\",MIN(-BN$14*$B$19,-SUM($C58:BN58)-SUM($C$59:BM59)),IF($B59=BN$31,-SUM($C58:BN58),0))","v":42724.86165737165},{"$f":"IF($B$14=\"As Received\",MIN(-BO$14*$B$19,-SUM($C58:BO58)-SUM($C$59:BN59)),IF($B59=BO$31,-SUM($C58:BO58),0))","v":42724.86165737165},{"$f":"IF($B$14=\"As Received\",MIN(-BP$14*$B$19,-SUM($C58:BP58)-SUM($C$59:BO59)),IF($B59=BP$31,-SUM($C58:BP58),0))","v":42724.86165737165},{"$f":"IF($B$14=\"As Received\",MIN(-BQ$14*$B$19,-SUM($C58:BQ58)-SUM($C$59:BP59)),IF($B59=BQ$31,-SUM($C58:BQ58),0))","v":42724.86165737165},{"$f":"IF($B$14=\"As Received\",MIN(-BR$14*$B$19,-SUM($C58:BR58)-SUM($C$59:BQ59)),IF($B59=BR$31,-SUM($C58:BR58),0))","v":42724.86165737165},{"$f":"IF($B$14=\"As Received\",MIN(-BS$14*$B$19,-SUM($C58:BS58)-SUM($C$59:BR59)),IF($B59=BS$31,-SUM($C58:BS58),0))","v":42724.86165737165},{"$f":"IF($B$14=\"As Received\",MIN(-BT$14*$B$19,-SUM($C58:BT58)-SUM($C$59:BS59)),IF($B59=BT$31,-SUM($C58:BT58),0))","v":42724.86165737165},{"$f":"IF($B$14=\"As Received\",MIN(-BU$14*$B$19,-SUM($C58:BU58)-SUM($C$59:BT59)),IF($B59=BU$31,-SUM($C58:BU58),0))","v":42949.794990704999},{"$f":"IF($B$14=\"As Received\",MIN(-BV$14*$B$19,-SUM($C58:BV58)-SUM($C$59:BU59)),IF($B59=BV$31,-SUM($C58:BV58),0))","v":44083.458990704996},{"$f":"IF($B$14=\"As Received\",MIN(-BW$14*$B$19,-SUM($C58:BW58)-SUM($C$59:BV59)),IF($B59=BW$31,-SUM($C58:BW58),0))","v":44032.630908942774},{"$f":"IF($B$14=\"As Received\",MIN(-BX$14*$B$19,-SUM($C58:BX58)-SUM($C$59:BW59)),IF($B59=BX$31,-SUM($C58:BX58),0))","v":44289.440508942775},{"$f":"IF($B$14=\"As Received\",MIN(-BY$14*$B$19,-SUM($C58:BY58)-SUM($C$59:BX59)),IF($B59=BY$31,-SUM($C58:BY58),0))","v":44289.440508942775},{"$f":"IF($B$14=\"As Received\",MIN(-BZ$14*$B$19,-SUM($C58:BZ58)-SUM($C$59:BY59)),IF($B59=BZ$31,-SUM($C58:BZ58),0))","v":44289.440508942775},{"$f":"IF($B$14=\"As Received\",MIN(-CA$14*$B$19,-SUM($C58:CA58)-SUM($C$59:BZ59)),IF($B59=CA$31,-SUM($C58:CA58),0))","v":44289.440508942775},{"$f":"IF($B$14=\"As Received\",MIN(-CB$14*$B$19,-SUM($C58:CB58)-SUM($C$59:CA59)),IF($B59=CB$31,-SUM($C58:CB58),0))","v":44289.440508942775},{"$f":"IF($B$14=\"As Received\",MIN(-CC$14*$B$19,-SUM($C58:CC58)-SUM($C$59:CB59)),IF($B59=CC$31,-SUM($C58:CC58),0))","v":44289.440508942775},{"$f":"IF($B$14=\"As Received\",MIN(-CD$14*$B$19,-SUM($C58:CD58)-SUM($C$59:CC59)),IF($B59=CD$31,-SUM($C58:CD58),0))","v":44289.440508942775},{"$f":"IF($B$14=\"As Received\",MIN(-CE$14*$B$19,-SUM($C58:CE58)-SUM($C$59:CD59)),IF($B59=CE$31,-SUM($C58:CE58),0))","v":44289.440508942775},{"$f":"IF($B$14=\"As Received\",MIN(-CF$14*$B$19,-SUM($C58:CF58)-SUM($C$59:CE59)),IF($B59=CF$31,-SUM($C58:CF58),0))","v":44289.440508942775},{"$f":"IF($B$14=\"As Received\",MIN(-CG$14*$B$19,-SUM($C58:CG58)-SUM($C$59:CF59)),IF($B59=CG$31,-SUM($C58:CG58),0))","v":44289.440508942775},{"$f":"IF($B$14=\"As Received\",MIN(-CH$14*$B$19,-SUM($C58:CH58)-SUM($C$59:CG59)),IF($B59=CH$31,-SUM($C58:CH58),0))","v":44289.440508942775},{"$f":"IF($B$14=\"As Received\",MIN(-CI$14*$B$19,-SUM($C58:CI58)-SUM($C$59:CH59)),IF($B59=CI$31,-SUM($C58:CI58),0))","v":117731.34031308396},{"$f":"IF($B$14=\"As Received\",MIN(-CJ$14*$B$19,-SUM($C58:CJ58)-SUM($C$59:CI59)),IF($B59=CJ$31,-SUM($C58:CJ58),0))","v":0},{"$f":"IF($B$14=\"As Received\",MIN(-CK$14*$B$19,-SUM($C58:CK58)-SUM($C$59:CJ59)),IF($B59=CK$31,-SUM($C58:CK58),0))","v":0},{"$f":"IF($B$14=\"As Received\",MIN(-CL$14*$B$19,-SUM($C58:CL58)-SUM($C$59:CK59)),IF($B59=CL$31,-SUM($C58:CL58),0))","v":0},{"$f":"IF($B$14=\"As Received\",MIN(-CM$14*$B$19,-SUM($C58:CM58)-SUM($C$59:CL59)),IF($B59=CM$31,-SUM($C58:CM58),0))","v":0},{"$f":"IF($B$14=\"As Received\",MIN(-CN$14*$B$19,-SUM($C58:CN58)-SUM($C$59:CM59)),IF($B59=CN$31,-SUM($C58:CN58),0))","v":0},{"$f":"IF($B$14=\"As Received\",MIN(-CO$14*$B$19,-SUM($C58:CO58)-SUM($C$59:CN59)),IF($B59=CO$31,-SUM($C58:CO58),0))","v":0},{"$f":"IF($B$14=\"As Received\",MIN(-CP$14*$B$19,-SUM($C58:CP58)-SUM($C$59:CO59)),IF($B59=CP$31,-SUM($C58:CP58),0))","v":0},{"$f":"IF($B$14=\"As Received\",MIN(-CQ$14*$B$19,-SUM($C58:CQ58)-SUM($C$59:CP59)),IF($B59=CQ$31,-SUM($C58:CQ58),0))","v":0},{"$f":"IF($B$14=\"As Received\",MIN(-CR$14*$B$19,-SUM($C58:CR58)-SUM($C$59:CQ59)),IF($B59=CR$31,-SUM($C58:CR58),0))","v":0},{"$f":"IF($B$14=\"As Received\",MIN(-CS$14*$B$19,-SUM($C58:CS58)-SUM($C$59:CR59)),IF($B59=CS$31,-SUM($C58:CS58),0))","v":0},{"$f":"IF($B$14=\"As Received\",MIN(-CT$14*$B$19,-SUM($C58:CT58)-SUM($C$59:CS59)),IF($B59=CT$31,-SUM($C58:CT58),0))","v":0},{"$f":"IF($B$14=\"As Received\",MIN(-CU$14*$B$19,-SUM($C58:CU58)-SUM($C$59:CT59)),IF($B59=CU$31,-SUM($C58:CU58),0))","v":0},{"$f":"IF($B$14=\"As Received\",MIN(-CV$14*$B$19,-SUM($C58:CV58)-SUM($C$59:CU59)),IF($B59=CV$31,-SUM($C58:CV58),0))","v":0},{"$f":"IF($B$14=\"As Received\",MIN(-CW$14*$B$19,-SUM($C58:CW58)-SUM($C$59:CV59)),IF($B59=CW$31,-SUM($C58:CW58),0))","v":0},{"$f":"IF($B$14=\"As Received\",MIN(-CX$14*$B$19,-SUM($C58:CX58)-SUM($C$59:CW59)),IF($B59=CX$31,-SUM($C58:CX58),0))","v":0},{"$f":"IF($B$14=\"As Received\",MIN(-CY$14*$B$19,-SUM($C58:CY58)-SUM($C$59:CX59)),IF($B59=CY$31,-SUM($C58:CY58),0))","v":0},{"$f":"IF($B$14=\"As Received\",MIN(-CZ$14*$B$19,-SUM($C58:CZ58)-SUM($C$59:CY59)),IF($B59=CZ$31,-SUM($C58:CZ58),0))","v":0},{"$f":"IF($B$14=\"As Received\",MIN(-DA$14*$B$19,-SUM($C58:DA58)-SUM($C$59:CZ59)),IF($B59=DA$31,-SUM($C58:DA58),0))","v":0},{"$f":"IF($B$14=\"As Received\",MIN(-DB$14*$B$19,-SUM($C58:DB58)-SUM($C$59:DA59)),IF($B59=DB$31,-SUM($C58:DB58),0))","v":0},{"$f":"IF($B$14=\"As Received\",MIN(-DC$14*$B$19,-SUM($C58:DC58)-SUM($C$59:DB59)),IF($B59=DC$31,-SUM($C58:DC58),0))","v":0},{"$f":"IF($B$14=\"As Received\",MIN(-DD$14*$B$19,-SUM($C58:DD58)-SUM($C$59:DC59)),IF($B59=DD$31,-SUM($C58:DD58),0))","v":0},{"$f":"IF($B$14=\"As Received\",MIN(-DE$14*$B$19,-SUM($C58:DE58)-SUM($C$59:DD59)),IF($B59=DE$31,-SUM($C58:DE58),0))","v":0},{"$f":"IF($B$14=\"As Received\",MIN(-DF$14*$B$19,-SUM($C58:DF58)-SUM($C$59:DE59)),IF($B59=DF$31,-SUM($C58:DF58),0))","v":0},{"$f":"IF($B$14=\"As Received\",MIN(-DG$14*$B$19,-SUM($C58:DG58)-SUM($C$59:DF59)),IF($B59=DG$31,-SUM($C58:DG58),0))","v":0},{"$f":"IF($B$14=\"As Received\",MIN(-DH$14*$B$19,-SUM($C58:DH58)-SUM($C$59:DG59)),IF($B59=DH$31,-SUM($C58:DH58),0))","v":0},{"$f":"IF($B$14=\"As Received\",MIN(-DI$14*$B$19,-SUM($C58:DI58)-SUM($C$59:DH59)),IF($B59=DI$31,-SUM($C58:DI58),0))","v":0},{"$f":"IF($B$14=\"As Received\",MIN(-DJ$14*$B$19,-SUM($C58:DJ58)-SUM($C$59:DI59)),IF($B59=DJ$31,-SUM($C58:DJ58),0))","v":0},{"$f":"IF($B$14=\"As Received\",MIN(-DK$14*$B$19,-SUM($C58:DK58)-SUM($C$59:DJ59)),IF($B59=DK$31,-SUM($C58:DK58),0))","v":0},{"$f":"IF($B$14=\"As Received\",MIN(-DL$14*$B$19,-SUM($C58:DL58)-SUM($C$59:DK59)),IF($B59=DL$31,-SUM($C58:DL58),0))","v":0},{"$f":"IF($B$14=\"As Received\",MIN(-DM$14*$B$19,-SUM($C58:DM58)-SUM($C$59:DL59)),IF($B59=DM$31,-SUM($C58:DM58),0))","v":0},{"$f":"IF($B$14=\"As Received\",MIN(-DN$14*$B$19,-SUM($C58:DN58)-SUM($C$59:DM59)),IF($B59=DN$31,-SUM($C58:DN58),0))","v":0},{"$f":"IF($B$14=\"As Received\",MIN(-DO$14*$B$19,-SUM($C58:DO58)-SUM($C$59:DN59)),IF($B59=DO$31,-SUM($C58:DO58),0))","v":0},{"$f":"IF($B$14=\"As Received\",MIN(-DP$14*$B$19,-SUM($C58:DP58)-SUM($C$59:DO59)),IF($B59=DP$31,-SUM($C58:DP58),0))","v":0},{"$f":"IF($B$14=\"As Received\",MIN(-DQ$14*$B$19,-SUM($C58:DQ58)-SUM($C$59:DP59)),IF($B59=DQ$31,-SUM($C58:DQ58),0))","v":0},{"$f":"IF($B$14=\"As Received\",MIN(-DR$14*$B$19,-SUM($C58:DR58)-SUM($C$59:DQ59)),IF($B59=DR$31,-SUM($C58:DR58),0))","v":0},{"$f":"IF($B$14=\"As Received\",MIN(-DS$14*$B$19,-SUM($C58:DS58)-SUM($C$59:DR59)),IF($B59=DS$31,-SUM($C58:DS58),0))","v":0}]
[{"$f":"A38","v":"Tier 1 Preferred Return"},{"$f":"D26","v":0.3856},{"$f":"IF((-C$14-C$59-C$69-C$79)<=0,0,IF($B$14=\"As Received\",MIN(C$42*$B60,(-C$14-C$59-C$69-C$79)*$B60),MIN((-C$14-C$59-C$69-C$79)*$B60,(C$42+IF($B$59<>C$31,SUM($C$33:C$35),0))*$B60)))","v":0},{"$f":"IF((-D$14-D$59-D$69-D$79)<=0,0,IF($B$14=\"As Received\",MIN(D$42*$B60,(-D$14-D$59-D$69-D$79)*$B60),MIN((-D$14-D$59-D$69-D$79)*$B60,(D$42+IF($B$59<>D$31,SUM($C$33:D$35),0))*$B60)))","v":3.5070115700364113E-13},{"$f":"IF((-E$14-E$59-E$69-E$79)<=0,0,IF($B$14=\"As Received\",MIN(E$42*$B60,(-E$14-E$59-E$69-E$79)*$B60),MIN((-E$14-E$59-E$69-E$79)*$B60,(E$42+IF($B$59<>E$31,SUM($C$33:E$35),0))*$B60)))","v":3.5070115700364113E-13},{"$f":"IF((-F$14-F$59-F$69-F$79)<=0,0,IF($B$14=\"As Received\",MIN(F$42*$B60,(-F$14-F$59-F$69-F$79)*$B60),MIN((-F$14-F$59-F$69-F$79)*$B60,(F$42+IF($B$59<>F$31,SUM($C$33:F$35),0))*$B60)))","v":3.5070115700364113E-13},{"$f":"IF((-G$14-G$59-G$69-G$79)<=0,0,IF($B$14=\"As Received\",MIN(G$42*$B60,(-G$14-G$59-G$69-G$79)*$B60),MIN((-G$14-G$59-G$69-G$79)*$B60,(G$42+IF($B$59<>G$31,SUM($C$33:G$35),0))*$B60)))","v":0},{"$f":"IF((-H$14-H$59-H$69-H$79)<=0,0,IF($B$14=\"As Received\",MIN(H$42*$B60,(-H$14-H$59-H$69-H$79)*$B60),MIN((-H$14-H$59-H$69-H$79)*$B60,(H$42+IF($B$59<>H$31,SUM($C$33:H$35),0))*$B60)))","v":3.5070115700364113E-13},{"$f":"IF((-I$14-I$59-I$69-I$79)<=0,0,IF($B$14=\"As Received\",MIN(I$42*$B60,(-I$14-I$59-I$69-I$79)*$B60),MIN((-I$14-I$59-I$69-I$79)*$B60,(I$42+IF($B$59<>I$31,SUM($C$33:I$35),0))*$B60)))","v":3.5070115700364113E-13},{"$f":"IF((-J$14-J$59-J$69-J$79)<=0,0,IF($B$14=\"As Received\",MIN(J$42*$B60,(-J$14-J$59-J$69-J$79)*$B60),MIN((-J$14-J$59-J$69-J$79)*$B60,(J$42+IF($B$59<>J$31,SUM($C$33:J$35),0))*$B60)))","v":3.5070115700364113E-13},{"$f":"IF((-K$14-K$59-K$69-K$79)<=0,0,IF($B$14=\"As Received\",MIN(K$42*$B60,(-K$14-K$59-K$69-K$79)*$B60),MIN((-K$14-K$59-K$69-K$79)*$B60,(K$42+IF($B$59<>K$31,SUM($C$33:K$35),0))*$B60)))","v":3.5070115700364113E-13},{"$f":"IF((-L$14-L$59-L$69-L$79)<=0,0,IF($B$14=\"As Received\",MIN(L$42*$B60,(-L$14-L$59-L$69-L$79)*$B60),MIN((-L$14-L$59-L$69-L$79)*$B60,(L$42+IF($B$59<>L$31,SUM($C$33:L$35),0))*$B60)))","v":0},{"$f":"IF((-M$14-M$59-M$69-M$79)<=0,0,IF($B$14=\"As Received\",MIN(M$42*$B60,(-M$14-M$59-M$69-M$79)*$B60),MIN((-M$14-M$59-M$69-M$79)*$B60,(M$42+IF($B$59<>M$31,SUM($C$33:M$35),0))*$B60)))","v":0},{"$f":"IF((-N$14-N$59-N$69-N$79)<=0,0,IF($B$14=\"As Received\",MIN(N$42*$B60,(-N$14-N$59-N$69-N$79)*$B60),MIN((-N$14-N$59-N$69-N$79)*$B60,(N$42+IF($B$59<>N$31,SUM($C$33:N$35),0))*$B60)))","v":0},{"$f":"IF((-O$14-O$59-O$69-O$79)<=0,0,IF($B$14=\"As Received\",MIN(O$42*$B60,(-O$14-O$59-O$69-O$79)*$B60),MIN((-O$14-O$59-O$69-O$79)*$B60,(O$42+IF($B$59<>O$31,SUM($C$33:O$35),0))*$B60)))","v":0},{"$f":"IF((-P$14-P$59-P$69-P$79)<=0,0,IF($B$14=\"As Received\",MIN(P$42*$B60,(-P$14-P$59-P$69-P$79)*$B60),MIN((-P$14-P$59-P$69-P$79)*$B60,(P$42+IF($B$59<>P$31,SUM($C$33:P$35),0))*$B60)))","v":0},{"$f":"IF((-Q$14-Q$59-Q$69-Q$79)<=0,0,IF($B$14=\"As Received\",MIN(Q$42*$B60,(-Q$14-Q$59-Q$69-Q$79)*$B60),MIN((-Q$14-Q$59-Q$69-Q$79)*$B60,(Q$42+IF($B$59<>Q$31,SUM($C$33:Q$35),0))*$B60)))","v":0},{"$f":"IF((-R$14-R$59-R$69-R$79)<=0,0,IF($B$14=\"As Received\",MIN(R$42*$B60,(-R$14-R$59-R$69-R$79)*$B60),MIN((-R$14-R$59-R$69-R$79)*$B60,(R$42+IF($B$59<>R$31,SUM($C$33:R$35),0))*$B60)))","v":0},{"$f":"IF((-S$14-S$59-S$69-S$79)<=0,0,IF($B$14=\"As Received\",MIN(S$42*$B60,(-S$14-S$59-S$69-S$79)*$B60),MIN((-S$14-S$59-S$69-S$79)*$B60,(S$42+IF($B$59<>S$31,SUM($C$33:S$35),0))*$B60)))","v":0},{"$f":"IF((-T$14-T$59-T$69-T$79)<=0,0,IF($B$14=\"As Received\",MIN(T$42*$B60,(-T$14-T$59-T$69-T$79)*$B60),MIN((-T$14-T$59-T$69-T$79)*$B60,(T$42+IF($B$59<>T$31,SUM($C$33:T$35),0))*$B60)))","v":0},{"$f":"IF((-U$14-U$59-U$69-U$79)<=0,0,IF($B$14=\"As Received\",MIN(U$42*$B60,(-U$14-U$59-U$69-U$79)*$B60),MIN((-U$14-U$59-U$69-U$79)*$B60,(U$42+IF($B$59<>U$31,SUM($C$33:U$35),0))*$B60)))","v":0},{"$f":"IF((-V$14-V$59-V$69-V$79)<=0,0,IF($B$14=\"As Received\",MIN(V$42*$B60,(-V$14-V$59-V$69-V$79)*$B60),MIN((-V$14-V$59-V$69-V$79)*$B60,(V$42+IF($B$59<>V$31,SUM($C$33:V$35),0))*$B60)))","v":0},{"$f":"IF((-W$14-W$59-W$69-W$79)<=0,0,IF($B$14=\"As Received\",MIN(W$42*$B60,(-W$14-W$59-W$69-W$79)*$B60),MIN((-W$14-W$59-W$69-W$79)*$B60,(W$42+IF($B$59<>W$31,SUM($C$33:W$35),0))*$B60)))","v":0},{"$f":"IF((-X$14-X$59-X$69-X$79)<=0,0,IF($B$14=\"As Received\",MIN(X$42*$B60,(-X$14-X$59-X$69-X$79)*$B60),MIN((-X$14-X$59-X$69-X$79)*$B60,(X$42+IF($B$59<>X$31,SUM($C$33:X$35),0))*$B60)))","v":0},{"$f":"IF((-Y$14-Y$59-Y$69-Y$79)<=0,0,IF($B$14=\"As Received\",MIN(Y$42*$B60,(-Y$14-Y$59-Y$69-Y$79)*$B60),MIN((-Y$14-Y$59-Y$69-Y$79)*$B60,(Y$42+IF($B$59<>Y$31,SUM($C$33:Y$35),0))*$B60)))","v":0},{"$f":"IF((-Z$14-Z$59-Z$69-Z$79)<=0,0,IF($B$14=\"As Received\",MIN(Z$42*$B60,(-Z$14-Z$59-Z$69-Z$79)*$B60),MIN((-Z$14-Z$59-Z$69-Z$79)*$B60,(Z$42+IF($B$59<>Z$31,SUM($C$33:Z$35),0))*$B60)))","v":0},{"$f":"IF((-AA$14-AA$59-AA$69-AA$79)<=0,0,IF($B$14=\"As Received\",MIN(AA$42*$B60,(-AA$14-AA$59-AA$69-AA$79)*$B60),MIN((-AA$14-AA$59-AA$69-AA$79)*$B60,(AA$42+IF($B$59<>AA$31,SUM($C$33:AA$35),0))*$B60)))","v":0},{"$f":"IF((-AB$14-AB$59-AB$69-AB$79)<=0,0,IF($B$14=\"As Received\",MIN(AB$42*$B60,(-AB$14-AB$59-AB$69-AB$79)*$B60),MIN((-AB$14-AB$59-AB$69-AB$79)*$B60,(AB$42+IF($B$59<>AB$31,SUM($C$33:AB$35),0))*$B60)))","v":0},{"$f":"IF((-AC$14-AC$59-AC$69-AC$79)<=0,0,IF($B$14=\"As Received\",MIN(AC$42*$B60,(-AC$14-AC$59-AC$69-AC$79)*$B60),MIN((-AC$14-AC$59-AC$69-AC$79)*$B60,(AC$42+IF($B$59<>AC$31,SUM($C$33:AC$35),0))*$B60)))","v":0},{"$f":"IF((-AD$14-AD$59-AD$69-AD$79)<=0,0,IF($B$14=\"As Received\",MIN(AD$42*$B60,(-AD$14-AD$59-AD$69-AD$79)*$B60),MIN((-AD$14-AD$59-AD$69-AD$79)*$B60,(AD$42+IF($B$59<>AD$31,SUM($C$33:AD$35),0))*$B60)))","v":0},{"$f":"IF((-AE$14-AE$59-AE$69-AE$79)<=0,0,IF($B$14=\"As Received\",MIN(AE$42*$B60,(-AE$14-AE$59-AE$69-AE$79)*$B60),MIN((-AE$14-AE$59-AE$69-AE$79)*$B60,(AE$42+IF($B$59<>AE$31,SUM($C$33:AE$35),0))*$B60)))","v":0},{"$f":"IF((-AF$14-AF$59-AF$69-AF$79)<=0,0,IF($B$14=\"As Received\",MIN(AF$42*$B60,(-AF$14-AF$59-AF$69-AF$79)*$B60),MIN((-AF$14-AF$59-AF$69-AF$79)*$B60,(AF$42+IF($B$59<>AF$31,SUM($C$33:AF$35),0))*$B60)))","v":0},{"$f":"IF((-AG$14-AG$59-AG$69-AG$79)<=0,0,IF($B$14=\"As Received\",MIN(AG$42*$B60,(-AG$14-AG$59-AG$69-AG$79)*$B60),MIN((-AG$14-AG$59-AG$69-AG$79)*$B60,(AG$42+IF($B$59<>AG$31,SUM($C$33:AG$35),0))*$B60)))","v":0},{"$f":"IF((-AH$14-AH$59-AH$69-AH$79)<=0,0,IF($B$14=\"As Received\",MIN(AH$42*$B60,(-AH$14-AH$59-AH$69-AH$79)*$B60),MIN((-AH$14-AH$59-AH$69-AH$79)*$B60,(AH$42+IF($B$59<>AH$31,SUM($C$33:AH$35),0))*$B60)))","v":0},{"$f":"IF((-AI$14-AI$59-AI$69-AI$79)<=0,0,IF($B$14=\"As Received\",MIN(AI$42*$B60,(-AI$14-AI$59-AI$69-AI$79)*$B60),MIN((-AI$14-AI$59-AI$69-AI$79)*$B60,(AI$42+IF($B$59<>AI$31,SUM($C$33:AI$35),0))*$B60)))","v":0},{"$f":"IF((-AJ$14-AJ$59-AJ$69-AJ$79)<=0,0,IF($B$14=\"As Received\",MIN(AJ$42*$B60,(-AJ$14-AJ$59-AJ$69-AJ$79)*$B60),MIN((-AJ$14-AJ$59-AJ$69-AJ$79)*$B60,(AJ$42+IF($B$59<>AJ$31,SUM($C$33:AJ$35),0))*$B60)))","v":0},{"$f":"IF((-AK$14-AK$59-AK$69-AK$79)<=0,0,IF($B$14=\"As Received\",MIN(AK$42*$B60,(-AK$14-AK$59-AK$69-AK$79)*$B60),MIN((-AK$14-AK$59-AK$69-AK$79)*$B60,(AK$42+IF($B$59<>AK$31,SUM($C$33:AK$35),0))*$B60)))","v":0},{"$f":"IF((-AL$14-AL$59-AL$69-AL$79)<=0,0,IF($B$14=\"As Received\",MIN(AL$42*$B60,(-AL$14-AL$59-AL$69-AL$79)*$B60),MIN((-AL$14-AL$59-AL$69-AL$79)*$B60,(AL$42+IF($B$59<>AL$31,SUM($C$33:AL$35),0))*$B60)))","v":0},{"$f":"IF((-AM$14-AM$59-AM$69-AM$79)<=0,0,IF($B$14=\"As Received\",MIN(AM$42*$B60,(-AM$14-AM$59-AM$69-AM$79)*$B60),MIN((-AM$14-AM$59-AM$69-AM$79)*$B60,(AM$42+IF($B$59<>AM$31,SUM($C$33:AM$35),0))*$B60)))","v":7.0140231400728225E-13},{"$f":"IF((-AN$14-AN$59-AN$69-AN$79)<=0,0,IF($B$14=\"As Received\",MIN(AN$42*$B60,(-AN$14-AN$59-AN$69-AN$79)*$B60),MIN((-AN$14-AN$59-AN$69-AN$79)*$B60,(AN$42+IF($B$59<>AN$31,SUM($C$33:AN$35),0))*$B60)))","v":7.0140231400728225E-13},{"$f":"IF((-AO$14-AO$59-AO$69-AO$79)<=0,0,IF($B$14=\"As Received\",MIN(AO$42*$B60,(-AO$14-AO$59-AO$69-AO$79)*$B60),MIN((-AO$14-AO$59-AO$69-AO$79)*$B60,(AO$42+IF($B$59<>AO$31,SUM($C$33:AO$35),0))*$B60)))","v":7.0140231400728225E-13},{"$f":"IF((-AP$14-AP$59-AP$69-AP$79)<=0,0,IF($B$14=\"As Received\",MIN(AP$42*$B60,(-AP$14-AP$59-AP$69-AP$79)*$B60),MIN((-AP$14-AP$59-AP$69-AP$79)*$B60,(AP$42+IF($B$59<>AP$31,SUM($C$33:AP$35),0))*$B60)))","v":7.0140231400728225E-13},{"$f":"IF((-AQ$14-AQ$59-AQ$69-AQ$79)<=0,0,IF($B$14=\"As Received\",MIN(AQ$42*$B60,(-AQ$14-AQ$59-AQ$69-AQ$79)*$B60),MIN((-AQ$14-AQ$59-AQ$69-AQ$79)*$B60,(AQ$42+IF($B$59<>AQ$31,SUM($C$33:AQ$35),0))*$B60)))","v":7.0140231400728225E-13},{"$f":"IF((-AR$14-AR$59-AR$69-AR$79)<=0,0,IF($B$14=\"As Received\",MIN(AR$42*$B60,(-AR$14-AR$59-AR$69-AR$79)*$B60),MIN((-AR$14-AR$59-AR$69-AR$79)*$B60,(AR$42+IF($B$59<>AR$31,SUM($C$33:AR$35),0))*$B60)))","v":7.0140231400728225E-13},{"$f":"IF((-AS$14-AS$59-AS$69-AS$79)<=0,0,IF($B$14=\"As Received\",MIN(AS$42*$B60,(-AS$14-AS$59-AS$69-AS$79)*$B60),MIN((-AS$14-AS$59-AS$69-AS$79)*$B60,(AS$42+IF($B$59<>AS$31,SUM($C$33:AS$35),0))*$B60)))","v":7.0140231400728225E-13},{"$f":"IF((-AT$14-AT$59-AT$69-AT$79)<=0,0,IF($B$14=\"As Received\",MIN(AT$42*$B60,(-AT$14-AT$59-AT$69-AT$79)*$B60),MIN((-AT$14-AT$59-AT$69-AT$79)*$B60,(AT$42+IF($B$59<>AT$31,SUM($C$33:AT$35),0))*$B60)))","v":7.0140231400728225E-13},{"$f":"IF((-AU$14-AU$59-AU$69-AU$79)<=0,0,IF($B$14=\"As Received\",MIN(AU$42*$B60,(-AU$14-AU$59-AU$69-AU$79)*$B60),MIN((-AU$14-AU$59-AU$69-AU$79)*$B60,(AU$42+IF($B$59<>AU$31,SUM($C$33:AU$35),0))*$B60)))","v":7.0140231400728225E-13},{"$f":"IF((-AV$14-AV$59-AV$69-AV$79)<=0,0,IF($B$14=\"As Received\",MIN(AV$42*$B60,(-AV$14-AV$59-AV$69-AV$79)*$B60),MIN((-AV$14-AV$59-AV$69-AV$79)*$B60,(AV$42+IF($B$59<>AV$31,SUM($C$33:AV$35),0))*$B60)))","v":7.0140231400728225E-13},{"$f":"IF((-AW$14-AW$59-AW$69-AW$79)<=0,0,IF($B$14=\"As Received\",MIN(AW$42*$B60,(-AW$14-AW$59-AW$69-AW$79)*$B60),MIN((-AW$14-AW$59-AW$69-AW$79)*$B60,(AW$42+IF($B$59<>AW$31,SUM($C$33:AW$35),0))*$B60)))","v":7.0140231400728225E-13},{"$f":"IF((-AX$14-AX$59-AX$69-AX$79)<=0,0,IF($B$14=\"As Received\",MIN(AX$42*$B60,(-AX$14-AX$59-AX$69-AX$79)*$B60),MIN((-AX$14-AX$59-AX$69-AX$79)*$B60,(AX$42+IF($B$59<>AX$31,SUM($C$33:AX$35),0))*$B60)))","v":7.0140231400728225E-13},{"$f":"IF((-AY$14-AY$59-AY$69-AY$79)<=0,0,IF($B$14=\"As Received\",MIN(AY$42*$B60,(-AY$14-AY$59-AY$69-AY$79)*$B60),MIN((-AY$14-AY$59-AY$69-AY$79)*$B60,(AY$42+IF($B$59<>AY$31,SUM($C$33:AY$35),0))*$B60)))","v":7.0140231400728225E-13},{"$f":"IF((-AZ$14-AZ$59-AZ$69-AZ$79)<=0,0,IF($B$14=\"As Received\",MIN(AZ$42*$B60,(-AZ$14-AZ$59-AZ$69-AZ$79)*$B60),MIN((-AZ$14-AZ$59-AZ$69-AZ$79)*$B60,(AZ$42+IF($B$59<>AZ$31,SUM($C$33:AZ$35),0))*$B60)))","v":0},{"$f":"IF((-BA$14-BA$59-BA$69-BA$79)<=0,0,IF($B$14=\"As Received\",MIN(BA$42*$B60,(-BA$14-BA$59-BA$69-BA$79)*$B60),MIN((-BA$14-BA$59-BA$69-BA$79)*$B60,(BA$42+IF($B$59<>BA$31,SUM($C$33:BA$35),0))*$B60)))","v":0},{"$f":"IF((-BB$14-BB$59-BB$69-BB$79)<=0,0,IF($B$14=\"As Received\",MIN(BB$42*$B60,(-BB$14-BB$59-BB$69-BB$79)*$B60),MIN((-BB$14-BB$59-BB$69-BB$79)*$B60,(BB$42+IF($B$59<>BB$31,SUM($C$33:BB$35),0))*$B60)))","v":0},{"$f":"IF((-BC$14-BC$59-BC$69-BC$79)<=0,0,IF($B$14=\"As Received\",MIN(BC$42*$B60,(-BC$14-BC$59-BC$69-BC$79)*$B60),MIN((-BC$14-BC$59-BC$69-BC$79)*$B60,(BC$42+IF($B$59<>BC$31,SUM($C$33:BC$35),0))*$B60)))","v":0},{"$f":"IF((-BD$14-BD$59-BD$69-BD$79)<=0,0,IF($B$14=\"As Received\",MIN(BD$42*$B60,(-BD$14-BD$59-BD$69-BD$79)*$B60),MIN((-BD$14-BD$59-BD$69-BD$79)*$B60,(BD$42+IF($B$59<>BD$31,SUM($C$33:BD$35),0))*$B60)))","v":0},{"$f":"IF((-BE$14-BE$59-BE$69-BE$79)<=0,0,IF($B$14=\"As Received\",MIN(BE$42*$B60,(-BE$14-BE$59-BE$69-BE$79)*$B60),MIN((-BE$14-BE$59-BE$69-BE$79)*$B60,(BE$42+IF($B$59<>BE$31,SUM($C$33:BE$35),0))*$B60)))","v":0},{"$f":"IF((-BF$14-BF$59-BF$69-BF$79)<=0,0,IF($B$14=\"As Received\",MIN(BF$42*$B60,(-BF$14-BF$59-BF$69-BF$79)*$B60),MIN((-BF$14-BF$59-BF$69-BF$79)*$B60,(BF$42+IF($B$59<>BF$31,SUM($C$33:BF$35),0))*$B60)))","v":0},{"$f":"IF((-BG$14-BG$59-BG$69-BG$79)<=0,0,IF($B$14=\"As Received\",MIN(BG$42*$B60,(-BG$14-BG$59-BG$69-BG$79)*$B60),MIN((-BG$14-BG$59-BG$69-BG$79)*$B60,(BG$42+IF($B$59<>BG$31,SUM($C$33:BG$35),0))*$B60)))","v":0},{"$f":"IF((-BH$14-BH$59-BH$69-BH$79)<=0,0,IF($B$14=\"As Received\",MIN(BH$42*$B60,(-BH$14-BH$59-BH$69-BH$79)*$B60),MIN((-BH$14-BH$59-BH$69-BH$79)*$B60,(BH$42+IF($B$59<>BH$31,SUM($C$33:BH$35),0))*$B60)))","v":0},{"$f":"IF((-BI$14-BI$59-BI$69-BI$79)<=0,0,IF($B$14=\"As Received\",MIN(BI$42*$B60,(-BI$14-BI$59-BI$69-BI$79)*$B60),MIN((-BI$14-BI$59-BI$69-BI$79)*$B60,(BI$42+IF($B$59<>BI$31,SUM($C$33:BI$35),0))*$B60)))","v":0},{"$f":"IF((-BJ$14-BJ$59-BJ$69-BJ$79)<=0,0,IF($B$14=\"As Received\",MIN(BJ$42*$B60,(-BJ$14-BJ$59-BJ$69-BJ$79)*$B60),MIN((-BJ$14-BJ$59-BJ$69-BJ$79)*$B60,(BJ$42+IF($B$59<>BJ$31,SUM($C$33:BJ$35),0))*$B60)))","v":0},{"$f":"IF((-BK$14-BK$59-BK$69-BK$79)<=0,0,IF($B$14=\"As Received\",MIN(BK$42*$B60,(-BK$14-BK$59-BK$69-BK$79)*$B60),MIN((-BK$14-BK$59-BK$69-BK$79)*$B60,(BK$42+IF($B$59<>BK$31,SUM($C$33:BK$35),0))*$B60)))","v":0},{"$f":"IF((-BL$14-BL$59-BL$69-BL$79)<=0,0,IF($B$14=\"As Received\",MIN(BL$42*$B60,(-BL$14-BL$59-BL$69-BL$79)*$B60),MIN((-BL$14-BL$59-BL$69-BL$79)*$B60,(BL$42+IF($B$59<>BL$31,SUM($C$33:BL$35),0))*$B60)))","v":0},{"$f":"IF((-BM$14-BM$59-BM$69-BM$79)<=0,0,IF($B$14=\"As Received\",MIN(BM$42*$B60,(-BM$14-BM$59-BM$69-BM$79)*$B60),MIN((-BM$14-BM$59-BM$69-BM$79)*$B60,(BM$42+IF($B$59<>BM$31,SUM($C$33:BM$35),0))*$B60)))","v":0},{"$f":"IF((-BN$14-BN$59-BN$69-BN$79)<=0,0,IF($B$14=\"As Received\",MIN(BN$42*$B60,(-BN$14-BN$59-BN$69-BN$79)*$B60),MIN((-BN$14-BN$59-BN$69-BN$79)*$B60,(BN$42+IF($B$59<>BN$31,SUM($C$33:BN$35),0))*$B60)))","v":0},{"$f":"IF((-BO$14-BO$59-BO$69-BO$79)<=0,0,IF($B$14=\"As Received\",MIN(BO$42*$B60,(-BO$14-BO$59-BO$69-BO$79)*$B60),MIN((-BO$14-BO$59-BO$69-BO$79)*$B60,(BO$42+IF($B$59<>BO$31,SUM($C$33:BO$35),0))*$B60)))","v":0},{"$f":"IF((-BP$14-BP$59-BP$69-BP$79)<=0,0,IF($B$14=\"As Received\",MIN(BP$42*$B60,(-BP$14-BP$59-BP$69-BP$79)*$B60),MIN((-BP$14-BP$59-BP$69-BP$79)*$B60,(BP$42+IF($B$59<>BP$31,SUM($C$33:BP$35),0))*$B60)))","v":0},{"$f":"IF((-BQ$14-BQ$59-BQ$69-BQ$79)<=0,0,IF($B$14=\"As Received\",MIN(BQ$42*$B60,(-BQ$14-BQ$59-BQ$69-BQ$79)*$B60),MIN((-BQ$14-BQ$59-BQ$69-BQ$79)*$B60,(BQ$42+IF($B$59<>BQ$31,SUM($C$33:BQ$35),0))*$B60)))","v":0},{"$f":"IF((-BR$14-BR$59-BR$69-BR$79)<=0,0,IF($B$14=\"As Received\",MIN(BR$42*$B60,(-BR$14-BR$59-BR$69-BR$79)*$B60),MIN((-BR$14-BR$59-BR$69-BR$79)*$B60,(BR$42+IF($B$59<>BR$31,SUM($C$33:BR$35),0))*$B60)))","v":0},{"$f":"IF((-BS$14-BS$59-BS$69-BS$79)<=0,0,IF($B$14=\"As Received\",MIN(BS$42*$B60,(-BS$14-BS$59-BS$69-BS$79)*$B60),MIN((-BS$14-BS$59-BS$69-BS$79)*$B60,(BS$42+IF($B$59<>BS$31,SUM($C$33:BS$35),0))*$B60)))","v":0},{"$f":"IF((-BT$14-BT$59-BT$69-BT$79)<=0,0,IF($B$14=\"As Received\",MIN(BT$42*$B60,(-BT$14-BT$59-BT$69-BT$79)*$B60),MIN((-BT$14-BT$59-BT$69-BT$79)*$B60,(BT$42+IF($B$59<>BT$31,SUM($C$33:BT$35),0))*$B60)))","v":0},{"$f":"IF((-BU$14-BU$59-BU$69-BU$79)<=0,0,IF($B$14=\"As Received\",MIN(BU$42*$B60,(-BU$14-BU$59-BU$69-BU$79)*$B60),MIN((-BU$14-BU$59-BU$69-BU$79)*$B60,(BU$42+IF($B$59<>BU$31,SUM($C$33:BU$35),0))*$B60)))","v":0},{"$f":"IF((-BV$14-BV$59-BV$69-BV$79)<=0,0,IF($B$14=\"As Received\",MIN(BV$42*$B60,(-BV$14-BV$59-BV$69-BV$79)*$B60),MIN((-BV$14-BV$59-BV$69-BV$79)*$B60,(BV$42+IF($B$59<>BV$31,SUM($C$33:BV$35),0))*$B60)))","v":0},{"$f":"IF((-BW$14-BW$59-BW$69-BW$79)<=0,0,IF($B$14=\"As Received\",MIN(BW$42*$B60,(-BW$14-BW$59-BW$69-BW$79)*$B60),MIN((-BW$14-BW$59-BW$69-BW$79)*$B60,(BW$42+IF($B$59<>BW$31,SUM($C$33:BW$35),0))*$B60)))","v":0},{"$f":"IF((-BX$14-BX$59-BX$69-BX$79)<=0,0,IF($B$14=\"As Received\",MIN(BX$42*$B60,(-BX$14-BX$59-BX$69-BX$79)*$B60),MIN((-BX$14-BX$59-BX$69-BX$79)*$B60,(BX$42+IF($B$59<>BX$31,SUM($C$33:BX$35),0))*$B60)))","v":0},{"$f":"IF((-BY$14-BY$59-BY$69-BY$79)<=0,0,IF($B$14=\"As Received\",MIN(BY$42*$B60,(-BY$14-BY$59-BY$69-BY$79)*$B60),MIN((-BY$14-BY$59-BY$69-BY$79)*$B60,(BY$42+IF($B$59<>BY$31,SUM($C$33:BY$35),0))*$B60)))","v":0},{"$f":"IF((-BZ$14-BZ$59-BZ$69-BZ$79)<=0,0,IF($B$14=\"As Received\",MIN(BZ$42*$B60,(-BZ$14-BZ$59-BZ$69-BZ$79)*$B60),MIN((-BZ$14-BZ$59-BZ$69-BZ$79)*$B60,(BZ$42+IF($B$59<>BZ$31,SUM($C$33:BZ$35),0))*$B60)))","v":0},{"$f":"IF((-CA$14-CA$59-CA$69-CA$79)<=0,0,IF($B$14=\"As Received\",MIN(CA$42*$B60,(-CA$14-CA$59-CA$69-CA$79)*$B60),MIN((-CA$14-CA$59-CA$69-CA$79)*$B60,(CA$42+IF($B$59<>CA$31,SUM($C$33:CA$35),0))*$B60)))","v":0},{"$f":"IF((-CB$14-CB$59-CB$69-CB$79)<=0,0,IF($B$14=\"As Received\",MIN(CB$42*$B60,(-CB$14-CB$59-CB$69-CB$79)*$B60),MIN((-CB$14-CB$59-CB$69-CB$79)*$B60,(CB$42+IF($B$59<>CB$31,SUM($C$33:CB$35),0))*$B60)))","v":0},{"$f":"IF((-CC$14-CC$59-CC$69-CC$79)<=0,0,IF($B$14=\"As Received\",MIN(CC$42*$B60,(-CC$14-CC$59-CC$69-CC$79)*$B60),MIN((-CC$14-CC$59-CC$69-CC$79)*$B60,(CC$42+IF($B$59<>CC$31,SUM($C$33:CC$35),0))*$B60)))","v":0},{"$f":"IF((-CD$14-CD$59-CD$69-CD$79)<=0,0,IF($B$14=\"As Received\",MIN(CD$42*$B60,(-CD$14-CD$59-CD$69-CD$79)*$B60),MIN((-CD$14-CD$59-CD$69-CD$79)*$B60,(CD$42+IF($B$59<>CD$31,SUM($C$33:CD$35),0))*$B60)))","v":0},{"$f":"IF((-CE$14-CE$59-CE$69-CE$79)<=0,0,IF($B$14=\"As Received\",MIN(CE$42*$B60,(-CE$14-CE$59-CE$69-CE$79)*$B60),MIN((-CE$14-CE$59-CE$69-CE$79)*$B60,(CE$42+IF($B$59<>CE$31,SUM($C$33:CE$35),0))*$B60)))","v":0},{"$f":"IF((-CF$14-CF$59-CF$69-CF$79)<=0,0,IF($B$14=\"As Received\",MIN(CF$42*$B60,(-CF$14-CF$59-CF$69-CF$79)*$B60),MIN((-CF$14-CF$59-CF$69-CF$79)*$B60,(CF$42+IF($B$59<>CF$31,SUM($C$33:CF$35),0))*$B60)))","v":0},{"$f":"IF((-CG$14-CG$59-CG$69-CG$79)<=0,0,IF($B$14=\"As Received\",MIN(CG$42*$B60,(-CG$14-CG$59-CG$69-CG$79)*$B60),MIN((-CG$14-CG$59-CG$69-CG$79)*$B60,(CG$42+IF($B$59<>CG$31,SUM($C$33:CG$35),0))*$B60)))","v":0},{"$f":"IF((-CH$14-CH$59-CH$69-CH$79)<=0,0,IF($B$14=\"As Received\",MIN(CH$42*$B60,(-CH$14-CH$59-CH$69-CH$79)*$B60),MIN((-CH$14-CH$59-CH$69-CH$79)*$B60,(CH$42+IF($B$59<>CH$31,SUM($C$33:CH$35),0))*$B60)))","v":0},{"$f":"IF((-CI$14-CI$59-CI$69-CI$79)<=0,0,IF($B$14=\"As Received\",MIN(CI$42*$B60,(-CI$14-CI$59-CI$69-CI$79)*$B60),MIN((-CI$14-CI$59-CI$69-CI$79)*$B60,(CI$42+IF($B$59<>CI$31,SUM($C$33:CI$35),0))*$B60)))","v":0},{"$f":"IF((-CJ$14-CJ$59-CJ$69-CJ$79)<=0,0,IF($B$14=\"As Received\",MIN(CJ$42*$B60,(-CJ$14-CJ$59-CJ$69-CJ$79)*$B60),MIN((-CJ$14-CJ$59-CJ$69-CJ$79)*$B60,(CJ$42+IF($B$59<>CJ$31,SUM($C$33:CJ$35),0))*$B60)))","v":0},{"$f":"IF((-CK$14-CK$59-CK$69-CK$79)<=0,0,IF($B$14=\"As Received\",MIN(CK$42*$B60,(-CK$14-CK$59-CK$69-CK$79)*$B60),MIN((-CK$14-CK$59-CK$69-CK$79)*$B60,(CK$42+IF($B$59<>CK$31,SUM($C$33:CK$35),0))*$B60)))","v":0},{"$f":"IF((-CL$14-CL$59-CL$69-CL$79)<=0,0,IF($B$14=\"As Received\",MIN(CL$42*$B60,(-CL$14-CL$59-CL$69-CL$79)*$B60),MIN((-CL$14-CL$59-CL$69-CL$79)*$B60,(CL$42+IF($B$59<>CL$31,SUM($C$33:CL$35),0))*$B60)))","v":0},{"$f":"IF((-CM$14-CM$59-CM$69-CM$79)<=0,0,IF($B$14=\"As Received\",MIN(CM$42*$B60,(-CM$14-CM$59-CM$69-CM$79)*$B60),MIN((-CM$14-CM$59-CM$69-CM$79)*$B60,(CM$42+IF($B$59<>CM$31,SUM($C$33:CM$35),0))*$B60)))","v":0},{"$f":"IF((-CN$14-CN$59-CN$69-CN$79)<=0,0,IF($B$14=\"As Received\",MIN(CN$42*$B60,(-CN$14-CN$59-CN$69-CN$79)*$B60),MIN((-CN$14-CN$59-CN$69-CN$79)*$B60,(CN$42+IF($B$59<>CN$31,SUM($C$33:CN$35),0))*$B60)))","v":0},{"$f":"IF((-CO$14-CO$59-CO$69-CO$79)<=0,0,IF($B$14=\"As Received\",MIN(CO$42*$B60,(-CO$14-CO$59-CO$69-CO$79)*$B60),MIN((-CO$14-CO$59-CO$69-CO$79)*$B60,(CO$42+IF($B$59<>CO$31,SUM($C$33:CO$35),0))*$B60)))","v":0},{"$f":"IF((-CP$14-CP$59-CP$69-CP$79)<=0,0,IF($B$14=\"As Received\",MIN(CP$42*$B60,(-CP$14-CP$59-CP$69-CP$79)*$B60),MIN((-CP$14-CP$59-CP$69-CP$79)*$B60,(CP$42+IF($B$59<>CP$31,SUM($C$33:CP$35),0))*$B60)))","v":0},{"$f":"IF((-CQ$14-CQ$59-CQ$69-CQ$79)<=0,0,IF($B$14=\"As Received\",MIN(CQ$42*$B60,(-CQ$14-CQ$59-CQ$69-CQ$79)*$B60),MIN((-CQ$14-CQ$59-CQ$69-CQ$79)*$B60,(CQ$42+IF($B$59<>CQ$31,SUM($C$33:CQ$35),0))*$B60)))","v":0},{"$f":"IF((-CR$14-CR$59-CR$69-CR$79)<=0,0,IF($B$14=\"As Received\",MIN(CR$42*$B60,(-CR$14-CR$59-CR$69-CR$79)*$B60),MIN((-CR$14-CR$59-CR$69-CR$79)*$B60,(CR$42+IF($B$59<>CR$31,SUM($C$33:CR$35),0))*$B60)))","v":0},{"$f":"IF((-CS$14-CS$59-CS$69-CS$79)<=0,0,IF($B$14=\"As Received\",MIN(CS$42*$B60,(-CS$14-CS$59-CS$69-CS$79)*$B60),MIN((-CS$14-CS$59-CS$69-CS$79)*$B60,(CS$42+IF($B$59<>CS$31,SUM($C$33:CS$35),0))*$B60)))","v":0},{"$f":"IF((-CT$14-CT$59-CT$69-CT$79)<=0,0,IF($B$14=\"As Received\",MIN(CT$42*$B60,(-CT$14-CT$59-CT$69-CT$79)*$B60),MIN((-CT$14-CT$59-CT$69-CT$79)*$B60,(CT$42+IF($B$59<>CT$31,SUM($C$33:CT$35),0))*$B60)))","v":0},{"$f":"IF((-CU$14-CU$59-CU$69-CU$79)<=0,0,IF($B$14=\"As Received\",MIN(CU$42*$B60,(-CU$14-CU$59-CU$69-CU$79)*$B60),MIN((-CU$14-CU$59-CU$69-CU$79)*$B60,(CU$42+IF($B$59<>CU$31,SUM($C$33:CU$35),0))*$B60)))","v":0},{"$f":"IF((-CV$14-CV$59-CV$69-CV$79)<=0,0,IF($B$14=\"As Received\",MIN(CV$42*$B60,(-CV$14-CV$59-CV$69-CV$79)*$B60),MIN((-CV$14-CV$59-CV$69-CV$79)*$B60,(CV$42+IF($B$59<>CV$31,SUM($C$33:CV$35),0))*$B60)))","v":0},{"$f":"IF((-CW$14-CW$59-CW$69-CW$79)<=0,0,IF($B$14=\"As Received\",MIN(CW$42*$B60,(-CW$14-CW$59-CW$69-CW$79)*$B60),MIN((-CW$14-CW$59-CW$69-CW$79)*$B60,(CW$42+IF($B$59<>CW$31,SUM($C$33:CW$35),0))*$B60)))","v":0},{"$f":"IF((-CX$14-CX$59-CX$69-CX$79)<=0,0,IF($B$14=\"As Received\",MIN(CX$42*$B60,(-CX$14-CX$59-CX$69-CX$79)*$B60),MIN((-CX$14-CX$59-CX$69-CX$79)*$B60,(CX$42+IF($B$59<>CX$31,SUM($C$33:CX$35),0))*$B60)))","v":0},{"$f":"IF((-CY$14-CY$59-CY$69-CY$79)<=0,0,IF($B$14=\"As Received\",MIN(CY$42*$B60,(-CY$14-CY$59-CY$69-CY$79)*$B60),MIN((-CY$14-CY$59-CY$69-CY$79)*$B60,(CY$42+IF($B$59<>CY$31,SUM($C$33:CY$35),0))*$B60)))","v":0},{"$f":"IF((-CZ$14-CZ$59-CZ$69-CZ$79)<=0,0,IF($B$14=\"As Received\",MIN(CZ$42*$B60,(-CZ$14-CZ$59-CZ$69-CZ$79)*$B60),MIN((-CZ$14-CZ$59-CZ$69-CZ$79)*$B60,(CZ$42+IF($B$59<>CZ$31,SUM($C$33:CZ$35),0))*$B60)))","v":0},{"$f":"IF((-DA$14-DA$59-DA$69-DA$79)<=0,0,IF($B$14=\"As Received\",MIN(DA$42*$B60,(-DA$14-DA$59-DA$69-DA$79)*$B60),MIN((-DA$14-DA$59-DA$69-DA$79)*$B60,(DA$42+IF($B$59<>DA$31,SUM($C$33:DA$35),0))*$B60)))","v":0},{"$f":"IF((-DB$14-DB$59-DB$69-DB$79)<=0,0,IF($B$14=\"As Received\",MIN(DB$42*$B60,(-DB$14-DB$59-DB$69-DB$79)*$B60),MIN((-DB$14-DB$59-DB$69-DB$79)*$B60,(DB$42+IF($B$59<>DB$31,SUM($C$33:DB$35),0))*$B60)))","v":0},{"$f":"IF((-DC$14-DC$59-DC$69-DC$79)<=0,0,IF($B$14=\"As Received\",MIN(DC$42*$B60,(-DC$14-DC$59-DC$69-DC$79)*$B60),MIN((-DC$14-DC$59-DC$69-DC$79)*$B60,(DC$42+IF($B$59<>DC$31,SUM($C$33:DC$35),0))*$B60)))","v":0},{"$f":"IF((-DD$14-DD$59-DD$69-DD$79)<=0,0,IF($B$14=\"As Received\",MIN(DD$42*$B60,(-DD$14-DD$59-DD$69-DD$79)*$B60),MIN((-DD$14-DD$59-DD$69-DD$79)*$B60,(DD$42+IF($B$59<>DD$31,SUM($C$33:DD$35),0))*$B60)))","v":0},{"$f":"IF((-DE$14-DE$59-DE$69-DE$79)<=0,0,IF($B$14=\"As Received\",MIN(DE$42*$B60,(-DE$14-DE$59-DE$69-DE$79)*$B60),MIN((-DE$14-DE$59-DE$69-DE$79)*$B60,(DE$42+IF($B$59<>DE$31,SUM($C$33:DE$35),0))*$B60)))","v":0},{"$f":"IF((-DF$14-DF$59-DF$69-DF$79)<=0,0,IF($B$14=\"As Received\",MIN(DF$42*$B60,(-DF$14-DF$59-DF$69-DF$79)*$B60),MIN((-DF$14-DF$59-DF$69-DF$79)*$B60,(DF$42+IF($B$59<>DF$31,SUM($C$33:DF$35),0))*$B60)))","v":0},{"$f":"IF((-DG$14-DG$59-DG$69-DG$79)<=0,0,IF($B$14=\"As Received\",MIN(DG$42*$B60,(-DG$14-DG$59-DG$69-DG$79)*$B60),MIN((-DG$14-DG$59-DG$69-DG$79)*$B60,(DG$42+IF($B$59<>DG$31,SUM($C$33:DG$35),0))*$B60)))","v":0},{"$f":"IF((-DH$14-DH$59-DH$69-DH$79)<=0,0,IF($B$14=\"As Received\",MIN(DH$42*$B60,(-DH$14-DH$59-DH$69-DH$79)*$B60),MIN((-DH$14-DH$59-DH$69-DH$79)*$B60,(DH$42+IF($B$59<>DH$31,SUM($C$33:DH$35),0))*$B60)))","v":0},{"$f":"IF((-DI$14-DI$59-DI$69-DI$79)<=0,0,IF($B$14=\"As Received\",MIN(DI$42*$B60,(-DI$14-DI$59-DI$69-DI$79)*$B60),MIN((-DI$14-DI$59-DI$69-DI$79)*$B60,(DI$42+IF($B$59<>DI$31,SUM($C$33:DI$35),0))*$B60)))","v":0},{"$f":"IF((-DJ$14-DJ$59-DJ$69-DJ$79)<=0,0,IF($B$14=\"As Received\",MIN(DJ$42*$B60,(-DJ$14-DJ$59-DJ$69-DJ$79)*$B60),MIN((-DJ$14-DJ$59-DJ$69-DJ$79)*$B60,(DJ$42+IF($B$59<>DJ$31,SUM($C$33:DJ$35),0))*$B60)))","v":0},{"$f":"IF((-DK$14-DK$59-DK$69-DK$79)<=0,0,IF($B$14=\"As Received\",MIN(DK$42*$B60,(-DK$14-DK$59-DK$69-DK$79)*$B60),MIN((-DK$14-DK$59-DK$69-DK$79)*$B60,(DK$42+IF($B$59<>DK$31,SUM($C$33:DK$35),0))*$B60)))","v":0},{"$f":"IF((-DL$14-DL$59-DL$69-DL$79)<=0,0,IF($B$14=\"As Received\",MIN(DL$42*$B60,(-DL$14-DL$59-DL$69-DL$79)*$B60),MIN((-DL$14-DL$59-DL$69-DL$79)*$B60,(DL$42+IF($B$59<>DL$31,SUM($C$33:DL$35),0))*$B60)))","v":0},{"$f":"IF((-DM$14-DM$59-DM$69-DM$79)<=0,0,IF($B$14=\"As Received\",MIN(DM$42*$B60,(-DM$14-DM$59-DM$69-DM$79)*$B60),MIN((-DM$14-DM$59-DM$69-DM$79)*$B60,(DM$42+IF($B$59<>DM$31,SUM($C$33:DM$35),0))*$B60)))","v":0},{"$f":"IF((-DN$14-DN$59-DN$69-DN$79)<=0,0,IF($B$14=\"As Received\",MIN(DN$42*$B60,(-DN$14-DN$59-DN$69-DN$79)*$B60),MIN((-DN$14-DN$59-DN$69-DN$79)*$B60,(DN$42+IF($B$59<>DN$31,SUM($C$33:DN$35),0))*$B60)))","v":0},{"$f":"IF((-DO$14-DO$59-DO$69-DO$79)<=0,0,IF($B$14=\"As Received\",MIN(DO$42*$B60,(-DO$14-DO$59-DO$69-DO$79)*$B60),MIN((-DO$14-DO$59-DO$69-DO$79)*$B60,(DO$42+IF($B$59<>DO$31,SUM($C$33:DO$35),0))*$B60)))","v":0},{"$f":"IF((-DP$14-DP$59-DP$69-DP$79)<=0,0,IF($B$14=\"As Received\",MIN(DP$42*$B60,(-DP$14-DP$59-DP$69-DP$79)*$B60),MIN((-DP$14-DP$59-DP$69-DP$79)*$B60,(DP$42+IF($B$59<>DP$31,SUM($C$33:DP$35),0))*$B60)))","v":0},{"$f":"IF((-DQ$14-DQ$59-DQ$69-DQ$79)<=0,0,IF($B$14=\"As Received\",MIN(DQ$42*$B60,(-DQ$14-DQ$59-DQ$69-DQ$79)*$B60),MIN((-DQ$14-DQ$59-DQ$69-DQ$79)*$B60,(DQ$42+IF($B$59<>DQ$31,SUM($C$33:DQ$35),0))*$B60)))","v":0},{"$f":"IF((-DR$14-DR$59-DR$69-DR$79)<=0,0,IF($B$14=\"As Received\",MIN(DR$42*$B60,(-DR$14-DR$59-DR$69-DR$79)*$B60),MIN((-DR$14-DR$59-DR$69-DR$79)*$B60,(DR$42+IF($B$59<>DR$31,SUM($C$33:DR$35),0))*$B60)))","v":0},{"$f":"IF((-DS$14-DS$59-DS$69-DS$79)<=0,0,IF($B$14=\"As Received\",MIN(DS$42*$B60,(-DS$14-DS$59-DS$69-DS$79)*$B60),MIN((-DS$14-DS$59-DS$69-DS$79)*$B60,(DS$42+IF($B$59<>DS$31,SUM($C$33:DS$35),0))*$B60)))","v":0}]
[{"$f":"A44","v":"Tier 2 Preferred Return"},{"$f":"E26","v":0.3856},{"$f":"IF((-C$14-C$59-C$69-C$79-C$60-C$70-C$80)<=0,0,IF($B$14=\"As Received\",MIN(C$48*$B61,(-C$14-C$59-C$69-C$79-C$60-C$70-C$80)*$B61),MIN((-C$14-C$59-C$69-C$79-C$60-C$70-C$80)*$B61,(C$48+IF($B$59<>C$31,SUM($C$33:C$35),0))*$B61)))","v":0},{"$f":"IF((-D$14-D$59-D$69-D$79-D$60-D$70-D$80)<=0,0,IF($B$14=\"As Received\",MIN(D$48*$B61,(-D$14-D$59-D$69-D$79-D$60-D$70-D$80)*$B61),MIN((-D$14-D$59-D$69-D$79-D$60-D$70-D$80)*$B61,(D$48+IF($B$59<>D$31,SUM($C$33:D$35),0))*$B61)))","v":0},{"$f":"IF((-E$14-E$59-E$69-E$79-E$60-E$70-E$80)<=0,0,IF($B$14=\"As Received\",MIN(E$48*$B61,(-E$14-E$59-E$69-E$79-E$60-E$70-E$80)*$B61),MIN((-E$14-E$59-E$69-E$79-E$60-E$70-E$80)*$B61,(E$48+IF($B$59<>E$31,SUM($C$33:E$35),0))*$B61)))","v":0},{"$f":"IF((-F$14-F$59-F$69-F$79-F$60-F$70-F$80)<=0,0,IF($B$14=\"As Received\",MIN(F$48*$B61,(-F$14-F$59-F$69-F$79-F$60-F$70-F$80)*$B61),MIN((-F$14-F$59-F$69-F$79-F$60-F$70-F$80)*$B61,(F$48+IF($B$59<>F$31,SUM($C$33:F$35),0))*$B61)))","v":0},{"$f":"IF((-G$14-G$59-G$69-G$79-G$60-G$70-G$80)<=0,0,IF($B$14=\"As Received\",MIN(G$48*$B61,(-G$14-G$59-G$69-G$79-G$60-G$70-G$80)*$B61),MIN((-G$14-G$59-G$69-G$79-G$60-G$70-G$80)*$B61,(G$48+IF($B$59<>G$31,SUM($C$33:G$35),0))*$B61)))","v":0},{"$f":"IF((-H$14-H$59-H$69-H$79-H$60-H$70-H$80)<=0,0,IF($B$14=\"As Received\",MIN(H$48*$B61,(-H$14-H$59-H$69-H$79-H$60-H$70-H$80)*$B61),MIN((-H$14-H$59-H$69-H$79-H$60-H$70-H$80)*$B61,(H$48+IF($B$59<>H$31,SUM($C$33:H$35),0))*$B61)))","v":0},{"$f":"IF((-I$14-I$59-I$69-I$79-I$60-I$70-I$80)<=0,0,IF($B$14=\"As Received\",MIN(I$48*$B61,(-I$14-I$59-I$69-I$79-I$60-I$70-I$80)*$B61),MIN((-I$14-I$59-I$69-I$79-I$60-I$70-I$80)*$B61,(I$48+IF($B$59<>I$31,SUM($C$33:I$35),0))*$B61)))","v":0},{"$f":"IF((-J$14-J$59-J$69-J$79-J$60-J$70-J$80)<=0,0,IF($B$14=\"As Received\",MIN(J$48*$B61,(-J$14-J$59-J$69-J$79-J$60-J$70-J$80)*$B61),MIN((-J$14-J$59-J$69-J$79-J$60-J$70-J$80)*$B61,(J$48+IF($B$59<>J$31,SUM($C$33:J$35),0))*$B61)))","v":0},{"$f":"IF((-K$14-K$59-K$69-K$79-K$60-K$70-K$80)<=0,0,IF($B$14=\"As Received\",MIN(K$48*$B61,(-K$14-K$59-K$69-K$79-K$60-K$70-K$80)*$B61),MIN((-K$14-K$59-K$69-K$79-K$60-K$70-K$80)*$B61,(K$48+IF($B$59<>K$31,SUM($C$33:K$35),0))*$B61)))","v":0},{"$f":"IF((-L$14-L$59-L$69-L$79-L$60-L$70-L$80)<=0,0,IF($B$14=\"As Received\",MIN(L$48*$B61,(-L$14-L$59-L$69-L$79-L$60-L$70-L$80)*$B61),MIN((-L$14-L$59-L$69-L$79-L$60-L$70-L$80)*$B61,(L$48+IF($B$59<>L$31,SUM($C$33:L$35),0))*$B61)))","v":0},{"$f":"IF((-M$14-M$59-M$69-M$79-M$60-M$70-M$80)<=0,0,IF($B$14=\"As Received\",MIN(M$48*$B61,(-M$14-M$59-M$69-M$79-M$60-M$70-M$80)*$B61),MIN((-M$14-M$59-M$69-M$79-M$60-M$70-M$80)*$B61,(M$48+IF($B$59<>M$31,SUM($C$33:M$35),0))*$B61)))","v":0},{"$f":"IF((-N$14-N$59-N$69-N$79-N$60-N$70-N$80)<=0,0,IF($B$14=\"As Received\",MIN(N$48*$B61,(-N$14-N$59-N$69-N$79-N$60-N$70-N$80)*$B61),MIN((-N$14-N$59-N$69-N$79-N$60-N$70-N$80)*$B61,(N$48+IF($B$59<>N$31,SUM($C$33:N$35),0))*$B61)))","v":0},{"$f":"IF((-O$14-O$59-O$69-O$79-O$60-O$70-O$80)<=0,0,IF($B$14=\"As Received\",MIN(O$48*$B61,(-O$14-O$59-O$69-O$79-O$60-O$70-O$80)*$B61),MIN((-O$14-O$59-O$69-O$79-O$60-O$70-O$80)*$B61,(O$48+IF($B$59<>O$31,SUM($C$33:O$35),0))*$B61)))","v":0},{"$f":"IF((-P$14-P$59-P$69-P$79-P$60-P$70-P$80)<=0,0,IF($B$14=\"As Received\",MIN(P$48*$B61,(-P$14-P$59-P$69-P$79-P$60-P$70-P$80)*$B61),MIN((-P$14-P$59-P$69-P$79-P$60-P$70-P$80)*$B61,(P$48+IF($B$59<>P$31,SUM($C$33:P$35),0))*$B61)))","v":0},{"$f":"IF((-Q$14-Q$59-Q$69-Q$79-Q$60-Q$70-Q$80)<=0,0,IF($B$14=\"As Received\",MIN(Q$48*$B61,(-Q$14-Q$59-Q$69-Q$79-Q$60-Q$70-Q$80)*$B61),MIN((-Q$14-Q$59-Q$69-Q$79-Q$60-Q$70-Q$80)*$B61,(Q$48+IF($B$59<>Q$31,SUM($C$33:Q$35),0))*$B61)))","v":0},{"$f":"IF((-R$14-R$59-R$69-R$79-R$60-R$70-R$80)<=0,0,IF($B$14=\"As Received\",MIN(R$48*$B61,(-R$14-R$59-R$69-R$79-R$60-R$70-R$80)*$B61),MIN((-R$14-R$59-R$69-R$79-R$60-R$70-R$80)*$B61,(R$48+IF($B$59<>R$31,SUM($C$33:R$35),0))*$B61)))","v":0},{"$f":"IF((-S$14-S$59-S$69-S$79-S$60-S$70-S$80)<=0,0,IF($B$14=\"As Received\",MIN(S$48*$B61,(-S$14-S$59-S$69-S$79-S$60-S$70-S$80)*$B61),MIN((-S$14-S$59-S$69-S$79-S$60-S$70-S$80)*$B61,(S$48+IF($B$59<>S$31,SUM($C$33:S$35),0))*$B61)))","v":0},{"$f":"IF((-T$14-T$59-T$69-T$79-T$60-T$70-T$80)<=0,0,IF($B$14=\"As Received\",MIN(T$48*$B61,(-T$14-T$59-T$69-T$79-T$60-T$70-T$80)*$B61),MIN((-T$14-T$59-T$69-T$79-T$60-T$70-T$80)*$B61,(T$48+IF($B$59<>T$31,SUM($C$33:T$35),0))*$B61)))","v":0},{"$f":"IF((-U$14-U$59-U$69-U$79-U$60-U$70-U$80)<=0,0,IF($B$14=\"As Received\",MIN(U$48*$B61,(-U$14-U$59-U$69-U$79-U$60-U$70-U$80)*$B61),MIN((-U$14-U$59-U$69-U$79-U$60-U$70-U$80)*$B61,(U$48+IF($B$59<>U$31,SUM($C$33:U$35),0))*$B61)))","v":0},{"$f":"IF((-V$14-V$59-V$69-V$79-V$60-V$70-V$80)<=0,0,IF($B$14=\"As Received\",MIN(V$48*$B61,(-V$14-V$59-V$69-V$79-V$60-V$70-V$80)*$B61),MIN((-V$14-V$59-V$69-V$79-V$60-V$70-V$80)*$B61,(V$48+IF($B$59<>V$31,SUM($C$33:V$35),0))*$B61)))","v":0},{"$f":"IF((-W$14-W$59-W$69-W$79-W$60-W$70-W$80)<=0,0,IF($B$14=\"As Received\",MIN(W$48*$B61,(-W$14-W$59-W$69-W$79-W$60-W$70-W$80)*$B61),MIN((-W$14-W$59-W$69-W$79-W$60-W$70-W$80)*$B61,(W$48+IF($B$59<>W$31,SUM($C$33:W$35),0))*$B61)))","v":0},{"$f":"IF((-X$14-X$59-X$69-X$79-X$60-X$70-X$80)<=0,0,IF($B$14=\"As Received\",MIN(X$48*$B61,(-X$14-X$59-X$69-X$79-X$60-X$70-X$80)*$B61),MIN((-X$14-X$59-X$69-X$79-X$60-X$70-X$80)*$B61,(X$48+IF($B$59<>X$31,SUM($C$33:X$35),0))*$B61)))","v":0},{"$f":"IF((-Y$14-Y$59-Y$69-Y$79-Y$60-Y$70-Y$80)<=0,0,IF($B$14=\"As Received\",MIN(Y$48*$B61,(-Y$14-Y$59-Y$69-Y$79-Y$60-Y$70-Y$80)*$B61),MIN((-Y$14-Y$59-Y$69-Y$79-Y$60-Y$70-Y$80)*$B61,(Y$48+IF($B$59<>Y$31,SUM($C$33:Y$35),0))*$B61)))","v":0},{"$f":"IF((-Z$14-Z$59-Z$69-Z$79-Z$60-Z$70-Z$80)<=0,0,IF($B$14=\"As Received\",MIN(Z$48*$B61,(-Z$14-Z$59-Z$69-Z$79-Z$60-Z$70-Z$80)*$B61),MIN((-Z$14-Z$59-Z$69-Z$79-Z$60-Z$70-Z$80)*$B61,(Z$48+IF($B$59<>Z$31,SUM($C$33:Z$35),0))*$B61)))","v":0},{"$f":"IF((-AA$14-AA$59-AA$69-AA$79-AA$60-AA$70-AA$80)<=0,0,IF($B$14=\"As Received\",MIN(AA$48*$B61,(-AA$14-AA$59-AA$69-AA$79-AA$60-AA$70-AA$80)*$B61),MIN((-AA$14-AA$59-AA$69-AA$79-AA$60-AA$70-AA$80)*$B61,(AA$48+IF($B$59<>AA$31,SUM($C$33:AA$35),0))*$B61)))","v":0},{"$f":"IF((-AB$14-AB$59-AB$69-AB$79-AB$60-AB$70-AB$80)<=0,0,IF($B$14=\"As Received\",MIN(AB$48*$B61,(-AB$14-AB$59-AB$69-AB$79-AB$60-AB$70-AB$80)*$B61),MIN((-AB$14-AB$59-AB$69-AB$79-AB$60-AB$70-AB$80)*$B61,(AB$48+IF($B$59<>AB$31,SUM($C$33:AB$35),0))*$B61)))","v":0},{"$f":"IF((-AC$14-AC$59-AC$69-AC$79-AC$60-AC$70-AC$80)<=0,0,IF($B$14=\"As Received\",MIN(AC$48*$B61,(-AC$14-AC$59-AC$69-AC$79-AC$60-AC$70-AC$80)*$B61),MIN((-AC$14-AC$59-AC$69-AC$79-AC$60-AC$70-AC$80)*$B61,(AC$48+IF($B$59<>AC$31,SUM($C$33:AC$35),0))*$B61)))","v":0},{"$f":"IF((-AD$14-AD$59-AD$69-AD$79-AD$60-AD$70-AD$80)<=0,0,IF($B$14=\"As Received\",MIN(AD$48*$B61,(-AD$14-AD$59-AD$69-AD$79-AD$60-AD$70-AD$80)*$B61),MIN((-AD$14-AD$59-AD$69-AD$79-AD$60-AD$70-AD$80)*$B61,(AD$48+IF($B$59<>AD$31,SUM($C$33:AD$35),0))*$B61)))","v":0},{"$f":"IF((-AE$14-AE$59-AE$69-AE$79-AE$60-AE$70-AE$80)<=0,0,IF($B$14=\"As Received\",MIN(AE$48*$B61,(-AE$14-AE$59-AE$69-AE$79-AE$60-AE$70-AE$80)*$B61),MIN((-AE$14-AE$59-AE$69-AE$79-AE$60-AE$70-AE$80)*$B61,(AE$48+IF($B$59<>AE$31,SUM($C$33:AE$35),0))*$B61)))","v":0},{"$f":"IF((-AF$14-AF$59-AF$69-AF$79-AF$60-AF$70-AF$80)<=0,0,IF($B$14=\"As Received\",MIN(AF$48*$B61,(-AF$14-AF$59-AF$69-AF$79-AF$60-AF$70-AF$80)*$B61),MIN((-AF$14-AF$59-AF$69-AF$79-AF$60-AF$70-AF$80)*$B61,(AF$48+IF($B$59<>AF$31,SUM($C$33:AF$35),0))*$B61)))","v":0},{"$f":"IF((-AG$14-AG$59-AG$69-AG$79-AG$60-AG$70-AG$80)<=0,0,IF($B$14=\"As Received\",MIN(AG$48*$B61,(-AG$14-AG$59-AG$69-AG$79-AG$60-AG$70-AG$80)*$B61),MIN((-AG$14-AG$59-AG$69-AG$79-AG$60-AG$70-AG$80)*$B61,(AG$48+IF($B$59<>AG$31,SUM($C$33:AG$35),0))*$B61)))","v":0},{"$f":"IF((-AH$14-AH$59-AH$69-AH$79-AH$60-AH$70-AH$80)<=0,0,IF($B$14=\"As Received\",MIN(AH$48*$B61,(-AH$14-AH$59-AH$69-AH$79-AH$60-AH$70-AH$80)*$B61),MIN((-AH$14-AH$59-AH$69-AH$79-AH$60-AH$70-AH$80)*$B61,(AH$48+IF($B$59<>AH$31,SUM($C$33:AH$35),0))*$B61)))","v":0},{"$f":"IF((-AI$14-AI$59-AI$69-AI$79-AI$60-AI$70-AI$80)<=0,0,IF($B$14=\"As Received\",MIN(AI$48*$B61,(-AI$14-AI$59-AI$69-AI$79-AI$60-AI$70-AI$80)*$B61),MIN((-AI$14-AI$59-AI$69-AI$79-AI$60-AI$70-AI$80)*$B61,(AI$48+IF($B$59<>AI$31,SUM($C$33:AI$35),0))*$B61)))","v":0},{"$f":"IF((-AJ$14-AJ$59-AJ$69-AJ$79-AJ$60-AJ$70-AJ$80)<=0,0,IF($B$14=\"As Received\",MIN(AJ$48*$B61,(-AJ$14-AJ$59-AJ$69-AJ$79-AJ$60-AJ$70-AJ$80)*$B61),MIN((-AJ$14-AJ$59-AJ$69-AJ$79-AJ$60-AJ$70-AJ$80)*$B61,(AJ$48+IF($B$59<>AJ$31,SUM($C$33:AJ$35),0))*$B61)))","v":0},{"$f":"IF((-AK$14-AK$59-AK$69-AK$79-AK$60-AK$70-AK$80)<=0,0,IF($B$14=\"As Received\",MIN(AK$48*$B61,(-AK$14-AK$59-AK$69-AK$79-AK$60-AK$70-AK$80)*$B61),MIN((-AK$14-AK$59-AK$69-AK$79-AK$60-AK$70-AK$80)*$B61,(AK$48+IF($B$59<>AK$31,SUM($C$33:AK$35),0))*$B61)))","v":0},{"$f":"IF((-AL$14-AL$59-AL$69-AL$79-AL$60-AL$70-AL$80)<=0,0,IF($B$14=\"As Received\",MIN(AL$48*$B61,(-AL$14-AL$59-AL$69-AL$79-AL$60-AL$70-AL$80)*$B61),MIN((-AL$14-AL$59-AL$69-AL$79-AL$60-AL$70-AL$80)*$B61,(AL$48+IF($B$59<>AL$31,SUM($C$33:AL$35),0))*$B61)))","v":0},{"$f":"IF((-AM$14-AM$59-AM$69-AM$79-AM$60-AM$70-AM$80)<=0,0,IF($B$14=\"As Received\",MIN(AM$48*$B61,(-AM$14-AM$59-AM$69-AM$79-AM$60-AM$70-AM$80)*$B61),MIN((-AM$14-AM$59-AM$69-AM$79-AM$60-AM$70-AM$80)*$B61,(AM$48+IF($B$59<>AM$31,SUM($C$33:AM$35),0))*$B61)))","v":0},{"$f":"IF((-AN$14-AN$59-AN$69-AN$79-AN$60-AN$70-AN$80)<=0,0,IF($B$14=\"As Received\",MIN(AN$48*$B61,(-AN$14-AN$59-AN$69-AN$79-AN$60-AN$70-AN$80)*$B61),MIN((-AN$14-AN$59-AN$69-AN$79-AN$60-AN$70-AN$80)*$B61,(AN$48+IF($B$59<>AN$31,SUM($C$33:AN$35),0))*$B61)))","v":0},{"$f":"IF((-AO$14-AO$59-AO$69-AO$79-AO$60-AO$70-AO$80)<=0,0,IF($B$14=\"As Received\",MIN(AO$48*$B61,(-AO$14-AO$59-AO$69-AO$79-AO$60-AO$70-AO$80)*$B61),MIN((-AO$14-AO$59-AO$69-AO$79-AO$60-AO$70-AO$80)*$B61,(AO$48+IF($B$59<>AO$31,SUM($C$33:AO$35),0))*$B61)))","v":0},{"$f":"IF((-AP$14-AP$59-AP$69-AP$79-AP$60-AP$70-AP$80)<=0,0,IF($B$14=\"As Received\",MIN(AP$48*$B61,(-AP$14-AP$59-AP$69-AP$79-AP$60-AP$70-AP$80)*$B61),MIN((-AP$14-AP$59-AP$69-AP$79-AP$60-AP$70-AP$80)*$B61,(AP$48+IF($B$59<>AP$31,SUM($C$33:AP$35),0))*$B61)))","v":0},{"$f":"IF((-AQ$14-AQ$59-AQ$69-AQ$79-AQ$60-AQ$70-AQ$80)<=0,0,IF($B$14=\"As Received\",MIN(AQ$48*$B61,(-AQ$14-AQ$59-AQ$69-AQ$79-AQ$60-AQ$70-AQ$80)*$B61),MIN((-AQ$14-AQ$59-AQ$69-AQ$79-AQ$60-AQ$70-AQ$80)*$B61,(AQ$48+IF($B$59<>AQ$31,SUM($C$33:AQ$35),0))*$B61)))","v":0},{"$f":"IF((-AR$14-AR$59-AR$69-AR$79-AR$60-AR$70-AR$80)<=0,0,IF($B$14=\"As Received\",MIN(AR$48*$B61,(-AR$14-AR$59-AR$69-AR$79-AR$60-AR$70-AR$80)*$B61),MIN((-AR$14-AR$59-AR$69-AR$79-AR$60-AR$70-AR$80)*$B61,(AR$48+IF($B$59<>AR$31,SUM($C$33:AR$35),0))*$B61)))","v":0},{"$f":"IF((-AS$14-AS$59-AS$69-AS$79-AS$60-AS$70-AS$80)<=0,0,IF($B$14=\"As Received\",MIN(AS$48*$B61,(-AS$14-AS$59-AS$69-AS$79-AS$60-AS$70-AS$80)*$B61),MIN((-AS$14-AS$59-AS$69-AS$79-AS$60-AS$70-AS$80)*$B61,(AS$48+IF($B$59<>AS$31,SUM($C$33:AS$35),0))*$B61)))","v":0},{"$f":"IF((-AT$14-AT$59-AT$69-AT$79-AT$60-AT$70-AT$80)<=0,0,IF($B$14=\"As Received\",MIN(AT$48*$B61,(-AT$14-AT$59-AT$69-AT$79-AT$60-AT$70-AT$80)*$B61),MIN((-AT$14-AT$59-AT$69-AT$79-AT$60-AT$70-AT$80)*$B61,(AT$48+IF($B$59<>AT$31,SUM($C$33:AT$35),0))*$B61)))","v":0},{"$f":"IF((-AU$14-AU$59-AU$69-AU$79-AU$60-AU$70-AU$80)<=0,0,IF($B$14=\"As Received\",MIN(AU$48*$B61,(-AU$14-AU$59-AU$69-AU$79-AU$60-AU$70-AU$80)*$B61),MIN((-AU$14-AU$59-AU$69-AU$79-AU$60-AU$70-AU$80)*$B61,(AU$48+IF($B$59<>AU$31,SUM($C$33:AU$35),0))*$B61)))","v":0},{"$f":"IF((-AV$14-AV$59-AV$69-AV$79-AV$60-AV$70-AV$80)<=0,0,IF($B$14=\"As Received\",MIN(AV$48*$B61,(-AV$14-AV$59-AV$69-AV$79-AV$60-AV$70-AV$80)*$B61),MIN((-AV$14-AV$59-AV$69-AV$79-AV$60-AV$70-AV$80)*$B61,(AV$48+IF($B$59<>AV$31,SUM($C$33:AV$35),0))*$B61)))","v":0},{"$f":"IF((-AW$14-AW$59-AW$69-AW$79-AW$60-AW$70-AW$80)<=0,0,IF($B$14=\"As Received\",MIN(AW$48*$B61,(-AW$14-AW$59-AW$69-AW$79-AW$60-AW$70-AW$80)*$B61),MIN((-AW$14-AW$59-AW$69-AW$79-AW$60-AW$70-AW$80)*$B61,(AW$48+IF($B$59<>AW$31,SUM($C$33:AW$35),0))*$B61)))","v":0},{"$f":"IF((-AX$14-AX$59-AX$69-AX$79-AX$60-AX$70-AX$80)<=0,0,IF($B$14=\"As Received\",MIN(AX$48*$B61,(-AX$14-AX$59-AX$69-AX$79-AX$60-AX$70-AX$80)*$B61),MIN((-AX$14-AX$59-AX$69-AX$79-AX$60-AX$70-AX$80)*$B61,(AX$48+IF($B$59<>AX$31,SUM($C$33:AX$35),0))*$B61)))","v":0},{"$f":"IF((-AY$14-AY$59-AY$69-AY$79-AY$60-AY$70-AY$80)<=0,0,IF($B$14=\"As Received\",MIN(AY$48*$B61,(-AY$14-AY$59-AY$69-AY$79-AY$60-AY$70-AY$80)*$B61),MIN((-AY$14-AY$59-AY$69-AY$79-AY$60-AY$70-AY$80)*$B61,(AY$48+IF($B$59<>AY$31,SUM($C$33:AY$35),0))*$B61)))","v":0},{"$f":"IF((-AZ$14-AZ$59-AZ$69-AZ$79-AZ$60-AZ$70-AZ$80)<=0,0,IF($B$14=\"As Received\",MIN(AZ$48*$B61,(-AZ$14-AZ$59-AZ$69-AZ$79-AZ$60-AZ$70-AZ$80)*$B61),MIN((-AZ$14-AZ$59-AZ$69-AZ$79-AZ$60-AZ$70-AZ$80)*$B61,(AZ$48+IF($B$59<>AZ$31,SUM($C$33:AZ$35),0))*$B61)))","v":0},{"$f":"IF((-BA$14-BA$59-BA$69-BA$79-BA$60-BA$70-BA$80)<=0,0,IF($B$14=\"As Received\",MIN(BA$48*$B61,(-BA$14-BA$59-BA$69-BA$79-BA$60-BA$70-BA$80)*$B61),MIN((-BA$14-BA$59-BA$69-BA$79-BA$60-BA$70-BA$80)*$B61,(BA$48+IF($B$59<>BA$31,SUM($C$33:BA$35),0))*$B61)))","v":0},{"$f":"IF((-BB$14-BB$59-BB$69-BB$79-BB$60-BB$70-BB$80)<=0,0,IF($B$14=\"As Received\",MIN(BB$48*$B61,(-BB$14-BB$59-BB$69-BB$79-BB$60-BB$70-BB$80)*$B61),MIN((-BB$14-BB$59-BB$69-BB$79-BB$60-BB$70-BB$80)*$B61,(BB$48+IF($B$59<>BB$31,SUM($C$33:BB$35),0))*$B61)))","v":0},{"$f":"IF((-BC$14-BC$59-BC$69-BC$79-BC$60-BC$70-BC$80)<=0,0,IF($B$14=\"As Received\",MIN(BC$48*$B61,(-BC$14-BC$59-BC$69-BC$79-BC$60-BC$70-BC$80)*$B61),MIN((-BC$14-BC$59-BC$69-BC$79-BC$60-BC$70-BC$80)*$B61,(BC$48+IF($B$59<>BC$31,SUM($C$33:BC$35),0))*$B61)))","v":0},{"$f":"IF((-BD$14-BD$59-BD$69-BD$79-BD$60-BD$70-BD$80)<=0,0,IF($B$14=\"As Received\",MIN(BD$48*$B61,(-BD$14-BD$59-BD$69-BD$79-BD$60-BD$70-BD$80)*$B61),MIN((-BD$14-BD$59-BD$69-BD$79-BD$60-BD$70-BD$80)*$B61,(BD$48+IF($B$59<>BD$31,SUM($C$33:BD$35),0))*$B61)))","v":0},{"$f":"IF((-BE$14-BE$59-BE$69-BE$79-BE$60-BE$70-BE$80)<=0,0,IF($B$14=\"As Received\",MIN(BE$48*$B61,(-BE$14-BE$59-BE$69-BE$79-BE$60-BE$70-BE$80)*$B61),MIN((-BE$14-BE$59-BE$69-BE$79-BE$60-BE$70-BE$80)*$B61,(BE$48+IF($B$59<>BE$31,SUM($C$33:BE$35),0))*$B61)))","v":0},{"$f":"IF((-BF$14-BF$59-BF$69-BF$79-BF$60-BF$70-BF$80)<=0,0,IF($B$14=\"As Received\",MIN(BF$48*$B61,(-BF$14-BF$59-BF$69-BF$79-BF$60-BF$70-BF$80)*$B61),MIN((-BF$14-BF$59-BF$69-BF$79-BF$60-BF$70-BF$80)*$B61,(BF$48+IF($B$59<>BF$31,SUM($C$33:BF$35),0))*$B61)))","v":0},{"$f":"IF((-BG$14-BG$59-BG$69-BG$79-BG$60-BG$70-BG$80)<=0,0,IF($B$14=\"As Received\",MIN(BG$48*$B61,(-BG$14-BG$59-BG$69-BG$79-BG$60-BG$70-BG$80)*$B61),MIN((-BG$14-BG$59-BG$69-BG$79-BG$60-BG$70-BG$80)*$B61,(BG$48+IF($B$59<>BG$31,SUM($C$33:BG$35),0))*$B61)))","v":0},{"$f":"IF((-BH$14-BH$59-BH$69-BH$79-BH$60-BH$70-BH$80)<=0,0,IF($B$14=\"As Received\",MIN(BH$48*$B61,(-BH$14-BH$59-BH$69-BH$79-BH$60-BH$70-BH$80)*$B61),MIN((-BH$14-BH$59-BH$69-BH$79-BH$60-BH$70-BH$80)*$B61,(BH$48+IF($B$59<>BH$31,SUM($C$33:BH$35),0))*$B61)))","v":0},{"$f":"IF((-BI$14-BI$59-BI$69-BI$79-BI$60-BI$70-BI$80)<=0,0,IF($B$14=\"As Received\",MIN(BI$48*$B61,(-BI$14-BI$59-BI$69-BI$79-BI$60-BI$70-BI$80)*$B61),MIN((-BI$14-BI$59-BI$69-BI$79-BI$60-BI$70-BI$80)*$B61,(BI$48+IF($B$59<>BI$31,SUM($C$33:BI$35),0))*$B61)))","v":0},{"$f":"IF((-BJ$14-BJ$59-BJ$69-BJ$79-BJ$60-BJ$70-BJ$80)<=0,0,IF($B$14=\"As Received\",MIN(BJ$48*$B61,(-BJ$14-BJ$59-BJ$69-BJ$79-BJ$60-BJ$70-BJ$80)*$B61),MIN((-BJ$14-BJ$59-BJ$69-BJ$79-BJ$60-BJ$70-BJ$80)*$B61,(BJ$48+IF($B$59<>BJ$31,SUM($C$33:BJ$35),0))*$B61)))","v":0},{"$f":"IF((-BK$14-BK$59-BK$69-BK$79-BK$60-BK$70-BK$80)<=0,0,IF($B$14=\"As Received\",MIN(BK$48*$B61,(-BK$14-BK$59-BK$69-BK$79-BK$60-BK$70-BK$80)*$B61),MIN((-BK$14-BK$59-BK$69-BK$79-BK$60-BK$70-BK$80)*$B61,(BK$48+IF($B$59<>BK$31,SUM($C$33:BK$35),0))*$B61)))","v":0},{"$f":"IF((-BL$14-BL$59-BL$69-BL$79-BL$60-BL$70-BL$80)<=0,0,IF($B$14=\"As Received\",MIN(BL$48*$B61,(-BL$14-BL$59-BL$69-BL$79-BL$60-BL$70-BL$80)*$B61),MIN((-BL$14-BL$59-BL$69-BL$79-BL$60-BL$70-BL$80)*$B61,(BL$48+IF($B$59<>BL$31,SUM($C$33:BL$35),0))*$B61)))","v":0},{"$f":"IF((-BM$14-BM$59-BM$69-BM$79-BM$60-BM$70-BM$80)<=0,0,IF($B$14=\"As Received\",MIN(BM$48*$B61,(-BM$14-BM$59-BM$69-BM$79-BM$60-BM$70-BM$80)*$B61),MIN((-BM$14-BM$59-BM$69-BM$79-BM$60-BM$70-BM$80)*$B61,(BM$48+IF($B$59<>BM$31,SUM($C$33:BM$35),0))*$B61)))","v":0},{"$f":"IF((-BN$14-BN$59-BN$69-BN$79-BN$60-BN$70-BN$80)<=0,0,IF($B$14=\"As Received\",MIN(BN$48*$B61,(-BN$14-BN$59-BN$69-BN$79-BN$60-BN$70-BN$80)*$B61),MIN((-BN$14-BN$59-BN$69-BN$79-BN$60-BN$70-BN$80)*$B61,(BN$48+IF($B$59<>BN$31,SUM($C$33:BN$35),0))*$B61)))","v":0},{"$f":"IF((-BO$14-BO$59-BO$69-BO$79-BO$60-BO$70-BO$80)<=0,0,IF($B$14=\"As Received\",MIN(BO$48*$B61,(-BO$14-BO$59-BO$69-BO$79-BO$60-BO$70-BO$80)*$B61),MIN((-BO$14-BO$59-BO$69-BO$79-BO$60-BO$70-BO$80)*$B61,(BO$48+IF($B$59<>BO$31,SUM($C$33:BO$35),0))*$B61)))","v":0},{"$f":"IF((-BP$14-BP$59-BP$69-BP$79-BP$60-BP$70-BP$80)<=0,0,IF($B$14=\"As Received\",MIN(BP$48*$B61,(-BP$14-BP$59-BP$69-BP$79-BP$60-BP$70-BP$80)*$B61),MIN((-BP$14-BP$59-BP$69-BP$79-BP$60-BP$70-BP$80)*$B61,(BP$48+IF($B$59<>BP$31,SUM($C$33:BP$35),0))*$B61)))","v":0},{"$f":"IF((-BQ$14-BQ$59-BQ$69-BQ$79-BQ$60-BQ$70-BQ$80)<=0,0,IF($B$14=\"As Received\",MIN(BQ$48*$B61,(-BQ$14-BQ$59-BQ$69-BQ$79-BQ$60-BQ$70-BQ$80)*$B61),MIN((-BQ$14-BQ$59-BQ$69-BQ$79-BQ$60-BQ$70-BQ$80)*$B61,(BQ$48+IF($B$59<>BQ$31,SUM($C$33:BQ$35),0))*$B61)))","v":0},{"$f":"IF((-BR$14-BR$59-BR$69-BR$79-BR$60-BR$70-BR$80)<=0,0,IF($B$14=\"As Received\",MIN(BR$48*$B61,(-BR$14-BR$59-BR$69-BR$79-BR$60-BR$70-BR$80)*$B61),MIN((-BR$14-BR$59-BR$69-BR$79-BR$60-BR$70-BR$80)*$B61,(BR$48+IF($B$59<>BR$31,SUM($C$33:BR$35),0))*$B61)))","v":0},{"$f":"IF((-BS$14-BS$59-BS$69-BS$79-BS$60-BS$70-BS$80)<=0,0,IF($B$14=\"As Received\",MIN(BS$48*$B61,(-BS$14-BS$59-BS$69-BS$79-BS$60-BS$70-BS$80)*$B61),MIN((-BS$14-BS$59-BS$69-BS$79-BS$60-BS$70-BS$80)*$B61,(BS$48+IF($B$59<>BS$31,SUM($C$33:BS$35),0))*$B61)))","v":0},{"$f":"IF((-BT$14-BT$59-BT$69-BT$79-BT$60-BT$70-BT$80)<=0,0,IF($B$14=\"As Received\",MIN(BT$48*$B61,(-BT$14-BT$59-BT$69-BT$79-BT$60-BT$70-BT$80)*$B61),MIN((-BT$14-BT$59-BT$69-BT$79-BT$60-BT$70-BT$80)*$B61,(BT$48+IF($B$59<>BT$31,SUM($C$33:BT$35),0))*$B61)))","v":0},{"$f":"IF((-BU$14-BU$59-BU$69-BU$79-BU$60-BU$70-BU$80)<=0,0,IF($B$14=\"As Received\",MIN(BU$48*$B61,(-BU$14-BU$59-BU$69-BU$79-BU$60-BU$70-BU$80)*$B61),MIN((-BU$14-BU$59-BU$69-BU$79-BU$60-BU$70-BU$80)*$B61,(BU$48+IF($B$59<>BU$31,SUM($C$33:BU$35),0))*$B61)))","v":0},{"$f":"IF((-BV$14-BV$59-BV$69-BV$79-BV$60-BV$70-BV$80)<=0,0,IF($B$14=\"As Received\",MIN(BV$48*$B61,(-BV$14-BV$59-BV$69-BV$79-BV$60-BV$70-BV$80)*$B61),MIN((-BV$14-BV$59-BV$69-BV$79-BV$60-BV$70-BV$80)*$B61,(BV$48+IF($B$59<>BV$31,SUM($C$33:BV$35),0))*$B61)))","v":0},{"$f":"IF((-BW$14-BW$59-BW$69-BW$79-BW$60-BW$70-BW$80)<=0,0,IF($B$14=\"As Received\",MIN(BW$48*$B61,(-BW$14-BW$59-BW$69-BW$79-BW$60-BW$70-BW$80)*$B61),MIN((-BW$14-BW$59-BW$69-BW$79-BW$60-BW$70-BW$80)*$B61,(BW$48+IF($B$59<>BW$31,SUM($C$33:BW$35),0))*$B61)))","v":0},{"$f":"IF((-BX$14-BX$59-BX$69-BX$79-BX$60-BX$70-BX$80)<=0,0,IF($B$14=\"As Received\",MIN(BX$48*$B61,(-BX$14-BX$59-BX$69-BX$79-BX$60-BX$70-BX$80)*$B61),MIN((-BX$14-BX$59-BX$69-BX$79-BX$60-BX$70-BX$80)*$B61,(BX$48+IF($B$59<>BX$31,SUM($C$33:BX$35),0))*$B61)))","v":0},{"$f":"IF((-BY$14-BY$59-BY$69-BY$79-BY$60-BY$70-BY$80)<=0,0,IF($B$14=\"As Received\",MIN(BY$48*$B61,(-BY$14-BY$59-BY$69-BY$79-BY$60-BY$70-BY$80)*$B61),MIN((-BY$14-BY$59-BY$69-BY$79-BY$60-BY$70-BY$80)*$B61,(BY$48+IF($B$59<>BY$31,SUM($C$33:BY$35),0))*$B61)))","v":0},{"$f":"IF((-BZ$14-BZ$59-BZ$69-BZ$79-BZ$60-BZ$70-BZ$80)<=0,0,IF($B$14=\"As Received\",MIN(BZ$48*$B61,(-BZ$14-BZ$59-BZ$69-BZ$79-BZ$60-BZ$70-BZ$80)*$B61),MIN((-BZ$14-BZ$59-BZ$69-BZ$79-BZ$60-BZ$70-BZ$80)*$B61,(BZ$48+IF($B$59<>BZ$31,SUM($C$33:BZ$35),0))*$B61)))","v":0},{"$f":"IF((-CA$14-CA$59-CA$69-CA$79-CA$60-CA$70-CA$80)<=0,0,IF($B$14=\"As Received\",MIN(CA$48*$B61,(-CA$14-CA$59-CA$69-CA$79-CA$60-CA$70-CA$80)*$B61),MIN((-CA$14-CA$59-CA$69-CA$79-CA$60-CA$70-CA$80)*$B61,(CA$48+IF($B$59<>CA$31,SUM($C$33:CA$35),0))*$B61)))","v":0},{"$f":"IF((-CB$14-CB$59-CB$69-CB$79-CB$60-CB$70-CB$80)<=0,0,IF($B$14=\"As Received\",MIN(CB$48*$B61,(-CB$14-CB$59-CB$69-CB$79-CB$60-CB$70-CB$80)*$B61),MIN((-CB$14-CB$59-CB$69-CB$79-CB$60-CB$70-CB$80)*$B61,(CB$48+IF($B$59<>CB$31,SUM($C$33:CB$35),0))*$B61)))","v":0},{"$f":"IF((-CC$14-CC$59-CC$69-CC$79-CC$60-CC$70-CC$80)<=0,0,IF($B$14=\"As Received\",MIN(CC$48*$B61,(-CC$14-CC$59-CC$69-CC$79-CC$60-CC$70-CC$80)*$B61),MIN((-CC$14-CC$59-CC$69-CC$79-CC$60-CC$70-CC$80)*$B61,(CC$48+IF($B$59<>CC$31,SUM($C$33:CC$35),0))*$B61)))","v":0},{"$f":"IF((-CD$14-CD$59-CD$69-CD$79-CD$60-CD$70-CD$80)<=0,0,IF($B$14=\"As Received\",MIN(CD$48*$B61,(-CD$14-CD$59-CD$69-CD$79-CD$60-CD$70-CD$80)*$B61),MIN((-CD$14-CD$59-CD$69-CD$79-CD$60-CD$70-CD$80)*$B61,(CD$48+IF($B$59<>CD$31,SUM($C$33:CD$35),0))*$B61)))","v":0},{"$f":"IF((-CE$14-CE$59-CE$69-CE$79-CE$60-CE$70-CE$80)<=0,0,IF($B$14=\"As Received\",MIN(CE$48*$B61,(-CE$14-CE$59-CE$69-CE$79-CE$60-CE$70-CE$80)*$B61),MIN((-CE$14-CE$59-CE$69-CE$79-CE$60-CE$70-CE$80)*$B61,(CE$48+IF($B$59<>CE$31,SUM($C$33:CE$35),0))*$B61)))","v":0},{"$f":"IF((-CF$14-CF$59-CF$69-CF$79-CF$60-CF$70-CF$80)<=0,0,IF($B$14=\"As Received\",MIN(CF$48*$B61,(-CF$14-CF$59-CF$69-CF$79-CF$60-CF$70-CF$80)*$B61),MIN((-CF$14-CF$59-CF$69-CF$79-CF$60-CF$70-CF$80)*$B61,(CF$48+IF($B$59<>CF$31,SUM($C$33:CF$35),0))*$B61)))","v":0},{"$f":"IF((-CG$14-CG$59-CG$69-CG$79-CG$60-CG$70-CG$80)<=0,0,IF($B$14=\"As Received\",MIN(CG$48*$B61,(-CG$14-CG$59-CG$69-CG$79-CG$60-CG$70-CG$80)*$B61),MIN((-CG$14-CG$59-CG$69-CG$79-CG$60-CG$70-CG$80)*$B61,(CG$48+IF($B$59<>CG$31,SUM($C$33:CG$35),0))*$B61)))","v":0},{"$f":"IF((-CH$14-CH$59-CH$69-CH$79-CH$60-CH$70-CH$80)<=0,0,IF($B$14=\"As Received\",MIN(CH$48*$B61,(-CH$14-CH$59-CH$69-CH$79-CH$60-CH$70-CH$80)*$B61),MIN((-CH$14-CH$59-CH$69-CH$79-CH$60-CH$70-CH$80)*$B61,(CH$48+IF($B$59<>CH$31,SUM($C$33:CH$35),0))*$B61)))","v":0},{"$f":"IF((-CI$14-CI$59-CI$69-CI$79-CI$60-CI$70-CI$80)<=0,0,IF($B$14=\"As Received\",MIN(CI$48*$B61,(-CI$14-CI$59-CI$69-CI$79-CI$60-CI$70-CI$80)*$B61),MIN((-CI$14-CI$59-CI$69-CI$79-CI$60-CI$70-CI$80)*$B61,(CI$48+IF($B$59<>CI$31,SUM($C$33:CI$35),0))*$B61)))","v":0},{"$f":"IF((-CJ$14-CJ$59-CJ$69-CJ$79-CJ$60-CJ$70-CJ$80)<=0,0,IF($B$14=\"As Received\",MIN(CJ$48*$B61,(-CJ$14-CJ$59-CJ$69-CJ$79-CJ$60-CJ$70-CJ$80)*$B61),MIN((-CJ$14-CJ$59-CJ$69-CJ$79-CJ$60-CJ$70-CJ$80)*$B61,(CJ$48+IF($B$59<>CJ$31,SUM($C$33:CJ$35),0))*$B61)))","v":0},{"$f":"IF((-CK$14-CK$59-CK$69-CK$79-CK$60-CK$70-CK$80)<=0,0,IF($B$14=\"As Received\",MIN(CK$48*$B61,(-CK$14-CK$59-CK$69-CK$79-CK$60-CK$70-CK$80)*$B61),MIN((-CK$14-CK$59-CK$69-CK$79-CK$60-CK$70-CK$80)*$B61,(CK$48+IF($B$59<>CK$31,SUM($C$33:CK$35),0))*$B61)))","v":0},{"$f":"IF((-CL$14-CL$59-CL$69-CL$79-CL$60-CL$70-CL$80)<=0,0,IF($B$14=\"As Received\",MIN(CL$48*$B61,(-CL$14-CL$59-CL$69-CL$79-CL$60-CL$70-CL$80)*$B61),MIN((-CL$14-CL$59-CL$69-CL$79-CL$60-CL$70-CL$80)*$B61,(CL$48+IF($B$59<>CL$31,SUM($C$33:CL$35),0))*$B61)))","v":0},{"$f":"IF((-CM$14-CM$59-CM$69-CM$79-CM$60-CM$70-CM$80)<=0,0,IF($B$14=\"As Received\",MIN(CM$48*$B61,(-CM$14-CM$59-CM$69-CM$79-CM$60-CM$70-CM$80)*$B61),MIN((-CM$14-CM$59-CM$69-CM$79-CM$60-CM$70-CM$80)*$B61,(CM$48+IF($B$59<>CM$31,SUM($C$33:CM$35),0))*$B61)))","v":0},{"$f":"IF((-CN$14-CN$59-CN$69-CN$79-CN$60-CN$70-CN$80)<=0,0,IF($B$14=\"As Received\",MIN(CN$48*$B61,(-CN$14-CN$59-CN$69-CN$79-CN$60-CN$70-CN$80)*$B61),MIN((-CN$14-CN$59-CN$69-CN$79-CN$60-CN$70-CN$80)*$B61,(CN$48+IF($B$59<>CN$31,SUM($C$33:CN$35),0))*$B61)))","v":0},{"$f":"IF((-CO$14-CO$59-CO$69-CO$79-CO$60-CO$70-CO$80)<=0,0,IF($B$14=\"As Received\",MIN(CO$48*$B61,(-CO$14-CO$59-CO$69-CO$79-CO$60-CO$70-CO$80)*$B61),MIN((-CO$14-CO$59-CO$69-CO$79-CO$60-CO$70-CO$80)*$B61,(CO$48+IF($B$59<>CO$31,SUM($C$33:CO$35),0))*$B61)))","v":0},{"$f":"IF((-CP$14-CP$59-CP$69-CP$79-CP$60-CP$70-CP$80)<=0,0,IF($B$14=\"As Received\",MIN(CP$48*$B61,(-CP$14-CP$59-CP$69-CP$79-CP$60-CP$70-CP$80)*$B61),MIN((-CP$14-CP$59-CP$69-CP$79-CP$60-CP$70-CP$80)*$B61,(CP$48+IF($B$59<>CP$31,SUM($C$33:CP$35),0))*$B61)))","v":0},{"$f":"IF((-CQ$14-CQ$59-CQ$69-CQ$79-CQ$60-CQ$70-CQ$80)<=0,0,IF($B$14=\"As Received\",MIN(CQ$48*$B61,(-CQ$14-CQ$59-CQ$69-CQ$79-CQ$60-CQ$70-CQ$80)*$B61),MIN((-CQ$14-CQ$59-CQ$69-CQ$79-CQ$60-CQ$70-CQ$80)*$B61,(CQ$48+IF($B$59<>CQ$31,SUM($C$33:CQ$35),0))*$B61)))","v":0},{"$f":"IF((-CR$14-CR$59-CR$69-CR$79-CR$60-CR$70-CR$80)<=0,0,IF($B$14=\"As Received\",MIN(CR$48*$B61,(-CR$14-CR$59-CR$69-CR$79-CR$60-CR$70-CR$80)*$B61),MIN((-CR$14-CR$59-CR$69-CR$79-CR$60-CR$70-CR$80)*$B61,(CR$48+IF($B$59<>CR$31,SUM($C$33:CR$35),0))*$B61)))","v":0},{"$f":"IF((-CS$14-CS$59-CS$69-CS$79-CS$60-CS$70-CS$80)<=0,0,IF($B$14=\"As Received\",MIN(CS$48*$B61,(-CS$14-CS$59-CS$69-CS$79-CS$60-CS$70-CS$80)*$B61),MIN((-CS$14-CS$59-CS$69-CS$79-CS$60-CS$70-CS$80)*$B61,(CS$48+IF($B$59<>CS$31,SUM($C$33:CS$35),0))*$B61)))","v":0},{"$f":"IF((-CT$14-CT$59-CT$69-CT$79-CT$60-CT$70-CT$80)<=0,0,IF($B$14=\"As Received\",MIN(CT$48*$B61,(-CT$14-CT$59-CT$69-CT$79-CT$60-CT$70-CT$80)*$B61),MIN((-CT$14-CT$59-CT$69-CT$79-CT$60-CT$70-CT$80)*$B61,(CT$48+IF($B$59<>CT$31,SUM($C$33:CT$35),0))*$B61)))","v":0},{"$f":"IF((-CU$14-CU$59-CU$69-CU$79-CU$60-CU$70-CU$80)<=0,0,IF($B$14=\"As Received\",MIN(CU$48*$B61,(-CU$14-CU$59-CU$69-CU$79-CU$60-CU$70-CU$80)*$B61),MIN((-CU$14-CU$59-CU$69-CU$79-CU$60-CU$70-CU$80)*$B61,(CU$48+IF($B$59<>CU$31,SUM($C$33:CU$35),0))*$B61)))","v":0},{"$f":"IF((-CV$14-CV$59-CV$69-CV$79-CV$60-CV$70-CV$80)<=0,0,IF($B$14=\"As Received\",MIN(CV$48*$B61,(-CV$14-CV$59-CV$69-CV$79-CV$60-CV$70-CV$80)*$B61),MIN((-CV$14-CV$59-CV$69-CV$79-CV$60-CV$70-CV$80)*$B61,(CV$48+IF($B$59<>CV$31,SUM($C$33:CV$35),0))*$B61)))","v":0},{"$f":"IF((-CW$14-CW$59-CW$69-CW$79-CW$60-CW$70-CW$80)<=0,0,IF($B$14=\"As Received\",MIN(CW$48*$B61,(-CW$14-CW$59-CW$69-CW$79-CW$60-CW$70-CW$80)*$B61),MIN((-CW$14-CW$59-CW$69-CW$79-CW$60-CW$70-CW$80)*$B61,(CW$48+IF($B$59<>CW$31,SUM($C$33:CW$35),0))*$B61)))","v":0},{"$f":"IF((-CX$14-CX$59-CX$69-CX$79-CX$60-CX$70-CX$80)<=0,0,IF($B$14=\"As Received\",MIN(CX$48*$B61,(-CX$14-CX$59-CX$69-CX$79-CX$60-CX$70-CX$80)*$B61),MIN((-CX$14-CX$59-CX$69-CX$79-CX$60-CX$70-CX$80)*$B61,(CX$48+IF($B$59<>CX$31,SUM($C$33:CX$35),0))*$B61)))","v":0},{"$f":"IF((-CY$14-CY$59-CY$69-CY$79-CY$60-CY$70-CY$80)<=0,0,IF($B$14=\"As Received\",MIN(CY$48*$B61,(-CY$14-CY$59-CY$69-CY$79-CY$60-CY$70-CY$80)*$B61),MIN((-CY$14-CY$59-CY$69-CY$79-CY$60-CY$70-CY$80)*$B61,(CY$48+IF($B$59<>CY$31,SUM($C$33:CY$35),0))*$B61)))","v":0},{"$f":"IF((-CZ$14-CZ$59-CZ$69-CZ$79-CZ$60-CZ$70-CZ$80)<=0,0,IF($B$14=\"As Received\",MIN(CZ$48*$B61,(-CZ$14-CZ$59-CZ$69-CZ$79-CZ$60-CZ$70-CZ$80)*$B61),MIN((-CZ$14-CZ$59-CZ$69-CZ$79-CZ$60-CZ$70-CZ$80)*$B61,(CZ$48+IF($B$59<>CZ$31,SUM($C$33:CZ$35),0))*$B61)))","v":0},{"$f":"IF((-DA$14-DA$59-DA$69-DA$79-DA$60-DA$70-DA$80)<=0,0,IF($B$14=\"As Received\",MIN(DA$48*$B61,(-DA$14-DA$59-DA$69-DA$79-DA$60-DA$70-DA$80)*$B61),MIN((-DA$14-DA$59-DA$69-DA$79-DA$60-DA$70-DA$80)*$B61,(DA$48+IF($B$59<>DA$31,SUM($C$33:DA$35),0))*$B61)))","v":0},{"$f":"IF((-DB$14-DB$59-DB$69-DB$79-DB$60-DB$70-DB$80)<=0,0,IF($B$14=\"As Received\",MIN(DB$48*$B61,(-DB$14-DB$59-DB$69-DB$79-DB$60-DB$70-DB$80)*$B61),MIN((-DB$14-DB$59-DB$69-DB$79-DB$60-DB$70-DB$80)*$B61,(DB$48+IF($B$59<>DB$31,SUM($C$33:DB$35),0))*$B61)))","v":0},{"$f":"IF((-DC$14-DC$59-DC$69-DC$79-DC$60-DC$70-DC$80)<=0,0,IF($B$14=\"As Received\",MIN(DC$48*$B61,(-DC$14-DC$59-DC$69-DC$79-DC$60-DC$70-DC$80)*$B61),MIN((-DC$14-DC$59-DC$69-DC$79-DC$60-DC$70-DC$80)*$B61,(DC$48+IF($B$59<>DC$31,SUM($C$33:DC$35),0))*$B61)))","v":0},{"$f":"IF((-DD$14-DD$59-DD$69-DD$79-DD$60-DD$70-DD$80)<=0,0,IF($B$14=\"As Received\",MIN(DD$48*$B61,(-DD$14-DD$59-DD$69-DD$79-DD$60-DD$70-DD$80)*$B61),MIN((-DD$14-DD$59-DD$69-DD$79-DD$60-DD$70-DD$80)*$B61,(DD$48+IF($B$59<>DD$31,SUM($C$33:DD$35),0))*$B61)))","v":0},{"$f":"IF((-DE$14-DE$59-DE$69-DE$79-DE$60-DE$70-DE$80)<=0,0,IF($B$14=\"As Received\",MIN(DE$48*$B61,(-DE$14-DE$59-DE$69-DE$79-DE$60-DE$70-DE$80)*$B61),MIN((-DE$14-DE$59-DE$69-DE$79-DE$60-DE$70-DE$80)*$B61,(DE$48+IF($B$59<>DE$31,SUM($C$33:DE$35),0))*$B61)))","v":0},{"$f":"IF((-DF$14-DF$59-DF$69-DF$79-DF$60-DF$70-DF$80)<=0,0,IF($B$14=\"As Received\",MIN(DF$48*$B61,(-DF$14-DF$59-DF$69-DF$79-DF$60-DF$70-DF$80)*$B61),MIN((-DF$14-DF$59-DF$69-DF$79-DF$60-DF$70-DF$80)*$B61,(DF$48+IF($B$59<>DF$31,SUM($C$33:DF$35),0))*$B61)))","v":0},{"$f":"IF((-DG$14-DG$59-DG$69-DG$79-DG$60-DG$70-DG$80)<=0,0,IF($B$14=\"As Received\",MIN(DG$48*$B61,(-DG$14-DG$59-DG$69-DG$79-DG$60-DG$70-DG$80)*$B61),MIN((-DG$14-DG$59-DG$69-DG$79-DG$60-DG$70-DG$80)*$B61,(DG$48+IF($B$59<>DG$31,SUM($C$33:DG$35),0))*$B61)))","v":0},{"$f":"IF((-DH$14-DH$59-DH$69-DH$79-DH$60-DH$70-DH$80)<=0,0,IF($B$14=\"As Received\",MIN(DH$48*$B61,(-DH$14-DH$59-DH$69-DH$79-DH$60-DH$70-DH$80)*$B61),MIN((-DH$14-DH$59-DH$69-DH$79-DH$60-DH$70-DH$80)*$B61,(DH$48+IF($B$59<>DH$31,SUM($C$33:DH$35),0))*$B61)))","v":0},{"$f":"IF((-DI$14-DI$59-DI$69-DI$79-DI$60-DI$70-DI$80)<=0,0,IF($B$14=\"As Received\",MIN(DI$48*$B61,(-DI$14-DI$59-DI$69-DI$79-DI$60-DI$70-DI$80)*$B61),MIN((-DI$14-DI$59-DI$69-DI$79-DI$60-DI$70-DI$80)*$B61,(DI$48+IF($B$59<>DI$31,SUM($C$33:DI$35),0))*$B61)))","v":0},{"$f":"IF((-DJ$14-DJ$59-DJ$69-DJ$79-DJ$60-DJ$70-DJ$80)<=0,0,IF($B$14=\"As Received\",MIN(DJ$48*$B61,(-DJ$14-DJ$59-DJ$69-DJ$79-DJ$60-DJ$70-DJ$80)*$B61),MIN((-DJ$14-DJ$59-DJ$69-DJ$79-DJ$60-DJ$70-DJ$80)*$B61,(DJ$48+IF($B$59<>DJ$31,SUM($C$33:DJ$35),0))*$B61)))","v":0},{"$f":"IF((-DK$14-DK$59-DK$69-DK$79-DK$60-DK$70-DK$80)<=0,0,IF($B$14=\"As Received\",MIN(DK$48*$B61,(-DK$14-DK$59-DK$69-DK$79-DK$60-DK$70-DK$80)*$B61),MIN((-DK$14-DK$59-DK$69-DK$79-DK$60-DK$70-DK$80)*$B61,(DK$48+IF($B$59<>DK$31,SUM($C$33:DK$35),0))*$B61)))","v":0},{"$f":"IF((-DL$14-DL$59-DL$69-DL$79-DL$60-DL$70-DL$80)<=0,0,IF($B$14=\"As Received\",MIN(DL$48*$B61,(-DL$14-DL$59-DL$69-DL$79-DL$60-DL$70-DL$80)*$B61),MIN((-DL$14-DL$59-DL$69-DL$79-DL$60-DL$70-DL$80)*$B61,(DL$48+IF($B$59<>DL$31,SUM($C$33:DL$35),0))*$B61)))","v":0},{"$f":"IF((-DM$14-DM$59-DM$69-DM$79-DM$60-DM$70-DM$80)<=0,0,IF($B$14=\"As Received\",MIN(DM$48*$B61,(-DM$14-DM$59-DM$69-DM$79-DM$60-DM$70-DM$80)*$B61),MIN((-DM$14-DM$59-DM$69-DM$79-DM$60-DM$70-DM$80)*$B61,(DM$48+IF($B$59<>DM$31,SUM($C$33:DM$35),0))*$B61)))","v":0},{"$f":"IF((-DN$14-DN$59-DN$69-DN$79-DN$60-DN$70-DN$80)<=0,0,IF($B$14=\"As Received\",MIN(DN$48*$B61,(-DN$14-DN$59-DN$69-DN$79-DN$60-DN$70-DN$80)*$B61),MIN((-DN$14-DN$59-DN$69-DN$79-DN$60-DN$70-DN$80)*$B61,(DN$48+IF($B$59<>DN$31,SUM($C$33:DN$35),0))*$B61)))","v":0},{"$f":"IF((-DO$14-DO$59-DO$69-DO$79-DO$60-DO$70-DO$80)<=0,0,IF($B$14=\"As Received\",MIN(DO$48*$B61,(-DO$14-DO$59-DO$69-DO$79-DO$60-DO$70-DO$80)*$B61),MIN((-DO$14-DO$59-DO$69-DO$79-DO$60-DO$70-DO$80)*$B61,(DO$48+IF($B$59<>DO$31,SUM($C$33:DO$35),0))*$B61)))","v":0},{"$f":"IF((-DP$14-DP$59-DP$69-DP$79-DP$60-DP$70-DP$80)<=0,0,IF($B$14=\"As Received\",MIN(DP$48*$B61,(-DP$14-DP$59-DP$69-DP$79-DP$60-DP$70-DP$80)*$B61),MIN((-DP$14-DP$59-DP$69-DP$79-DP$60-DP$70-DP$80)*$B61,(DP$48+IF($B$59<>DP$31,SUM($C$33:DP$35),0))*$B61)))","v":0},{"$f":"IF((-DQ$14-DQ$59-DQ$69-DQ$79-DQ$60-DQ$70-DQ$80)<=0,0,IF($B$14=\"As Received\",MIN(DQ$48*$B61,(-DQ$14-DQ$59-DQ$69-DQ$79-DQ$60-DQ$70-DQ$80)*$B61),MIN((-DQ$14-DQ$59-DQ$69-DQ$79-DQ$60-DQ$70-DQ$80)*$B61,(DQ$48+IF($B$59<>DQ$31,SUM($C$33:DQ$35),0))*$B61)))","v":0},{"$f":"IF((-DR$14-DR$59-DR$69-DR$79-DR$60-DR$70-DR$80)<=0,0,IF($B$14=\"As Received\",MIN(DR$48*$B61,(-DR$14-DR$59-DR$69-DR$79-DR$60-DR$70-DR$80)*$B61),MIN((-DR$14-DR$59-DR$69-DR$79-DR$60-DR$70-DR$80)*$B61,(DR$48+IF($B$59<>DR$31,SUM($C$33:DR$35),0))*$B61)))","v":0},{"$f":"IF((-DS$14-DS$59-DS$69-DS$79-DS$60-DS$70-DS$80)<=0,0,IF($B$14=\"As Received\",MIN(DS$48*$B61,(-DS$14-DS$59-DS$69-DS$79-DS$60-DS$70-DS$80)*$B61),MIN((-DS$14-DS$59-DS$69-DS$79-DS$60-DS$70-DS$80)*$B61,(DS$48+IF($B$59<>DS$31,SUM($C$33:DS$35),0))*$B61)))","v":0}]
[{"$f":"A50","v":"Tier 3 Preferred Return"},{"$f":"F26","v":0.3856},{"$f":"IF((-C$14-C$59-C$69-C$79-C$60-C$70-C$80-C$61-C$71-C$81)<=0,0,IF($B$14=\"As Received\",MIN(C$54*$B62,(-C$14-C$59-C$69-C$79-C$60-C$70-C$80-C$61-C$71-C$81)*$B62),MIN((-C$14-C$59-C$69-C$79-C$60-C$70-C$80-C$61-C$71-C$81)*$B62,(C$54+IF($B$59<>C$31,SUM($C$33:C$35),0))*$B62)))","v":0},{"$f":"IF((-D$14-D$59-D$69-D$79-D$60-D$70-D$80-D$61-D$71-D$81)<=0,0,IF($B$14=\"As Received\",MIN(D$54*$B62,(-D$14-D$59-D$69-D$79-D$60-D$70-D$80-D$61-D$71-D$81)*$B62),MIN((-D$14-D$59-D$69-D$79-D$60-D$70-D$80-D$61-D$71-D$81)*$B62,(D$54+IF($B$59<>D$31,SUM($C$33:D$35),0))*$B62)))","v":0},{"$f":"IF((-E$14-E$59-E$69-E$79-E$60-E$70-E$80-E$61-E$71-E$81)<=0,0,IF($B$14=\"As Received\",MIN(E$54*$B62,(-E$14-E$59-E$69-E$79-E$60-E$70-E$80-E$61-E$71-E$81)*$B62),MIN((-E$14-E$59-E$69-E$79-E$60-E$70-E$80-E$61-E$71-E$81)*$B62,(E$54+IF($B$59<>E$31,SUM($C$33:E$35),0))*$B62)))","v":0},{"$f":"IF((-F$14-F$59-F$69-F$79-F$60-F$70-F$80-F$61-F$71-F$81)<=0,0,IF($B$14=\"As Received\",MIN(F$54*$B62,(-F$14-F$59-F$69-F$79-F$60-F$70-F$80-F$61-F$71-F$81)*$B62),MIN((-F$14-F$59-F$69-F$79-F$60-F$70-F$80-F$61-F$71-F$81)*$B62,(F$54+IF($B$59<>F$31,SUM($C$33:F$35),0))*$B62)))","v":0},{"$f":"IF((-G$14-G$59-G$69-G$79-G$60-G$70-G$80-G$61-G$71-G$81)<=0,0,IF($B$14=\"As Received\",MIN(G$54*$B62,(-G$14-G$59-G$69-G$79-G$60-G$70-G$80-G$61-G$71-G$81)*$B62),MIN((-G$14-G$59-G$69-G$79-G$60-G$70-G$80-G$61-G$71-G$81)*$B62,(G$54+IF($B$59<>G$31,SUM($C$33:G$35),0))*$B62)))","v":0},{"$f":"IF((-H$14-H$59-H$69-H$79-H$60-H$70-H$80-H$61-H$71-H$81)<=0,0,IF($B$14=\"As Received\",MIN(H$54*$B62,(-H$14-H$59-H$69-H$79-H$60-H$70-H$80-H$61-H$71-H$81)*$B62),MIN((-H$14-H$59-H$69-H$79-H$60-H$70-H$80-H$61-H$71-H$81)*$B62,(H$54+IF($B$59<>H$31,SUM($C$33:H$35),0))*$B62)))","v":0},{"$f":"IF((-I$14-I$59-I$69-I$79-I$60-I$70-I$80-I$61-I$71-I$81)<=0,0,IF($B$14=\"As Received\",MIN(I$54*$B62,(-I$14-I$59-I$69-I$79-I$60-I$70-I$80-I$61-I$71-I$81)*$B62),MIN((-I$14-I$59-I$69-I$79-I$60-I$70-I$80-I$61-I$71-I$81)*$B62,(I$54+IF($B$59<>I$31,SUM($C$33:I$35),0))*$B62)))","v":0},{"$f":"IF((-J$14-J$59-J$69-J$79-J$60-J$70-J$80-J$61-J$71-J$81)<=0,0,IF($B$14=\"As Received\",MIN(J$54*$B62,(-J$14-J$59-J$69-J$79-J$60-J$70-J$80-J$61-J$71-J$81)*$B62),MIN((-J$14-J$59-J$69-J$79-J$60-J$70-J$80-J$61-J$71-J$81)*$B62,(J$54+IF($B$59<>J$31,SUM($C$33:J$35),0))*$B62)))","v":0},{"$f":"IF((-K$14-K$59-K$69-K$79-K$60-K$70-K$80-K$61-K$71-K$81)<=0,0,IF($B$14=\"As Received\",MIN(K$54*$B62,(-K$14-K$59-K$69-K$79-K$60-K$70-K$80-K$61-K$71-K$81)*$B62),MIN((-K$14-K$59-K$69-K$79-K$60-K$70-K$80-K$61-K$71-K$81)*$B62,(K$54+IF($B$59<>K$31,SUM($C$33:K$35),0))*$B62)))","v":0},{"$f":"IF((-L$14-L$59-L$69-L$79-L$60-L$70-L$80-L$61-L$71-L$81)<=0,0,IF($B$14=\"As Received\",MIN(L$54*$B62,(-L$14-L$59-L$69-L$79-L$60-L$70-L$80-L$61-L$71-L$81)*$B62),MIN((-L$14-L$59-L$69-L$79-L$60-L$70-L$80-L$61-L$71-L$81)*$B62,(L$54+IF($B$59<>L$31,SUM($C$33:L$35),0))*$B62)))","v":0},{"$f":"IF((-M$14-M$59-M$69-M$79-M$60-M$70-M$80-M$61-M$71-M$81)<=0,0,IF($B$14=\"As Received\",MIN(M$54*$B62,(-M$14-M$59-M$69-M$79-M$60-M$70-M$80-M$61-M$71-M$81)*$B62),MIN((-M$14-M$59-M$69-M$79-M$60-M$70-M$80-M$61-M$71-M$81)*$B62,(M$54+IF($B$59<>M$31,SUM($C$33:M$35),0))*$B62)))","v":0},{"$f":"IF((-N$14-N$59-N$69-N$79-N$60-N$70-N$80-N$61-N$71-N$81)<=0,0,IF($B$14=\"As Received\",MIN(N$54*$B62,(-N$14-N$59-N$69-N$79-N$60-N$70-N$80-N$61-N$71-N$81)*$B62),MIN((-N$14-N$59-N$69-N$79-N$60-N$70-N$80-N$61-N$71-N$81)*$B62,(N$54+IF($B$59<>N$31,SUM($C$33:N$35),0))*$B62)))","v":0},{"$f":"IF((-O$14-O$59-O$69-O$79-O$60-O$70-O$80-O$61-O$71-O$81)<=0,0,IF($B$14=\"As Received\",MIN(O$54*$B62,(-O$14-O$59-O$69-O$79-O$60-O$70-O$80-O$61-O$71-O$81)*$B62),MIN((-O$14-O$59-O$69-O$79-O$60-O$70-O$80-O$61-O$71-O$81)*$B62,(O$54+IF($B$59<>O$31,SUM($C$33:O$35),0))*$B62)))","v":0},{"$f":"IF((-P$14-P$59-P$69-P$79-P$60-P$70-P$80-P$61-P$71-P$81)<=0,0,IF($B$14=\"As Received\",MIN(P$54*$B62,(-P$14-P$59-P$69-P$79-P$60-P$70-P$80-P$61-P$71-P$81)*$B62),MIN((-P$14-P$59-P$69-P$79-P$60-P$70-P$80-P$61-P$71-P$81)*$B62,(P$54+IF($B$59<>P$31,SUM($C$33:P$35),0))*$B62)))","v":0},{"$f":"IF((-Q$14-Q$59-Q$69-Q$79-Q$60-Q$70-Q$80-Q$61-Q$71-Q$81)<=0,0,IF($B$14=\"As Received\",MIN(Q$54*$B62,(-Q$14-Q$59-Q$69-Q$79-Q$60-Q$70-Q$80-Q$61-Q$71-Q$81)*$B62),MIN((-Q$14-Q$59-Q$69-Q$79-Q$60-Q$70-Q$80-Q$61-Q$71-Q$81)*$B62,(Q$54+IF($B$59<>Q$31,SUM($C$33:Q$35),0))*$B62)))","v":0},{"$f":"IF((-R$14-R$59-R$69-R$79-R$60-R$70-R$80-R$61-R$71-R$81)<=0,0,IF($B$14=\"As Received\",MIN(R$54*$B62,(-R$14-R$59-R$69-R$79-R$60-R$70-R$80-R$61-R$71-R$81)*$B62),MIN((-R$14-R$59-R$69-R$79-R$60-R$70-R$80-R$61-R$71-R$81)*$B62,(R$54+IF($B$59<>R$31,SUM($C$33:R$35),0))*$B62)))","v":0},{"$f":"IF((-S$14-S$59-S$69-S$79-S$60-S$70-S$80-S$61-S$71-S$81)<=0,0,IF($B$14=\"As Received\",MIN(S$54*$B62,(-S$14-S$59-S$69-S$79-S$60-S$70-S$80-S$61-S$71-S$81)*$B62),MIN((-S$14-S$59-S$69-S$79-S$60-S$70-S$80-S$61-S$71-S$81)*$B62,(S$54+IF($B$59<>S$31,SUM($C$33:S$35),0))*$B62)))","v":0},{"$f":"IF((-T$14-T$59-T$69-T$79-T$60-T$70-T$80-T$61-T$71-T$81)<=0,0,IF($B$14=\"As Received\",MIN(T$54*$B62,(-T$14-T$59-T$69-T$79-T$60-T$70-T$80-T$61-T$71-T$81)*$B62),MIN((-T$14-T$59-T$69-T$79-T$60-T$70-T$80-T$61-T$71-T$81)*$B62,(T$54+IF($B$59<>T$31,SUM($C$33:T$35),0))*$B62)))","v":0},{"$f":"IF((-U$14-U$59-U$69-U$79-U$60-U$70-U$80-U$61-U$71-U$81)<=0,0,IF($B$14=\"As Received\",MIN(U$54*$B62,(-U$14-U$59-U$69-U$79-U$60-U$70-U$80-U$61-U$71-U$81)*$B62),MIN((-U$14-U$59-U$69-U$79-U$60-U$70-U$80-U$61-U$71-U$81)*$B62,(U$54+IF($B$59<>U$31,SUM($C$33:U$35),0))*$B62)))","v":0},{"$f":"IF((-V$14-V$59-V$69-V$79-V$60-V$70-V$80-V$61-V$71-V$81)<=0,0,IF($B$14=\"As Received\",MIN(V$54*$B62,(-V$14-V$59-V$69-V$79-V$60-V$70-V$80-V$61-V$71-V$81)*$B62),MIN((-V$14-V$59-V$69-V$79-V$60-V$70-V$80-V$61-V$71-V$81)*$B62,(V$54+IF($B$59<>V$31,SUM($C$33:V$35),0))*$B62)))","v":0},{"$f":"IF((-W$14-W$59-W$69-W$79-W$60-W$70-W$80-W$61-W$71-W$81)<=0,0,IF($B$14=\"As Received\",MIN(W$54*$B62,(-W$14-W$59-W$69-W$79-W$60-W$70-W$80-W$61-W$71-W$81)*$B62),MIN((-W$14-W$59-W$69-W$79-W$60-W$70-W$80-W$61-W$71-W$81)*$B62,(W$54+IF($B$59<>W$31,SUM($C$33:W$35),0))*$B62)))","v":0},{"$f":"IF((-X$14-X$59-X$69-X$79-X$60-X$70-X$80-X$61-X$71-X$81)<=0,0,IF($B$14=\"As Received\",MIN(X$54*$B62,(-X$14-X$59-X$69-X$79-X$60-X$70-X$80-X$61-X$71-X$81)*$B62),MIN((-X$14-X$59-X$69-X$79-X$60-X$70-X$80-X$61-X$71-X$81)*$B62,(X$54+IF($B$59<>X$31,SUM($C$33:X$35),0))*$B62)))","v":0},{"$f":"IF((-Y$14-Y$59-Y$69-Y$79-Y$60-Y$70-Y$80-Y$61-Y$71-Y$81)<=0,0,IF($B$14=\"As Received\",MIN(Y$54*$B62,(-Y$14-Y$59-Y$69-Y$79-Y$60-Y$70-Y$80-Y$61-Y$71-Y$81)*$B62),MIN((-Y$14-Y$59-Y$69-Y$79-Y$60-Y$70-Y$80-Y$61-Y$71-Y$81)*$B62,(Y$54+IF($B$59<>Y$31,SUM($C$33:Y$35),0))*$B62)))","v":0},{"$f":"IF((-Z$14-Z$59-Z$69-Z$79-Z$60-Z$70-Z$80-Z$61-Z$71-Z$81)<=0,0,IF($B$14=\"As Received\",MIN(Z$54*$B62,(-Z$14-Z$59-Z$69-Z$79-Z$60-Z$70-Z$80-Z$61-Z$71-Z$81)*$B62),MIN((-Z$14-Z$59-Z$69-Z$79-Z$60-Z$70-Z$80-Z$61-Z$71-Z$81)*$B62,(Z$54+IF($B$59<>Z$31,SUM($C$33:Z$35),0))*$B62)))","v":0},{"$f":"IF((-AA$14-AA$59-AA$69-AA$79-AA$60-AA$70-AA$80-AA$61-AA$71-AA$81)<=0,0,IF($B$14=\"As Received\",MIN(AA$54*$B62,(-AA$14-AA$59-AA$69-AA$79-AA$60-AA$70-AA$80-AA$61-AA$71-AA$81)*$B62),MIN((-AA$14-AA$59-AA$69-AA$79-AA$60-AA$70-AA$80-AA$61-AA$71-AA$81)*$B62,(AA$54+IF($B$59<>AA$31,SUM($C$33:AA$35),0))*$B62)))","v":0},{"$f":"IF((-AB$14-AB$59-AB$69-AB$79-AB$60-AB$70-AB$80-AB$61-AB$71-AB$81)<=0,0,IF($B$14=\"As Received\",MIN(AB$54*$B62,(-AB$14-AB$59-AB$69-AB$79-AB$60-AB$70-AB$80-AB$61-AB$71-AB$81)*$B62),MIN((-AB$14-AB$59-AB$69-AB$79-AB$60-AB$70-AB$80-AB$61-AB$71-AB$81)*$B62,(AB$54+IF($B$59<>AB$31,SUM($C$33:AB$35),0))*$B62)))","v":0},{"$f":"IF((-AC$14-AC$59-AC$69-AC$79-AC$60-AC$70-AC$80-AC$61-AC$71-AC$81)<=0,0,IF($B$14=\"As Received\",MIN(AC$54*$B62,(-AC$14-AC$59-AC$69-AC$79-AC$60-AC$70-AC$80-AC$61-AC$71-AC$81)*$B62),MIN((-AC$14-AC$59-AC$69-AC$79-AC$60-AC$70-AC$80-AC$61-AC$71-AC$81)*$B62,(AC$54+IF($B$59<>AC$31,SUM($C$33:AC$35),0))*$B62)))","v":0},{"$f":"IF((-AD$14-AD$59-AD$69-AD$79-AD$60-AD$70-AD$80-AD$61-AD$71-AD$81)<=0,0,IF($B$14=\"As Received\",MIN(AD$54*$B62,(-AD$14-AD$59-AD$69-AD$79-AD$60-AD$70-AD$80-AD$61-AD$71-AD$81)*$B62),MIN((-AD$14-AD$59-AD$69-AD$79-AD$60-AD$70-AD$80-AD$61-AD$71-AD$81)*$B62,(AD$54+IF($B$59<>AD$31,SUM($C$33:AD$35),0))*$B62)))","v":0},{"$f":"IF((-AE$14-AE$59-AE$69-AE$79-AE$60-AE$70-AE$80-AE$61-AE$71-AE$81)<=0,0,IF($B$14=\"As Received\",MIN(AE$54*$B62,(-AE$14-AE$59-AE$69-AE$79-AE$60-AE$70-AE$80-AE$61-AE$71-AE$81)*$B62),MIN((-AE$14-AE$59-AE$69-AE$79-AE$60-AE$70-AE$80-AE$61-AE$71-AE$81)*$B62,(AE$54+IF($B$59<>AE$31,SUM($C$33:AE$35),0))*$B62)))","v":0},{"$f":"IF((-AF$14-AF$59-AF$69-AF$79-AF$60-AF$70-AF$80-AF$61-AF$71-AF$81)<=0,0,IF($B$14=\"As Received\",MIN(AF$54*$B62,(-AF$14-AF$59-AF$69-AF$79-AF$60-AF$70-AF$80-AF$61-AF$71-AF$81)*$B62),MIN((-AF$14-AF$59-AF$69-AF$79-AF$60-AF$70-AF$80-AF$61-AF$71-AF$81)*$B62,(AF$54+IF($B$59<>AF$31,SUM($C$33:AF$35),0))*$B62)))","v":0},{"$f":"IF((-AG$14-AG$59-AG$69-AG$79-AG$60-AG$70-AG$80-AG$61-AG$71-AG$81)<=0,0,IF($B$14=\"As Received\",MIN(AG$54*$B62,(-AG$14-AG$59-AG$69-AG$79-AG$60-AG$70-AG$80-AG$61-AG$71-AG$81)*$B62),MIN((-AG$14-AG$59-AG$69-AG$79-AG$60-AG$70-AG$80-AG$61-AG$71-AG$81)*$B62,(AG$54+IF($B$59<>AG$31,SUM($C$33:AG$35),0))*$B62)))","v":0},{"$f":"IF((-AH$14-AH$59-AH$69-AH$79-AH$60-AH$70-AH$80-AH$61-AH$71-AH$81)<=0,0,IF($B$14=\"As Received\",MIN(AH$54*$B62,(-AH$14-AH$59-AH$69-AH$79-AH$60-AH$70-AH$80-AH$61-AH$71-AH$81)*$B62),MIN((-AH$14-AH$59-AH$69-AH$79-AH$60-AH$70-AH$80-AH$61-AH$71-AH$81)*$B62,(AH$54+IF($B$59<>AH$31,SUM($C$33:AH$35),0))*$B62)))","v":0},{"$f":"IF((-AI$14-AI$59-AI$69-AI$79-AI$60-AI$70-AI$80-AI$61-AI$71-AI$81)<=0,0,IF($B$14=\"As Received\",MIN(AI$54*$B62,(-AI$14-AI$59-AI$69-AI$79-AI$60-AI$70-AI$80-AI$61-AI$71-AI$81)*$B62),MIN((-AI$14-AI$59-AI$69-AI$79-AI$60-AI$70-AI$80-AI$61-AI$71-AI$81)*$B62,(AI$54+IF($B$59<>AI$31,SUM($C$33:AI$35),0))*$B62)))","v":0},{"$f":"IF((-AJ$14-AJ$59-AJ$69-AJ$79-AJ$60-AJ$70-AJ$80-AJ$61-AJ$71-AJ$81)<=0,0,IF($B$14=\"As Received\",MIN(AJ$54*$B62,(-AJ$14-AJ$59-AJ$69-AJ$79-AJ$60-AJ$70-AJ$80-AJ$61-AJ$71-AJ$81)*$B62),MIN((-AJ$14-AJ$59-AJ$69-AJ$79-AJ$60-AJ$70-AJ$80-AJ$61-AJ$71-AJ$81)*$B62,(AJ$54+IF($B$59<>AJ$31,SUM($C$33:AJ$35),0))*$B62)))","v":0},{"$f":"IF((-AK$14-AK$59-AK$69-AK$79-AK$60-AK$70-AK$80-AK$61-AK$71-AK$81)<=0,0,IF($B$14=\"As Received\",MIN(AK$54*$B62,(-AK$14-AK$59-AK$69-AK$79-AK$60-AK$70-AK$80-AK$61-AK$71-AK$81)*$B62),MIN((-AK$14-AK$59-AK$69-AK$79-AK$60-AK$70-AK$80-AK$61-AK$71-AK$81)*$B62,(AK$54+IF($B$59<>AK$31,SUM($C$33:AK$35),0))*$B62)))","v":0},{"$f":"IF((-AL$14-AL$59-AL$69-AL$79-AL$60-AL$70-AL$80-AL$61-AL$71-AL$81)<=0,0,IF($B$14=\"As Received\",MIN(AL$54*$B62,(-AL$14-AL$59-AL$69-AL$79-AL$60-AL$70-AL$80-AL$61-AL$71-AL$81)*$B62),MIN((-AL$14-AL$59-AL$69-AL$79-AL$60-AL$70-AL$80-AL$61-AL$71-AL$81)*$B62,(AL$54+IF($B$59<>AL$31,SUM($C$33:AL$35),0))*$B62)))","v":0},{"$f":"IF((-AM$14-AM$59-AM$69-AM$79-AM$60-AM$70-AM$80-AM$61-AM$71-AM$81)<=0,0,IF($B$14=\"As Received\",MIN(AM$54*$B62,(-AM$14-AM$59-AM$69-AM$79-AM$60-AM$70-AM$80-AM$61-AM$71-AM$81)*$B62),MIN((-AM$14-AM$59-AM$69-AM$79-AM$60-AM$70-AM$80-AM$61-AM$71-AM$81)*$B62,(AM$54+IF($B$59<>AM$31,SUM($C$33:AM$35),0))*$B62)))","v":0},{"$f":"IF((-AN$14-AN$59-AN$69-AN$79-AN$60-AN$70-AN$80-AN$61-AN$71-AN$81)<=0,0,IF($B$14=\"As Received\",MIN(AN$54*$B62,(-AN$14-AN$59-AN$69-AN$79-AN$60-AN$70-AN$80-AN$61-AN$71-AN$81)*$B62),MIN((-AN$14-AN$59-AN$69-AN$79-AN$60-AN$70-AN$80-AN$61-AN$71-AN$81)*$B62,(AN$54+IF($B$59<>AN$31,SUM($C$33:AN$35),0))*$B62)))","v":0},{"$f":"IF((-AO$14-AO$59-AO$69-AO$79-AO$60-AO$70-AO$80-AO$61-AO$71-AO$81)<=0,0,IF($B$14=\"As Received\",MIN(AO$54*$B62,(-AO$14-AO$59-AO$69-AO$79-AO$60-AO$70-AO$80-AO$61-AO$71-AO$81)*$B62),MIN((-AO$14-AO$59-AO$69-AO$79-AO$60-AO$70-AO$80-AO$61-AO$71-AO$81)*$B62,(AO$54+IF($B$59<>AO$31,SUM($C$33:AO$35),0))*$B62)))","v":0},{"$f":"IF((-AP$14-AP$59-AP$69-AP$79-AP$60-AP$70-AP$80-AP$61-AP$71-AP$81)<=0,0,IF($B$14=\"As Received\",MIN(AP$54*$B62,(-AP$14-AP$59-AP$69-AP$79-AP$60-AP$70-AP$80-AP$61-AP$71-AP$81)*$B62),MIN((-AP$14-AP$59-AP$69-AP$79-AP$60-AP$70-AP$80-AP$61-AP$71-AP$81)*$B62,(AP$54+IF($B$59<>AP$31,SUM($C$33:AP$35),0))*$B62)))","v":0},{"$f":"IF((-AQ$14-AQ$59-AQ$69-AQ$79-AQ$60-AQ$70-AQ$80-AQ$61-AQ$71-AQ$81)<=0,0,IF($B$14=\"As Received\",MIN(AQ$54*$B62,(-AQ$14-AQ$59-AQ$69-AQ$79-AQ$60-AQ$70-AQ$80-AQ$61-AQ$71-AQ$81)*$B62),MIN((-AQ$14-AQ$59-AQ$69-AQ$79-AQ$60-AQ$70-AQ$80-AQ$61-AQ$71-AQ$81)*$B62,(AQ$54+IF($B$59<>AQ$31,SUM($C$33:AQ$35),0))*$B62)))","v":0},{"$f":"IF((-AR$14-AR$59-AR$69-AR$79-AR$60-AR$70-AR$80-AR$61-AR$71-AR$81)<=0,0,IF($B$14=\"As Received\",MIN(AR$54*$B62,(-AR$14-AR$59-AR$69-AR$79-AR$60-AR$70-AR$80-AR$61-AR$71-AR$81)*$B62),MIN((-AR$14-AR$59-AR$69-AR$79-AR$60-AR$70-AR$80-AR$61-AR$71-AR$81)*$B62,(AR$54+IF($B$59<>AR$31,SUM($C$33:AR$35),0))*$B62)))","v":0},{"$f":"IF((-AS$14-AS$59-AS$69-AS$79-AS$60-AS$70-AS$80-AS$61-AS$71-AS$81)<=0,0,IF($B$14=\"As Received\",MIN(AS$54*$B62,(-AS$14-AS$59-AS$69-AS$79-AS$60-AS$70-AS$80-AS$61-AS$71-AS$81)*$B62),MIN((-AS$14-AS$59-AS$69-AS$79-AS$60-AS$70-AS$80-AS$61-AS$71-AS$81)*$B62,(AS$54+IF($B$59<>AS$31,SUM($C$33:AS$35),0))*$B62)))","v":0},{"$f":"IF((-AT$14-AT$59-AT$69-AT$79-AT$60-AT$70-AT$80-AT$61-AT$71-AT$81)<=0,0,IF($B$14=\"As Received\",MIN(AT$54*$B62,(-AT$14-AT$59-AT$69-AT$79-AT$60-AT$70-AT$80-AT$61-AT$71-AT$81)*$B62),MIN((-AT$14-AT$59-AT$69-AT$79-AT$60-AT$70-AT$80-AT$61-AT$71-AT$81)*$B62,(AT$54+IF($B$59<>AT$31,SUM($C$33:AT$35),0))*$B62)))","v":0},{"$f":"IF((-AU$14-AU$59-AU$69-AU$79-AU$60-AU$70-AU$80-AU$61-AU$71-AU$81)<=0,0,IF($B$14=\"As Received\",MIN(AU$54*$B62,(-AU$14-AU$59-AU$69-AU$79-AU$60-AU$70-AU$80-AU$61-AU$71-AU$81)*$B62),MIN((-AU$14-AU$59-AU$69-AU$79-AU$60-AU$70-AU$80-AU$61-AU$71-AU$81)*$B62,(AU$54+IF($B$59<>AU$31,SUM($C$33:AU$35),0))*$B62)))","v":0},{"$f":"IF((-AV$14-AV$59-AV$69-AV$79-AV$60-AV$70-AV$80-AV$61-AV$71-AV$81)<=0,0,IF($B$14=\"As Received\",MIN(AV$54*$B62,(-AV$14-AV$59-AV$69-AV$79-AV$60-AV$70-AV$80-AV$61-AV$71-AV$81)*$B62),MIN((-AV$14-AV$59-AV$69-AV$79-AV$60-AV$70-AV$80-AV$61-AV$71-AV$81)*$B62,(AV$54+IF($B$59<>AV$31,SUM($C$33:AV$35),0))*$B62)))","v":0},{"$f":"IF((-AW$14-AW$59-AW$69-AW$79-AW$60-AW$70-AW$80-AW$61-AW$71-AW$81)<=0,0,IF($B$14=\"As Received\",MIN(AW$54*$B62,(-AW$14-AW$59-AW$69-AW$79-AW$60-AW$70-AW$80-AW$61-AW$71-AW$81)*$B62),MIN((-AW$14-AW$59-AW$69-AW$79-AW$60-AW$70-AW$80-AW$61-AW$71-AW$81)*$B62,(AW$54+IF($B$59<>AW$31,SUM($C$33:AW$35),0))*$B62)))","v":0},{"$f":"IF((-AX$14-AX$59-AX$69-AX$79-AX$60-AX$70-AX$80-AX$61-AX$71-AX$81)<=0,0,IF($B$14=\"As Received\",MIN(AX$54*$B62,(-AX$14-AX$59-AX$69-AX$79-AX$60-AX$70-AX$80-AX$61-AX$71-AX$81)*$B62),MIN((-AX$14-AX$59-AX$69-AX$79-AX$60-AX$70-AX$80-AX$61-AX$71-AX$81)*$B62,(AX$54+IF($B$59<>AX$31,SUM($C$33:AX$35),0))*$B62)))","v":0},{"$f":"IF((-AY$14-AY$59-AY$69-AY$79-AY$60-AY$70-AY$80-AY$61-AY$71-AY$81)<=0,0,IF($B$14=\"As Received\",MIN(AY$54*$B62,(-AY$14-AY$59-AY$69-AY$79-AY$60-AY$70-AY$80-AY$61-AY$71-AY$81)*$B62),MIN((-AY$14-AY$59-AY$69-AY$79-AY$60-AY$70-AY$80-AY$61-AY$71-AY$81)*$B62,(AY$54+IF($B$59<>AY$31,SUM($C$33:AY$35),0))*$B62)))","v":0},{"$f":"IF((-AZ$14-AZ$59-AZ$69-AZ$79-AZ$60-AZ$70-AZ$80-AZ$61-AZ$71-AZ$81)<=0,0,IF($B$14=\"As Received\",MIN(AZ$54*$B62,(-AZ$14-AZ$59-AZ$69-AZ$79-AZ$60-AZ$70-AZ$80-AZ$61-AZ$71-AZ$81)*$B62),MIN((-AZ$14-AZ$59-AZ$69-AZ$79-AZ$60-AZ$70-AZ$80-AZ$61-AZ$71-AZ$81)*$B62,(AZ$54+IF($B$59<>AZ$31,SUM($C$33:AZ$35),0))*$B62)))","v":0},{"$f":"IF((-BA$14-BA$59-BA$69-BA$79-BA$60-BA$70-BA$80-BA$61-BA$71-BA$81)<=0,0,IF($B$14=\"As Received\",MIN(BA$54*$B62,(-BA$14-BA$59-BA$69-BA$79-BA$60-BA$70-BA$80-BA$61-BA$71-BA$81)*$B62),MIN((-BA$14-BA$59-BA$69-BA$79-BA$60-BA$70-BA$80-BA$61-BA$71-BA$81)*$B62,(BA$54+IF($B$59<>BA$31,SUM($C$33:BA$35),0))*$B62)))","v":0},{"$f":"IF((-BB$14-BB$59-BB$69-BB$79-BB$60-BB$70-BB$80-BB$61-BB$71-BB$81)<=0,0,IF($B$14=\"As Received\",MIN(BB$54*$B62,(-BB$14-BB$59-BB$69-BB$79-BB$60-BB$70-BB$80-BB$61-BB$71-BB$81)*$B62),MIN((-BB$14-BB$59-BB$69-BB$79-BB$60-BB$70-BB$80-BB$61-BB$71-BB$81)*$B62,(BB$54+IF($B$59<>BB$31,SUM($C$33:BB$35),0))*$B62)))","v":0},{"$f":"IF((-BC$14-BC$59-BC$69-BC$79-BC$60-BC$70-BC$80-BC$61-BC$71-BC$81)<=0,0,IF($B$14=\"As Received\",MIN(BC$54*$B62,(-BC$14-BC$59-BC$69-BC$79-BC$60-BC$70-BC$80-BC$61-BC$71-BC$81)*$B62),MIN((-BC$14-BC$59-BC$69-BC$79-BC$60-BC$70-BC$80-BC$61-BC$71-BC$81)*$B62,(BC$54+IF($B$59<>BC$31,SUM($C$33:BC$35),0))*$B62)))","v":0},{"$f":"IF((-BD$14-BD$59-BD$69-BD$79-BD$60-BD$70-BD$80-BD$61-BD$71-BD$81)<=0,0,IF($B$14=\"As Received\",MIN(BD$54*$B62,(-BD$14-BD$59-BD$69-BD$79-BD$60-BD$70-BD$80-BD$61-BD$71-BD$81)*$B62),MIN((-BD$14-BD$59-BD$69-BD$79-BD$60-BD$70-BD$80-BD$61-BD$71-BD$81)*$B62,(BD$54+IF($B$59<>BD$31,SUM($C$33:BD$35),0))*$B62)))","v":0},{"$f":"IF((-BE$14-BE$59-BE$69-BE$79-BE$60-BE$70-BE$80-BE$61-BE$71-BE$81)<=0,0,IF($B$14=\"As Received\",MIN(BE$54*$B62,(-BE$14-BE$59-BE$69-BE$79-BE$60-BE$70-BE$80-BE$61-BE$71-BE$81)*$B62),MIN((-BE$14-BE$59-BE$69-BE$79-BE$60-BE$70-BE$80-BE$61-BE$71-BE$81)*$B62,(BE$54+IF($B$59<>BE$31,SUM($C$33:BE$35),0))*$B62)))","v":0},{"$f":"IF((-BF$14-BF$59-BF$69-BF$79-BF$60-BF$70-BF$80-BF$61-BF$71-BF$81)<=0,0,IF($B$14=\"As Received\",MIN(BF$54*$B62,(-BF$14-BF$59-BF$69-BF$79-BF$60-BF$70-BF$80-BF$61-BF$71-BF$81)*$B62),MIN((-BF$14-BF$59-BF$69-BF$79-BF$60-BF$70-BF$80-BF$61-BF$71-BF$81)*$B62,(BF$54+IF($B$59<>BF$31,SUM($C$33:BF$35),0))*$B62)))","v":0},{"$f":"IF((-BG$14-BG$59-BG$69-BG$79-BG$60-BG$70-BG$80-BG$61-BG$71-BG$81)<=0,0,IF($B$14=\"As Received\",MIN(BG$54*$B62,(-BG$14-BG$59-BG$69-BG$79-BG$60-BG$70-BG$80-BG$61-BG$71-BG$81)*$B62),MIN((-BG$14-BG$59-BG$69-BG$79-BG$60-BG$70-BG$80-BG$61-BG$71-BG$81)*$B62,(BG$54+IF($B$59<>BG$31,SUM($C$33:BG$35),0))*$B62)))","v":0},{"$f":"IF((-BH$14-BH$59-BH$69-BH$79-BH$60-BH$70-BH$80-BH$61-BH$71-BH$81)<=0,0,IF($B$14=\"As Received\",MIN(BH$54*$B62,(-BH$14-BH$59-BH$69-BH$79-BH$60-BH$70-BH$80-BH$61-BH$71-BH$81)*$B62),MIN((-BH$14-BH$59-BH$69-BH$79-BH$60-BH$70-BH$80-BH$61-BH$71-BH$81)*$B62,(BH$54+IF($B$59<>BH$31,SUM($C$33:BH$35),0))*$B62)))","v":0},{"$f":"IF((-BI$14-BI$59-BI$69-BI$79-BI$60-BI$70-BI$80-BI$61-BI$71-BI$81)<=0,0,IF($B$14=\"As Received\",MIN(BI$54*$B62,(-BI$14-BI$59-BI$69-BI$79-BI$60-BI$70-BI$80-BI$61-BI$71-BI$81)*$B62),MIN((-BI$14-BI$59-BI$69-BI$79-BI$60-BI$70-BI$80-BI$61-BI$71-BI$81)*$B62,(BI$54+IF($B$59<>BI$31,SUM($C$33:BI$35),0))*$B62)))","v":0},{"$f":"IF((-BJ$14-BJ$59-BJ$69-BJ$79-BJ$60-BJ$70-BJ$80-BJ$61-BJ$71-BJ$81)<=0,0,IF($B$14=\"As Received\",MIN(BJ$54*$B62,(-BJ$14-BJ$59-BJ$69-BJ$79-BJ$60-BJ$70-BJ$80-BJ$61-BJ$71-BJ$81)*$B62),MIN((-BJ$14-BJ$59-BJ$69-BJ$79-BJ$60-BJ$70-BJ$80-BJ$61-BJ$71-BJ$81)*$B62,(BJ$54+IF($B$59<>BJ$31,SUM($C$33:BJ$35),0))*$B62)))","v":0},{"$f":"IF((-BK$14-BK$59-BK$69-BK$79-BK$60-BK$70-BK$80-BK$61-BK$71-BK$81)<=0,0,IF($B$14=\"As Received\",MIN(BK$54*$B62,(-BK$14-BK$59-BK$69-BK$79-BK$60-BK$70-BK$80-BK$61-BK$71-BK$81)*$B62),MIN((-BK$14-BK$59-BK$69-BK$79-BK$60-BK$70-BK$80-BK$61-BK$71-BK$81)*$B62,(BK$54+IF($B$59<>BK$31,SUM($C$33:BK$35),0))*$B62)))","v":0},{"$f":"IF((-BL$14-BL$59-BL$69-BL$79-BL$60-BL$70-BL$80-BL$61-BL$71-BL$81)<=0,0,IF($B$14=\"As Received\",MIN(BL$54*$B62,(-BL$14-BL$59-BL$69-BL$79-BL$60-BL$70-BL$80-BL$61-BL$71-BL$81)*$B62),MIN((-BL$14-BL$59-BL$69-BL$79-BL$60-BL$70-BL$80-BL$61-BL$71-BL$81)*$B62,(BL$54+IF($B$59<>BL$31,SUM($C$33:BL$35),0))*$B62)))","v":0},{"$f":"IF((-BM$14-BM$59-BM$69-BM$79-BM$60-BM$70-BM$80-BM$61-BM$71-BM$81)<=0,0,IF($B$14=\"As Received\",MIN(BM$54*$B62,(-BM$14-BM$59-BM$69-BM$79-BM$60-BM$70-BM$80-BM$61-BM$71-BM$81)*$B62),MIN((-BM$14-BM$59-BM$69-BM$79-BM$60-BM$70-BM$80-BM$61-BM$71-BM$81)*$B62,(BM$54+IF($B$59<>BM$31,SUM($C$33:BM$35),0))*$B62)))","v":0},{"$f":"IF((-BN$14-BN$59-BN$69-BN$79-BN$60-BN$70-BN$80-BN$61-BN$71-BN$81)<=0,0,IF($B$14=\"As Received\",MIN(BN$54*$B62,(-BN$14-BN$59-BN$69-BN$79-BN$60-BN$70-BN$80-BN$61-BN$71-BN$81)*$B62),MIN((-BN$14-BN$59-BN$69-BN$79-BN$60-BN$70-BN$80-BN$61-BN$71-BN$81)*$B62,(BN$54+IF($B$59<>BN$31,SUM($C$33:BN$35),0))*$B62)))","v":0},{"$f":"IF((-BO$14-BO$59-BO$69-BO$79-BO$60-BO$70-BO$80-BO$61-BO$71-BO$81)<=0,0,IF($B$14=\"As Received\",MIN(BO$54*$B62,(-BO$14-BO$59-BO$69-BO$79-BO$60-BO$70-BO$80-BO$61-BO$71-BO$81)*$B62),MIN((-BO$14-BO$59-BO$69-BO$79-BO$60-BO$70-BO$80-BO$61-BO$71-BO$81)*$B62,(BO$54+IF($B$59<>BO$31,SUM($C$33:BO$35),0))*$B62)))","v":0},{"$f":"IF((-BP$14-BP$59-BP$69-BP$79-BP$60-BP$70-BP$80-BP$61-BP$71-BP$81)<=0,0,IF($B$14=\"As Received\",MIN(BP$54*$B62,(-BP$14-BP$59-BP$69-BP$79-BP$60-BP$70-BP$80-BP$61-BP$71-BP$81)*$B62),MIN((-BP$14-BP$59-BP$69-BP$79-BP$60-BP$70-BP$80-BP$61-BP$71-BP$81)*$B62,(BP$54+IF($B$59<>BP$31,SUM($C$33:BP$35),0))*$B62)))","v":0},{"$f":"IF((-BQ$14-BQ$59-BQ$69-BQ$79-BQ$60-BQ$70-BQ$80-BQ$61-BQ$71-BQ$81)<=0,0,IF($B$14=\"As Received\",MIN(BQ$54*$B62,(-BQ$14-BQ$59-BQ$69-BQ$79-BQ$60-BQ$70-BQ$80-BQ$61-BQ$71-BQ$81)*$B62),MIN((-BQ$14-BQ$59-BQ$69-BQ$79-BQ$60-BQ$70-BQ$80-BQ$61-BQ$71-BQ$81)*$B62,(BQ$54+IF($B$59<>BQ$31,SUM($C$33:BQ$35),0))*$B62)))","v":0},{"$f":"IF((-BR$14-BR$59-BR$69-BR$79-BR$60-BR$70-BR$80-BR$61-BR$71-BR$81)<=0,0,IF($B$14=\"As Received\",MIN(BR$54*$B62,(-BR$14-BR$59-BR$69-BR$79-BR$60-BR$70-BR$80-BR$61-BR$71-BR$81)*$B62),MIN((-BR$14-BR$59-BR$69-BR$79-BR$60-BR$70-BR$80-BR$61-BR$71-BR$81)*$B62,(BR$54+IF($B$59<>BR$31,SUM($C$33:BR$35),0))*$B62)))","v":0},{"$f":"IF((-BS$14-BS$59-BS$69-BS$79-BS$60-BS$70-BS$80-BS$61-BS$71-BS$81)<=0,0,IF($B$14=\"As Received\",MIN(BS$54*$B62,(-BS$14-BS$59-BS$69-BS$79-BS$60-BS$70-BS$80-BS$61-BS$71-BS$81)*$B62),MIN((-BS$14-BS$59-BS$69-BS$79-BS$60-BS$70-BS$80-BS$61-BS$71-BS$81)*$B62,(BS$54+IF($B$59<>BS$31,SUM($C$33:BS$35),0))*$B62)))","v":0},{"$f":"IF((-BT$14-BT$59-BT$69-BT$79-BT$60-BT$70-BT$80-BT$61-BT$71-BT$81)<=0,0,IF($B$14=\"As Received\",MIN(BT$54*$B62,(-BT$14-BT$59-BT$69-BT$79-BT$60-BT$70-BT$80-BT$61-BT$71-BT$81)*$B62),MIN((-BT$14-BT$59-BT$69-BT$79-BT$60-BT$70-BT$80-BT$61-BT$71-BT$81)*$B62,(BT$54+IF($B$59<>BT$31,SUM($C$33:BT$35),0))*$B62)))","v":0},{"$f":"IF((-BU$14-BU$59-BU$69-BU$79-BU$60-BU$70-BU$80-BU$61-BU$71-BU$81)<=0,0,IF($B$14=\"As Received\",MIN(BU$54*$B62,(-BU$14-BU$59-BU$69-BU$79-BU$60-BU$70-BU$80-BU$61-BU$71-BU$81)*$B62),MIN((-BU$14-BU$59-BU$69-BU$79-BU$60-BU$70-BU$80-BU$61-BU$71-BU$81)*$B62,(BU$54+IF($B$59<>BU$31,SUM($C$33:BU$35),0))*$B62)))","v":0},{"$f":"IF((-BV$14-BV$59-BV$69-BV$79-BV$60-BV$70-BV$80-BV$61-BV$71-BV$81)<=0,0,IF($B$14=\"As Received\",MIN(BV$54*$B62,(-BV$14-BV$59-BV$69-BV$79-BV$60-BV$70-BV$80-BV$61-BV$71-BV$81)*$B62),MIN((-BV$14-BV$59-BV$69-BV$79-BV$60-BV$70-BV$80-BV$61-BV$71-BV$81)*$B62,(BV$54+IF($B$59<>BV$31,SUM($C$33:BV$35),0))*$B62)))","v":0},{"$f":"IF((-BW$14-BW$59-BW$69-BW$79-BW$60-BW$70-BW$80-BW$61-BW$71-BW$81)<=0,0,IF($B$14=\"As Received\",MIN(BW$54*$B62,(-BW$14-BW$59-BW$69-BW$79-BW$60-BW$70-BW$80-BW$61-BW$71-BW$81)*$B62),MIN((-BW$14-BW$59-BW$69-BW$79-BW$60-BW$70-BW$80-BW$61-BW$71-BW$81)*$B62,(BW$54+IF($B$59<>BW$31,SUM($C$33:BW$35),0))*$B62)))","v":0},{"$f":"IF((-BX$14-BX$59-BX$69-BX$79-BX$60-BX$70-BX$80-BX$61-BX$71-BX$81)<=0,0,IF($B$14=\"As Received\",MIN(BX$54*$B62,(-BX$14-BX$59-BX$69-BX$79-BX$60-BX$70-BX$80-BX$61-BX$71-BX$81)*$B62),MIN((-BX$14-BX$59-BX$69-BX$79-BX$60-BX$70-BX$80-BX$61-BX$71-BX$81)*$B62,(BX$54+IF($B$59<>BX$31,SUM($C$33:BX$35),0))*$B62)))","v":0},{"$f":"IF((-BY$14-BY$59-BY$69-BY$79-BY$60-BY$70-BY$80-BY$61-BY$71-BY$81)<=0,0,IF($B$14=\"As Received\",MIN(BY$54*$B62,(-BY$14-BY$59-BY$69-BY$79-BY$60-BY$70-BY$80-BY$61-BY$71-BY$81)*$B62),MIN((-BY$14-BY$59-BY$69-BY$79-BY$60-BY$70-BY$80-BY$61-BY$71-BY$81)*$B62,(BY$54+IF($B$59<>BY$31,SUM($C$33:BY$35),0))*$B62)))","v":0},{"$f":"IF((-BZ$14-BZ$59-BZ$69-BZ$79-BZ$60-BZ$70-BZ$80-BZ$61-BZ$71-BZ$81)<=0,0,IF($B$14=\"As Received\",MIN(BZ$54*$B62,(-BZ$14-BZ$59-BZ$69-BZ$79-BZ$60-BZ$70-BZ$80-BZ$61-BZ$71-BZ$81)*$B62),MIN((-BZ$14-BZ$59-BZ$69-BZ$79-BZ$60-BZ$70-BZ$80-BZ$61-BZ$71-BZ$81)*$B62,(BZ$54+IF($B$59<>BZ$31,SUM($C$33:BZ$35),0))*$B62)))","v":0},{"$f":"IF((-CA$14-CA$59-CA$69-CA$79-CA$60-CA$70-CA$80-CA$61-CA$71-CA$81)<=0,0,IF($B$14=\"As Received\",MIN(CA$54*$B62,(-CA$14-CA$59-CA$69-CA$79-CA$60-CA$70-CA$80-CA$61-CA$71-CA$81)*$B62),MIN((-CA$14-CA$59-CA$69-CA$79-CA$60-CA$70-CA$80-CA$61-CA$71-CA$81)*$B62,(CA$54+IF($B$59<>CA$31,SUM($C$33:CA$35),0))*$B62)))","v":0},{"$f":"IF((-CB$14-CB$59-CB$69-CB$79-CB$60-CB$70-CB$80-CB$61-CB$71-CB$81)<=0,0,IF($B$14=\"As Received\",MIN(CB$54*$B62,(-CB$14-CB$59-CB$69-CB$79-CB$60-CB$70-CB$80-CB$61-CB$71-CB$81)*$B62),MIN((-CB$14-CB$59-CB$69-CB$79-CB$60-CB$70-CB$80-CB$61-CB$71-CB$81)*$B62,(CB$54+IF($B$59<>CB$31,SUM($C$33:CB$35),0))*$B62)))","v":0},{"$f":"IF((-CC$14-CC$59-CC$69-CC$79-CC$60-CC$70-CC$80-CC$61-CC$71-CC$81)<=0,0,IF($B$14=\"As Received\",MIN(CC$54*$B62,(-CC$14-CC$59-CC$69-CC$79-CC$60-CC$70-CC$80-CC$61-CC$71-CC$81)*$B62),MIN((-CC$14-CC$59-CC$69-CC$79-CC$60-CC$70-CC$80-CC$61-CC$71-CC$81)*$B62,(CC$54+IF($B$59<>CC$31,SUM($C$33:CC$35),0))*$B62)))","v":0},{"$f":"IF((-CD$14-CD$59-CD$69-CD$79-CD$60-CD$70-CD$80-CD$61-CD$71-CD$81)<=0,0,IF($B$14=\"As Received\",MIN(CD$54*$B62,(-CD$14-CD$59-CD$69-CD$79-CD$60-CD$70-CD$80-CD$61-CD$71-CD$81)*$B62),MIN((-CD$14-CD$59-CD$69-CD$79-CD$60-CD$70-CD$80-CD$61-CD$71-CD$81)*$B62,(CD$54+IF($B$59<>CD$31,SUM($C$33:CD$35),0))*$B62)))","v":0},{"$f":"IF((-CE$14-CE$59-CE$69-CE$79-CE$60-CE$70-CE$80-CE$61-CE$71-CE$81)<=0,0,IF($B$14=\"As Received\",MIN(CE$54*$B62,(-CE$14-CE$59-CE$69-CE$79-CE$60-CE$70-CE$80-CE$61-CE$71-CE$81)*$B62),MIN((-CE$14-CE$59-CE$69-CE$79-CE$60-CE$70-CE$80-CE$61-CE$71-CE$81)*$B62,(CE$54+IF($B$59<>CE$31,SUM($C$33:CE$35),0))*$B62)))","v":0},{"$f":"IF((-CF$14-CF$59-CF$69-CF$79-CF$60-CF$70-CF$80-CF$61-CF$71-CF$81)<=0,0,IF($B$14=\"As Received\",MIN(CF$54*$B62,(-CF$14-CF$59-CF$69-CF$79-CF$60-CF$70-CF$80-CF$61-CF$71-CF$81)*$B62),MIN((-CF$14-CF$59-CF$69-CF$79-CF$60-CF$70-CF$80-CF$61-CF$71-CF$81)*$B62,(CF$54+IF($B$59<>CF$31,SUM($C$33:CF$35),0))*$B62)))","v":0},{"$f":"IF((-CG$14-CG$59-CG$69-CG$79-CG$60-CG$70-CG$80-CG$61-CG$71-CG$81)<=0,0,IF($B$14=\"As Received\",MIN(CG$54*$B62,(-CG$14-CG$59-CG$69-CG$79-CG$60-CG$70-CG$80-CG$61-CG$71-CG$81)*$B62),MIN((-CG$14-CG$59-CG$69-CG$79-CG$60-CG$70-CG$80-CG$61-CG$71-CG$81)*$B62,(CG$54+IF($B$59<>CG$31,SUM($C$33:CG$35),0))*$B62)))","v":0},{"$f":"IF((-CH$14-CH$59-CH$69-CH$79-CH$60-CH$70-CH$80-CH$61-CH$71-CH$81)<=0,0,IF($B$14=\"As Received\",MIN(CH$54*$B62,(-CH$14-CH$59-CH$69-CH$79-CH$60-CH$70-CH$80-CH$61-CH$71-CH$81)*$B62),MIN((-CH$14-CH$59-CH$69-CH$79-CH$60-CH$70-CH$80-CH$61-CH$71-CH$81)*$B62,(CH$54+IF($B$59<>CH$31,SUM($C$33:CH$35),0))*$B62)))","v":0},{"$f":"IF((-CI$14-CI$59-CI$69-CI$79-CI$60-CI$70-CI$80-CI$61-CI$71-CI$81)<=0,0,IF($B$14=\"As Received\",MIN(CI$54*$B62,(-CI$14-CI$59-CI$69-CI$79-CI$60-CI$70-CI$80-CI$61-CI$71-CI$81)*$B62),MIN((-CI$14-CI$59-CI$69-CI$79-CI$60-CI$70-CI$80-CI$61-CI$71-CI$81)*$B62,(CI$54+IF($B$59<>CI$31,SUM($C$33:CI$35),0))*$B62)))","v":0},{"$f":"IF((-CJ$14-CJ$59-CJ$69-CJ$79-CJ$60-CJ$70-CJ$80-CJ$61-CJ$71-CJ$81)<=0,0,IF($B$14=\"As Received\",MIN(CJ$54*$B62,(-CJ$14-CJ$59-CJ$69-CJ$79-CJ$60-CJ$70-CJ$80-CJ$61-CJ$71-CJ$81)*$B62),MIN((-CJ$14-CJ$59-CJ$69-CJ$79-CJ$60-CJ$70-CJ$80-CJ$61-CJ$71-CJ$81)*$B62,(CJ$54+IF($B$59<>CJ$31,SUM($C$33:CJ$35),0))*$B62)))","v":0},{"$f":"IF((-CK$14-CK$59-CK$69-CK$79-CK$60-CK$70-CK$80-CK$61-CK$71-CK$81)<=0,0,IF($B$14=\"As Received\",MIN(CK$54*$B62,(-CK$14-CK$59-CK$69-CK$79-CK$60-CK$70-CK$80-CK$61-CK$71-CK$81)*$B62),MIN((-CK$14-CK$59-CK$69-CK$79-CK$60-CK$70-CK$80-CK$61-CK$71-CK$81)*$B62,(CK$54+IF($B$59<>CK$31,SUM($C$33:CK$35),0))*$B62)))","v":0},{"$f":"IF((-CL$14-CL$59-CL$69-CL$79-CL$60-CL$70-CL$80-CL$61-CL$71-CL$81)<=0,0,IF($B$14=\"As Received\",MIN(CL$54*$B62,(-CL$14-CL$59-CL$69-CL$79-CL$60-CL$70-CL$80-CL$61-CL$71-CL$81)*$B62),MIN((-CL$14-CL$59-CL$69-CL$79-CL$60-CL$70-CL$80-CL$61-CL$71-CL$81)*$B62,(CL$54+IF($B$59<>CL$31,SUM($C$33:CL$35),0))*$B62)))","v":0},{"$f":"IF((-CM$14-CM$59-CM$69-CM$79-CM$60-CM$70-CM$80-CM$61-CM$71-CM$81)<=0,0,IF($B$14=\"As Received\",MIN(CM$54*$B62,(-CM$14-CM$59-CM$69-CM$79-CM$60-CM$70-CM$80-CM$61-CM$71-CM$81)*$B62),MIN((-CM$14-CM$59-CM$69-CM$79-CM$60-CM$70-CM$80-CM$61-CM$71-CM$81)*$B62,(CM$54+IF($B$59<>CM$31,SUM($C$33:CM$35),0))*$B62)))","v":0},{"$f":"IF((-CN$14-CN$59-CN$69-CN$79-CN$60-CN$70-CN$80-CN$61-CN$71-CN$81)<=0,0,IF($B$14=\"As Received\",MIN(CN$54*$B62,(-CN$14-CN$59-CN$69-CN$79-CN$60-CN$70-CN$80-CN$61-CN$71-CN$81)*$B62),MIN((-CN$14-CN$59-CN$69-CN$79-CN$60-CN$70-CN$80-CN$61-CN$71-CN$81)*$B62,(CN$54+IF($B$59<>CN$31,SUM($C$33:CN$35),0))*$B62)))","v":0},{"$f":"IF((-CO$14-CO$59-CO$69-CO$79-CO$60-CO$70-CO$80-CO$61-CO$71-CO$81)<=0,0,IF($B$14=\"As Received\",MIN(CO$54*$B62,(-CO$14-CO$59-CO$69-CO$79-CO$60-CO$70-CO$80-CO$61-CO$71-CO$81)*$B62),MIN((-CO$14-CO$59-CO$69-CO$79-CO$60-CO$70-CO$80-CO$61-CO$71-CO$81)*$B62,(CO$54+IF($B$59<>CO$31,SUM($C$33:CO$35),0))*$B62)))","v":0},{"$f":"IF((-CP$14-CP$59-CP$69-CP$79-CP$60-CP$70-CP$80-CP$61-CP$71-CP$81)<=0,0,IF($B$14=\"As Received\",MIN(CP$54*$B62,(-CP$14-CP$59-CP$69-CP$79-CP$60-CP$70-CP$80-CP$61-CP$71-CP$81)*$B62),MIN((-CP$14-CP$59-CP$69-CP$79-CP$60-CP$70-CP$80-CP$61-CP$71-CP$81)*$B62,(CP$54+IF($B$59<>CP$31,SUM($C$33:CP$35),0))*$B62)))","v":0},{"$f":"IF((-CQ$14-CQ$59-CQ$69-CQ$79-CQ$60-CQ$70-CQ$80-CQ$61-CQ$71-CQ$81)<=0,0,IF($B$14=\"As Received\",MIN(CQ$54*$B62,(-CQ$14-CQ$59-CQ$69-CQ$79-CQ$60-CQ$70-CQ$80-CQ$61-CQ$71-CQ$81)*$B62),MIN((-CQ$14-CQ$59-CQ$69-CQ$79-CQ$60-CQ$70-CQ$80-CQ$61-CQ$71-CQ$81)*$B62,(CQ$54+IF($B$59<>CQ$31,SUM($C$33:CQ$35),0))*$B62)))","v":0},{"$f":"IF((-CR$14-CR$59-CR$69-CR$79-CR$60-CR$70-CR$80-CR$61-CR$71-CR$81)<=0,0,IF($B$14=\"As Received\",MIN(CR$54*$B62,(-CR$14-CR$59-CR$69-CR$79-CR$60-CR$70-CR$80-CR$61-CR$71-CR$81)*$B62),MIN((-CR$14-CR$59-CR$69-CR$79-CR$60-CR$70-CR$80-CR$61-CR$71-CR$81)*$B62,(CR$54+IF($B$59<>CR$31,SUM($C$33:CR$35),0))*$B62)))","v":0},{"$f":"IF((-CS$14-CS$59-CS$69-CS$79-CS$60-CS$70-CS$80-CS$61-CS$71-CS$81)<=0,0,IF($B$14=\"As Received\",MIN(CS$54*$B62,(-CS$14-CS$59-CS$69-CS$79-CS$60-CS$70-CS$80-CS$61-CS$71-CS$81)*$B62),MIN((-CS$14-CS$59-CS$69-CS$79-CS$60-CS$70-CS$80-CS$61-CS$71-CS$81)*$B62,(CS$54+IF($B$59<>CS$31,SUM($C$33:CS$35),0))*$B62)))","v":0},{"$f":"IF((-CT$14-CT$59-CT$69-CT$79-CT$60-CT$70-CT$80-CT$61-CT$71-CT$81)<=0,0,IF($B$14=\"As Received\",MIN(CT$54*$B62,(-CT$14-CT$59-CT$69-CT$79-CT$60-CT$70-CT$80-CT$61-CT$71-CT$81)*$B62),MIN((-CT$14-CT$59-CT$69-CT$79-CT$60-CT$70-CT$80-CT$61-CT$71-CT$81)*$B62,(CT$54+IF($B$59<>CT$31,SUM($C$33:CT$35),0))*$B62)))","v":0},{"$f":"IF((-CU$14-CU$59-CU$69-CU$79-CU$60-CU$70-CU$80-CU$61-CU$71-CU$81)<=0,0,IF($B$14=\"As Received\",MIN(CU$54*$B62,(-CU$14-CU$59-CU$69-CU$79-CU$60-CU$70-CU$80-CU$61-CU$71-CU$81)*$B62),MIN((-CU$14-CU$59-CU$69-CU$79-CU$60-CU$70-CU$80-CU$61-CU$71-CU$81)*$B62,(CU$54+IF($B$59<>CU$31,SUM($C$33:CU$35),0))*$B62)))","v":0},{"$f":"IF((-CV$14-CV$59-CV$69-CV$79-CV$60-CV$70-CV$80-CV$61-CV$71-CV$81)<=0,0,IF($B$14=\"As Received\",MIN(CV$54*$B62,(-CV$14-CV$59-CV$69-CV$79-CV$60-CV$70-CV$80-CV$61-CV$71-CV$81)*$B62),MIN((-CV$14-CV$59-CV$69-CV$79-CV$60-CV$70-CV$80-CV$61-CV$71-CV$81)*$B62,(CV$54+IF($B$59<>CV$31,SUM($C$33:CV$35),0))*$B62)))","v":0},{"$f":"IF((-CW$14-CW$59-CW$69-CW$79-CW$60-CW$70-CW$80-CW$61-CW$71-CW$81)<=0,0,IF($B$14=\"As Received\",MIN(CW$54*$B62,(-CW$14-CW$59-CW$69-CW$79-CW$60-CW$70-CW$80-CW$61-CW$71-CW$81)*$B62),MIN((-CW$14-CW$59-CW$69-CW$79-CW$60-CW$70-CW$80-CW$61-CW$71-CW$81)*$B62,(CW$54+IF($B$59<>CW$31,SUM($C$33:CW$35),0))*$B62)))","v":0},{"$f":"IF((-CX$14-CX$59-CX$69-CX$79-CX$60-CX$70-CX$80-CX$61-CX$71-CX$81)<=0,0,IF($B$14=\"As Received\",MIN(CX$54*$B62,(-CX$14-CX$59-CX$69-CX$79-CX$60-CX$70-CX$80-CX$61-CX$71-CX$81)*$B62),MIN((-CX$14-CX$59-CX$69-CX$79-CX$60-CX$70-CX$80-CX$61-CX$71-CX$81)*$B62,(CX$54+IF($B$59<>CX$31,SUM($C$33:CX$35),0))*$B62)))","v":0},{"$f":"IF((-CY$14-CY$59-CY$69-CY$79-CY$60-CY$70-CY$80-CY$61-CY$71-CY$81)<=0,0,IF($B$14=\"As Received\",MIN(CY$54*$B62,(-CY$14-CY$59-CY$69-CY$79-CY$60-CY$70-CY$80-CY$61-CY$71-CY$81)*$B62),MIN((-CY$14-CY$59-CY$69-CY$79-CY$60-CY$70-CY$80-CY$61-CY$71-CY$81)*$B62,(CY$54+IF($B$59<>CY$31,SUM($C$33:CY$35),0))*$B62)))","v":0},{"$f":"IF((-CZ$14-CZ$59-CZ$69-CZ$79-CZ$60-CZ$70-CZ$80-CZ$61-CZ$71-CZ$81)<=0,0,IF($B$14=\"As Received\",MIN(CZ$54*$B62,(-CZ$14-CZ$59-CZ$69-CZ$79-CZ$60-CZ$70-CZ$80-CZ$61-CZ$71-CZ$81)*$B62),MIN((-CZ$14-CZ$59-CZ$69-CZ$79-CZ$60-CZ$70-CZ$80-CZ$61-CZ$71-CZ$81)*$B62,(CZ$54+IF($B$59<>CZ$31,SUM($C$33:CZ$35),0))*$B62)))","v":0},{"$f":"IF((-DA$14-DA$59-DA$69-DA$79-DA$60-DA$70-DA$80-DA$61-DA$71-DA$81)<=0,0,IF($B$14=\"As Received\",MIN(DA$54*$B62,(-DA$14-DA$59-DA$69-DA$79-DA$60-DA$70-DA$80-DA$61-DA$71-DA$81)*$B62),MIN((-DA$14-DA$59-DA$69-DA$79-DA$60-DA$70-DA$80-DA$61-DA$71-DA$81)*$B62,(DA$54+IF($B$59<>DA$31,SUM($C$33:DA$35),0))*$B62)))","v":0},{"$f":"IF((-DB$14-DB$59-DB$69-DB$79-DB$60-DB$70-DB$80-DB$61-DB$71-DB$81)<=0,0,IF($B$14=\"As Received\",MIN(DB$54*$B62,(-DB$14-DB$59-DB$69-DB$79-DB$60-DB$70-DB$80-DB$61-DB$71-DB$81)*$B62),MIN((-DB$14-DB$59-DB$69-DB$79-DB$60-DB$70-DB$80-DB$61-DB$71-DB$81)*$B62,(DB$54+IF($B$59<>DB$31,SUM($C$33:DB$35),0))*$B62)))","v":0},{"$f":"IF((-DC$14-DC$59-DC$69-DC$79-DC$60-DC$70-DC$80-DC$61-DC$71-DC$81)<=0,0,IF($B$14=\"As Received\",MIN(DC$54*$B62,(-DC$14-DC$59-DC$69-DC$79-DC$60-DC$70-DC$80-DC$61-DC$71-DC$81)*$B62),MIN((-DC$14-DC$59-DC$69-DC$79-DC$60-DC$70-DC$80-DC$61-DC$71-DC$81)*$B62,(DC$54+IF($B$59<>DC$31,SUM($C$33:DC$35),0))*$B62)))","v":0},{"$f":"IF((-DD$14-DD$59-DD$69-DD$79-DD$60-DD$70-DD$80-DD$61-DD$71-DD$81)<=0,0,IF($B$14=\"As Received\",MIN(DD$54*$B62,(-DD$14-DD$59-DD$69-DD$79-DD$60-DD$70-DD$80-DD$61-DD$71-DD$81)*$B62),MIN((-DD$14-DD$59-DD$69-DD$79-DD$60-DD$70-DD$80-DD$61-DD$71-DD$81)*$B62,(DD$54+IF($B$59<>DD$31,SUM($C$33:DD$35),0))*$B62)))","v":0},{"$f":"IF((-DE$14-DE$59-DE$69-DE$79-DE$60-DE$70-DE$80-DE$61-DE$71-DE$81)<=0,0,IF($B$14=\"As Received\",MIN(DE$54*$B62,(-DE$14-DE$59-DE$69-DE$79-DE$60-DE$70-DE$80-DE$61-DE$71-DE$81)*$B62),MIN((-DE$14-DE$59-DE$69-DE$79-DE$60-DE$70-DE$80-DE$61-DE$71-DE$81)*$B62,(DE$54+IF($B$59<>DE$31,SUM($C$33:DE$35),0))*$B62)))","v":0},{"$f":"IF((-DF$14-DF$59-DF$69-DF$79-DF$60-DF$70-DF$80-DF$61-DF$71-DF$81)<=0,0,IF($B$14=\"As Received\",MIN(DF$54*$B62,(-DF$14-DF$59-DF$69-DF$79-DF$60-DF$70-DF$80-DF$61-DF$71-DF$81)*$B62),MIN((-DF$14-DF$59-DF$69-DF$79-DF$60-DF$70-DF$80-DF$61-DF$71-DF$81)*$B62,(DF$54+IF($B$59<>DF$31,SUM($C$33:DF$35),0))*$B62)))","v":0},{"$f":"IF((-DG$14-DG$59-DG$69-DG$79-DG$60-DG$70-DG$80-DG$61-DG$71-DG$81)<=0,0,IF($B$14=\"As Received\",MIN(DG$54*$B62,(-DG$14-DG$59-DG$69-DG$79-DG$60-DG$70-DG$80-DG$61-DG$71-DG$81)*$B62),MIN((-DG$14-DG$59-DG$69-DG$79-DG$60-DG$70-DG$80-DG$61-DG$71-DG$81)*$B62,(DG$54+IF($B$59<>DG$31,SUM($C$33:DG$35),0))*$B62)))","v":0},{"$f":"IF((-DH$14-DH$59-DH$69-DH$79-DH$60-DH$70-DH$80-DH$61-DH$71-DH$81)<=0,0,IF($B$14=\"As Received\",MIN(DH$54*$B62,(-DH$14-DH$59-DH$69-DH$79-DH$60-DH$70-DH$80-DH$61-DH$71-DH$81)*$B62),MIN((-DH$14-DH$59-DH$69-DH$79-DH$60-DH$70-DH$80-DH$61-DH$71-DH$81)*$B62,(DH$54+IF($B$59<>DH$31,SUM($C$33:DH$35),0))*$B62)))","v":0},{"$f":"IF((-DI$14-DI$59-DI$69-DI$79-DI$60-DI$70-DI$80-DI$61-DI$71-DI$81)<=0,0,IF($B$14=\"As Received\",MIN(DI$54*$B62,(-DI$14-DI$59-DI$69-DI$79-DI$60-DI$70-DI$80-DI$61-DI$71-DI$81)*$B62),MIN((-DI$14-DI$59-DI$69-DI$79-DI$60-DI$70-DI$80-DI$61-DI$71-DI$81)*$B62,(DI$54+IF($B$59<>DI$31,SUM($C$33:DI$35),0))*$B62)))","v":0},{"$f":"IF((-DJ$14-DJ$59-DJ$69-DJ$79-DJ$60-DJ$70-DJ$80-DJ$61-DJ$71-DJ$81)<=0,0,IF($B$14=\"As Received\",MIN(DJ$54*$B62,(-DJ$14-DJ$59-DJ$69-DJ$79-DJ$60-DJ$70-DJ$80-DJ$61-DJ$71-DJ$81)*$B62),MIN((-DJ$14-DJ$59-DJ$69-DJ$79-DJ$60-DJ$70-DJ$80-DJ$61-DJ$71-DJ$81)*$B62,(DJ$54+IF($B$59<>DJ$31,SUM($C$33:DJ$35),0))*$B62)))","v":0},{"$f":"IF((-DK$14-DK$59-DK$69-DK$79-DK$60-DK$70-DK$80-DK$61-DK$71-DK$81)<=0,0,IF($B$14=\"As Received\",MIN(DK$54*$B62,(-DK$14-DK$59-DK$69-DK$79-DK$60-DK$70-DK$80-DK$61-DK$71-DK$81)*$B62),MIN((-DK$14-DK$59-DK$69-DK$79-DK$60-DK$70-DK$80-DK$61-DK$71-DK$81)*$B62,(DK$54+IF($B$59<>DK$31,SUM($C$33:DK$35),0))*$B62)))","v":0},{"$f":"IF((-DL$14-DL$59-DL$69-DL$79-DL$60-DL$70-DL$80-DL$61-DL$71-DL$81)<=0,0,IF($B$14=\"As Received\",MIN(DL$54*$B62,(-DL$14-DL$59-DL$69-DL$79-DL$60-DL$70-DL$80-DL$61-DL$71-DL$81)*$B62),MIN((-DL$14-DL$59-DL$69-DL$79-DL$60-DL$70-DL$80-DL$61-DL$71-DL$81)*$B62,(DL$54+IF($B$59<>DL$31,SUM($C$33:DL$35),0))*$B62)))","v":0},{"$f":"IF((-DM$14-DM$59-DM$69-DM$79-DM$60-DM$70-DM$80-DM$61-DM$71-DM$81)<=0,0,IF($B$14=\"As Received\",MIN(DM$54*$B62,(-DM$14-DM$59-DM$69-DM$79-DM$60-DM$70-DM$80-DM$61-DM$71-DM$81)*$B62),MIN((-DM$14-DM$59-DM$69-DM$79-DM$60-DM$70-DM$80-DM$61-DM$71-DM$81)*$B62,(DM$54+IF($B$59<>DM$31,SUM($C$33:DM$35),0))*$B62)))","v":0},{"$f":"IF((-DN$14-DN$59-DN$69-DN$79-DN$60-DN$70-DN$80-DN$61-DN$71-DN$81)<=0,0,IF($B$14=\"As Received\",MIN(DN$54*$B62,(-DN$14-DN$59-DN$69-DN$79-DN$60-DN$70-DN$80-DN$61-DN$71-DN$81)*$B62),MIN((-DN$14-DN$59-DN$69-DN$79-DN$60-DN$70-DN$80-DN$61-DN$71-DN$81)*$B62,(DN$54+IF($B$59<>DN$31,SUM($C$33:DN$35),0))*$B62)))","v":0},{"$f":"IF((-DO$14-DO$59-DO$69-DO$79-DO$60-DO$70-DO$80-DO$61-DO$71-DO$81)<=0,0,IF($B$14=\"As Received\",MIN(DO$54*$B62,(-DO$14-DO$59-DO$69-DO$79-DO$60-DO$70-DO$80-DO$61-DO$71-DO$81)*$B62),MIN((-DO$14-DO$59-DO$69-DO$79-DO$60-DO$70-DO$80-DO$61-DO$71-DO$81)*$B62,(DO$54+IF($B$59<>DO$31,SUM($C$33:DO$35),0))*$B62)))","v":0},{"$f":"IF((-DP$14-DP$59-DP$69-DP$79-DP$60-DP$70-DP$80-DP$61-DP$71-DP$81)<=0,0,IF($B$14=\"As Received\",MIN(DP$54*$B62,(-DP$14-DP$59-DP$69-DP$79-DP$60-DP$70-DP$80-DP$61-DP$71-DP$81)*$B62),MIN((-DP$14-DP$59-DP$69-DP$79-DP$60-DP$70-DP$80-DP$61-DP$71-DP$81)*$B62,(DP$54+IF($B$59<>DP$31,SUM($C$33:DP$35),0))*$B62)))","v":0},{"$f":"IF((-DQ$14-DQ$59-DQ$69-DQ$79-DQ$60-DQ$70-DQ$80-DQ$61-DQ$71-DQ$81)<=0,0,IF($B$14=\"As Received\",MIN(DQ$54*$B62,(-DQ$14-DQ$59-DQ$69-DQ$79-DQ$60-DQ$70-DQ$80-DQ$61-DQ$71-DQ$81)*$B62),MIN((-DQ$14-DQ$59-DQ$69-DQ$79-DQ$60-DQ$70-DQ$80-DQ$61-DQ$71-DQ$81)*$B62,(DQ$54+IF($B$59<>DQ$31,SUM($C$33:DQ$35),0))*$B62)))","v":0},{"$f":"IF((-DR$14-DR$59-DR$69-DR$79-DR$60-DR$70-DR$80-DR$61-DR$71-DR$81)<=0,0,IF($B$14=\"As Received\",MIN(DR$54*$B62,(-DR$14-DR$59-DR$69-DR$79-DR$60-DR$70-DR$80-DR$61-DR$71-DR$81)*$B62),MIN((-DR$14-DR$59-DR$69-DR$79-DR$60-DR$70-DR$80-DR$61-DR$71-DR$81)*$B62,(DR$54+IF($B$59<>DR$31,SUM($C$33:DR$35),0))*$B62)))","v":0},{"$f":"IF((-DS$14-DS$59-DS$69-DS$79-DS$60-DS$70-DS$80-DS$61-DS$71-DS$81)<=0,0,IF($B$14=\"As Received\",MIN(DS$54*$B62,(-DS$14-DS$59-DS$69-DS$79-DS$60-DS$70-DS$80-DS$61-DS$71-DS$81)*$B62),MIN((-DS$14-DS$59-DS$69-DS$79-DS$60-DS$70-DS$80-DS$61-DS$71-DS$81)*$B62,(DS$54+IF($B$59<>DS$31,SUM($C$33:DS$35),0))*$B62)))","v":0}]
["Residual",{"$f":"G26","v":0.3856},{"$f":"IF((-C$14-C$59-C$69-C$79-C$60-C$70-C$80-C$61-C$71-C$81-C$62-C$72-C$82)<=0,0,IF($B$14=\"As Received\",(-C$14-C$59-C$69-C$79-C$60-C$70-C$80-C$61-C$71-C$81-C$62-C$72-C$82)*$B63,MIN((-C$14-C$59-C$69-C$79-C$60-C$70-C$80-C$61-C$71-C$81-C$62-C$72-C$82)*$B63,(C$54+IF($B$59<>C$31,SUM($C$33:C$35),0))*$B63)))","v":0},{"$f":"IF((-D$14-D$59-D$69-D$79-D$60-D$70-D$80-D$61-D$71-D$81-D$62-D$72-D$82)<=0,0,IF($B$14=\"As Received\",(-D$14-D$59-D$69-D$79-D$60-D$70-D$80-D$61-D$71-D$81-D$62-D$72-D$82)*$B63,MIN((-D$14-D$59-D$69-D$79-D$60-D$70-D$80-D$61-D$71-D$81-D$62-D$72-D$82)*$B63,(D$54+IF($B$59<>D$31,SUM($C$33:D$35),0))*$B63)))","v":0},{"$f":"IF((-E$14-E$59-E$69-E$79-E$60-E$70-E$80-E$61-E$71-E$81-E$62-E$72-E$82)<=0,0,IF($B$14=\"As Received\",(-E$14-E$59-E$69-E$79-E$60-E$70-E$80-E$61-E$71-E$81-E$62-E$72-E$82)*$B63,MIN((-E$14-E$59-E$69-E$79-E$60-E$70-E$80-E$61-E$71-E$81-E$62-E$72-E$82)*$B63,(E$54+IF($B$59<>E$31,SUM($C$33:E$35),0))*$B63)))","v":0},{"$f":"IF((-F$14-F$59-F$69-F$79-F$60-F$70-F$80-F$61-F$71-F$81-F$62-F$72-F$82)<=0,0,IF($B$14=\"As Received\",(-F$14-F$59-F$69-F$79-F$60-F$70-F$80-F$61-F$71-F$81-F$62-F$72-F$82)*$B63,MIN((-F$14-F$59-F$69-F$79-F$60-F$70-F$80-F$61-F$71-F$81-F$62-F$72-F$82)*$B63,(F$54+IF($B$59<>F$31,SUM($C$33:F$35),0))*$B63)))","v":0},{"$f":"IF((-G$14-G$59-G$69-G$79-G$60-G$70-G$80-G$61-G$71-G$81-G$62-G$72-G$82)<=0,0,IF($B$14=\"As Received\",(-G$14-G$59-G$69-G$79-G$60-G$70-G$80-G$61-G$71-G$81-G$62-G$72-G$82)*$B63,MIN((-G$14-G$59-G$69-G$79-G$60-G$70-G$80-G$61-G$71-G$81-G$62-G$72-G$82)*$B63,(G$54+IF($B$59<>G$31,SUM($C$33:G$35),0))*$B63)))","v":0},{"$f":"IF((-H$14-H$59-H$69-H$79-H$60-H$70-H$80-H$61-H$71-H$81-H$62-H$72-H$82)<=0,0,IF($B$14=\"As Received\",(-H$14-H$59-H$69-H$79-H$60-H$70-H$80-H$61-H$71-H$81-H$62-H$72-H$82)*$B63,MIN((-H$14-H$59-H$69-H$79-H$60-H$70-H$80-H$61-H$71-H$81-H$62-H$72-H$82)*$B63,(H$54+IF($B$59<>H$31,SUM($C$33:H$35),0))*$B63)))","v":0},{"$f":"IF((-I$14-I$59-I$69-I$79-I$60-I$70-I$80-I$61-I$71-I$81-I$62-I$72-I$82)<=0,0,IF($B$14=\"As Received\",(-I$14-I$59-I$69-I$79-I$60-I$70-I$80-I$61-I$71-I$81-I$62-I$72-I$82)*$B63,MIN((-I$14-I$59-I$69-I$79-I$60-I$70-I$80-I$61-I$71-I$81-I$62-I$72-I$82)*$B63,(I$54+IF($B$59<>I$31,SUM($C$33:I$35),0))*$B63)))","v":0},{"$f":"IF((-J$14-J$59-J$69-J$79-J$60-J$70-J$80-J$61-J$71-J$81-J$62-J$72-J$82)<=0,0,IF($B$14=\"As Received\",(-J$14-J$59-J$69-J$79-J$60-J$70-J$80-J$61-J$71-J$81-J$62-J$72-J$82)*$B63,MIN((-J$14-J$59-J$69-J$79-J$60-J$70-J$80-J$61-J$71-J$81-J$62-J$72-J$82)*$B63,(J$54+IF($B$59<>J$31,SUM($C$33:J$35),0))*$B63)))","v":0},{"$f":"IF((-K$14-K$59-K$69-K$79-K$60-K$70-K$80-K$61-K$71-K$81-K$62-K$72-K$82)<=0,0,IF($B$14=\"As Received\",(-K$14-K$59-K$69-K$79-K$60-K$70-K$80-K$61-K$71-K$81-K$62-K$72-K$82)*$B63,MIN((-K$14-K$59-K$69-K$79-K$60-K$70-K$80-K$61-K$71-K$81-K$62-K$72-K$82)*$B63,(K$54+IF($B$59<>K$31,SUM($C$33:K$35),0))*$B63)))","v":0},{"$f":"IF((-L$14-L$59-L$69-L$79-L$60-L$70-L$80-L$61-L$71-L$81-L$62-L$72-L$82)<=0,0,IF($B$14=\"As Received\",(-L$14-L$59-L$69-L$79-L$60-L$70-L$80-L$61-L$71-L$81-L$62-L$72-L$82)*$B63,MIN((-L$14-L$59-L$69-L$79-L$60-L$70-L$80-L$61-L$71-L$81-L$62-L$72-L$82)*$B63,(L$54+IF($B$59<>L$31,SUM($C$33:L$35),0))*$B63)))","v":0},{"$f":"IF((-M$14-M$59-M$69-M$79-M$60-M$70-M$80-M$61-M$71-M$81-M$62-M$72-M$82)<=0,0,IF($B$14=\"As Received\",(-M$14-M$59-M$69-M$79-M$60-M$70-M$80-M$61-M$71-M$81-M$62-M$72-M$82)*$B63,MIN((-M$14-M$59-M$69-M$79-M$60-M$70-M$80-M$61-M$71-M$81-M$62-M$72-M$82)*$B63,(M$54+IF($B$59<>M$31,SUM($C$33:M$35),0))*$B63)))","v":0},{"$f":"IF((-N$14-N$59-N$69-N$79-N$60-N$70-N$80-N$61-N$71-N$81-N$62-N$72-N$82)<=0,0,IF($B$14=\"As Received\",(-N$14-N$59-N$69-N$79-N$60-N$70-N$80-N$61-N$71-N$81-N$62-N$72-N$82)*$B63,MIN((-N$14-N$59-N$69-N$79-N$60-N$70-N$80-N$61-N$71-N$81-N$62-N$72-N$82)*$B63,(N$54+IF($B$59<>N$31,SUM($C$33:N$35),0))*$B63)))","v":0},{"$f":"IF((-O$14-O$59-O$69-O$79-O$60-O$70-O$80-O$61-O$71-O$81-O$62-O$72-O$82)<=0,0,IF($B$14=\"As Received\",(-O$14-O$59-O$69-O$79-O$60-O$70-O$80-O$61-O$71-O$81-O$62-O$72-O$82)*$B63,MIN((-O$14-O$59-O$69-O$79-O$60-O$70-O$80-O$61-O$71-O$81-O$62-O$72-O$82)*$B63,(O$54+IF($B$59<>O$31,SUM($C$33:O$35),0))*$B63)))","v":0},{"$f":"IF((-P$14-P$59-P$69-P$79-P$60-P$70-P$80-P$61-P$71-P$81-P$62-P$72-P$82)<=0,0,IF($B$14=\"As Received\",(-P$14-P$59-P$69-P$79-P$60-P$70-P$80-P$61-P$71-P$81-P$62-P$72-P$82)*$B63,MIN((-P$14-P$59-P$69-P$79-P$60-P$70-P$80-P$61-P$71-P$81-P$62-P$72-P$82)*$B63,(P$54+IF($B$59<>P$31,SUM($C$33:P$35),0))*$B63)))","v":0},{"$f":"IF((-Q$14-Q$59-Q$69-Q$79-Q$60-Q$70-Q$80-Q$61-Q$71-Q$81-Q$62-Q$72-Q$82)<=0,0,IF($B$14=\"As Received\",(-Q$14-Q$59-Q$69-Q$79-Q$60-Q$70-Q$80-Q$61-Q$71-Q$81-Q$62-Q$72-Q$82)*$B63,MIN((-Q$14-Q$59-Q$69-Q$79-Q$60-Q$70-Q$80-Q$61-Q$71-Q$81-Q$62-Q$72-Q$82)*$B63,(Q$54+IF($B$59<>Q$31,SUM($C$33:Q$35),0))*$B63)))","v":0},{"$f":"IF((-R$14-R$59-R$69-R$79-R$60-R$70-R$80-R$61-R$71-R$81-R$62-R$72-R$82)<=0,0,IF($B$14=\"As Received\",(-R$14-R$59-R$69-R$79-R$60-R$70-R$80-R$61-R$71-R$81-R$62-R$72-R$82)*$B63,MIN((-R$14-R$59-R$69-R$79-R$60-R$70-R$80-R$61-R$71-R$81-R$62-R$72-R$82)*$B63,(R$54+IF($B$59<>R$31,SUM($C$33:R$35),0))*$B63)))","v":0},{"$f":"IF((-S$14-S$59-S$69-S$79-S$60-S$70-S$80-S$61-S$71-S$81-S$62-S$72-S$82)<=0,0,IF($B$14=\"As Received\",(-S$14-S$59-S$69-S$79-S$60-S$70-S$80-S$61-S$71-S$81-S$62-S$72-S$82)*$B63,MIN((-S$14-S$59-S$69-S$79-S$60-S$70-S$80-S$61-S$71-S$81-S$62-S$72-S$82)*$B63,(S$54+IF($B$59<>S$31,SUM($C$33:S$35),0))*$B63)))","v":0},{"$f":"IF((-T$14-T$59-T$69-T$79-T$60-T$70-T$80-T$61-T$71-T$81-T$62-T$72-T$82)<=0,0,IF($B$14=\"As Received\",(-T$14-T$59-T$69-T$79-T$60-T$70-T$80-T$61-T$71-T$81-T$62-T$72-T$82)*$B63,MIN((-T$14-T$59-T$69-T$79-T$60-T$70-T$80-T$61-T$71-T$81-T$62-T$72-T$82)*$B63,(T$54+IF($B$59<>T$31,SUM($C$33:T$35),0))*$B63)))","v":0},{"$f":"IF((-U$14-U$59-U$69-U$79-U$60-U$70-U$80-U$61-U$71-U$81-U$62-U$72-U$82)<=0,0,IF($B$14=\"As Received\",(-U$14-U$59-U$69-U$79-U$60-U$70-U$80-U$61-U$71-U$81-U$62-U$72-U$82)*$B63,MIN((-U$14-U$59-U$69-U$79-U$60-U$70-U$80-U$61-U$71-U$81-U$62-U$72-U$82)*$B63,(U$54+IF($B$59<>U$31,SUM($C$33:U$35),0))*$B63)))","v":0},{"$f":"IF((-V$14-V$59-V$69-V$79-V$60-V$70-V$80-V$61-V$71-V$81-V$62-V$72-V$82)<=0,0,IF($B$14=\"As Received\",(-V$14-V$59-V$69-V$79-V$60-V$70-V$80-V$61-V$71-V$81-V$62-V$72-V$82)*$B63,MIN((-V$14-V$59-V$69-V$79-V$60-V$70-V$80-V$61-V$71-V$81-V$62-V$72-V$82)*$B63,(V$54+IF($B$59<>V$31,SUM($C$33:V$35),0))*$B63)))","v":0},{"$f":"IF((-W$14-W$59-W$69-W$79-W$60-W$70-W$80-W$61-W$71-W$81-W$62-W$72-W$82)<=0,0,IF($B$14=\"As Received\",(-W$14-W$59-W$69-W$79-W$60-W$70-W$80-W$61-W$71-W$81-W$62-W$72-W$82)*$B63,MIN((-W$14-W$59-W$69-W$79-W$60-W$70-W$80-W$61-W$71-W$81-W$62-W$72-W$82)*$B63,(W$54+IF($B$59<>W$31,SUM($C$33:W$35),0))*$B63)))","v":0},{"$f":"IF((-X$14-X$59-X$69-X$79-X$60-X$70-X$80-X$61-X$71-X$81-X$62-X$72-X$82)<=0,0,IF($B$14=\"As Received\",(-X$14-X$59-X$69-X$79-X$60-X$70-X$80-X$61-X$71-X$81-X$62-X$72-X$82)*$B63,MIN((-X$14-X$59-X$69-X$79-X$60-X$70-X$80-X$61-X$71-X$81-X$62-X$72-X$82)*$B63,(X$54+IF($B$59<>X$31,SUM($C$33:X$35),0))*$B63)))","v":0},{"$f":"IF((-Y$14-Y$59-Y$69-Y$79-Y$60-Y$70-Y$80-Y$61-Y$71-Y$81-Y$62-Y$72-Y$82)<=0,0,IF($B$14=\"As Received\",(-Y$14-Y$59-Y$69-Y$79-Y$60-Y$70-Y$80-Y$61-Y$71-Y$81-Y$62-Y$72-Y$82)*$B63,MIN((-Y$14-Y$59-Y$69-Y$79-Y$60-Y$70-Y$80-Y$61-Y$71-Y$81-Y$62-Y$72-Y$82)*$B63,(Y$54+IF($B$59<>Y$31,SUM($C$33:Y$35),0))*$B63)))","v":0},{"$f":"IF((-Z$14-Z$59-Z$69-Z$79-Z$60-Z$70-Z$80-Z$61-Z$71-Z$81-Z$62-Z$72-Z$82)<=0,0,IF($B$14=\"As Received\",(-Z$14-Z$59-Z$69-Z$79-Z$60-Z$70-Z$80-Z$61-Z$71-Z$81-Z$62-Z$72-Z$82)*$B63,MIN((-Z$14-Z$59-Z$69-Z$79-Z$60-Z$70-Z$80-Z$61-Z$71-Z$81-Z$62-Z$72-Z$82)*$B63,(Z$54+IF($B$59<>Z$31,SUM($C$33:Z$35),0))*$B63)))","v":0},{"$f":"IF((-AA$14-AA$59-AA$69-AA$79-AA$60-AA$70-AA$80-AA$61-AA$71-AA$81-AA$62-AA$72-AA$82)<=0,0,IF($B$14=\"As Received\",(-AA$14-AA$59-AA$69-AA$79-AA$60-AA$70-AA$80-AA$61-AA$71-AA$81-AA$62-AA$72-AA$82)*$B63,MIN((-AA$14-AA$59-AA$69-AA$79-AA$60-AA$70-AA$80-AA$61-AA$71-AA$81-AA$62-AA$72-AA$82)*$B63,(AA$54+IF($B$59<>AA$31,SUM($C$33:AA$35),0))*$B63)))","v":0},{"$f":"IF((-AB$14-AB$59-AB$69-AB$79-AB$60-AB$70-AB$80-AB$61-AB$71-AB$81-AB$62-AB$72-AB$82)<=0,0,IF($B$14=\"As Received\",(-AB$14-AB$59-AB$69-AB$79-AB$60-AB$70-AB$80-AB$61-AB$71-AB$81-AB$62-AB$72-AB$82)*$B63,MIN((-AB$14-AB$59-AB$69-AB$79-AB$60-AB$70-AB$80-AB$61-AB$71-AB$81-AB$62-AB$72-AB$82)*$B63,(AB$54+IF($B$59<>AB$31,SUM($C$33:AB$35),0))*$B63)))","v":0},{"$f":"IF((-AC$14-AC$59-AC$69-AC$79-AC$60-AC$70-AC$80-AC$61-AC$71-AC$81-AC$62-AC$72-AC$82)<=0,0,IF($B$14=\"As Received\",(-AC$14-AC$59-AC$69-AC$79-AC$60-AC$70-AC$80-AC$61-AC$71-AC$81-AC$62-AC$72-AC$82)*$B63,MIN((-AC$14-AC$59-AC$69-AC$79-AC$60-AC$70-AC$80-AC$61-AC$71-AC$81-AC$62-AC$72-AC$82)*$B63,(AC$54+IF($B$59<>AC$31,SUM($C$33:AC$35),0))*$B63)))","v":0},{"$f":"IF((-AD$14-AD$59-AD$69-AD$79-AD$60-AD$70-AD$80-AD$61-AD$71-AD$81-AD$62-AD$72-AD$82)<=0,0,IF($B$14=\"As Received\",(-AD$14-AD$59-AD$69-AD$79-AD$60-AD$70-AD$80-AD$61-AD$71-AD$81-AD$62-AD$72-AD$82)*$B63,MIN((-AD$14-AD$59-AD$69-AD$79-AD$60-AD$70-AD$80-AD$61-AD$71-AD$81-AD$62-AD$72-AD$82)*$B63,(AD$54+IF($B$59<>AD$31,SUM($C$33:AD$35),0))*$B63)))","v":0},{"$f":"IF((-AE$14-AE$59-AE$69-AE$79-AE$60-AE$70-AE$80-AE$61-AE$71-AE$81-AE$62-AE$72-AE$82)<=0,0,IF($B$14=\"As Received\",(-AE$14-AE$59-AE$69-AE$79-AE$60-AE$70-AE$80-AE$61-AE$71-AE$81-AE$62-AE$72-AE$82)*$B63,MIN((-AE$14-AE$59-AE$69-AE$79-AE$60-AE$70-AE$80-AE$61-AE$71-AE$81-AE$62-AE$72-AE$82)*$B63,(AE$54+IF($B$59<>AE$31,SUM($C$33:AE$35),0))*$B63)))","v":0},{"$f":"IF((-AF$14-AF$59-AF$69-AF$79-AF$60-AF$70-AF$80-AF$61-AF$71-AF$81-AF$62-AF$72-AF$82)<=0,0,IF($B$14=\"As Received\",(-AF$14-AF$59-AF$69-AF$79-AF$60-AF$70-AF$80-AF$61-AF$71-AF$81-AF$62-AF$72-AF$82)*$B63,MIN((-AF$14-AF$59-AF$69-AF$79-AF$60-AF$70-AF$80-AF$61-AF$71-AF$81-AF$62-AF$72-AF$82)*$B63,(AF$54+IF($B$59<>AF$31,SUM($C$33:AF$35),0))*$B63)))","v":0},{"$f":"IF((-AG$14-AG$59-AG$69-AG$79-AG$60-AG$70-AG$80-AG$61-AG$71-AG$81-AG$62-AG$72-AG$82)<=0,0,IF($B$14=\"As Received\",(-AG$14-AG$59-AG$69-AG$79-AG$60-AG$70-AG$80-AG$61-AG$71-AG$81-AG$62-AG$72-AG$82)*$B63,MIN((-AG$14-AG$59-AG$69-AG$79-AG$60-AG$70-AG$80-AG$61-AG$71-AG$81-AG$62-AG$72-AG$82)*$B63,(AG$54+IF($B$59<>AG$31,SUM($C$33:AG$35),0))*$B63)))","v":0},{"$f":"IF((-AH$14-AH$59-AH$69-AH$79-AH$60-AH$70-AH$80-AH$61-AH$71-AH$81-AH$62-AH$72-AH$82)<=0,0,IF($B$14=\"As Received\",(-AH$14-AH$59-AH$69-AH$79-AH$60-AH$70-AH$80-AH$61-AH$71-AH$81-AH$62-AH$72-AH$82)*$B63,MIN((-AH$14-AH$59-AH$69-AH$79-AH$60-AH$70-AH$80-AH$61-AH$71-AH$81-AH$62-AH$72-AH$82)*$B63,(AH$54+IF($B$59<>AH$31,SUM($C$33:AH$35),0))*$B63)))","v":0},{"$f":"IF((-AI$14-AI$59-AI$69-AI$79-AI$60-AI$70-AI$80-AI$61-AI$71-AI$81-AI$62-AI$72-AI$82)<=0,0,IF($B$14=\"As Received\",(-AI$14-AI$59-AI$69-AI$79-AI$60-AI$70-AI$80-AI$61-AI$71-AI$81-AI$62-AI$72-AI$82)*$B63,MIN((-AI$14-AI$59-AI$69-AI$79-AI$60-AI$70-AI$80-AI$61-AI$71-AI$81-AI$62-AI$72-AI$82)*$B63,(AI$54+IF($B$59<>AI$31,SUM($C$33:AI$35),0))*$B63)))","v":0},{"$f":"IF((-AJ$14-AJ$59-AJ$69-AJ$79-AJ$60-AJ$70-AJ$80-AJ$61-AJ$71-AJ$81-AJ$62-AJ$72-AJ$82)<=0,0,IF($B$14=\"As Received\",(-AJ$14-AJ$59-AJ$69-AJ$79-AJ$60-AJ$70-AJ$80-AJ$61-AJ$71-AJ$81-AJ$62-AJ$72-AJ$82)*$B63,MIN((-AJ$14-AJ$59-AJ$69-AJ$79-AJ$60-AJ$70-AJ$80-AJ$61-AJ$71-AJ$81-AJ$62-AJ$72-AJ$82)*$B63,(AJ$54+IF($B$59<>AJ$31,SUM($C$33:AJ$35),0))*$B63)))","v":0},{"$f":"IF((-AK$14-AK$59-AK$69-AK$79-AK$60-AK$70-AK$80-AK$61-AK$71-AK$81-AK$62-AK$72-AK$82)<=0,0,IF($B$14=\"As Received\",(-AK$14-AK$59-AK$69-AK$79-AK$60-AK$70-AK$80-AK$61-AK$71-AK$81-AK$62-AK$72-AK$82)*$B63,MIN((-AK$14-AK$59-AK$69-AK$79-AK$60-AK$70-AK$80-AK$61-AK$71-AK$81-AK$62-AK$72-AK$82)*$B63,(AK$54+IF($B$59<>AK$31,SUM($C$33:AK$35),0))*$B63)))","v":0},{"$f":"IF((-AL$14-AL$59-AL$69-AL$79-AL$60-AL$70-AL$80-AL$61-AL$71-AL$81-AL$62-AL$72-AL$82)<=0,0,IF($B$14=\"As Received\",(-AL$14-AL$59-AL$69-AL$79-AL$60-AL$70-AL$80-AL$61-AL$71-AL$81-AL$62-AL$72-AL$82)*$B63,MIN((-AL$14-AL$59-AL$69-AL$79-AL$60-AL$70-AL$80-AL$61-AL$71-AL$81-AL$62-AL$72-AL$82)*$B63,(AL$54+IF($B$59<>AL$31,SUM($C$33:AL$35),0))*$B63)))","v":0},{"$f":"IF((-AM$14-AM$59-AM$69-AM$79-AM$60-AM$70-AM$80-AM$61-AM$71-AM$81-AM$62-AM$72-AM$82)<=0,0,IF($B$14=\"As Received\",(-AM$14-AM$59-AM$69-AM$79-AM$60-AM$70-AM$80-AM$61-AM$71-AM$81-AM$62-AM$72-AM$82)*$B63,MIN((-AM$14-AM$59-AM$69-AM$79-AM$60-AM$70-AM$80-AM$61-AM$71-AM$81-AM$62-AM$72-AM$82)*$B63,(AM$54+IF($B$59<>AM$31,SUM($C$33:AM$35),0))*$B63)))","v":0},{"$f":"IF((-AN$14-AN$59-AN$69-AN$79-AN$60-AN$70-AN$80-AN$61-AN$71-AN$81-AN$62-AN$72-AN$82)<=0,0,IF($B$14=\"As Received\",(-AN$14-AN$59-AN$69-AN$79-AN$60-AN$70-AN$80-AN$61-AN$71-AN$81-AN$62-AN$72-AN$82)*$B63,MIN((-AN$14-AN$59-AN$69-AN$79-AN$60-AN$70-AN$80-AN$61-AN$71-AN$81-AN$62-AN$72-AN$82)*$B63,(AN$54+IF($B$59<>AN$31,SUM($C$33:AN$35),0))*$B63)))","v":0},{"$f":"IF((-AO$14-AO$59-AO$69-AO$79-AO$60-AO$70-AO$80-AO$61-AO$71-AO$81-AO$62-AO$72-AO$82)<=0,0,IF($B$14=\"As Received\",(-AO$14-AO$59-AO$69-AO$79-AO$60-AO$70-AO$80-AO$61-AO$71-AO$81-AO$62-AO$72-AO$82)*$B63,MIN((-AO$14-AO$59-AO$69-AO$79-AO$60-AO$70-AO$80-AO$61-AO$71-AO$81-AO$62-AO$72-AO$82)*$B63,(AO$54+IF($B$59<>AO$31,SUM($C$33:AO$35),0))*$B63)))","v":0},{"$f":"IF((-AP$14-AP$59-AP$69-AP$79-AP$60-AP$70-AP$80-AP$61-AP$71-AP$81-AP$62-AP$72-AP$82)<=0,0,IF($B$14=\"As Received\",(-AP$14-AP$59-AP$69-AP$79-AP$60-AP$70-AP$80-AP$61-AP$71-AP$81-AP$62-AP$72-AP$82)*$B63,MIN((-AP$14-AP$59-AP$69-AP$79-AP$60-AP$70-AP$80-AP$61-AP$71-AP$81-AP$62-AP$72-AP$82)*$B63,(AP$54+IF($B$59<>AP$31,SUM($C$33:AP$35),0))*$B63)))","v":0},{"$f":"IF((-AQ$14-AQ$59-AQ$69-AQ$79-AQ$60-AQ$70-AQ$80-AQ$61-AQ$71-AQ$81-AQ$62-AQ$72-AQ$82)<=0,0,IF($B$14=\"As Received\",(-AQ$14-AQ$59-AQ$69-AQ$79-AQ$60-AQ$70-AQ$80-AQ$61-AQ$71-AQ$81-AQ$62-AQ$72-AQ$82)*$B63,MIN((-AQ$14-AQ$59-AQ$69-AQ$79-AQ$60-AQ$70-AQ$80-AQ$61-AQ$71-AQ$81-AQ$62-AQ$72-AQ$82)*$B63,(AQ$54+IF($B$59<>AQ$31,SUM($C$33:AQ$35),0))*$B63)))","v":0},{"$f":"IF((-AR$14-AR$59-AR$69-AR$79-AR$60-AR$70-AR$80-AR$61-AR$71-AR$81-AR$62-AR$72-AR$82)<=0,0,IF($B$14=\"As Received\",(-AR$14-AR$59-AR$69-AR$79-AR$60-AR$70-AR$80-AR$61-AR$71-AR$81-AR$62-AR$72-AR$82)*$B63,MIN((-AR$14-AR$59-AR$69-AR$79-AR$60-AR$70-AR$80-AR$61-AR$71-AR$81-AR$62-AR$72-AR$82)*$B63,(AR$54+IF($B$59<>AR$31,SUM($C$33:AR$35),0))*$B63)))","v":0},{"$f":"IF((-AS$14-AS$59-AS$69-AS$79-AS$60-AS$70-AS$80-AS$61-AS$71-AS$81-AS$62-AS$72-AS$82)<=0,0,IF($B$14=\"As Received\",(-AS$14-AS$59-AS$69-AS$79-AS$60-AS$70-AS$80-AS$61-AS$71-AS$81-AS$62-AS$72-AS$82)*$B63,MIN((-AS$14-AS$59-AS$69-AS$79-AS$60-AS$70-AS$80-AS$61-AS$71-AS$81-AS$62-AS$72-AS$82)*$B63,(AS$54+IF($B$59<>AS$31,SUM($C$33:AS$35),0))*$B63)))","v":0},{"$f":"IF((-AT$14-AT$59-AT$69-AT$79-AT$60-AT$70-AT$80-AT$61-AT$71-AT$81-AT$62-AT$72-AT$82)<=0,0,IF($B$14=\"As Received\",(-AT$14-AT$59-AT$69-AT$79-AT$60-AT$70-AT$80-AT$61-AT$71-AT$81-AT$62-AT$72-AT$82)*$B63,MIN((-AT$14-AT$59-AT$69-AT$79-AT$60-AT$70-AT$80-AT$61-AT$71-AT$81-AT$62-AT$72-AT$82)*$B63,(AT$54+IF($B$59<>AT$31,SUM($C$33:AT$35),0))*$B63)))","v":0},{"$f":"IF((-AU$14-AU$59-AU$69-AU$79-AU$60-AU$70-AU$80-AU$61-AU$71-AU$81-AU$62-AU$72-AU$82)<=0,0,IF($B$14=\"As Received\",(-AU$14-AU$59-AU$69-AU$79-AU$60-AU$70-AU$80-AU$61-AU$71-AU$81-AU$62-AU$72-AU$82)*$B63,MIN((-AU$14-AU$59-AU$69-AU$79-AU$60-AU$70-AU$80-AU$61-AU$71-AU$81-AU$62-AU$72-AU$82)*$B63,(AU$54+IF($B$59<>AU$31,SUM($C$33:AU$35),0))*$B63)))","v":0},{"$f":"IF((-AV$14-AV$59-AV$69-AV$79-AV$60-AV$70-AV$80-AV$61-AV$71-AV$81-AV$62-AV$72-AV$82)<=0,0,IF($B$14=\"As Received\",(-AV$14-AV$59-AV$69-AV$79-AV$60-AV$70-AV$80-AV$61-AV$71-AV$81-AV$62-AV$72-AV$82)*$B63,MIN((-AV$14-AV$59-AV$69-AV$79-AV$60-AV$70-AV$80-AV$61-AV$71-AV$81-AV$62-AV$72-AV$82)*$B63,(AV$54+IF($B$59<>AV$31,SUM($C$33:AV$35),0))*$B63)))","v":0},{"$f":"IF((-AW$14-AW$59-AW$69-AW$79-AW$60-AW$70-AW$80-AW$61-AW$71-AW$81-AW$62-AW$72-AW$82)<=0,0,IF($B$14=\"As Received\",(-AW$14-AW$59-AW$69-AW$79-AW$60-AW$70-AW$80-AW$61-AW$71-AW$81-AW$62-AW$72-AW$82)*$B63,MIN((-AW$14-AW$59-AW$69-AW$79-AW$60-AW$70-AW$80-AW$61-AW$71-AW$81-AW$62-AW$72-AW$82)*$B63,(AW$54+IF($B$59<>AW$31,SUM($C$33:AW$35),0))*$B63)))","v":0},{"$f":"IF((-AX$14-AX$59-AX$69-AX$79-AX$60-AX$70-AX$80-AX$61-AX$71-AX$81-AX$62-AX$72-AX$82)<=0,0,IF($B$14=\"As Received\",(-AX$14-AX$59-AX$69-AX$79-AX$60-AX$70-AX$80-AX$61-AX$71-AX$81-AX$62-AX$72-AX$82)*$B63,MIN((-AX$14-AX$59-AX$69-AX$79-AX$60-AX$70-AX$80-AX$61-AX$71-AX$81-AX$62-AX$72-AX$82)*$B63,(AX$54+IF($B$59<>AX$31,SUM($C$33:AX$35),0))*$B63)))","v":0},{"$f":"IF((-AY$14-AY$59-AY$69-AY$79-AY$60-AY$70-AY$80-AY$61-AY$71-AY$81-AY$62-AY$72-AY$82)<=0,0,IF($B$14=\"As Received\",(-AY$14-AY$59-AY$69-AY$79-AY$60-AY$70-AY$80-AY$61-AY$71-AY$81-AY$62-AY$72-AY$82)*$B63,MIN((-AY$14-AY$59-AY$69-AY$79-AY$60-AY$70-AY$80-AY$61-AY$71-AY$81-AY$62-AY$72-AY$82)*$B63,(AY$54+IF($B$59<>AY$31,SUM($C$33:AY$35),0))*$B63)))","v":0},{"$f":"IF((-AZ$14-AZ$59-AZ$69-AZ$79-AZ$60-AZ$70-AZ$80-AZ$61-AZ$71-AZ$81-AZ$62-AZ$72-AZ$82)<=0,0,IF($B$14=\"As Received\",(-AZ$14-AZ$59-AZ$69-AZ$79-AZ$60-AZ$70-AZ$80-AZ$61-AZ$71-AZ$81-AZ$62-AZ$72-AZ$82)*$B63,MIN((-AZ$14-AZ$59-AZ$69-AZ$79-AZ$60-AZ$70-AZ$80-AZ$61-AZ$71-AZ$81-AZ$62-AZ$72-AZ$82)*$B63,(AZ$54+IF($B$59<>AZ$31,SUM($C$33:AZ$35),0))*$B63)))","v":0},{"$f":"IF((-BA$14-BA$59-BA$69-BA$79-BA$60-BA$70-BA$80-BA$61-BA$71-BA$81-BA$62-BA$72-BA$82)<=0,0,IF($B$14=\"As Received\",(-BA$14-BA$59-BA$69-BA$79-BA$60-BA$70-BA$80-BA$61-BA$71-BA$81-BA$62-BA$72-BA$82)*$B63,MIN((-BA$14-BA$59-BA$69-BA$79-BA$60-BA$70-BA$80-BA$61-BA$71-BA$81-BA$62-BA$72-BA$82)*$B63,(BA$54+IF($B$59<>BA$31,SUM($C$33:BA$35),0))*$B63)))","v":0},{"$f":"IF((-BB$14-BB$59-BB$69-BB$79-BB$60-BB$70-BB$80-BB$61-BB$71-BB$81-BB$62-BB$72-BB$82)<=0,0,IF($B$14=\"As Received\",(-BB$14-BB$59-BB$69-BB$79-BB$60-BB$70-BB$80-BB$61-BB$71-BB$81-BB$62-BB$72-BB$82)*$B63,MIN((-BB$14-BB$59-BB$69-BB$79-BB$60-BB$70-BB$80-BB$61-BB$71-BB$81-BB$62-BB$72-BB$82)*$B63,(BB$54+IF($B$59<>BB$31,SUM($C$33:BB$35),0))*$B63)))","v":0},{"$f":"IF((-BC$14-BC$59-BC$69-BC$79-BC$60-BC$70-BC$80-BC$61-BC$71-BC$81-BC$62-BC$72-BC$82)<=0,0,IF($B$14=\"As Received\",(-BC$14-BC$59-BC$69-BC$79-BC$60-BC$70-BC$80-BC$61-BC$71-BC$81-BC$62-BC$72-BC$82)*$B63,MIN((-BC$14-BC$59-BC$69-BC$79-BC$60-BC$70-BC$80-BC$61-BC$71-BC$81-BC$62-BC$72-BC$82)*$B63,(BC$54+IF($B$59<>BC$31,SUM($C$33:BC$35),0))*$B63)))","v":0},{"$f":"IF((-BD$14-BD$59-BD$69-BD$79-BD$60-BD$70-BD$80-BD$61-BD$71-BD$81-BD$62-BD$72-BD$82)<=0,0,IF($B$14=\"As Received\",(-BD$14-BD$59-BD$69-BD$79-BD$60-BD$70-BD$80-BD$61-BD$71-BD$81-BD$62-BD$72-BD$82)*$B63,MIN((-BD$14-BD$59-BD$69-BD$79-BD$60-BD$70-BD$80-BD$61-BD$71-BD$81-BD$62-BD$72-BD$82)*$B63,(BD$54+IF($B$59<>BD$31,SUM($C$33:BD$35),0))*$B63)))","v":0},{"$f":"IF((-BE$14-BE$59-BE$69-BE$79-BE$60-BE$70-BE$80-BE$61-BE$71-BE$81-BE$62-BE$72-BE$82)<=0,0,IF($B$14=\"As Received\",(-BE$14-BE$59-BE$69-BE$79-BE$60-BE$70-BE$80-BE$61-BE$71-BE$81-BE$62-BE$72-BE$82)*$B63,MIN((-BE$14-BE$59-BE$69-BE$79-BE$60-BE$70-BE$80-BE$61-BE$71-BE$81-BE$62-BE$72-BE$82)*$B63,(BE$54+IF($B$59<>BE$31,SUM($C$33:BE$35),0))*$B63)))","v":0},{"$f":"IF((-BF$14-BF$59-BF$69-BF$79-BF$60-BF$70-BF$80-BF$61-BF$71-BF$81-BF$62-BF$72-BF$82)<=0,0,IF($B$14=\"As Received\",(-BF$14-BF$59-BF$69-BF$79-BF$60-BF$70-BF$80-BF$61-BF$71-BF$81-BF$62-BF$72-BF$82)*$B63,MIN((-BF$14-BF$59-BF$69-BF$79-BF$60-BF$70-BF$80-BF$61-BF$71-BF$81-BF$62-BF$72-BF$82)*$B63,(BF$54+IF($B$59<>BF$31,SUM($C$33:BF$35),0))*$B63)))","v":0},{"$f":"IF((-BG$14-BG$59-BG$69-BG$79-BG$60-BG$70-BG$80-BG$61-BG$71-BG$81-BG$62-BG$72-BG$82)<=0,0,IF($B$14=\"As Received\",(-BG$14-BG$59-BG$69-BG$79-BG$60-BG$70-BG$80-BG$61-BG$71-BG$81-BG$62-BG$72-BG$82)*$B63,MIN((-BG$14-BG$59-BG$69-BG$79-BG$60-BG$70-BG$80-BG$61-BG$71-BG$81-BG$62-BG$72-BG$82)*$B63,(BG$54+IF($B$59<>BG$31,SUM($C$33:BG$35),0))*$B63)))","v":0},{"$f":"IF((-BH$14-BH$59-BH$69-BH$79-BH$60-BH$70-BH$80-BH$61-BH$71-BH$81-BH$62-BH$72-BH$82)<=0,0,IF($B$14=\"As Received\",(-BH$14-BH$59-BH$69-BH$79-BH$60-BH$70-BH$80-BH$61-BH$71-BH$81-BH$62-BH$72-BH$82)*$B63,MIN((-BH$14-BH$59-BH$69-BH$79-BH$60-BH$70-BH$80-BH$61-BH$71-BH$81-BH$62-BH$72-BH$82)*$B63,(BH$54+IF($B$59<>BH$31,SUM($C$33:BH$35),0))*$B63)))","v":0},{"$f":"IF((-BI$14-BI$59-BI$69-BI$79-BI$60-BI$70-BI$80-BI$61-BI$71-BI$81-BI$62-BI$72-BI$82)<=0,0,IF($B$14=\"As Received\",(-BI$14-BI$59-BI$69-BI$79-BI$60-BI$70-BI$80-BI$61-BI$71-BI$81-BI$62-BI$72-BI$82)*$B63,MIN((-BI$14-BI$59-BI$69-BI$79-BI$60-BI$70-BI$80-BI$61-BI$71-BI$81-BI$62-BI$72-BI$82)*$B63,(BI$54+IF($B$59<>BI$31,SUM($C$33:BI$35),0))*$B63)))","v":0},{"$f":"IF((-BJ$14-BJ$59-BJ$69-BJ$79-BJ$60-BJ$70-BJ$80-BJ$61-BJ$71-BJ$81-BJ$62-BJ$72-BJ$82)<=0,0,IF($B$14=\"As Received\",(-BJ$14-BJ$59-BJ$69-BJ$79-BJ$60-BJ$70-BJ$80-BJ$61-BJ$71-BJ$81-BJ$62-BJ$72-BJ$82)*$B63,MIN((-BJ$14-BJ$59-BJ$69-BJ$79-BJ$60-BJ$70-BJ$80-BJ$61-BJ$71-BJ$81-BJ$62-BJ$72-BJ$82)*$B63,(BJ$54+IF($B$59<>BJ$31,SUM($C$33:BJ$35),0))*$B63)))","v":0},{"$f":"IF((-BK$14-BK$59-BK$69-BK$79-BK$60-BK$70-BK$80-BK$61-BK$71-BK$81-BK$62-BK$72-BK$82)<=0,0,IF($B$14=\"As Received\",(-BK$14-BK$59-BK$69-BK$79-BK$60-BK$70-BK$80-BK$61-BK$71-BK$81-BK$62-BK$72-BK$82)*$B63,MIN((-BK$14-BK$59-BK$69-BK$79-BK$60-BK$70-BK$80-BK$61-BK$71-BK$81-BK$62-BK$72-BK$82)*$B63,(BK$54+IF($B$59<>BK$31,SUM($C$33:BK$35),0))*$B63)))","v":0},{"$f":"IF((-BL$14-BL$59-BL$69-BL$79-BL$60-BL$70-BL$80-BL$61-BL$71-BL$81-BL$62-BL$72-BL$82)<=0,0,IF($B$14=\"As Received\",(-BL$14-BL$59-BL$69-BL$79-BL$60-BL$70-BL$80-BL$61-BL$71-BL$81-BL$62-BL$72-BL$82)*$B63,MIN((-BL$14-BL$59-BL$69-BL$79-BL$60-BL$70-BL$80-BL$61-BL$71-BL$81-BL$62-BL$72-BL$82)*$B63,(BL$54+IF($B$59<>BL$31,SUM($C$33:BL$35),0))*$B63)))","v":0},{"$f":"IF((-BM$14-BM$59-BM$69-BM$79-BM$60-BM$70-BM$80-BM$61-BM$71-BM$81-BM$62-BM$72-BM$82)<=0,0,IF($B$14=\"As Received\",(-BM$14-BM$59-BM$69-BM$79-BM$60-BM$70-BM$80-BM$61-BM$71-BM$81-BM$62-BM$72-BM$82)*$B63,MIN((-BM$14-BM$59-BM$69-BM$79-BM$60-BM$70-BM$80-BM$61-BM$71-BM$81-BM$62-BM$72-BM$82)*$B63,(BM$54+IF($B$59<>BM$31,SUM($C$33:BM$35),0))*$B63)))","v":0},{"$f":"IF((-BN$14-BN$59-BN$69-BN$79-BN$60-BN$70-BN$80-BN$61-BN$71-BN$81-BN$62-BN$72-BN$82)<=0,0,IF($B$14=\"As Received\",(-BN$14-BN$59-BN$69-BN$79-BN$60-BN$70-BN$80-BN$61-BN$71-BN$81-BN$62-BN$72-BN$82)*$B63,MIN((-BN$14-BN$59-BN$69-BN$79-BN$60-BN$70-BN$80-BN$61-BN$71-BN$81-BN$62-BN$72-BN$82)*$B63,(BN$54+IF($B$59<>BN$31,SUM($C$33:BN$35),0))*$B63)))","v":0},{"$f":"IF((-BO$14-BO$59-BO$69-BO$79-BO$60-BO$70-BO$80-BO$61-BO$71-BO$81-BO$62-BO$72-BO$82)<=0,0,IF($B$14=\"As Received\",(-BO$14-BO$59-BO$69-BO$79-BO$60-BO$70-BO$80-BO$61-BO$71-BO$81-BO$62-BO$72-BO$82)*$B63,MIN((-BO$14-BO$59-BO$69-BO$79-BO$60-BO$70-BO$80-BO$61-BO$71-BO$81-BO$62-BO$72-BO$82)*$B63,(BO$54+IF($B$59<>BO$31,SUM($C$33:BO$35),0))*$B63)))","v":0},{"$f":"IF((-BP$14-BP$59-BP$69-BP$79-BP$60-BP$70-BP$80-BP$61-BP$71-BP$81-BP$62-BP$72-BP$82)<=0,0,IF($B$14=\"As Received\",(-BP$14-BP$59-BP$69-BP$79-BP$60-BP$70-BP$80-BP$61-BP$71-BP$81-BP$62-BP$72-BP$82)*$B63,MIN((-BP$14-BP$59-BP$69-BP$79-BP$60-BP$70-BP$80-BP$61-BP$71-BP$81-BP$62-BP$72-BP$82)*$B63,(BP$54+IF($B$59<>BP$31,SUM($C$33:BP$35),0))*$B63)))","v":0},{"$f":"IF((-BQ$14-BQ$59-BQ$69-BQ$79-BQ$60-BQ$70-BQ$80-BQ$61-BQ$71-BQ$81-BQ$62-BQ$72-BQ$82)<=0,0,IF($B$14=\"As Received\",(-BQ$14-BQ$59-BQ$69-BQ$79-BQ$60-BQ$70-BQ$80-BQ$61-BQ$71-BQ$81-BQ$62-BQ$72-BQ$82)*$B63,MIN((-BQ$14-BQ$59-BQ$69-BQ$79-BQ$60-BQ$70-BQ$80-BQ$61-BQ$71-BQ$81-BQ$62-BQ$72-BQ$82)*$B63,(BQ$54+IF($B$59<>BQ$31,SUM($C$33:BQ$35),0))*$B63)))","v":0},{"$f":"IF((-BR$14-BR$59-BR$69-BR$79-BR$60-BR$70-BR$80-BR$61-BR$71-BR$81-BR$62-BR$72-BR$82)<=0,0,IF($B$14=\"As Received\",(-BR$14-BR$59-BR$69-BR$79-BR$60-BR$70-BR$80-BR$61-BR$71-BR$81-BR$62-BR$72-BR$82)*$B63,MIN((-BR$14-BR$59-BR$69-BR$79-BR$60-BR$70-BR$80-BR$61-BR$71-BR$81-BR$62-BR$72-BR$82)*$B63,(BR$54+IF($B$59<>BR$31,SUM($C$33:BR$35),0))*$B63)))","v":0},{"$f":"IF((-BS$14-BS$59-BS$69-BS$79-BS$60-BS$70-BS$80-BS$61-BS$71-BS$81-BS$62-BS$72-BS$82)<=0,0,IF($B$14=\"As Received\",(-BS$14-BS$59-BS$69-BS$79-BS$60-BS$70-BS$80-BS$61-BS$71-BS$81-BS$62-BS$72-BS$82)*$B63,MIN((-BS$14-BS$59-BS$69-BS$79-BS$60-BS$70-BS$80-BS$61-BS$71-BS$81-BS$62-BS$72-BS$82)*$B63,(BS$54+IF($B$59<>BS$31,SUM($C$33:BS$35),0))*$B63)))","v":0},{"$f":"IF((-BT$14-BT$59-BT$69-BT$79-BT$60-BT$70-BT$80-BT$61-BT$71-BT$81-BT$62-BT$72-BT$82)<=0,0,IF($B$14=\"As Received\",(-BT$14-BT$59-BT$69-BT$79-BT$60-BT$70-BT$80-BT$61-BT$71-BT$81-BT$62-BT$72-BT$82)*$B63,MIN((-BT$14-BT$59-BT$69-BT$79-BT$60-BT$70-BT$80-BT$61-BT$71-BT$81-BT$62-BT$72-BT$82)*$B63,(BT$54+IF($B$59<>BT$31,SUM($C$33:BT$35),0))*$B63)))","v":0},{"$f":"IF((-BU$14-BU$59-BU$69-BU$79-BU$60-BU$70-BU$80-BU$61-BU$71-BU$81-BU$62-BU$72-BU$82)<=0,0,IF($B$14=\"As Received\",(-BU$14-BU$59-BU$69-BU$79-BU$60-BU$70-BU$80-BU$61-BU$71-BU$81-BU$62-BU$72-BU$82)*$B63,MIN((-BU$14-BU$59-BU$69-BU$79-BU$60-BU$70-BU$80-BU$61-BU$71-BU$81-BU$62-BU$72-BU$82)*$B63,(BU$54+IF($B$59<>BU$31,SUM($C$33:BU$35),0))*$B63)))","v":0},{"$f":"IF((-BV$14-BV$59-BV$69-BV$79-BV$60-BV$70-BV$80-BV$61-BV$71-BV$81-BV$62-BV$72-BV$82)<=0,0,IF($B$14=\"As Received\",(-BV$14-BV$59-BV$69-BV$79-BV$60-BV$70-BV$80-BV$61-BV$71-BV$81-BV$62-BV$72-BV$82)*$B63,MIN((-BV$14-BV$59-BV$69-BV$79-BV$60-BV$70-BV$80-BV$61-BV$71-BV$81-BV$62-BV$72-BV$82)*$B63,(BV$54+IF($B$59<>BV$31,SUM($C$33:BV$35),0))*$B63)))","v":0},{"$f":"IF((-BW$14-BW$59-BW$69-BW$79-BW$60-BW$70-BW$80-BW$61-BW$71-BW$81-BW$62-BW$72-BW$82)<=0,0,IF($B$14=\"As Received\",(-BW$14-BW$59-BW$69-BW$79-BW$60-BW$70-BW$80-BW$61-BW$71-BW$81-BW$62-BW$72-BW$82)*$B63,MIN((-BW$14-BW$59-BW$69-BW$79-BW$60-BW$70-BW$80-BW$61-BW$71-BW$81-BW$62-BW$72-BW$82)*$B63,(BW$54+IF($B$59<>BW$31,SUM($C$33:BW$35),0))*$B63)))","v":0},{"$f":"IF((-BX$14-BX$59-BX$69-BX$79-BX$60-BX$70-BX$80-BX$61-BX$71-BX$81-BX$62-BX$72-BX$82)<=0,0,IF($B$14=\"As Received\",(-BX$14-BX$59-BX$69-BX$79-BX$60-BX$70-BX$80-BX$61-BX$71-BX$81-BX$62-BX$72-BX$82)*$B63,MIN((-BX$14-BX$59-BX$69-BX$79-BX$60-BX$70-BX$80-BX$61-BX$71-BX$81-BX$62-BX$72-BX$82)*$B63,(BX$54+IF($B$59<>BX$31,SUM($C$33:BX$35),0))*$B63)))","v":0},{"$f":"IF((-BY$14-BY$59-BY$69-BY$79-BY$60-BY$70-BY$80-BY$61-BY$71-BY$81-BY$62-BY$72-BY$82)<=0,0,IF($B$14=\"As Received\",(-BY$14-BY$59-BY$69-BY$79-BY$60-BY$70-BY$80-BY$61-BY$71-BY$81-BY$62-BY$72-BY$82)*$B63,MIN((-BY$14-BY$59-BY$69-BY$79-BY$60-BY$70-BY$80-BY$61-BY$71-BY$81-BY$62-BY$72-BY$82)*$B63,(BY$54+IF($B$59<>BY$31,SUM($C$33:BY$35),0))*$B63)))","v":0},{"$f":"IF((-BZ$14-BZ$59-BZ$69-BZ$79-BZ$60-BZ$70-BZ$80-BZ$61-BZ$71-BZ$81-BZ$62-BZ$72-BZ$82)<=0,0,IF($B$14=\"As Received\",(-BZ$14-BZ$59-BZ$69-BZ$79-BZ$60-BZ$70-BZ$80-BZ$61-BZ$71-BZ$81-BZ$62-BZ$72-BZ$82)*$B63,MIN((-BZ$14-BZ$59-BZ$69-BZ$79-BZ$60-BZ$70-BZ$80-BZ$61-BZ$71-BZ$81-BZ$62-BZ$72-BZ$82)*$B63,(BZ$54+IF($B$59<>BZ$31,SUM($C$33:BZ$35),0))*$B63)))","v":0},{"$f":"IF((-CA$14-CA$59-CA$69-CA$79-CA$60-CA$70-CA$80-CA$61-CA$71-CA$81-CA$62-CA$72-CA$82)<=0,0,IF($B$14=\"As Received\",(-CA$14-CA$59-CA$69-CA$79-CA$60-CA$70-CA$80-CA$61-CA$71-CA$81-CA$62-CA$72-CA$82)*$B63,MIN((-CA$14-CA$59-CA$69-CA$79-CA$60-CA$70-CA$80-CA$61-CA$71-CA$81-CA$62-CA$72-CA$82)*$B63,(CA$54+IF($B$59<>CA$31,SUM($C$33:CA$35),0))*$B63)))","v":0},{"$f":"IF((-CB$14-CB$59-CB$69-CB$79-CB$60-CB$70-CB$80-CB$61-CB$71-CB$81-CB$62-CB$72-CB$82)<=0,0,IF($B$14=\"As Received\",(-CB$14-CB$59-CB$69-CB$79-CB$60-CB$70-CB$80-CB$61-CB$71-CB$81-CB$62-CB$72-CB$82)*$B63,MIN((-CB$14-CB$59-CB$69-CB$79-CB$60-CB$70-CB$80-CB$61-CB$71-CB$81-CB$62-CB$72-CB$82)*$B63,(CB$54+IF($B$59<>CB$31,SUM($C$33:CB$35),0))*$B63)))","v":0},{"$f":"IF((-CC$14-CC$59-CC$69-CC$79-CC$60-CC$70-CC$80-CC$61-CC$71-CC$81-CC$62-CC$72-CC$82)<=0,0,IF($B$14=\"As Received\",(-CC$14-CC$59-CC$69-CC$79-CC$60-CC$70-CC$80-CC$61-CC$71-CC$81-CC$62-CC$72-CC$82)*$B63,MIN((-CC$14-CC$59-CC$69-CC$79-CC$60-CC$70-CC$80-CC$61-CC$71-CC$81-CC$62-CC$72-CC$82)*$B63,(CC$54+IF($B$59<>CC$31,SUM($C$33:CC$35),0))*$B63)))","v":0},{"$f":"IF((-CD$14-CD$59-CD$69-CD$79-CD$60-CD$70-CD$80-CD$61-CD$71-CD$81-CD$62-CD$72-CD$82)<=0,0,IF($B$14=\"As Received\",(-CD$14-CD$59-CD$69-CD$79-CD$60-CD$70-CD$80-CD$61-CD$71-CD$81-CD$62-CD$72-CD$82)*$B63,MIN((-CD$14-CD$59-CD$69-CD$79-CD$60-CD$70-CD$80-CD$61-CD$71-CD$81-CD$62-CD$72-CD$82)*$B63,(CD$54+IF($B$59<>CD$31,SUM($C$33:CD$35),0))*$B63)))","v":0},{"$f":"IF((-CE$14-CE$59-CE$69-CE$79-CE$60-CE$70-CE$80-CE$61-CE$71-CE$81-CE$62-CE$72-CE$82)<=0,0,IF($B$14=\"As Received\",(-CE$14-CE$59-CE$69-CE$79-CE$60-CE$70-CE$80-CE$61-CE$71-CE$81-CE$62-CE$72-CE$82)*$B63,MIN((-CE$14-CE$59-CE$69-CE$79-CE$60-CE$70-CE$80-CE$61-CE$71-CE$81-CE$62-CE$72-CE$82)*$B63,(CE$54+IF($B$59<>CE$31,SUM($C$33:CE$35),0))*$B63)))","v":0},{"$f":"IF((-CF$14-CF$59-CF$69-CF$79-CF$60-CF$70-CF$80-CF$61-CF$71-CF$81-CF$62-CF$72-CF$82)<=0,0,IF($B$14=\"As Received\",(-CF$14-CF$59-CF$69-CF$79-CF$60-CF$70-CF$80-CF$61-CF$71-CF$81-CF$62-CF$72-CF$82)*$B63,MIN((-CF$14-CF$59-CF$69-CF$79-CF$60-CF$70-CF$80-CF$61-CF$71-CF$81-CF$62-CF$72-CF$82)*$B63,(CF$54+IF($B$59<>CF$31,SUM($C$33:CF$35),0))*$B63)))","v":0},{"$f":"IF((-CG$14-CG$59-CG$69-CG$79-CG$60-CG$70-CG$80-CG$61-CG$71-CG$81-CG$62-CG$72-CG$82)<=0,0,IF($B$14=\"As Received\",(-CG$14-CG$59-CG$69-CG$79-CG$60-CG$70-CG$80-CG$61-CG$71-CG$81-CG$62-CG$72-CG$82)*$B63,MIN((-CG$14-CG$59-CG$69-CG$79-CG$60-CG$70-CG$80-CG$61-CG$71-CG$81-CG$62-CG$72-CG$82)*$B63,(CG$54+IF($B$59<>CG$31,SUM($C$33:CG$35),0))*$B63)))","v":0},{"$f":"IF((-CH$14-CH$59-CH$69-CH$79-CH$60-CH$70-CH$80-CH$61-CH$71-CH$81-CH$62-CH$72-CH$82)<=0,0,IF($B$14=\"As Received\",(-CH$14-CH$59-CH$69-CH$79-CH$60-CH$70-CH$80-CH$61-CH$71-CH$81-CH$62-CH$72-CH$82)*$B63,MIN((-CH$14-CH$59-CH$69-CH$79-CH$60-CH$70-CH$80-CH$61-CH$71-CH$81-CH$62-CH$72-CH$82)*$B63,(CH$54+IF($B$59<>CH$31,SUM($C$33:CH$35),0))*$B63)))","v":0},{"$f":"IF((-CI$14-CI$59-CI$69-CI$79-CI$60-CI$70-CI$80-CI$61-CI$71-CI$81-CI$62-CI$72-CI$82)<=0,0,IF($B$14=\"As Received\",(-CI$14-CI$59-CI$69-CI$79-CI$60-CI$70-CI$80-CI$61-CI$71-CI$81-CI$62-CI$72-CI$82)*$B63,MIN((-CI$14-CI$59-CI$69-CI$79-CI$60-CI$70-CI$80-CI$61-CI$71-CI$81-CI$62-CI$72-CI$82)*$B63,(CI$54+IF($B$59<>CI$31,SUM($C$33:CI$35),0))*$B63)))","v":3394506.7252729298},{"$f":"IF((-CJ$14-CJ$59-CJ$69-CJ$79-CJ$60-CJ$70-CJ$80-CJ$61-CJ$71-CJ$81-CJ$62-CJ$72-CJ$82)<=0,0,IF($B$14=\"As Received\",(-CJ$14-CJ$59-CJ$69-CJ$79-CJ$60-CJ$70-CJ$80-CJ$61-CJ$71-CJ$81-CJ$62-CJ$72-CJ$82)*$B63,MIN((-CJ$14-CJ$59-CJ$69-CJ$79-CJ$60-CJ$70-CJ$80-CJ$61-CJ$71-CJ$81-CJ$62-CJ$72-CJ$82)*$B63,(CJ$54+IF($B$59<>CJ$31,SUM($C$33:CJ$35),0))*$B63)))","v":0},{"$f":"IF((-CK$14-CK$59-CK$69-CK$79-CK$60-CK$70-CK$80-CK$61-CK$71-CK$81-CK$62-CK$72-CK$82)<=0,0,IF($B$14=\"As Received\",(-CK$14-CK$59-CK$69-CK$79-CK$60-CK$70-CK$80-CK$61-CK$71-CK$81-CK$62-CK$72-CK$82)*$B63,MIN((-CK$14-CK$59-CK$69-CK$79-CK$60-CK$70-CK$80-CK$61-CK$71-CK$81-CK$62-CK$72-CK$82)*$B63,(CK$54+IF($B$59<>CK$31,SUM($C$33:CK$35),0))*$B63)))","v":0},{"$f":"IF((-CL$14-CL$59-CL$69-CL$79-CL$60-CL$70-CL$80-CL$61-CL$71-CL$81-CL$62-CL$72-CL$82)<=0,0,IF($B$14=\"As Received\",(-CL$14-CL$59-CL$69-CL$79-CL$60-CL$70-CL$80-CL$61-CL$71-CL$81-CL$62-CL$72-CL$82)*$B63,MIN((-CL$14-CL$59-CL$69-CL$79-CL$60-CL$70-CL$80-CL$61-CL$71-CL$81-CL$62-CL$72-CL$82)*$B63,(CL$54+IF($B$59<>CL$31,SUM($C$33:CL$35),0))*$B63)))","v":0},{"$f":"IF((-CM$14-CM$59-CM$69-CM$79-CM$60-CM$70-CM$80-CM$61-CM$71-CM$81-CM$62-CM$72-CM$82)<=0,0,IF($B$14=\"As Received\",(-CM$14-CM$59-CM$69-CM$79-CM$60-CM$70-CM$80-CM$61-CM$71-CM$81-CM$62-CM$72-CM$82)*$B63,MIN((-CM$14-CM$59-CM$69-CM$79-CM$60-CM$70-CM$80-CM$61-CM$71-CM$81-CM$62-CM$72-CM$82)*$B63,(CM$54+IF($B$59<>CM$31,SUM($C$33:CM$35),0))*$B63)))","v":0},{"$f":"IF((-CN$14-CN$59-CN$69-CN$79-CN$60-CN$70-CN$80-CN$61-CN$71-CN$81-CN$62-CN$72-CN$82)<=0,0,IF($B$14=\"As Received\",(-CN$14-CN$59-CN$69-CN$79-CN$60-CN$70-CN$80-CN$61-CN$71-CN$81-CN$62-CN$72-CN$82)*$B63,MIN((-CN$14-CN$59-CN$69-CN$79-CN$60-CN$70-CN$80-CN$61-CN$71-CN$81-CN$62-CN$72-CN$82)*$B63,(CN$54+IF($B$59<>CN$31,SUM($C$33:CN$35),0))*$B63)))","v":0},{"$f":"IF((-CO$14-CO$59-CO$69-CO$79-CO$60-CO$70-CO$80-CO$61-CO$71-CO$81-CO$62-CO$72-CO$82)<=0,0,IF($B$14=\"As Received\",(-CO$14-CO$59-CO$69-CO$79-CO$60-CO$70-CO$80-CO$61-CO$71-CO$81-CO$62-CO$72-CO$82)*$B63,MIN((-CO$14-CO$59-CO$69-CO$79-CO$60-CO$70-CO$80-CO$61-CO$71-CO$81-CO$62-CO$72-CO$82)*$B63,(CO$54+IF($B$59<>CO$31,SUM($C$33:CO$35),0))*$B63)))","v":0},{"$f":"IF((-CP$14-CP$59-CP$69-CP$79-CP$60-CP$70-CP$80-CP$61-CP$71-CP$81-CP$62-CP$72-CP$82)<=0,0,IF($B$14=\"As Received\",(-CP$14-CP$59-CP$69-CP$79-CP$60-CP$70-CP$80-CP$61-CP$71-CP$81-CP$62-CP$72-CP$82)*$B63,MIN((-CP$14-CP$59-CP$69-CP$79-CP$60-CP$70-CP$80-CP$61-CP$71-CP$81-CP$62-CP$72-CP$82)*$B63,(CP$54+IF($B$59<>CP$31,SUM($C$33:CP$35),0))*$B63)))","v":0},{"$f":"IF((-CQ$14-CQ$59-CQ$69-CQ$79-CQ$60-CQ$70-CQ$80-CQ$61-CQ$71-CQ$81-CQ$62-CQ$72-CQ$82)<=0,0,IF($B$14=\"As Received\",(-CQ$14-CQ$59-CQ$69-CQ$79-CQ$60-CQ$70-CQ$80-CQ$61-CQ$71-CQ$81-CQ$62-CQ$72-CQ$82)*$B63,MIN((-CQ$14-CQ$59-CQ$69-CQ$79-CQ$60-CQ$70-CQ$80-CQ$61-CQ$71-CQ$81-CQ$62-CQ$72-CQ$82)*$B63,(CQ$54+IF($B$59<>CQ$31,SUM($C$33:CQ$35),0))*$B63)))","v":0},{"$f":"IF((-CR$14-CR$59-CR$69-CR$79-CR$60-CR$70-CR$80-CR$61-CR$71-CR$81-CR$62-CR$72-CR$82)<=0,0,IF($B$14=\"As Received\",(-CR$14-CR$59-CR$69-CR$79-CR$60-CR$70-CR$80-CR$61-CR$71-CR$81-CR$62-CR$72-CR$82)*$B63,MIN((-CR$14-CR$59-CR$69-CR$79-CR$60-CR$70-CR$80-CR$61-CR$71-CR$81-CR$62-CR$72-CR$82)*$B63,(CR$54+IF($B$59<>CR$31,SUM($C$33:CR$35),0))*$B63)))","v":0},{"$f":"IF((-CS$14-CS$59-CS$69-CS$79-CS$60-CS$70-CS$80-CS$61-CS$71-CS$81-CS$62-CS$72-CS$82)<=0,0,IF($B$14=\"As Received\",(-CS$14-CS$59-CS$69-CS$79-CS$60-CS$70-CS$80-CS$61-CS$71-CS$81-CS$62-CS$72-CS$82)*$B63,MIN((-CS$14-CS$59-CS$69-CS$79-CS$60-CS$70-CS$80-CS$61-CS$71-CS$81-CS$62-CS$72-CS$82)*$B63,(CS$54+IF($B$59<>CS$31,SUM($C$33:CS$35),0))*$B63)))","v":0},{"$f":"IF((-CT$14-CT$59-CT$69-CT$79-CT$60-CT$70-CT$80-CT$61-CT$71-CT$81-CT$62-CT$72-CT$82)<=0,0,IF($B$14=\"As Received\",(-CT$14-CT$59-CT$69-CT$79-CT$60-CT$70-CT$80-CT$61-CT$71-CT$81-CT$62-CT$72-CT$82)*$B63,MIN((-CT$14-CT$59-CT$69-CT$79-CT$60-CT$70-CT$80-CT$61-CT$71-CT$81-CT$62-CT$72-CT$82)*$B63,(CT$54+IF($B$59<>CT$31,SUM($C$33:CT$35),0))*$B63)))","v":0},{"$f":"IF((-CU$14-CU$59-CU$69-CU$79-CU$60-CU$70-CU$80-CU$61-CU$71-CU$81-CU$62-CU$72-CU$82)<=0,0,IF($B$14=\"As Received\",(-CU$14-CU$59-CU$69-CU$79-CU$60-CU$70-CU$80-CU$61-CU$71-CU$81-CU$62-CU$72-CU$82)*$B63,MIN((-CU$14-CU$59-CU$69-CU$79-CU$60-CU$70-CU$80-CU$61-CU$71-CU$81-CU$62-CU$72-CU$82)*$B63,(CU$54+IF($B$59<>CU$31,SUM($C$33:CU$35),0))*$B63)))","v":0},{"$f":"IF((-CV$14-CV$59-CV$69-CV$79-CV$60-CV$70-CV$80-CV$61-CV$71-CV$81-CV$62-CV$72-CV$82)<=0,0,IF($B$14=\"As Received\",(-CV$14-CV$59-CV$69-CV$79-CV$60-CV$70-CV$80-CV$61-CV$71-CV$81-CV$62-CV$72-CV$82)*$B63,MIN((-CV$14-CV$59-CV$69-CV$79-CV$60-CV$70-CV$80-CV$61-CV$71-CV$81-CV$62-CV$72-CV$82)*$B63,(CV$54+IF($B$59<>CV$31,SUM($C$33:CV$35),0))*$B63)))","v":0},{"$f":"IF((-CW$14-CW$59-CW$69-CW$79-CW$60-CW$70-CW$80-CW$61-CW$71-CW$81-CW$62-CW$72-CW$82)<=0,0,IF($B$14=\"As Received\",(-CW$14-CW$59-CW$69-CW$79-CW$60-CW$70-CW$80-CW$61-CW$71-CW$81-CW$62-CW$72-CW$82)*$B63,MIN((-CW$14-CW$59-CW$69-CW$79-CW$60-CW$70-CW$80-CW$61-CW$71-CW$81-CW$62-CW$72-CW$82)*$B63,(CW$54+IF($B$59<>CW$31,SUM($C$33:CW$35),0))*$B63)))","v":0},{"$f":"IF((-CX$14-CX$59-CX$69-CX$79-CX$60-CX$70-CX$80-CX$61-CX$71-CX$81-CX$62-CX$72-CX$82)<=0,0,IF($B$14=\"As Received\",(-CX$14-CX$59-CX$69-CX$79-CX$60-CX$70-CX$80-CX$61-CX$71-CX$81-CX$62-CX$72-CX$82)*$B63,MIN((-CX$14-CX$59-CX$69-CX$79-CX$60-CX$70-CX$80-CX$61-CX$71-CX$81-CX$62-CX$72-CX$82)*$B63,(CX$54+IF($B$59<>CX$31,SUM($C$33:CX$35),0))*$B63)))","v":0},{"$f":"IF((-CY$14-CY$59-CY$69-CY$79-CY$60-CY$70-CY$80-CY$61-CY$71-CY$81-CY$62-CY$72-CY$82)<=0,0,IF($B$14=\"As Received\",(-CY$14-CY$59-CY$69-CY$79-CY$60-CY$70-CY$80-CY$61-CY$71-CY$81-CY$62-CY$72-CY$82)*$B63,MIN((-CY$14-CY$59-CY$69-CY$79-CY$60-CY$70-CY$80-CY$61-CY$71-CY$81-CY$62-CY$72-CY$82)*$B63,(CY$54+IF($B$59<>CY$31,SUM($C$33:CY$35),0))*$B63)))","v":0},{"$f":"IF((-CZ$14-CZ$59-CZ$69-CZ$79-CZ$60-CZ$70-CZ$80-CZ$61-CZ$71-CZ$81-CZ$62-CZ$72-CZ$82)<=0,0,IF($B$14=\"As Received\",(-CZ$14-CZ$59-CZ$69-CZ$79-CZ$60-CZ$70-CZ$80-CZ$61-CZ$71-CZ$81-CZ$62-CZ$72-CZ$82)*$B63,MIN((-CZ$14-CZ$59-CZ$69-CZ$79-CZ$60-CZ$70-CZ$80-CZ$61-CZ$71-CZ$81-CZ$62-CZ$72-CZ$82)*$B63,(CZ$54+IF($B$59<>CZ$31,SUM($C$33:CZ$35),0))*$B63)))","v":0},{"$f":"IF((-DA$14-DA$59-DA$69-DA$79-DA$60-DA$70-DA$80-DA$61-DA$71-DA$81-DA$62-DA$72-DA$82)<=0,0,IF($B$14=\"As Received\",(-DA$14-DA$59-DA$69-DA$79-DA$60-DA$70-DA$80-DA$61-DA$71-DA$81-DA$62-DA$72-DA$82)*$B63,MIN((-DA$14-DA$59-DA$69-DA$79-DA$60-DA$70-DA$80-DA$61-DA$71-DA$81-DA$62-DA$72-DA$82)*$B63,(DA$54+IF($B$59<>DA$31,SUM($C$33:DA$35),0))*$B63)))","v":0},{"$f":"IF((-DB$14-DB$59-DB$69-DB$79-DB$60-DB$70-DB$80-DB$61-DB$71-DB$81-DB$62-DB$72-DB$82)<=0,0,IF($B$14=\"As Received\",(-DB$14-DB$59-DB$69-DB$79-DB$60-DB$70-DB$80-DB$61-DB$71-DB$81-DB$62-DB$72-DB$82)*$B63,MIN((-DB$14-DB$59-DB$69-DB$79-DB$60-DB$70-DB$80-DB$61-DB$71-DB$81-DB$62-DB$72-DB$82)*$B63,(DB$54+IF($B$59<>DB$31,SUM($C$33:DB$35),0))*$B63)))","v":0},{"$f":"IF((-DC$14-DC$59-DC$69-DC$79-DC$60-DC$70-DC$80-DC$61-DC$71-DC$81-DC$62-DC$72-DC$82)<=0,0,IF($B$14=\"As Received\",(-DC$14-DC$59-DC$69-DC$79-DC$60-DC$70-DC$80-DC$61-DC$71-DC$81-DC$62-DC$72-DC$82)*$B63,MIN((-DC$14-DC$59-DC$69-DC$79-DC$60-DC$70-DC$80-DC$61-DC$71-DC$81-DC$62-DC$72-DC$82)*$B63,(DC$54+IF($B$59<>DC$31,SUM($C$33:DC$35),0))*$B63)))","v":0},{"$f":"IF((-DD$14-DD$59-DD$69-DD$79-DD$60-DD$70-DD$80-DD$61-DD$71-DD$81-DD$62-DD$72-DD$82)<=0,0,IF($B$14=\"As Received\",(-DD$14-DD$59-DD$69-DD$79-DD$60-DD$70-DD$80-DD$61-DD$71-DD$81-DD$62-DD$72-DD$82)*$B63,MIN((-DD$14-DD$59-DD$69-DD$79-DD$60-DD$70-DD$80-DD$61-DD$71-DD$81-DD$62-DD$72-DD$82)*$B63,(DD$54+IF($B$59<>DD$31,SUM($C$33:DD$35),0))*$B63)))","v":0},{"$f":"IF((-DE$14-DE$59-DE$69-DE$79-DE$60-DE$70-DE$80-DE$61-DE$71-DE$81-DE$62-DE$72-DE$82)<=0,0,IF($B$14=\"As Received\",(-DE$14-DE$59-DE$69-DE$79-DE$60-DE$70-DE$80-DE$61-DE$71-DE$81-DE$62-DE$72-DE$82)*$B63,MIN((-DE$14-DE$59-DE$69-DE$79-DE$60-DE$70-DE$80-DE$61-DE$71-DE$81-DE$62-DE$72-DE$82)*$B63,(DE$54+IF($B$59<>DE$31,SUM($C$33:DE$35),0))*$B63)))","v":0},{"$f":"IF((-DF$14-DF$59-DF$69-DF$79-DF$60-DF$70-DF$80-DF$61-DF$71-DF$81-DF$62-DF$72-DF$82)<=0,0,IF($B$14=\"As Received\",(-DF$14-DF$59-DF$69-DF$79-DF$60-DF$70-DF$80-DF$61-DF$71-DF$81-DF$62-DF$72-DF$82)*$B63,MIN((-DF$14-DF$59-DF$69-DF$79-DF$60-DF$70-DF$80-DF$61-DF$71-DF$81-DF$62-DF$72-DF$82)*$B63,(DF$54+IF($B$59<>DF$31,SUM($C$33:DF$35),0))*$B63)))","v":0},{"$f":"IF((-DG$14-DG$59-DG$69-DG$79-DG$60-DG$70-DG$80-DG$61-DG$71-DG$81-DG$62-DG$72-DG$82)<=0,0,IF($B$14=\"As Received\",(-DG$14-DG$59-DG$69-DG$79-DG$60-DG$70-DG$80-DG$61-DG$71-DG$81-DG$62-DG$72-DG$82)*$B63,MIN((-DG$14-DG$59-DG$69-DG$79-DG$60-DG$70-DG$80-DG$61-DG$71-DG$81-DG$62-DG$72-DG$82)*$B63,(DG$54+IF($B$59<>DG$31,SUM($C$33:DG$35),0))*$B63)))","v":0},{"$f":"IF((-DH$14-DH$59-DH$69-DH$79-DH$60-DH$70-DH$80-DH$61-DH$71-DH$81-DH$62-DH$72-DH$82)<=0,0,IF($B$14=\"As Received\",(-DH$14-DH$59-DH$69-DH$79-DH$60-DH$70-DH$80-DH$61-DH$71-DH$81-DH$62-DH$72-DH$82)*$B63,MIN((-DH$14-DH$59-DH$69-DH$79-DH$60-DH$70-DH$80-DH$61-DH$71-DH$81-DH$62-DH$72-DH$82)*$B63,(DH$54+IF($B$59<>DH$31,SUM($C$33:DH$35),0))*$B63)))","v":0},{"$f":"IF((-DI$14-DI$59-DI$69-DI$79-DI$60-DI$70-DI$80-DI$61-DI$71-DI$81-DI$62-DI$72-DI$82)<=0,0,IF($B$14=\"As Received\",(-DI$14-DI$59-DI$69-DI$79-DI$60-DI$70-DI$80-DI$61-DI$71-DI$81-DI$62-DI$72-DI$82)*$B63,MIN((-DI$14-DI$59-DI$69-DI$79-DI$60-DI$70-DI$80-DI$61-DI$71-DI$81-DI$62-DI$72-DI$82)*$B63,(DI$54+IF($B$59<>DI$31,SUM($C$33:DI$35),0))*$B63)))","v":0},{"$f":"IF((-DJ$14-DJ$59-DJ$69-DJ$79-DJ$60-DJ$70-DJ$80-DJ$61-DJ$71-DJ$81-DJ$62-DJ$72-DJ$82)<=0,0,IF($B$14=\"As Received\",(-DJ$14-DJ$59-DJ$69-DJ$79-DJ$60-DJ$70-DJ$80-DJ$61-DJ$71-DJ$81-DJ$62-DJ$72-DJ$82)*$B63,MIN((-DJ$14-DJ$59-DJ$69-DJ$79-DJ$60-DJ$70-DJ$80-DJ$61-DJ$71-DJ$81-DJ$62-DJ$72-DJ$82)*$B63,(DJ$54+IF($B$59<>DJ$31,SUM($C$33:DJ$35),0))*$B63)))","v":0},{"$f":"IF((-DK$14-DK$59-DK$69-DK$79-DK$60-DK$70-DK$80-DK$61-DK$71-DK$81-DK$62-DK$72-DK$82)<=0,0,IF($B$14=\"As Received\",(-DK$14-DK$59-DK$69-DK$79-DK$60-DK$70-DK$80-DK$61-DK$71-DK$81-DK$62-DK$72-DK$82)*$B63,MIN((-DK$14-DK$59-DK$69-DK$79-DK$60-DK$70-DK$80-DK$61-DK$71-DK$81-DK$62-DK$72-DK$82)*$B63,(DK$54+IF($B$59<>DK$31,SUM($C$33:DK$35),0))*$B63)))","v":0},{"$f":"IF((-DL$14-DL$59-DL$69-DL$79-DL$60-DL$70-DL$80-DL$61-DL$71-DL$81-DL$62-DL$72-DL$82)<=0,0,IF($B$14=\"As Received\",(-DL$14-DL$59-DL$69-DL$79-DL$60-DL$70-DL$80-DL$61-DL$71-DL$81-DL$62-DL$72-DL$82)*$B63,MIN((-DL$14-DL$59-DL$69-DL$79-DL$60-DL$70-DL$80-DL$61-DL$71-DL$81-DL$62-DL$72-DL$82)*$B63,(DL$54+IF($B$59<>DL$31,SUM($C$33:DL$35),0))*$B63)))","v":0},{"$f":"IF((-DM$14-DM$59-DM$69-DM$79-DM$60-DM$70-DM$80-DM$61-DM$71-DM$81-DM$62-DM$72-DM$82)<=0,0,IF($B$14=\"As Received\",(-DM$14-DM$59-DM$69-DM$79-DM$60-DM$70-DM$80-DM$61-DM$71-DM$81-DM$62-DM$72-DM$82)*$B63,MIN((-DM$14-DM$59-DM$69-DM$79-DM$60-DM$70-DM$80-DM$61-DM$71-DM$81-DM$62-DM$72-DM$82)*$B63,(DM$54+IF($B$59<>DM$31,SUM($C$33:DM$35),0))*$B63)))","v":0},{"$f":"IF((-DN$14-DN$59-DN$69-DN$79-DN$60-DN$70-DN$80-DN$61-DN$71-DN$81-DN$62-DN$72-DN$82)<=0,0,IF($B$14=\"As Received\",(-DN$14-DN$59-DN$69-DN$79-DN$60-DN$70-DN$80-DN$61-DN$71-DN$81-DN$62-DN$72-DN$82)*$B63,MIN((-DN$14-DN$59-DN$69-DN$79-DN$60-DN$70-DN$80-DN$61-DN$71-DN$81-DN$62-DN$72-DN$82)*$B63,(DN$54+IF($B$59<>DN$31,SUM($C$33:DN$35),0))*$B63)))","v":0},{"$f":"IF((-DO$14-DO$59-DO$69-DO$79-DO$60-DO$70-DO$80-DO$61-DO$71-DO$81-DO$62-DO$72-DO$82)<=0,0,IF($B$14=\"As Received\",(-DO$14-DO$59-DO$69-DO$79-DO$60-DO$70-DO$80-DO$61-DO$71-DO$81-DO$62-DO$72-DO$82)*$B63,MIN((-DO$14-DO$59-DO$69-DO$79-DO$60-DO$70-DO$80-DO$61-DO$71-DO$81-DO$62-DO$72-DO$82)*$B63,(DO$54+IF($B$59<>DO$31,SUM($C$33:DO$35),0))*$B63)))","v":0},{"$f":"IF((-DP$14-DP$59-DP$69-DP$79-DP$60-DP$70-DP$80-DP$61-DP$71-DP$81-DP$62-DP$72-DP$82)<=0,0,IF($B$14=\"As Received\",(-DP$14-DP$59-DP$69-DP$79-DP$60-DP$70-DP$80-DP$61-DP$71-DP$81-DP$62-DP$72-DP$82)*$B63,MIN((-DP$14-DP$59-DP$69-DP$79-DP$60-DP$70-DP$80-DP$61-DP$71-DP$81-DP$62-DP$72-DP$82)*$B63,(DP$54+IF($B$59<>DP$31,SUM($C$33:DP$35),0))*$B63)))","v":0},{"$f":"IF((-DQ$14-DQ$59-DQ$69-DQ$79-DQ$60-DQ$70-DQ$80-DQ$61-DQ$71-DQ$81-DQ$62-DQ$72-DQ$82)<=0,0,IF($B$14=\"As Received\",(-DQ$14-DQ$59-DQ$69-DQ$79-DQ$60-DQ$70-DQ$80-DQ$61-DQ$71-DQ$81-DQ$62-DQ$72-DQ$82)*$B63,MIN((-DQ$14-DQ$59-DQ$69-DQ$79-DQ$60-DQ$70-DQ$80-DQ$61-DQ$71-DQ$81-DQ$62-DQ$72-DQ$82)*$B63,(DQ$54+IF($B$59<>DQ$31,SUM($C$33:DQ$35),0))*$B63)))","v":0},{"$f":"IF((-DR$14-DR$59-DR$69-DR$79-DR$60-DR$70-DR$80-DR$61-DR$71-DR$81-DR$62-DR$72-DR$82)<=0,0,IF($B$14=\"As Received\",(-DR$14-DR$59-DR$69-DR$79-DR$60-DR$70-DR$80-DR$61-DR$71-DR$81-DR$62-DR$72-DR$82)*$B63,MIN((-DR$14-DR$59-DR$69-DR$79-DR$60-DR$70-DR$80-DR$61-DR$71-DR$81-DR$62-DR$72-DR$82)*$B63,(DR$54+IF($B$59<>DR$31,SUM($C$33:DR$35),0))*$B63)))","v":0},{"$f":"IF((-DS$14-DS$59-DS$69-DS$79-DS$60-DS$70-DS$80-DS$61-DS$71-DS$81-DS$62-DS$72-DS$82)<=0,0,IF($B$14=\"As Received\",(-DS$14-DS$59-DS$69-DS$79-DS$60-DS$70-DS$80-DS$61-DS$71-DS$81-DS$62-DS$72-DS$82)*$B63,MIN((-DS$14-DS$59-DS$69-DS$79-DS$60-DS$70-DS$80-DS$61-DS$71-DS$81-DS$62-DS$72-DS$82)*$B63,(DS$54+IF($B$59<>DS$31,SUM($C$33:DS$35),0))*$B63)))","v":0}]
["Total",null,{"$f":"SUM(C58:C63)","v":-3370143.9999999991},23839.340521160371,23839.340521160371,23839.340521160371,20424.275295437274,26046.323295437272,26046.323295437272,26046.323295437272,24149.064836702215,27272.424836702216,27433.091503368891,28220.358170035564,23312.030263487355,33017.003863487356,33017.003863487356,33343.735596820683,31452.683047472958,34258.102905574626,39348.022905574624,39348.022905574624,40543.382905574646,40543.382905574646,40543.382905574646,40543.382905574646,41279.705479925149,41279.705479925149,41279.705479925149,41279.705479925149,41382.532146591824,41382.532146591824,41382.532146591824,41382.532146591824,41583.301213258499,41583.301213258499,41583.301213258499,41583.301213258499,41536.786318172868,41536.786318172868,41536.786318172868,41536.786318172868,41536.786318172868,41536.786318172868,41536.786318172868,41536.786318172868,41536.786318172868,41536.786318172868,41536.786318172868,41536.786318172868,41488.87597623466,42195.809309568009,42195.809309568009,42195.809309568009,42195.809309568009,42195.809309568009,42195.809309568009,42195.809309568009,42195.809309568009,42195.809309568009,42195.809309568009,42195.809309568009,42146.461657371648,42724.86165737165,42724.86165737165,42724.86165737165,{"$f":"SUM(BO58:BO63)","v":42724.86165737165},42724.86165737165,42724.86165737165,42724.86165737165,42724.86165737165,42724.86165737165,42949.794990704999,44083.458990704996,44032.630908942774,44289.440508942775,44289.440508942775,44289.440508942775,44289.440508942775,44289.440508942775,44289.440508942775,44289.440508942775,44289.440508942775,44289.440508942775,44289.440508942775,44289.440508942775,3512238.0655860137,0,0,0,0,0,0,0,0,0,0,0,0,0,0,0,0,0,0,0,0,0,0,0,0,0,0,0,0,0,0,0,0,0,0,0,0]
["IRR",{"$f":"IF(ISERROR(IRR(C64:OFFSET(C64,,B59),0.01)),\"N/A\",(1+IRR(C64:OFFSET(C64,,B59),0.01))^$B$113-1)","v":0.14594303425646338}]
[]
[{"$f":"A27&\" Cash Flows\"","v":"LP - Alan and Adam Cash Flows"}]
[{"$f":"A58","v":"Contributions"},null,{"$f":"C34","v":-999855.99999999977},0,0,0,0,0,0,0,0,0,0,0,0,0,0,0,0,0,0,0,0,0,0,0,0,0,0,0,0,0,0,0,0,0,0,0,0,0,0,0,0,0,0,0,0,0,0,0,0,0,0,0,0,0,0,0,0,0,0,0,0,0,0,0,{"$f":"BO34","v":0},0,0,0,0,0,0,0,0,0,0,0,0,0,0,0,0,0,0,0,0,0,0,0,0,0,0,0,0,0,0,0,0,0,0,0,0,0,0,0,0,0,0,0,0,0,0,0,0,0,0,0,0,0,0,0,0]
["Return of Equity",{"$f":"B59","v":84},{"$f":"IF($B$14=\"As Received\",-C$14*$B$20,IF($B69=C$31,-SUM($C68:C68),0))","v":0},{"$f":"IF($B$14=\"As Received\",MIN(-D$14*$B$20,-SUM($C68:D68)-SUM($C$69:C69)),IF($B69=D$31,-SUM($C68:D68),0))","v":7072.6674160289067},{"$f":"IF($B$14=\"As Received\",MIN(-E$14*$B$20,-SUM($C68:E68)-SUM($C$69:D69)),IF($B69=E$31,-SUM($C68:E68),0))","v":7072.6674160289067},{"$f":"IF($B$14=\"As Received\",MIN(-F$14*$B$20,-SUM($C68:F68)-SUM($C$69:E69)),IF($B69=F$31,-SUM($C68:F68),0))","v":7072.6674160289067},{"$f":"IF($B$14=\"As Received\",MIN(-G$14*$B$20,-SUM($C68:G68)-SUM($C$69:F69)),IF($B69=G$31,-SUM($C68:G68),0))","v":6059.4841644139633},{"$f":"IF($B$14=\"As Received\",MIN(-H$14*$B$20,-SUM($C68:H68)-SUM($C$69:G69)),IF($B69=H$31,-SUM($C68:H68),0))","v":7727.4361644139635},{"$f":"IF($B$14=\"As Received\",MIN(-I$14*$B$20,-SUM($C68:I68)-SUM($C$69:H69)),IF($B69=I$31,-SUM($C68:I68),0))","v":7727.4361644139635},{"$f":"IF($B$14=\"As Received\",MIN(-J$14*$B$20,-SUM($C68:J68)-SUM($C$69:I69)),IF($B69=J$31,-SUM($C68:J68),0))","v":7727.4361644139635},{"$f":"IF($B$14=\"As Received\",MIN(-K$14*$B$20,-SUM($C68:K68)-SUM($C$69:J69)),IF($B69=K$31,-SUM($C68:K68),0))","v":7164.5565801834373},{"$f":"IF($B$14=\"As Received\",MIN(-L$14*$B$20,-SUM($C68:L68)-SUM($C$69:K69)),IF($B69=L$31,-SUM($C68:L68),0))","v":8091.1965801834376},{"$f":"IF($B$14=\"As Received\",MIN(-M$14*$B$20,-SUM($C68:M68)-SUM($C$69:L69)),IF($B69=M$31,-SUM($C68:M68),0))","v":8138.8632468501064},{"$f":"IF($B$14=\"As Received\",MIN(-N$14*$B$20,-SUM($C68:N68)-SUM($C$69:M69)),IF($B69=N$31,-SUM($C68:N68),0))","v":8372.4299135167748},{"$f":"IF($B$14=\"As Received\",MIN(-O$14*$B$20,-SUM($C68:O68)-SUM($C$69:N69)),IF($B69=O$31,-SUM($C68:O68),0))","v":6916.2247462213527},{"$f":"IF($B$14=\"As Received\",MIN(-P$14*$B$20,-SUM($C68:P68)-SUM($C$69:O69)),IF($B69=P$31,-SUM($C68:P68),0))","v":9795.5011462213533},{"$f":"IF($B$14=\"As Received\",MIN(-Q$14*$B$20,-SUM($C68:Q68)-SUM($C$69:P69)),IF($B69=Q$31,-SUM($C68:Q68),0))","v":9795.5011462213533},{"$f":"IF($B$14=\"As Received\",MIN(-R$14*$B$20,-SUM($C68:R68)-SUM($C$69:Q69)),IF($B69=R$31,-SUM($C68:R68),0))","v":9892.4360795546836},{"$f":"IF($B$14=\"As Received\",MIN(-S$14*$B$20,-SUM($C68:S68)-SUM($C$69:R69)),IF($B69=S$31,-SUM($C68:S68),0))","v":9331.3976676112725},{"$f":"IF($B$14=\"As Received\",MIN(-T$14*$B$20,-SUM($C68:T68)-SUM($C$69:S69)),IF($B69=T$31,-SUM($C68:T68),0))","v":10163.71102800243},{"$f":"IF($B$14=\"As Received\",MIN(-U$14*$B$20,-SUM($C68:U68)-SUM($C$69:T69)),IF($B69=U$31,-SUM($C68:U68),0))","v":11673.79102800243},{"$f":"IF($B$14=\"As Received\",MIN(-V$14*$B$20,-SUM($C68:V68)-SUM($C$69:U69)),IF($B69=V$31,-SUM($C68:V68),0))","v":11673.79102800243},{"$f":"IF($B$14=\"As Received\",MIN(-W$14*$B$20,-SUM($C68:W68)-SUM($C$69:V69)),IF($B69=W$31,-SUM($C68:W68),0))","v":12028.431028002437},{"$f":"IF($B$14=\"As Received\",MIN(-X$14*$B$20,-SUM($C68:X68)-SUM($C$69:W69)),IF($B69=X$31,-SUM($C68:X68),0))","v":12028.431028002437},{"$f":"IF($B$14=\"As Received\",MIN(-Y$14*$B$20,-SUM($C68:Y68)-SUM($C$69:X69)),IF($B69=Y$31,-SUM($C68:Y68),0))","v":12028.431028002437},{"$f":"IF($B$14=\"As Received\",MIN(-Z$14*$B$20,-SUM($C68:Z68)-SUM($C$69:Y69)),IF($B69=Z$31,-SUM($C68:Z68),0))","v":12028.431028002437},{"$f":"IF($B$14=\"As Received\",MIN(-AA$14*$B$20,-SUM($C68:AA68)-SUM($C$69:Z69)),IF($B69=AA$31,-SUM($C68:AA68),0))","v":12246.88357599439},{"$f":"IF($B$14=\"As Received\",MIN(-AB$14*$B$20,-SUM($C68:AB68)-SUM($C$69:AA69)),IF($B69=AB$31,-SUM($C68:AB68),0))","v":12246.88357599439},{"$f":"IF($B$14=\"As Received\",MIN(-AC$14*$B$20,-SUM($C68:AC68)-SUM($C$69:AB69)),IF($B69=AC$31,-SUM($C68:AC68),0))","v":12246.88357599439},{"$f":"IF($B$14=\"As Received\",MIN(-AD$14*$B$20,-SUM($C68:AD68)-SUM($C$69:AC69)),IF($B69=AD$31,-SUM($C68:AD68),0))","v":12246.88357599439},{"$f":"IF($B$14=\"As Received\",MIN(-AE$14*$B$20,-SUM($C68:AE68)-SUM($C$69:AD69)),IF($B69=AE$31,-SUM($C68:AE68),0))","v":12277.39024266106},{"$f":"IF($B$14=\"As Received\",MIN(-AF$14*$B$20,-SUM($C68:AF68)-SUM($C$69:AE69)),IF($B69=AF$31,-SUM($C68:AF68),0))","v":12277.39024266106},{"$f":"IF($B$14=\"As Received\",MIN(-AG$14*$B$20,-SUM($C68:AG68)-SUM($C$69:AF69)),IF($B69=AG$31,-SUM($C68:AG68),0))","v":12277.39024266106},{"$f":"IF($B$14=\"As Received\",MIN(-AH$14*$B$20,-SUM($C68:AH68)-SUM($C$69:AG69)),IF($B69=AH$31,-SUM($C68:AH68),0))","v":12277.39024266106},{"$f":"IF($B$14=\"As Received\",MIN(-AI$14*$B$20,-SUM($C68:AI68)-SUM($C$69:AH69)),IF($B69=AI$31,-SUM($C68:AI68),0))","v":12336.954509327728},{"$f":"IF($B$14=\"As Received\",MIN(-AJ$14*$B$20,-SUM($C68:AJ68)-SUM($C$69:AI69)),IF($B69=AJ$31,-SUM($C68:AJ68),0))","v":12336.954509327728},{"$f":"IF($B$14=\"As Received\",MIN(-AK$14*$B$20,-SUM($C68:AK68)-SUM($C$69:AJ69)),IF($B69=AK$31,-SUM($C68:AK68),0))","v":12336.954509327728},{"$f":"IF($B$14=\"As Received\",MIN(-AL$14*$B$20,-SUM($C68:AL68)-SUM($C$69:AK69)),IF($B69=AL$31,-SUM($C68:AL68),0))","v":12336.954509327728},{"$f":"IF($B$14=\"As Received\",MIN(-AM$14*$B$20,-SUM($C68:AM68)-SUM($C$69:AL69)),IF($B69=AM$31,-SUM($C68:AM68),0))","v":12323.154447092782},{"$f":"IF($B$14=\"As Received\",MIN(-AN$14*$B$20,-SUM($C68:AN68)-SUM($C$69:AM69)),IF($B69=AN$31,-SUM($C68:AN68),0))","v":12323.154447092782},{"$f":"IF($B$14=\"As Received\",MIN(-AO$14*$B$20,-SUM($C68:AO68)-SUM($C$69:AN69)),IF($B69=AO$31,-SUM($C68:AO68),0))","v":12323.154447092782},{"$f":"IF($B$14=\"As Received\",MIN(-AP$14*$B$20,-SUM($C68:AP68)-SUM($C$69:AO69)),IF($B69=AP$31,-SUM($C68:AP68),0))","v":12323.154447092782},{"$f":"IF($B$14=\"As Received\",MIN(-AQ$14*$B$20,-SUM($C68:AQ68)-SUM($C$69:AP69)),IF($B69=AQ$31,-SUM($C68:AQ68),0))","v":12323.154447092782},{"$f":"IF($B$14=\"As Received\",MIN(-AR$14*$B$20,-SUM($C68:AR68)-SUM($C$69:AQ69)),IF($B69=AR$31,-SUM($C68:AR68),0))","v":12323.154447092782},{"$f":"IF($B$14=\"As Received\",MIN(-AS$14*$B$20,-SUM($C68:AS68)-SUM($C$69:AR69)),IF($B69=AS$31,-SUM($C68:AS68),0))","v":12323.154447092782},{"$f":"IF($B$14=\"As Received\",MIN(-AT$14*$B$20,-SUM($C68:AT68)-SUM($C$69:AS69)),IF($B69=AT$31,-SUM($C68:AT68),0))","v":12323.154447092782},{"$f":"IF($B$14=\"As Received\",MIN(-AU$14*$B$20,-SUM($C68:AU68)-SUM($C$69:AT69)),IF($B69=AU$31,-SUM($C68:AU68),0))","v":12323.154447092782},{"$f":"IF($B$14=\"As Received\",MIN(-AV$14*$B$20,-SUM($C68:AV68)-SUM($C$69:AU69)),IF($B69=AV$31,-SUM($C68:AV68),0))","v":12323.154447092782},{"$f":"IF($B$14=\"As Received\",MIN(-AW$14*$B$20,-SUM($C68:AW68)-SUM($C$69:AV69)),IF($B69=AW$31,-SUM($C68:AW68),0))","v":12323.154447092782},{"$f":"IF($B$14=\"As Received\",MIN(-AX$14*$B$20,-SUM($C68:AX68)-SUM($C$69:AW69)),IF($B69=AX$31,-SUM($C68:AX68),0))","v":12323.154447092782},{"$f":"IF($B$14=\"As Received\",MIN(-AY$14*$B$20,-SUM($C68:AY68)-SUM($C$69:AX69)),IF($B69=AY$31,-SUM($C68:AY68),0))","v":12308.940382990781},{"$f":"IF($B$14=\"As Received\",MIN(-AZ$14*$B$20,-SUM($C68:AZ68)-SUM($C$69:AY69)),IF($B69=AZ$31,-SUM($C68:AZ68),0))","v":12518.67371632412},{"$f":"IF($B$14=\"As Received\",MIN(-BA$14*$B$20,-SUM($C68:BA68)-SUM($C$69:AZ69)),IF($B69=BA$31,-SUM($C68:BA68),0))","v":12518.67371632412},{"$f":"IF($B$14=\"As Received\",MIN(-BB$14*$B$20,-SUM($C68:BB68)-SUM($C$69:BA69)),IF($B69=BB$31,-SUM($C68:BB68),0))","v":12518.67371632412},{"$f":"IF($B$14=\"As Received\",MIN(-BC$14*$B$20,-SUM($C68:BC68)-SUM($C$69:BB69)),IF($B69=BC$31,-SUM($C68:BC68),0))","v":12518.67371632412},{"$f":"IF($B$14=\"As Received\",MIN(-BD$14*$B$20,-SUM($C68:BD68)-SUM($C$69:BC69)),IF($B69=BD$31,-SUM($C68:BD68),0))","v":12518.67371632412},{"$f":"IF($B$14=\"As Received\",MIN(-BE$14*$B$20,-SUM($C68:BE68)-SUM($C$69:BD69)),IF($B69=BE$31,-SUM($C68:BE68),0))","v":12518.67371632412},{"$f":"IF($B$14=\"As Received\",MIN(-BF$14*$B$20,-SUM($C68:BF68)-SUM($C$69:BE69)),IF($B69=BF$31,-SUM($C68:BF68),0))","v":12518.67371632412},{"$f":"IF($B$14=\"As Received\",MIN(-BG$14*$B$20,-SUM($C68:BG68)-SUM($C$69:BF69)),IF($B69=BG$31,-SUM($C68:BG68),0))","v":12518.67371632412},{"$f":"IF($B$14=\"As Received\",MIN(-BH$14*$B$20,-SUM($C68:BH68)-SUM($C$69:BG69)),IF($B69=BH$31,-SUM($C68:BH68),0))","v":12518.67371632412},{"$f":"IF($B$14=\"As Received\",MIN(-BI$14*$B$20,-SUM($C68:BI68)-SUM($C$69:BH69)),IF($B69=BI$31,-SUM($C68:BI68),0))","v":12518.67371632412},{"$f":"IF($B$14=\"As Received\",MIN(-BJ$14*$B$20,-SUM($C68:BJ68)-SUM($C$69:BI69)),IF($B69=BJ$31,-SUM($C68:BJ68),0))","v":12518.67371632412},{"$f":"IF($B$14=\"As Received\",MIN(-BK$14*$B$20,-SUM($C68:BK68)-SUM($C$69:BJ69)),IF($B69=BK$31,-SUM($C68:BK68),0))","v":12504.033230299057},{"$f":"IF($B$14=\"As Received\",MIN(-BL$14*$B$20,-SUM($C68:BL68)-SUM($C$69:BK69)),IF($B69=BL$31,-SUM($C68:BL68),0))","v":12675.633230299058},{"$f":"IF($B$14=\"As Received\",MIN(-BM$14*$B$20,-SUM($C68:BM68)-SUM($C$69:BL69)),IF($B69=BM$31,-SUM($C68:BM68),0))","v":12675.633230299058},{"$f":"IF($B$14=\"As Received\",MIN(-BN$14*$B$20,-SUM($C68:BN68)-SUM($C$69:BM69)),IF($B69=BN$31,-SUM($C68:BN68),0))","v":12675.633230299058},{"$f":"IF($B$14=\"As Received\",MIN(-BO$14*$B$20,-SUM($C68:BO68)-SUM($C$69:BN69)),IF($B69=BO$31,-SUM($C68:BO68),0))","v":12675.633230299058},{"$f":"IF($B$14=\"As Received\",MIN(-BP$14*$B$20,-SUM($C68:BP68)-SUM($C$69:BO69)),IF($B69=BP$31,-SUM($C68:BP68),0))","v":12675.633230299058},{"$f":"IF($B$14=\"As Received\",MIN(-BQ$14*$B$20,-SUM($C68:BQ68)-SUM($C$69:BP69)),IF($B69=BQ$31,-SUM($C68:BQ68),0))","v":12675.633230299058},{"$f":"IF($B$14=\"As Received\",MIN(-BR$14*$B$20,-SUM($C68:BR68)-SUM($C$69:BQ69)),IF($B69=BR$31,-SUM($C68:BR68),0))","v":12675.633230299058},{"$f":"IF($B$14=\"As Received\",MIN(-BS$14*$B$20,-SUM($C68:BS68)-SUM($C$69:BR69)),IF($B69=BS$31,-SUM($C68:BS68),0))","v":12675.633230299058},{"$f":"IF($B$14=\"As Received\",MIN(-BT$14*$B$20,-SUM($C68:BT68)-SUM($C$69:BS69)),IF($B69=BT$31,-SUM($C68:BT68),0))","v":12675.633230299058},{"$f":"IF($B$14=\"As Received\",MIN(-BU$14*$B$20,-SUM($C68:BU68)-SUM($C$69:BT69)),IF($B69=BU$31,-SUM($C68:BU68),0))","v":12742.366563632395},{"$f":"IF($B$14=\"As Received\",MIN(-BV$14*$B$20,-SUM($C68:BV68)-SUM($C$69:BU69)),IF($B69=BV$31,-SUM($C68:BV68),0))","v":13078.702563632396},{"$f":"IF($B$14=\"As Received\",MIN(-BW$14*$B$20,-SUM($C68:BW68)-SUM($C$69:BV69)),IF($B69=BW$31,-SUM($C68:BW68),0))","v":13063.62286302659},{"$f":"IF($B$14=\"As Received\",MIN(-BX$14*$B$20,-SUM($C68:BX68)-SUM($C$69:BW69)),IF($B69=BX$31,-SUM($C68:BX68),0))","v":13139.81326302659},{"$f":"IF($B$14=\"As Received\",MIN(-BY$14*$B$20,-SUM($C68:BY68)-SUM($C$69:BX69)),IF($B69=BY$31,-SUM($C68:BY68),0))","v":13139.81326302659},{"$f":"IF($B$14=\"As Received\",MIN(-BZ$14*$B$20,-SUM($C68:BZ68)-SUM($C$69:BY69)),IF($B69=BZ$31,-SUM($C68:BZ68),0))","v":13139.81326302659},{"$f":"IF($B$14=\"As Received\",MIN(-CA$14*$B$20,-SUM($C68:CA68)-SUM($C$69:BZ69)),IF($B69=CA$31,-SUM($C68:CA68),0))","v":13139.81326302659},{"$f":"IF($B$14=\"As Received\",MIN(-CB$14*$B$20,-SUM($C68:CB68)-SUM($C$69:CA69)),IF($B69=CB$31,-SUM($C68:CB68),0))","v":13139.81326302659},{"$f":"IF($B$14=\"As Received\",MIN(-CC$14*$B$20,-SUM($C68:CC68)-SUM($C$69:CB69)),IF($B69=CC$31,-SUM($C68:CC68),0))","v":13139.81326302659},{"$f":"IF($B$14=\"As Received\",MIN(-CD$14*$B$20,-SUM($C68:CD68)-SUM($C$69:CC69)),IF($B69=CD$31,-SUM($C68:CD68),0))","v":13139.81326302659},{"$f":"IF($B$14=\"As Received\",MIN(-CE$14*$B$20,-SUM($C68:CE68)-SUM($C$69:CD69)),IF($B69=CE$31,-SUM($C68:CE68),0))","v":13139.81326302659},{"$f":"IF($B$14=\"As Received\",MIN(-CF$14*$B$20,-SUM($C68:CF68)-SUM($C$69:CE69)),IF($B69=CF$31,-SUM($C68:CF68),0))","v":13139.81326302659},{"$f":"IF($B$14=\"As Received\",MIN(-CG$14*$B$20,-SUM($C68:CG68)-SUM($C$69:CF69)),IF($B69=CG$31,-SUM($C68:CG68),0))","v":13139.81326302659},{"$f":"IF($B$14=\"As Received\",MIN(-CH$14*$B$20,-SUM($C68:CH68)-SUM($C$69:CG69)),IF($B69=CH$31,-SUM($C68:CH68),0))","v":13139.81326302659},{"$f":"IF($B$14=\"As Received\",MIN(-CI$14*$B$20,-SUM($C68:CI68)-SUM($C$69:CH69)),IF($B69=CI$31,-SUM($C68:CI68),0))","v":34928.592665499542},{"$f":"IF($B$14=\"As Received\",MIN(-CJ$14*$B$20,-SUM($C68:CJ68)-SUM($C$69:CI69)),IF($B69=CJ$31,-SUM($C68:CJ68),0))","v":0},{"$f":"IF($B$14=\"As Received\",MIN(-CK$14*$B$20,-SUM($C68:CK68)-SUM($C$69:CJ69)),IF($B69=CK$31,-SUM($C68:CK68),0))","v":0},{"$f":"IF($B$14=\"As Received\",MIN(-CL$14*$B$20,-SUM($C68:CL68)-SUM($C$69:CK69)),IF($B69=CL$31,-SUM($C68:CL68),0))","v":0},{"$f":"IF($B$14=\"As Received\",MIN(-CM$14*$B$20,-SUM($C68:CM68)-SUM($C$69:CL69)),IF($B69=CM$31,-SUM($C68:CM68),0))","v":0},{"$f":"IF($B$14=\"As Received\",MIN(-CN$14*$B$20,-SUM($C68:CN68)-SUM($C$69:CM69)),IF($B69=CN$31,-SUM($C68:CN68),0))","v":0},{"$f":"IF($B$14=\"As Received\",MIN(-CO$14*$B$20,-SUM($C68:CO68)-SUM($C$69:CN69)),IF($B69=CO$31,-SUM($C68:CO68),0))","v":0},{"$f":"IF($B$14=\"As Received\",MIN(-CP$14*$B$20,-SUM($C68:CP68)-SUM($C$69:CO69)),IF($B69=CP$31,-SUM($C68:CP68),0))","v":0},{"$f":"IF($B$14=\"As Received\",MIN(-CQ$14*$B$20,-SUM($C68:CQ68)-SUM($C$69:CP69)),IF($B69=CQ$31,-SUM($C68:CQ68),0))","v":0},{"$f":"IF($B$14=\"As Received\",MIN(-CR$14*$B$20,-SUM($C68:CR68)-SUM($C$69:CQ69)),IF($B69=CR$31,-SUM($C68:CR68),0))","v":0},{"$f":"IF($B$14=\"As Received\",MIN(-CS$14*$B$20,-SUM($C68:CS68)-SUM($C$69:CR69)),IF($B69=CS$31,-SUM($C68:CS68),0))","v":0},{"$f":"IF($B$14=\"As Received\",MIN(-CT$14*$B$20,-SUM($C68:CT68)-SUM($C$69:CS69)),IF($B69=CT$31,-SUM($C68:CT68),0))","v":0},{"$f":"IF($B$14=\"As Received\",MIN(-CU$14*$B$20,-SUM($C68:CU68)-SUM($C$69:CT69)),IF($B69=CU$31,-SUM($C68:CU68),0))","v":0},{"$f":"IF($B$14=\"As Received\",MIN(-CV$14*$B$20,-SUM($C68:CV68)-SUM($C$69:CU69)),IF($B69=CV$31,-SUM($C68:CV68),0))","v":0},{"$f":"IF($B$14=\"As Received\",MIN(-CW$14*$B$20,-SUM($C68:CW68)-SUM($C$69:CV69)),IF($B69=CW$31,-SUM($C68:CW68),0))","v":0},{"$f":"IF($B$14=\"As Received\",MIN(-CX$14*$B$20,-SUM($C68:CX68)-SUM($C$69:CW69)),IF($B69=CX$31,-SUM($C68:CX68),0))","v":0},{"$f":"IF($B$14=\"As Received\",MIN(-CY$14*$B$20,-SUM($C68:CY68)-SUM($C$69:CX69)),IF($B69=CY$31,-SUM($C68:CY68),0))","v":0},{"$f":"IF($B$14=\"As Received\",MIN(-CZ$14*$B$20,-SUM($C68:CZ68)-SUM($C$69:CY69)),IF($B69=CZ$31,-SUM($C68:CZ68),0))","v":0},{"$f":"IF($B$14=\"As Received\",MIN(-DA$14*$B$20,-SUM($C68:DA68)-SUM($C$69:CZ69)),IF($B69=DA$31,-SUM($C68:DA68),0))","v":0},{"$f":"IF($B$14=\"As Received\",MIN(-DB$14*$B$20,-SUM($C68:DB68)-SUM($C$69:DA69)),IF($B69=DB$31,-SUM($C68:DB68),0))","v":0},{"$f":"IF($B$14=\"As Received\",MIN(-DC$14*$B$20,-SUM($C68:DC68)-SUM($C$69:DB69)),IF($B69=DC$31,-SUM($C68:DC68),0))","v":0},{"$f":"IF($B$14=\"As Received\",MIN(-DD$14*$B$20,-SUM($C68:DD68)-SUM($C$69:DC69)),IF($B69=DD$31,-SUM($C68:DD68),0))","v":0},{"$f":"IF($B$14=\"As Received\",MIN(-DE$14*$B$20,-SUM($C68:DE68)-SUM($C$69:DD69)),IF($B69=DE$31,-SUM($C68:DE68),0))","v":0},{"$f":"IF($B$14=\"As Received\",MIN(-DF$14*$B$20,-SUM($C68:DF68)-SUM($C$69:DE69)),IF($B69=DF$31,-SUM($C68:DF68),0))","v":0},{"$f":"IF($B$14=\"As Received\",MIN(-DG$14*$B$20,-SUM($C68:DG68)-SUM($C$69:DF69)),IF($B69=DG$31,-SUM($C68:DG68),0))","v":0},{"$f":"IF($B$14=\"As Received\",MIN(-DH$14*$B$20,-SUM($C68:DH68)-SUM($C$69:DG69)),IF($B69=DH$31,-SUM($C68:DH68),0))","v":0},{"$f":"IF($B$14=\"As Received\",MIN(-DI$14*$B$20,-SUM($C68:DI68)-SUM($C$69:DH69)),IF($B69=DI$31,-SUM($C68:DI68),0))","v":0},{"$f":"IF($B$14=\"As Received\",MIN(-DJ$14*$B$20,-SUM($C68:DJ68)-SUM($C$69:DI69)),IF($B69=DJ$31,-SUM($C68:DJ68),0))","v":0},{"$f":"IF($B$14=\"As Received\",MIN(-DK$14*$B$20,-SUM($C68:DK68)-SUM($C$69:DJ69)),IF($B69=DK$31,-SUM($C68:DK68),0))","v":0},{"$f":"IF($B$14=\"As Received\",MIN(-DL$14*$B$20,-SUM($C68:DL68)-SUM($C$69:DK69)),IF($B69=DL$31,-SUM($C68:DL68),0))","v":0},{"$f":"IF($B$14=\"As Received\",MIN(-DM$14*$B$20,-SUM($C68:DM68)-SUM($C$69:DL69)),IF($B69=DM$31,-SUM($C68:DM68),0))","v":0},{"$f":"IF($B$14=\"As Received\",MIN(-DN$14*$B$20,-SUM($C68:DN68)-SUM($C$69:DM69)),IF($B69=DN$31,-SUM($C68:DN68),0))","v":0},{"$f":"IF($B$14=\"As Received\",MIN(-DO$14*$B$20,-SUM($C68:DO68)-SUM($C$69:DN69)),IF($B69=DO$31,-SUM($C68:DO68),0))","v":0},{"$f":"IF($B$14=\"As Received\",MIN(-DP$14*$B$20,-SUM($C68:DP68)-SUM($C$69:DO69)),IF($B69=DP$31,-SUM($C68:DP68),0))","v":0},{"$f":"IF($B$14=\"As Received\",MIN(-DQ$14*$B$20,-SUM($C68:DQ68)-SUM($C$69:DP69)),IF($B69=DQ$31,-SUM($C68:DQ68),0))","v":0},{"$f":"IF($B$14=\"As Received\",MIN(-DR$14*$B$20,-SUM($C68:DR68)-SUM($C$69:DQ69)),IF($B69=DR$31,-SUM($C68:DR68),0))","v":0},{"$f":"IF($B$14=\"As Received\",MIN(-DS$14*$B$20,-SUM($C68:DS68)-SUM($C$69:DR69)),IF($B69=DS$31,-SUM($C68:DS68),0))","v":0}]
["Tier 1 Preferred Return",{"$f":"D27","v":0.1144},{"$f":"IF((-C$14-C$59-C$69-C$79)<=0,0,IF($B$14=\"As Received\",MIN(C$42*$B70,(-C$14-C$59-C$69-C$79)*$B70),MIN((-C$14-C$59-C$69-C$79)*$B70,(C$42+IF($B$59<>C$31,SUM($C$33:C$35),0))*$B70)))","v":0},{"$f":"IF((-D$14-D$59-D$69-D$79)<=0,0,IF($B$14=\"As Received\",MIN(D$42*$B70,(-D$14-D$59-D$69-D$79)*$B70),MIN((-D$14-D$59-D$69-D$79)*$B70,(D$42+IF($B$59<>D$31,SUM($C$33:D$35),0))*$B70)))","v":1.0404619388282299E-13},{"$f":"IF((-E$14-E$59-E$69-E$79)<=0,0,IF($B$14=\"As Received\",MIN(E$42*$B70,(-E$14-E$59-E$69-E$79)*$B70),MIN((-E$14-E$59-E$69-E$79)*$B70,(E$42+IF($B$59<>E$31,SUM($C$33:E$35),0))*$B70)))","v":1.0404619388282299E-13},{"$f":"IF((-F$14-F$59-F$69-F$79)<=0,0,IF($B$14=\"As Received\",MIN(F$42*$B70,(-F$14-F$59-F$69-F$79)*$B70),MIN((-F$14-F$59-F$69-F$79)*$B70,(F$42+IF($B$59<>F$31,SUM($C$33:F$35),0))*$B70)))","v":1.0404619388282299E-13},{"$f":"IF((-G$14-G$59-G$69-G$79)<=0,0,IF($B$14=\"As Received\",MIN(G$42*$B70,(-G$14-G$59-G$69-G$79)*$B70),MIN((-G$14-G$59-G$69-G$79)*$B70,(G$42+IF($B$59<>G$31,SUM($C$33:G$35),0))*$B70)))","v":0},{"$f":"IF((-H$14-H$59-H$69-H$79)<=0,0,IF($B$14=\"As Received\",MIN(H$42*$B70,(-H$14-H$59-H$69-H$79)*$B70),MIN((-H$14-H$59-H$69-H$79)*$B70,(H$42+IF($B$59<>H$31,SUM($C$33:H$35),0))*$B70)))","v":1.0404619388282299E-13},{"$f":"IF((-I$14-I$59-I$69-I$79)<=0,0,IF($B$14=\"As Received\",MIN(I$42*$B70,(-I$14-I$59-I$69-I$79)*$B70),MIN((-I$14-I$59-I$69-I$79)*$B70,(I$42+IF($B$59<>I$31,SUM($C$33:I$35),0))*$B70)))","v":1.0404619388282299E-13},{"$f":"IF((-J$14-J$59-J$69-J$79)<=0,0,IF($B$14=\"As Received\",MIN(J$42*$B70,(-J$14-J$59-J$69-J$79)*$B70),MIN((-J$14-J$59-J$69-J$79)*$B70,(J$42+IF($B$59<>J$31,SUM($C$33:J$35),0))*$B70)))","v":1.0404619388282299E-13},{"$f":"IF((-K$14-K$59-K$69-K$79)<=0,0,IF($B$14=\"As Received\",MIN(K$42*$B70,(-K$14-K$59-K$69-K$79)*$B70),MIN((-K$14-K$59-K$69-K$79)*$B70,(K$42+IF($B$59<>K$31,SUM($C$33:K$35),0))*$B70)))","v":1.0404619388282299E-13},{"$f":"IF((-L$14-L$59-L$69-L$79)<=0,0,IF($B$14=\"As Received\",MIN(L$42*$B70,(-L$14-L$59-L$69-L$79)*$B70),MIN((-L$14-L$59-L$69-L$79)*$B70,(L$42+IF($B$59<>L$31,SUM($C$33:L$35),0))*$B70)))","v":0},{"$f":"IF((-M$14-M$59-M$69-M$79)<=0,0,IF($B$14=\"As Received\",MIN(M$42*$B70,(-M$14-M$59-M$69-M$79)*$B70),MIN((-M$14-M$59-M$69-M$79)*$B70,(M$42+IF($B$59<>M$31,SUM($C$33:M$35),0))*$B70)))","v":0},{"$f":"IF((-N$14-N$59-N$69-N$79)<=0,0,IF($B$14=\"As Received\",MIN(N$42*$B70,(-N$14-N$59-N$69-N$79)*$B70),MIN((-N$14-N$59-N$69-N$79)*$B70,(N$42+IF($B$59<>N$31,SUM($C$33:N$35),0))*$B70)))","v":0},{"$f":"IF((-O$14-O$59-O$69-O$79)<=0,0,IF($B$14=\"As Received\",MIN(O$42*$B70,(-O$14-O$59-O$69-O$79)*$B70),MIN((-O$14-O$59-O$69-O$79)*$B70,(O$42+IF($B$59<>O$31,SUM($C$33:O$35),0))*$B70)))","v":0},{"$f":"IF((-P$14-P$59-P$69-P$79)<=0,0,IF($B$14=\"As Received\",MIN(P$42*$B70,(-P$14-P$59-P$69-P$79)*$B70),MIN((-P$14-P$59-P$69-P$79)*$B70,(P$42+IF($B$59<>P$31,SUM($C$33:P$35),0))*$B70)))","v":0},{"$f":"IF((-Q$14-Q$59-Q$69-Q$79)<=0,0,IF($B$14=\"As Received\",MIN(Q$42*$B70,(-Q$14-Q$59-Q$69-Q$79)*$B70),MIN((-Q$14-Q$59-Q$69-Q$79)*$B70,(Q$42+IF($B$59<>Q$31,SUM($C$33:Q$35),0))*$B70)))","v":0},{"$f":"IF((-R$14-R$59-R$69-R$79)<=0,0,IF($B$14=\"As Received\",MIN(R$42*$B70,(-R$14-R$59-R$69-R$79)*$B70),MIN((-R$14-R$59-R$69-R$79)*$B70,(R$42+IF($B$59<>R$31,SUM($C$33:R$35),0))*$B70)))","v":0},{"$f":"IF((-S$14-S$59-S$69-S$79)<=0,0,IF($B$14=\"As Received\",MIN(S$42*$B70,(-S$14-S$59-S$69-S$79)*$B70),MIN((-S$14-S$59-S$69-S$79)*$B70,(S$42+IF($B$59<>S$31,SUM($C$33:S$35),0))*$B70)))","v":0},{"$f":"IF((-T$14-T$59-T$69-T$79)<=0,0,IF($B$14=\"As Received\",MIN(T$42*$B70,(-T$14-T$59-T$69-T$79)*$B70),MIN((-T$14-T$59-T$69-T$79)*$B70,(T$42+IF($B$59<>T$31,SUM($C$33:T$35),0))*$B70)))","v":0},{"$f":"IF((-U$14-U$59-U$69-U$79)<=0,0,IF($B$14=\"As Received\",MIN(U$42*$B70,(-U$14-U$59-U$69-U$79)*$B70),MIN((-U$14-U$59-U$69-U$79)*$B70,(U$42+IF($B$59<>U$31,SUM($C$33:U$35),0))*$B70)))","v":0},{"$f":"IF((-V$14-V$59-V$69-V$79)<=0,0,IF($B$14=\"As Received\",MIN(V$42*$B70,(-V$14-V$59-V$69-V$79)*$B70),MIN((-V$14-V$59-V$69-V$79)*$B70,(V$42+IF($B$59<>V$31,SUM($C$33:V$35),0))*$B70)))","v":0},{"$f":"IF((-W$14-W$59-W$69-W$79)<=0,0,IF($B$14=\"As Received\",MIN(W$42*$B70,(-W$14-W$59-W$69-W$79)*$B70),MIN((-W$14-W$59-W$69-W$79)*$B70,(W$42+IF($B$59<>W$31,SUM($C$33:W$35),0))*$B70)))","v":0},{"$f":"IF((-X$14-X$59-X$69-X$79)<=0,0,IF($B$14=\"As Received\",MIN(X$42*$B70,(-X$14-X$59-X$69-X$79)*$B70),MIN((-X$14-X$59-X$69-X$79)*$B70,(X$42+IF($B$59<>X$31,SUM($C$33:X$35),0))*$B70)))","v":0},{"$f":"IF((-Y$14-Y$59-Y$69-Y$79)<=0,0,IF($B$14=\"As Received\",MIN(Y$42*$B70,(-Y$14-Y$59-Y$69-Y$79)*$B70),MIN((-Y$14-Y$59-Y$69-Y$79)*$B70,(Y$42+IF($B$59<>Y$31,SUM($C$33:Y$35),0))*$B70)))","v":0},{"$f":"IF((-Z$14-Z$59-Z$69-Z$79)<=0,0,IF($B$14=\"As Received\",MIN(Z$42*$B70,(-Z$14-Z$59-Z$69-Z$79)*$B70),MIN((-Z$14-Z$59-Z$69-Z$79)*$B70,(Z$42+IF($B$59<>Z$31,SUM($C$33:Z$35),0))*$B70)))","v":0},{"$f":"IF((-AA$14-AA$59-AA$69-AA$79)<=0,0,IF($B$14=\"As Received\",MIN(AA$42*$B70,(-AA$14-AA$59-AA$69-AA$79)*$B70),MIN((-AA$14-AA$59-AA$69-AA$79)*$B70,(AA$42+IF($B$59<>AA$31,SUM($C$33:AA$35),0))*$B70)))","v":0},{"$f":"IF((-AB$14-AB$59-AB$69-AB$79)<=0,0,IF($B$14=\"As Received\",MIN(AB$42*$B70,(-AB$14-AB$59-AB$69-AB$79)*$B70),MIN((-AB$14-AB$59-AB$69-AB$79)*$B70,(AB$42+IF($B$59<>AB$31,SUM($C$33:AB$35),0))*$B70)))","v":0},{"$f":"IF((-AC$14-AC$59-AC$69-AC$79)<=0,0,IF($B$14=\"As Received\",MIN(AC$42*$B70,(-AC$14-AC$59-AC$69-AC$79)*$B70),MIN((-AC$14-AC$59-AC$69-AC$79)*$B70,(AC$42+IF($B$59<>AC$31,SUM($C$33:AC$35),0))*$B70)))","v":0},{"$f":"IF((-AD$14-AD$59-AD$69-AD$79)<=0,0,IF($B$14=\"As Received\",MIN(AD$42*$B70,(-AD$14-AD$59-AD$69-AD$79)*$B70),MIN((-AD$14-AD$59-AD$69-AD$79)*$B70,(AD$42+IF($B$59<>AD$31,SUM($C$33:AD$35),0))*$B70)))","v":0},{"$f":"IF((-AE$14-AE$59-AE$69-AE$79)<=0,0,IF($B$14=\"As Received\",MIN(AE$42*$B70,(-AE$14-AE$59-AE$69-AE$79)*$B70),MIN((-AE$14-AE$59-AE$69-AE$79)*$B70,(AE$42+IF($B$59<>AE$31,SUM($C$33:AE$35),0))*$B70)))","v":0},{"$f":"IF((-AF$14-AF$59-AF$69-AF$79)<=0,0,IF($B$14=\"As Received\",MIN(AF$42*$B70,(-AF$14-AF$59-AF$69-AF$79)*$B70),MIN((-AF$14-AF$59-AF$69-AF$79)*$B70,(AF$42+IF($B$59<>AF$31,SUM($C$33:AF$35),0))*$B70)))","v":0},{"$f":"IF((-AG$14-AG$59-AG$69-AG$79)<=0,0,IF($B$14=\"As Received\",MIN(AG$42*$B70,(-AG$14-AG$59-AG$69-AG$79)*$B70),MIN((-AG$14-AG$59-AG$69-AG$79)*$B70,(AG$42+IF($B$59<>AG$31,SUM($C$33:AG$35),0))*$B70)))","v":0},{"$f":"IF((-AH$14-AH$59-AH$69-AH$79)<=0,0,IF($B$14=\"As Received\",MIN(AH$42*$B70,(-AH$14-AH$59-AH$69-AH$79)*$B70),MIN((-AH$14-AH$59-AH$69-AH$79)*$B70,(AH$42+IF($B$59<>AH$31,SUM($C$33:AH$35),0))*$B70)))","v":0},{"$f":"IF((-AI$14-AI$59-AI$69-AI$79)<=0,0,IF($B$14=\"As Received\",MIN(AI$42*$B70,(-AI$14-AI$59-AI$69-AI$79)*$B70),MIN((-AI$14-AI$59-AI$69-AI$79)*$B70,(AI$42+IF($B$59<>AI$31,SUM($C$33:AI$35),0))*$B70)))","v":0},{"$f":"IF((-AJ$14-AJ$59-AJ$69-AJ$79)<=0,0,IF($B$14=\"As Received\",MIN(AJ$42*$B70,(-AJ$14-AJ$59-AJ$69-AJ$79)*$B70),MIN((-AJ$14-AJ$59-AJ$69-AJ$79)*$B70,(AJ$42+IF($B$59<>AJ$31,SUM($C$33:AJ$35),0))*$B70)))","v":0},{"$f":"IF((-AK$14-AK$59-AK$69-AK$79)<=0,0,IF($B$14=\"As Received\",MIN(AK$42*$B70,(-AK$14-AK$59-AK$69-AK$79)*$B70),MIN((-AK$14-AK$59-AK$69-AK$79)*$B70,(AK$42+IF($B$59<>AK$31,SUM($C$33:AK$35),0))*$B70)))","v":0},{"$f":"IF((-AL$14-AL$59-AL$69-AL$79)<=0,0,IF($B$14=\"As Received\",MIN(AL$42*$B70,(-AL$14-AL$59-AL$69-AL$79)*$B70),MIN((-AL$14-AL$59-AL$69-AL$79)*$B70,(AL$42+IF($B$59<>AL$31,SUM($C$33:AL$35),0))*$B70)))","v":0},{"$f":"IF((-AM$14-AM$59-AM$69-AM$79)<=0,0,IF($B$14=\"As Received\",MIN(AM$42*$B70,(-AM$14-AM$59-AM$69-AM$79)*$B70),MIN((-AM$14-AM$59-AM$69-AM$79)*$B70,(AM$42+IF($B$59<>AM$31,SUM($C$33:AM$35),0))*$B70)))","v":2.0809238776564598E-13},{"$f":"IF((-AN$14-AN$59-AN$69-AN$79)<=0,0,IF($B$14=\"As Received\",MIN(AN$42*$B70,(-AN$14-AN$59-AN$69-AN$79)*$B70),MIN((-AN$14-AN$59-AN$69-AN$79)*$B70,(AN$42+IF($B$59<>AN$31,SUM($C$33:AN$35),0))*$B70)))","v":2.0809238776564598E-13},{"$f":"IF((-AO$14-AO$59-AO$69-AO$79)<=0,0,IF($B$14=\"As Received\",MIN(AO$42*$B70,(-AO$14-AO$59-AO$69-AO$79)*$B70),MIN((-AO$14-AO$59-AO$69-AO$79)*$B70,(AO$42+IF($B$59<>AO$31,SUM($C$33:AO$35),0))*$B70)))","v":2.0809238776564598E-13},{"$f":"IF((-AP$14-AP$59-AP$69-AP$79)<=0,0,IF($B$14=\"As Received\",MIN(AP$42*$B70,(-AP$14-AP$59-AP$69-AP$79)*$B70),MIN((-AP$14-AP$59-AP$69-AP$79)*$B70,(AP$42+IF($B$59<>AP$31,SUM($C$33:AP$35),0))*$B70)))","v":2.0809238776564598E-13},{"$f":"IF((-AQ$14-AQ$59-AQ$69-AQ$79)<=0,0,IF($B$14=\"As Received\",MIN(AQ$42*$B70,(-AQ$14-AQ$59-AQ$69-AQ$79)*$B70),MIN((-AQ$14-AQ$59-AQ$69-AQ$79)*$B70,(AQ$42+IF($B$59<>AQ$31,SUM($C$33:AQ$35),0))*$B70)))","v":2.0809238776564598E-13},{"$f":"IF((-AR$14-AR$59-AR$69-AR$79)<=0,0,IF($B$14=\"As Received\",MIN(AR$42*$B70,(-AR$14-AR$59-AR$69-AR$79)*$B70),MIN((-AR$14-AR$59-AR$69-AR$79)*$B70,(AR$42+IF($B$59<>AR$31,SUM($C$33:AR$35),0))*$B70)))","v":2.0809238776564598E-13},{"$f":"IF((-AS$14-AS$59-AS$69-AS$79)<=0,0,IF($B$14=\"As Received\",MIN(AS$42*$B70,(-AS$14-AS$59-AS$69-AS$79)*$B70),MIN((-AS$14-AS$59-AS$69-AS$79)*$B70,(AS$42+IF($B$59<>AS$31,SUM($C$33:AS$35),0))*$B70)))","v":2.0809238776564598E-13},{"$f":"IF((-AT$14-AT$59-AT$69-AT$79)<=0,0,IF($B$14=\"As Received\",MIN(AT$42*$B70,(-AT$14-AT$59-AT$69-AT$79)*$B70),MIN((-AT$14-AT$59-AT$69-AT$79)*$B70,(AT$42+IF($B$59<>AT$31,SUM($C$33:AT$35),0))*$B70)))","v":2.0809238776564598E-13},{"$f":"IF((-AU$14-AU$59-AU$69-AU$79)<=0,0,IF($B$14=\"As Received\",MIN(AU$42*$B70,(-AU$14-AU$59-AU$69-AU$79)*$B70),MIN((-AU$14-AU$59-AU$69-AU$79)*$B70,(AU$42+IF($B$59<>AU$31,SUM($C$33:AU$35),0))*$B70)))","v":2.0809238776564598E-13},{"$f":"IF((-AV$14-AV$59-AV$69-AV$79)<=0,0,IF($B$14=\"As Received\",MIN(AV$42*$B70,(-AV$14-AV$59-AV$69-AV$79)*$B70),MIN((-AV$14-AV$59-AV$69-AV$79)*$B70,(AV$42+IF($B$59<>AV$31,SUM($C$33:AV$35),0))*$B70)))","v":2.0809238776564598E-13},{"$f":"IF((-AW$14-AW$59-AW$69-AW$79)<=0,0,IF($B$14=\"As Received\",MIN(AW$42*$B70,(-AW$14-AW$59-AW$69-AW$79)*$B70),MIN((-AW$14-AW$59-AW$69-AW$79)*$B70,(AW$42+IF($B$59<>AW$31,SUM($C$33:AW$35),0))*$B70)))","v":2.0809238776564598E-13},{"$f":"IF((-AX$14-AX$59-AX$69-AX$79)<=0,0,IF($B$14=\"As Received\",MIN(AX$42*$B70,(-AX$14-AX$59-AX$69-AX$79)*$B70),MIN((-AX$14-AX$59-AX$69-AX$79)*$B70,(AX$42+IF($B$59<>AX$31,SUM($C$33:AX$35),0))*$B70)))","v":2.0809238776564598E-13},{"$f":"IF((-AY$14-AY$59-AY$69-AY$79)<=0,0,IF($B$14=\"As Received\",MIN(AY$42*$B70,(-AY$14-AY$59-AY$69-AY$79)*$B70),MIN((-AY$14-AY$59-AY$69-AY$79)*$B70,(AY$42+IF($B$59<>AY$31,SUM($C$33:AY$35),0))*$B70)))","v":2.0809238776564598E-13},{"$f":"IF((-AZ$14-AZ$59-AZ$69-AZ$79)<=0,0,IF($B$14=\"As Received\",MIN(AZ$42*$B70,(-AZ$14-AZ$59-AZ$69-AZ$79)*$B70),MIN((-AZ$14-AZ$59-AZ$69-AZ$79)*$B70,(AZ$42+IF($B$59<>AZ$31,SUM($C$33:AZ$35),0))*$B70)))","v":0},{"$f":"IF((-BA$14-BA$59-BA$69-BA$79)<=0,0,IF($B$14=\"As Received\",MIN(BA$42*$B70,(-BA$14-BA$59-BA$69-BA$79)*$B70),MIN((-BA$14-BA$59-BA$69-BA$79)*$B70,(BA$42+IF($B$59<>BA$31,SUM($C$33:BA$35),0))*$B70)))","v":0},{"$f":"IF((-BB$14-BB$59-BB$69-BB$79)<=0,0,IF($B$14=\"As Received\",MIN(BB$42*$B70,(-BB$14-BB$59-BB$69-BB$79)*$B70),MIN((-BB$14-BB$59-BB$69-BB$79)*$B70,(BB$42+IF($B$59<>BB$31,SUM($C$33:BB$35),0))*$B70)))","v":0},{"$f":"IF((-BC$14-BC$59-BC$69-BC$79)<=0,0,IF($B$14=\"As Received\",MIN(BC$42*$B70,(-BC$14-BC$59-BC$69-BC$79)*$B70),MIN((-BC$14-BC$59-BC$69-BC$79)*$B70,(BC$42+IF($B$59<>BC$31,SUM($C$33:BC$35),0))*$B70)))","v":0},{"$f":"IF((-BD$14-BD$59-BD$69-BD$79)<=0,0,IF($B$14=\"As Received\",MIN(BD$42*$B70,(-BD$14-BD$59-BD$69-BD$79)*$B70),MIN((-BD$14-BD$59-BD$69-BD$79)*$B70,(BD$42+IF($B$59<>BD$31,SUM($C$33:BD$35),0))*$B70)))","v":0},{"$f":"IF((-BE$14-BE$59-BE$69-BE$79)<=0,0,IF($B$14=\"As Received\",MIN(BE$42*$B70,(-BE$14-BE$59-BE$69-BE$79)*$B70),MIN((-BE$14-BE$59-BE$69-BE$79)*$B70,(BE$42+IF($B$59<>BE$31,SUM($C$33:BE$35),0))*$B70)))","v":0},{"$f":"IF((-BF$14-BF$59-BF$69-BF$79)<=0,0,IF($B$14=\"As Received\",MIN(BF$42*$B70,(-BF$14-BF$59-BF$69-BF$79)*$B70),MIN((-BF$14-BF$59-BF$69-BF$79)*$B70,(BF$42+IF($B$59<>BF$31,SUM($C$33:BF$35),0))*$B70)))","v":0},{"$f":"IF((-BG$14-BG$59-BG$69-BG$79)<=0,0,IF($B$14=\"As Received\",MIN(BG$42*$B70,(-BG$14-BG$59-BG$69-BG$79)*$B70),MIN((-BG$14-BG$59-BG$69-BG$79)*$B70,(BG$42+IF($B$59<>BG$31,SUM($C$33:BG$35),0))*$B70)))","v":0},{"$f":"IF((-BH$14-BH$59-BH$69-BH$79)<=0,0,IF($B$14=\"As Received\",MIN(BH$42*$B70,(-BH$14-BH$59-BH$69-BH$79)*$B70),MIN((-BH$14-BH$59-BH$69-BH$79)*$B70,(BH$42+IF($B$59<>BH$31,SUM($C$33:BH$35),0))*$B70)))","v":0},{"$f":"IF((-BI$14-BI$59-BI$69-BI$79)<=0,0,IF($B$14=\"As Received\",MIN(BI$42*$B70,(-BI$14-BI$59-BI$69-BI$79)*$B70),MIN((-BI$14-BI$59-BI$69-BI$79)*$B70,(BI$42+IF($B$59<>BI$31,SUM($C$33:BI$35),0))*$B70)))","v":0},{"$f":"IF((-BJ$14-BJ$59-BJ$69-BJ$79)<=0,0,IF($B$14=\"As Received\",MIN(BJ$42*$B70,(-BJ$14-BJ$59-BJ$69-BJ$79)*$B70),MIN((-BJ$14-BJ$59-BJ$69-BJ$79)*$B70,(BJ$42+IF($B$59<>BJ$31,SUM($C$33:BJ$35),0))*$B70)))","v":0},{"$f":"IF((-BK$14-BK$59-BK$69-BK$79)<=0,0,IF($B$14=\"As Received\",MIN(BK$42*$B70,(-BK$14-BK$59-BK$69-BK$79)*$B70),MIN((-BK$14-BK$59-BK$69-BK$79)*$B70,(BK$42+IF($B$59<>BK$31,SUM($C$33:BK$35),0))*$B70)))","v":0},{"$f":"IF((-BL$14-BL$59-BL$69-BL$79)<=0,0,IF($B$14=\"As Received\",MIN(BL$42*$B70,(-BL$14-BL$59-BL$69-BL$79)*$B70),MIN((-BL$14-BL$59-BL$69-BL$79)*$B70,(BL$42+IF($B$59<>BL$31,SUM($C$33:BL$35),0))*$B70)))","v":0},{"$f":"IF((-BM$14-BM$59-BM$69-BM$79)<=0,0,IF($B$14=\"As Received\",MIN(BM$42*$B70,(-BM$14-BM$59-BM$69-BM$79)*$B70),MIN((-BM$14-BM$59-BM$69-BM$79)*$B70,(BM$42+IF($B$59<>BM$31,SUM($C$33:BM$35),0))*$B70)))","v":0},{"$f":"IF((-BN$14-BN$59-BN$69-BN$79)<=0,0,IF($B$14=\"As Received\",MIN(BN$42*$B70,(-BN$14-BN$59-BN$69-BN$79)*$B70),MIN((-BN$14-BN$59-BN$69-BN$79)*$B70,(BN$42+IF($B$59<>BN$31,SUM($C$33:BN$35),0))*$B70)))","v":0},{"$f":"IF((-BO$14-BO$59-BO$69-BO$79)<=0,0,IF($B$14=\"As Received\",MIN(BO$42*$B70,(-BO$14-BO$59-BO$69-BO$79)*$B70),MIN((-BO$14-BO$59-BO$69-BO$79)*$B70,(BO$42+IF($B$59<>BO$31,SUM($C$33:BO$35),0))*$B70)))","v":0},{"$f":"IF((-BP$14-BP$59-BP$69-BP$79)<=0,0,IF($B$14=\"As Received\",MIN(BP$42*$B70,(-BP$14-BP$59-BP$69-BP$79)*$B70),MIN((-BP$14-BP$59-BP$69-BP$79)*$B70,(BP$42+IF($B$59<>BP$31,SUM($C$33:BP$35),0))*$B70)))","v":0},{"$f":"IF((-BQ$14-BQ$59-BQ$69-BQ$79)<=0,0,IF($B$14=\"As Received\",MIN(BQ$42*$B70,(-BQ$14-BQ$59-BQ$69-BQ$79)*$B70),MIN((-BQ$14-BQ$59-BQ$69-BQ$79)*$B70,(BQ$42+IF($B$59<>BQ$31,SUM($C$33:BQ$35),0))*$B70)))","v":0},{"$f":"IF((-BR$14-BR$59-BR$69-BR$79)<=0,0,IF($B$14=\"As Received\",MIN(BR$42*$B70,(-BR$14-BR$59-BR$69-BR$79)*$B70),MIN((-BR$14-BR$59-BR$69-BR$79)*$B70,(BR$42+IF($B$59<>BR$31,SUM($C$33:BR$35),0))*$B70)))","v":0},{"$f":"IF((-BS$14-BS$59-BS$69-BS$79)<=0,0,IF($B$14=\"As Received\",MIN(BS$42*$B70,(-BS$14-BS$59-BS$69-BS$79)*$B70),MIN((-BS$14-BS$59-BS$69-BS$79)*$B70,(BS$42+IF($B$59<>BS$31,SUM($C$33:BS$35),0))*$B70)))","v":0},{"$f":"IF((-BT$14-BT$59-BT$69-BT$79)<=0,0,IF($B$14=\"As Received\",MIN(BT$42*$B70,(-BT$14-BT$59-BT$69-BT$79)*$B70),MIN((-BT$14-BT$59-BT$69-BT$79)*$B70,(BT$42+IF($B$59<>BT$31,SUM($C$33:BT$35),0))*$B70)))","v":0},{"$f":"IF((-BU$14-BU$59-BU$69-BU$79)<=0,0,IF($B$14=\"As Received\",MIN(BU$42*$B70,(-BU$14-BU$59-BU$69-BU$79)*$B70),MIN((-BU$14-BU$59-BU$69-BU$79)*$B70,(BU$42+IF($B$59<>BU$31,SUM($C$33:BU$35),0))*$B70)))","v":0},{"$f":"IF((-BV$14-BV$59-BV$69-BV$79)<=0,0,IF($B$14=\"As Received\",MIN(BV$42*$B70,(-BV$14-BV$59-BV$69-BV$79)*$B70),MIN((-BV$14-BV$59-BV$69-BV$79)*$B70,(BV$42+IF($B$59<>BV$31,SUM($C$33:BV$35),0))*$B70)))","v":0},{"$f":"IF((-BW$14-BW$59-BW$69-BW$79)<=0,0,IF($B$14=\"As Received\",MIN(BW$42*$B70,(-BW$14-BW$59-BW$69-BW$79)*$B70),MIN((-BW$14-BW$59-BW$69-BW$79)*$B70,(BW$42+IF($B$59<>BW$31,SUM($C$33:BW$35),0))*$B70)))","v":0},{"$f":"IF((-BX$14-BX$59-BX$69-BX$79)<=0,0,IF($B$14=\"As Received\",MIN(BX$42*$B70,(-BX$14-BX$59-BX$69-BX$79)*$B70),MIN((-BX$14-BX$59-BX$69-BX$79)*$B70,(BX$42+IF($B$59<>BX$31,SUM($C$33:BX$35),0))*$B70)))","v":0},{"$f":"IF((-BY$14-BY$59-BY$69-BY$79)<=0,0,IF($B$14=\"As Received\",MIN(BY$42*$B70,(-BY$14-BY$59-BY$69-BY$79)*$B70),MIN((-BY$14-BY$59-BY$69-BY$79)*$B70,(BY$42+IF($B$59<>BY$31,SUM($C$33:BY$35),0))*$B70)))","v":0},{"$f":"IF((-BZ$14-BZ$59-BZ$69-BZ$79)<=0,0,IF($B$14=\"As Received\",MIN(BZ$42*$B70,(-BZ$14-BZ$59-BZ$69-BZ$79)*$B70),MIN((-BZ$14-BZ$59-BZ$69-BZ$79)*$B70,(BZ$42+IF($B$59<>BZ$31,SUM($C$33:BZ$35),0))*$B70)))","v":0},{"$f":"IF((-CA$14-CA$59-CA$69-CA$79)<=0,0,IF($B$14=\"As Received\",MIN(CA$42*$B70,(-CA$14-CA$59-CA$69-CA$79)*$B70),MIN((-CA$14-CA$59-CA$69-CA$79)*$B70,(CA$42+IF($B$59<>CA$31,SUM($C$33:CA$35),0))*$B70)))","v":0},{"$f":"IF((-CB$14-CB$59-CB$69-CB$79)<=0,0,IF($B$14=\"As Received\",MIN(CB$42*$B70,(-CB$14-CB$59-CB$69-CB$79)*$B70),MIN((-CB$14-CB$59-CB$69-CB$79)*$B70,(CB$42+IF($B$59<>CB$31,SUM($C$33:CB$35),0))*$B70)))","v":0},{"$f":"IF((-CC$14-CC$59-CC$69-CC$79)<=0,0,IF($B$14=\"As Received\",MIN(CC$42*$B70,(-CC$14-CC$59-CC$69-CC$79)*$B70),MIN((-CC$14-CC$59-CC$69-CC$79)*$B70,(CC$42+IF($B$59<>CC$31,SUM($C$33:CC$35),0))*$B70)))","v":0},{"$f":"IF((-CD$14-CD$59-CD$69-CD$79)<=0,0,IF($B$14=\"As Received\",MIN(CD$42*$B70,(-CD$14-CD$59-CD$69-CD$79)*$B70),MIN((-CD$14-CD$59-CD$69-CD$79)*$B70,(CD$42+IF($B$59<>CD$31,SUM($C$33:CD$35),0))*$B70)))","v":0},{"$f":"IF((-CE$14-CE$59-CE$69-CE$79)<=0,0,IF($B$14=\"As Received\",MIN(CE$42*$B70,(-CE$14-CE$59-CE$69-CE$79)*$B70),MIN((-CE$14-CE$59-CE$69-CE$79)*$B70,(CE$42+IF($B$59<>CE$31,SUM($C$33:CE$35),0))*$B70)))","v":0},{"$f":"IF((-CF$14-CF$59-CF$69-CF$79)<=0,0,IF($B$14=\"As Received\",MIN(CF$42*$B70,(-CF$14-CF$59-CF$69-CF$79)*$B70),MIN((-CF$14-CF$59-CF$69-CF$79)*$B70,(CF$42+IF($B$59<>CF$31,SUM($C$33:CF$35),0))*$B70)))","v":0},{"$f":"IF((-CG$14-CG$59-CG$69-CG$79)<=0,0,IF($B$14=\"As Received\",MIN(CG$42*$B70,(-CG$14-CG$59-CG$69-CG$79)*$B70),MIN((-CG$14-CG$59-CG$69-CG$79)*$B70,(CG$42+IF($B$59<>CG$31,SUM($C$33:CG$35),0))*$B70)))","v":0},{"$f":"IF((-CH$14-CH$59-CH$69-CH$79)<=0,0,IF($B$14=\"As Received\",MIN(CH$42*$B70,(-CH$14-CH$59-CH$69-CH$79)*$B70),MIN((-CH$14-CH$59-CH$69-CH$79)*$B70,(CH$42+IF($B$59<>CH$31,SUM($C$33:CH$35),0))*$B70)))","v":0},{"$f":"IF((-CI$14-CI$59-CI$69-CI$79)<=0,0,IF($B$14=\"As Received\",MIN(CI$42*$B70,(-CI$14-CI$59-CI$69-CI$79)*$B70),MIN((-CI$14-CI$59-CI$69-CI$79)*$B70,(CI$42+IF($B$59<>CI$31,SUM($C$33:CI$35),0))*$B70)))","v":0},{"$f":"IF((-CJ$14-CJ$59-CJ$69-CJ$79)<=0,0,IF($B$14=\"As Received\",MIN(CJ$42*$B70,(-CJ$14-CJ$59-CJ$69-CJ$79)*$B70),MIN((-CJ$14-CJ$59-CJ$69-CJ$79)*$B70,(CJ$42+IF($B$59<>CJ$31,SUM($C$33:CJ$35),0))*$B70)))","v":0},{"$f":"IF((-CK$14-CK$59-CK$69-CK$79)<=0,0,IF($B$14=\"As Received\",MIN(CK$42*$B70,(-CK$14-CK$59-CK$69-CK$79)*$B70),MIN((-CK$14-CK$59-CK$69-CK$79)*$B70,(CK$42+IF($B$59<>CK$31,SUM($C$33:CK$35),0))*$B70)))","v":0},{"$f":"IF((-CL$14-CL$59-CL$69-CL$79)<=0,0,IF($B$14=\"As Received\",MIN(CL$42*$B70,(-CL$14-CL$59-CL$69-CL$79)*$B70),MIN((-CL$14-CL$59-CL$69-CL$79)*$B70,(CL$42+IF($B$59<>CL$31,SUM($C$33:CL$35),0))*$B70)))","v":0},{"$f":"IF((-CM$14-CM$59-CM$69-CM$79)<=0,0,IF($B$14=\"As Received\",MIN(CM$42*$B70,(-CM$14-CM$59-CM$69-CM$79)*$B70),MIN((-CM$14-CM$59-CM$69-CM$79)*$B70,(CM$42+IF($B$59<>CM$31,SUM($C$33:CM$35),0))*$B70)))","v":0},{"$f":"IF((-CN$14-CN$59-CN$69-CN$79)<=0,0,IF($B$14=\"As Received\",MIN(CN$42*$B70,(-CN$14-CN$59-CN$69-CN$79)*$B70),MIN((-CN$14-CN$59-CN$69-CN$79)*$B70,(CN$42+IF($B$59<>CN$31,SUM($C$33:CN$35),0))*$B70)))","v":0},{"$f":"IF((-CO$14-CO$59-CO$69-CO$79)<=0,0,IF($B$14=\"As Received\",MIN(CO$42*$B70,(-CO$14-CO$59-CO$69-CO$79)*$B70),MIN((-CO$14-CO$59-CO$69-CO$79)*$B70,(CO$42+IF($B$59<>CO$31,SUM($C$33:CO$35),0))*$B70)))","v":0},{"$f":"IF((-CP$14-CP$59-CP$69-CP$79)<=0,0,IF($B$14=\"As Received\",MIN(CP$42*$B70,(-CP$14-CP$59-CP$69-CP$79)*$B70),MIN((-CP$14-CP$59-CP$69-CP$79)*$B70,(CP$42+IF($B$59<>CP$31,SUM($C$33:CP$35),0))*$B70)))","v":0},{"$f":"IF((-CQ$14-CQ$59-CQ$69-CQ$79)<=0,0,IF($B$14=\"As Received\",MIN(CQ$42*$B70,(-CQ$14-CQ$59-CQ$69-CQ$79)*$B70),MIN((-CQ$14-CQ$59-CQ$69-CQ$79)*$B70,(CQ$42+IF($B$59<>CQ$31,SUM($C$33:CQ$35),0))*$B70)))","v":0},{"$f":"IF((-CR$14-CR$59-CR$69-CR$79)<=0,0,IF($B$14=\"As Received\",MIN(CR$42*$B70,(-CR$14-CR$59-CR$69-CR$79)*$B70),MIN((-CR$14-CR$59-CR$69-CR$79)*$B70,(CR$42+IF($B$59<>CR$31,SUM($C$33:CR$35),0))*$B70)))","v":0},{"$f":"IF((-CS$14-CS$59-CS$69-CS$79)<=0,0,IF($B$14=\"As Received\",MIN(CS$42*$B70,(-CS$14-CS$59-CS$69-CS$79)*$B70),MIN((-CS$14-CS$59-CS$69-CS$79)*$B70,(CS$42+IF($B$59<>CS$31,SUM($C$33:CS$35),0))*$B70)))","v":0},{"$f":"IF((-CT$14-CT$59-CT$69-CT$79)<=0,0,IF($B$14=\"As Received\",MIN(CT$42*$B70,(-CT$14-CT$59-CT$69-CT$79)*$B70),MIN((-CT$14-CT$59-CT$69-CT$79)*$B70,(CT$42+IF($B$59<>CT$31,SUM($C$33:CT$35),0))*$B70)))","v":0},{"$f":"IF((-CU$14-CU$59-CU$69-CU$79)<=0,0,IF($B$14=\"As Received\",MIN(CU$42*$B70,(-CU$14-CU$59-CU$69-CU$79)*$B70),MIN((-CU$14-CU$59-CU$69-CU$79)*$B70,(CU$42+IF($B$59<>CU$31,SUM($C$33:CU$35),0))*$B70)))","v":0},{"$f":"IF((-CV$14-CV$59-CV$69-CV$79)<=0,0,IF($B$14=\"As Received\",MIN(CV$42*$B70,(-CV$14-CV$59-CV$69-CV$79)*$B70),MIN((-CV$14-CV$59-CV$69-CV$79)*$B70,(CV$42+IF($B$59<>CV$31,SUM($C$33:CV$35),0))*$B70)))","v":0},{"$f":"IF((-CW$14-CW$59-CW$69-CW$79)<=0,0,IF($B$14=\"As Received\",MIN(CW$42*$B70,(-CW$14-CW$59-CW$69-CW$79)*$B70),MIN((-CW$14-CW$59-CW$69-CW$79)*$B70,(CW$42+IF($B$59<>CW$31,SUM($C$33:CW$35),0))*$B70)))","v":0},{"$f":"IF((-CX$14-CX$59-CX$69-CX$79)<=0,0,IF($B$14=\"As Received\",MIN(CX$42*$B70,(-CX$14-CX$59-CX$69-CX$79)*$B70),MIN((-CX$14-CX$59-CX$69-CX$79)*$B70,(CX$42+IF($B$59<>CX$31,SUM($C$33:CX$35),0))*$B70)))","v":0},{"$f":"IF((-CY$14-CY$59-CY$69-CY$79)<=0,0,IF($B$14=\"As Received\",MIN(CY$42*$B70,(-CY$14-CY$59-CY$69-CY$79)*$B70),MIN((-CY$14-CY$59-CY$69-CY$79)*$B70,(CY$42+IF($B$59<>CY$31,SUM($C$33:CY$35),0))*$B70)))","v":0},{"$f":"IF((-CZ$14-CZ$59-CZ$69-CZ$79)<=0,0,IF($B$14=\"As Received\",MIN(CZ$42*$B70,(-CZ$14-CZ$59-CZ$69-CZ$79)*$B70),MIN((-CZ$14-CZ$59-CZ$69-CZ$79)*$B70,(CZ$42+IF($B$59<>CZ$31,SUM($C$33:CZ$35),0))*$B70)))","v":0},{"$f":"IF((-DA$14-DA$59-DA$69-DA$79)<=0,0,IF($B$14=\"As Received\",MIN(DA$42*$B70,(-DA$14-DA$59-DA$69-DA$79)*$B70),MIN((-DA$14-DA$59-DA$69-DA$79)*$B70,(DA$42+IF($B$59<>DA$31,SUM($C$33:DA$35),0))*$B70)))","v":0},{"$f":"IF((-DB$14-DB$59-DB$69-DB$79)<=0,0,IF($B$14=\"As Received\",MIN(DB$42*$B70,(-DB$14-DB$59-DB$69-DB$79)*$B70),MIN((-DB$14-DB$59-DB$69-DB$79)*$B70,(DB$42+IF($B$59<>DB$31,SUM($C$33:DB$35),0))*$B70)))","v":0},{"$f":"IF((-DC$14-DC$59-DC$69-DC$79)<=0,0,IF($B$14=\"As Received\",MIN(DC$42*$B70,(-DC$14-DC$59-DC$69-DC$79)*$B70),MIN((-DC$14-DC$59-DC$69-DC$79)*$B70,(DC$42+IF($B$59<>DC$31,SUM($C$33:DC$35),0))*$B70)))","v":0},{"$f":"IF((-DD$14-DD$59-DD$69-DD$79)<=0,0,IF($B$14=\"As Received\",MIN(DD$42*$B70,(-DD$14-DD$59-DD$69-DD$79)*$B70),MIN((-DD$14-DD$59-DD$69-DD$79)*$B70,(DD$42+IF($B$59<>DD$31,SUM($C$33:DD$35),0))*$B70)))","v":0},{"$f":"IF((-DE$14-DE$59-DE$69-DE$79)<=0,0,IF($B$14=\"As Received\",MIN(DE$42*$B70,(-DE$14-DE$59-DE$69-DE$79)*$B70),MIN((-DE$14-DE$59-DE$69-DE$79)*$B70,(DE$42+IF($B$59<>DE$31,SUM($C$33:DE$35),0))*$B70)))","v":0},{"$f":"IF((-DF$14-DF$59-DF$69-DF$79)<=0,0,IF($B$14=\"As Received\",MIN(DF$42*$B70,(-DF$14-DF$59-DF$69-DF$79)*$B70),MIN((-DF$14-DF$59-DF$69-DF$79)*$B70,(DF$42+IF($B$59<>DF$31,SUM($C$33:DF$35),0))*$B70)))","v":0},{"$f":"IF((-DG$14-DG$59-DG$69-DG$79)<=0,0,IF($B$14=\"As Received\",MIN(DG$42*$B70,(-DG$14-DG$59-DG$69-DG$79)*$B70),MIN((-DG$14-DG$59-DG$69-DG$79)*$B70,(DG$42+IF($B$59<>DG$31,SUM($C$33:DG$35),0))*$B70)))","v":0},{"$f":"IF((-DH$14-DH$59-DH$69-DH$79)<=0,0,IF($B$14=\"As Received\",MIN(DH$42*$B70,(-DH$14-DH$59-DH$69-DH$79)*$B70),MIN((-DH$14-DH$59-DH$69-DH$79)*$B70,(DH$42+IF($B$59<>DH$31,SUM($C$33:DH$35),0))*$B70)))","v":0},{"$f":"IF((-DI$14-DI$59-DI$69-DI$79)<=0,0,IF($B$14=\"As Received\",MIN(DI$42*$B70,(-DI$14-DI$59-DI$69-DI$79)*$B70),MIN((-DI$14-DI$59-DI$69-DI$79)*$B70,(DI$42+IF($B$59<>DI$31,SUM($C$33:DI$35),0))*$B70)))","v":0},{"$f":"IF((-DJ$14-DJ$59-DJ$69-DJ$79)<=0,0,IF($B$14=\"As Received\",MIN(DJ$42*$B70,(-DJ$14-DJ$59-DJ$69-DJ$79)*$B70),MIN((-DJ$14-DJ$59-DJ$69-DJ$79)*$B70,(DJ$42+IF($B$59<>DJ$31,SUM($C$33:DJ$35),0))*$B70)))","v":0},{"$f":"IF((-DK$14-DK$59-DK$69-DK$79)<=0,0,IF($B$14=\"As Received\",MIN(DK$42*$B70,(-DK$14-DK$59-DK$69-DK$79)*$B70),MIN((-DK$14-DK$59-DK$69-DK$79)*$B70,(DK$42+IF($B$59<>DK$31,SUM($C$33:DK$35),0))*$B70)))","v":0},{"$f":"IF((-DL$14-DL$59-DL$69-DL$79)<=0,0,IF($B$14=\"As Received\",MIN(DL$42*$B70,(-DL$14-DL$59-DL$69-DL$79)*$B70),MIN((-DL$14-DL$59-DL$69-DL$79)*$B70,(DL$42+IF($B$59<>DL$31,SUM($C$33:DL$35),0))*$B70)))","v":0},{"$f":"IF((-DM$14-DM$59-DM$69-DM$79)<=0,0,IF($B$14=\"As Received\",MIN(DM$42*$B70,(-DM$14-DM$59-DM$69-DM$79)*$B70),MIN((-DM$14-DM$59-DM$69-DM$79)*$B70,(DM$42+IF($B$59<>DM$31,SUM($C$33:DM$35),0))*$B70)))","v":0},{"$f":"IF((-DN$14-DN$59-DN$69-DN$79)<=0,0,IF($B$14=\"As Received\",MIN(DN$42*$B70,(-DN$14-DN$59-DN$69-DN$79)*$B70),MIN((-DN$14-DN$59-DN$69-DN$79)*$B70,(DN$42+IF($B$59<>DN$31,SUM($C$33:DN$35),0))*$B70)))","v":0},{"$f":"IF((-DO$14-DO$59-DO$69-DO$79)<=0,0,IF($B$14=\"As Received\",MIN(DO$42*$B70,(-DO$14-DO$59-DO$69-DO$79)*$B70),MIN((-DO$14-DO$59-DO$69-DO$79)*$B70,(DO$42+IF($B$59<>DO$31,SUM($C$33:DO$35),0))*$B70)))","v":0},{"$f":"IF((-DP$14-DP$59-DP$69-DP$79)<=0,0,IF($B$14=\"As Received\",MIN(DP$42*$B70,(-DP$14-DP$59-DP$69-DP$79)*$B70),MIN((-DP$14-DP$59-DP$69-DP$79)*$B70,(DP$42+IF($B$59<>DP$31,SUM($C$33:DP$35),0))*$B70)))","v":0},{"$f":"IF((-DQ$14-DQ$59-DQ$69-DQ$79)<=0,0,IF($B$14=\"As Received\",MIN(DQ$42*$B70,(-DQ$14-DQ$59-DQ$69-DQ$79)*$B70),MIN((-DQ$14-DQ$59-DQ$69-DQ$79)*$B70,(DQ$42+IF($B$59<>DQ$31,SUM($C$33:DQ$35),0))*$B70)))","v":0},{"$f":"IF((-DR$14-DR$59-DR$69-DR$79)<=0,0,IF($B$14=\"As Received\",MIN(DR$42*$B70,(-DR$14-DR$59-DR$69-DR$79)*$B70),MIN((-DR$14-DR$59-DR$69-DR$79)*$B70,(DR$42+IF($B$59<>DR$31,SUM($C$33:DR$35),0))*$B70)))","v":0},{"$f":"IF((-DS$14-DS$59-DS$69-DS$79)<=0,0,IF($B$14=\"As Received\",MIN(DS$42*$B70,(-DS$14-DS$59-DS$69-DS$79)*$B70),MIN((-DS$14-DS$59-DS$69-DS$79)*$B70,(DS$42+IF($B$59<>DS$31,SUM($C$33:DS$35),0))*$B70)))","v":0}]
["Tier 2 Preferred Return",{"$f":"E27","v":0.1144},{"$f":"IF((-C$14-C$59-C$69-C$79-C$60-C$70-C$80)<=0,0,IF($B$14=\"As Received\",MIN(C$48*$B71,(-C$14-C$59-C$69-C$79-C$60-C$70-C$80)*$B71),MIN((-C$14-C$59-C$69-C$79-C$60-C$70-C$80)*$B71,(C$48+IF($B$59<>C$31,SUM($C$33:C$35),0))*$B71)))","v":0},{"$f":"IF((-D$14-D$59-D$69-D$79-D$60-D$70-D$80)<=0,0,IF($B$14=\"As Received\",MIN(D$48*$B71,(-D$14-D$59-D$69-D$79-D$60-D$70-D$80)*$B71),MIN((-D$14-D$59-D$69-D$79-D$60-D$70-D$80)*$B71,(D$48+IF($B$59<>D$31,SUM($C$33:D$35),0))*$B71)))","v":0},{"$f":"IF((-E$14-E$59-E$69-E$79-E$60-E$70-E$80)<=0,0,IF($B$14=\"As Received\",MIN(E$48*$B71,(-E$14-E$59-E$69-E$79-E$60-E$70-E$80)*$B71),MIN((-E$14-E$59-E$69-E$79-E$60-E$70-E$80)*$B71,(E$48+IF($B$59<>E$31,SUM($C$33:E$35),0))*$B71)))","v":0},{"$f":"IF((-F$14-F$59-F$69-F$79-F$60-F$70-F$80)<=0,0,IF($B$14=\"As Received\",MIN(F$48*$B71,(-F$14-F$59-F$69-F$79-F$60-F$70-F$80)*$B71),MIN((-F$14-F$59-F$69-F$79-F$60-F$70-F$80)*$B71,(F$48+IF($B$59<>F$31,SUM($C$33:F$35),0))*$B71)))","v":0},{"$f":"IF((-G$14-G$59-G$69-G$79-G$60-G$70-G$80)<=0,0,IF($B$14=\"As Received\",MIN(G$48*$B71,(-G$14-G$59-G$69-G$79-G$60-G$70-G$80)*$B71),MIN((-G$14-G$59-G$69-G$79-G$60-G$70-G$80)*$B71,(G$48+IF($B$59<>G$31,SUM($C$33:G$35),0))*$B71)))","v":0},{"$f":"IF((-H$14-H$59-H$69-H$79-H$60-H$70-H$80)<=0,0,IF($B$14=\"As Received\",MIN(H$48*$B71,(-H$14-H$59-H$69-H$79-H$60-H$70-H$80)*$B71),MIN((-H$14-H$59-H$69-H$79-H$60-H$70-H$80)*$B71,(H$48+IF($B$59<>H$31,SUM($C$33:H$35),0))*$B71)))","v":0},{"$f":"IF((-I$14-I$59-I$69-I$79-I$60-I$70-I$80)<=0,0,IF($B$14=\"As Received\",MIN(I$48*$B71,(-I$14-I$59-I$69-I$79-I$60-I$70-I$80)*$B71),MIN((-I$14-I$59-I$69-I$79-I$60-I$70-I$80)*$B71,(I$48+IF($B$59<>I$31,SUM($C$33:I$35),0))*$B71)))","v":0},{"$f":"IF((-J$14-J$59-J$69-J$79-J$60-J$70-J$80)<=0,0,IF($B$14=\"As Received\",MIN(J$48*$B71,(-J$14-J$59-J$69-J$79-J$60-J$70-J$80)*$B71),MIN((-J$14-J$59-J$69-J$79-J$60-J$70-J$80)*$B71,(J$48+IF($B$59<>J$31,SUM($C$33:J$35),0))*$B71)))","v":0},{"$f":"IF((-K$14-K$59-K$69-K$79-K$60-K$70-K$80)<=0,0,IF($B$14=\"As Received\",MIN(K$48*$B71,(-K$14-K$59-K$69-K$79-K$60-K$70-K$80)*$B71),MIN((-K$14-K$59-K$69-K$79-K$60-K$70-K$80)*$B71,(K$48+IF($B$59<>K$31,SUM($C$33:K$35),0))*$B71)))","v":0},{"$f":"IF((-L$14-L$59-L$69-L$79-L$60-L$70-L$80)<=0,0,IF($B$14=\"As Received\",MIN(L$48*$B71,(-L$14-L$59-L$69-L$79-L$60-L$70-L$80)*$B71),MIN((-L$14-L$59-L$69-L$79-L$60-L$70-L$80)*$B71,(L$48+IF($B$59<>L$31,SUM($C$33:L$35),0))*$B71)))","v":0},{"$f":"IF((-M$14-M$59-M$69-M$79-M$60-M$70-M$80)<=0,0,IF($B$14=\"As Received\",MIN(M$48*$B71,(-M$14-M$59-M$69-M$79-M$60-M$70-M$80)*$B71),MIN((-M$14-M$59-M$69-M$79-M$60-M$70-M$80)*$B71,(M$48+IF($B$59<>M$31,SUM($C$33:M$35),0))*$B71)))","v":0},{"$f":"IF((-N$14-N$59-N$69-N$79-N$60-N$70-N$80)<=0,0,IF($B$14=\"As Received\",MIN(N$48*$B71,(-N$14-N$59-N$69-N$79-N$60-N$70-N$80)*$B71),MIN((-N$14-N$59-N$69-N$79-N$60-N$70-N$80)*$B71,(N$48+IF($B$59<>N$31,SUM($C$33:N$35),0))*$B71)))","v":0},{"$f":"IF((-O$14-O$59-O$69-O$79-O$60-O$70-O$80)<=0,0,IF($B$14=\"As Received\",MIN(O$48*$B71,(-O$14-O$59-O$69-O$79-O$60-O$70-O$80)*$B71),MIN((-O$14-O$59-O$69-O$79-O$60-O$70-O$80)*$B71,(O$48+IF($B$59<>O$31,SUM($C$33:O$35),0))*$B71)))","v":0},{"$f":"IF((-P$14-P$59-P$69-P$79-P$60-P$70-P$80)<=0,0,IF($B$14=\"As Received\",MIN(P$48*$B71,(-P$14-P$59-P$69-P$79-P$60-P$70-P$80)*$B71),MIN((-P$14-P$59-P$69-P$79-P$60-P$70-P$80)*$B71,(P$48+IF($B$59<>P$31,SUM($C$33:P$35),0))*$B71)))","v":0},{"$f":"IF((-Q$14-Q$59-Q$69-Q$79-Q$60-Q$70-Q$80)<=0,0,IF($B$14=\"As Received\",MIN(Q$48*$B71,(-Q$14-Q$59-Q$69-Q$79-Q$60-Q$70-Q$80)*$B71),MIN((-Q$14-Q$59-Q$69-Q$79-Q$60-Q$70-Q$80)*$B71,(Q$48+IF($B$59<>Q$31,SUM($C$33:Q$35),0))*$B71)))","v":0},{"$f":"IF((-R$14-R$59-R$69-R$79-R$60-R$70-R$80)<=0,0,IF($B$14=\"As Received\",MIN(R$48*$B71,(-R$14-R$59-R$69-R$79-R$60-R$70-R$80)*$B71),MIN((-R$14-R$59-R$69-R$79-R$60-R$70-R$80)*$B71,(R$48+IF($B$59<>R$31,SUM($C$33:R$35),0))*$B71)))","v":0},{"$f":"IF((-S$14-S$59-S$69-S$79-S$60-S$70-S$80)<=0,0,IF($B$14=\"As Received\",MIN(S$48*$B71,(-S$14-S$59-S$69-S$79-S$60-S$70-S$80)*$B71),MIN((-S$14-S$59-S$69-S$79-S$60-S$70-S$80)*$B71,(S$48+IF($B$59<>S$31,SUM($C$33:S$35),0))*$B71)))","v":0},{"$f":"IF((-T$14-T$59-T$69-T$79-T$60-T$70-T$80)<=0,0,IF($B$14=\"As Received\",MIN(T$48*$B71,(-T$14-T$59-T$69-T$79-T$60-T$70-T$80)*$B71),MIN((-T$14-T$59-T$69-T$79-T$60-T$70-T$80)*$B71,(T$48+IF($B$59<>T$31,SUM($C$33:T$35),0))*$B71)))","v":0},{"$f":"IF((-U$14-U$59-U$69-U$79-U$60-U$70-U$80)<=0,0,IF($B$14=\"As Received\",MIN(U$48*$B71,(-U$14-U$59-U$69-U$79-U$60-U$70-U$80)*$B71),MIN((-U$14-U$59-U$69-U$79-U$60-U$70-U$80)*$B71,(U$48+IF($B$59<>U$31,SUM($C$33:U$35),0))*$B71)))","v":0},{"$f":"IF((-V$14-V$59-V$69-V$79-V$60-V$70-V$80)<=0,0,IF($B$14=\"As Received\",MIN(V$48*$B71,(-V$14-V$59-V$69-V$79-V$60-V$70-V$80)*$B71),MIN((-V$14-V$59-V$69-V$79-V$60-V$70-V$80)*$B71,(V$48+IF($B$59<>V$31,SUM($C$33:V$35),0))*$B71)))","v":0},{"$f":"IF((-W$14-W$59-W$69-W$79-W$60-W$70-W$80)<=0,0,IF($B$14=\"As Received\",MIN(W$48*$B71,(-W$14-W$59-W$69-W$79-W$60-W$70-W$80)*$B71),MIN((-W$14-W$59-W$69-W$79-W$60-W$70-W$80)*$B71,(W$48+IF($B$59<>W$31,SUM($C$33:W$35),0))*$B71)))","v":0},{"$f":"IF((-X$14-X$59-X$69-X$79-X$60-X$70-X$80)<=0,0,IF($B$14=\"As Received\",MIN(X$48*$B71,(-X$14-X$59-X$69-X$79-X$60-X$70-X$80)*$B71),MIN((-X$14-X$59-X$69-X$79-X$60-X$70-X$80)*$B71,(X$48+IF($B$59<>X$31,SUM($C$33:X$35),0))*$B71)))","v":0},{"$f":"IF((-Y$14-Y$59-Y$69-Y$79-Y$60-Y$70-Y$80)<=0,0,IF($B$14=\"As Received\",MIN(Y$48*$B71,(-Y$14-Y$59-Y$69-Y$79-Y$60-Y$70-Y$80)*$B71),MIN((-Y$14-Y$59-Y$69-Y$79-Y$60-Y$70-Y$80)*$B71,(Y$48+IF($B$59<>Y$31,SUM($C$33:Y$35),0))*$B71)))","v":0},{"$f":"IF((-Z$14-Z$59-Z$69-Z$79-Z$60-Z$70-Z$80)<=0,0,IF($B$14=\"As Received\",MIN(Z$48*$B71,(-Z$14-Z$59-Z$69-Z$79-Z$60-Z$70-Z$80)*$B71),MIN((-Z$14-Z$59-Z$69-Z$79-Z$60-Z$70-Z$80)*$B71,(Z$48+IF($B$59<>Z$31,SUM($C$33:Z$35),0))*$B71)))","v":0},{"$f":"IF((-AA$14-AA$59-AA$69-AA$79-AA$60-AA$70-AA$80)<=0,0,IF($B$14=\"As Received\",MIN(AA$48*$B71,(-AA$14-AA$59-AA$69-AA$79-AA$60-AA$70-AA$80)*$B71),MIN((-AA$14-AA$59-AA$69-AA$79-AA$60-AA$70-AA$80)*$B71,(AA$48+IF($B$59<>AA$31,SUM($C$33:AA$35),0))*$B71)))","v":0},{"$f":"IF((-AB$14-AB$59-AB$69-AB$79-AB$60-AB$70-AB$80)<=0,0,IF($B$14=\"As Received\",MIN(AB$48*$B71,(-AB$14-AB$59-AB$69-AB$79-AB$60-AB$70-AB$80)*$B71),MIN((-AB$14-AB$59-AB$69-AB$79-AB$60-AB$70-AB$80)*$B71,(AB$48+IF($B$59<>AB$31,SUM($C$33:AB$35),0))*$B71)))","v":0},{"$f":"IF((-AC$14-AC$59-AC$69-AC$79-AC$60-AC$70-AC$80)<=0,0,IF($B$14=\"As Received\",MIN(AC$48*$B71,(-AC$14-AC$59-AC$69-AC$79-AC$60-AC$70-AC$80)*$B71),MIN((-AC$14-AC$59-AC$69-AC$79-AC$60-AC$70-AC$80)*$B71,(AC$48+IF($B$59<>AC$31,SUM($C$33:AC$35),0))*$B71)))","v":0},{"$f":"IF((-AD$14-AD$59-AD$69-AD$79-AD$60-AD$70-AD$80)<=0,0,IF($B$14=\"As Received\",MIN(AD$48*$B71,(-AD$14-AD$59-AD$69-AD$79-AD$60-AD$70-AD$80)*$B71),MIN((-AD$14-AD$59-AD$69-AD$79-AD$60-AD$70-AD$80)*$B71,(AD$48+IF($B$59<>AD$31,SUM($C$33:AD$35),0))*$B71)))","v":0},{"$f":"IF((-AE$14-AE$59-AE$69-AE$79-AE$60-AE$70-AE$80)<=0,0,IF($B$14=\"As Received\",MIN(AE$48*$B71,(-AE$14-AE$59-AE$69-AE$79-AE$60-AE$70-AE$80)*$B71),MIN((-AE$14-AE$59-AE$69-AE$79-AE$60-AE$70-AE$80)*$B71,(AE$48+IF($B$59<>AE$31,SUM($C$33:AE$35),0))*$B71)))","v":0},{"$f":"IF((-AF$14-AF$59-AF$69-AF$79-AF$60-AF$70-AF$80)<=0,0,IF($B$14=\"As Received\",MIN(AF$48*$B71,(-AF$14-AF$59-AF$69-AF$79-AF$60-AF$70-AF$80)*$B71),MIN((-AF$14-AF$59-AF$69-AF$79-AF$60-AF$70-AF$80)*$B71,(AF$48+IF($B$59<>AF$31,SUM($C$33:AF$35),0))*$B71)))","v":0},{"$f":"IF((-AG$14-AG$59-AG$69-AG$79-AG$60-AG$70-AG$80)<=0,0,IF($B$14=\"As Received\",MIN(AG$48*$B71,(-AG$14-AG$59-AG$69-AG$79-AG$60-AG$70-AG$80)*$B71),MIN((-AG$14-AG$59-AG$69-AG$79-AG$60-AG$70-AG$80)*$B71,(AG$48+IF($B$59<>AG$31,SUM($C$33:AG$35),0))*$B71)))","v":0},{"$f":"IF((-AH$14-AH$59-AH$69-AH$79-AH$60-AH$70-AH$80)<=0,0,IF($B$14=\"As Received\",MIN(AH$48*$B71,(-AH$14-AH$59-AH$69-AH$79-AH$60-AH$70-AH$80)*$B71),MIN((-AH$14-AH$59-AH$69-AH$79-AH$60-AH$70-AH$80)*$B71,(AH$48+IF($B$59<>AH$31,SUM($C$33:AH$35),0))*$B71)))","v":0},{"$f":"IF((-AI$14-AI$59-AI$69-AI$79-AI$60-AI$70-AI$80)<=0,0,IF($B$14=\"As Received\",MIN(AI$48*$B71,(-AI$14-AI$59-AI$69-AI$79-AI$60-AI$70-AI$80)*$B71),MIN((-AI$14-AI$59-AI$69-AI$79-AI$60-AI$70-AI$80)*$B71,(AI$48+IF($B$59<>AI$31,SUM($C$33:AI$35),0))*$B71)))","v":0},{"$f":"IF((-AJ$14-AJ$59-AJ$69-AJ$79-AJ$60-AJ$70-AJ$80)<=0,0,IF($B$14=\"As Received\",MIN(AJ$48*$B71,(-AJ$14-AJ$59-AJ$69-AJ$79-AJ$60-AJ$70-AJ$80)*$B71),MIN((-AJ$14-AJ$59-AJ$69-AJ$79-AJ$60-AJ$70-AJ$80)*$B71,(AJ$48+IF($B$59<>AJ$31,SUM($C$33:AJ$35),0))*$B71)))","v":0},{"$f":"IF((-AK$14-AK$59-AK$69-AK$79-AK$60-AK$70-AK$80)<=0,0,IF($B$14=\"As Received\",MIN(AK$48*$B71,(-AK$14-AK$59-AK$69-AK$79-AK$60-AK$70-AK$80)*$B71),MIN((-AK$14-AK$59-AK$69-AK$79-AK$60-AK$70-AK$80)*$B71,(AK$48+IF($B$59<>AK$31,SUM($C$33:AK$35),0))*$B71)))","v":0},{"$f":"IF((-AL$14-AL$59-AL$69-AL$79-AL$60-AL$70-AL$80)<=0,0,IF($B$14=\"As Received\",MIN(AL$48*$B71,(-AL$14-AL$59-AL$69-AL$79-AL$60-AL$70-AL$80)*$B71),MIN((-AL$14-AL$59-AL$69-AL$79-AL$60-AL$70-AL$80)*$B71,(AL$48+IF($B$59<>AL$31,SUM($C$33:AL$35),0))*$B71)))","v":0},{"$f":"IF((-AM$14-AM$59-AM$69-AM$79-AM$60-AM$70-AM$80)<=0,0,IF($B$14=\"As Received\",MIN(AM$48*$B71,(-AM$14-AM$59-AM$69-AM$79-AM$60-AM$70-AM$80)*$B71),MIN((-AM$14-AM$59-AM$69-AM$79-AM$60-AM$70-AM$80)*$B71,(AM$48+IF($B$59<>AM$31,SUM($C$33:AM$35),0))*$B71)))","v":0},{"$f":"IF((-AN$14-AN$59-AN$69-AN$79-AN$60-AN$70-AN$80)<=0,0,IF($B$14=\"As Received\",MIN(AN$48*$B71,(-AN$14-AN$59-AN$69-AN$79-AN$60-AN$70-AN$80)*$B71),MIN((-AN$14-AN$59-AN$69-AN$79-AN$60-AN$70-AN$80)*$B71,(AN$48+IF($B$59<>AN$31,SUM($C$33:AN$35),0))*$B71)))","v":0},{"$f":"IF((-AO$14-AO$59-AO$69-AO$79-AO$60-AO$70-AO$80)<=0,0,IF($B$14=\"As Received\",MIN(AO$48*$B71,(-AO$14-AO$59-AO$69-AO$79-AO$60-AO$70-AO$80)*$B71),MIN((-AO$14-AO$59-AO$69-AO$79-AO$60-AO$70-AO$80)*$B71,(AO$48+IF($B$59<>AO$31,SUM($C$33:AO$35),0))*$B71)))","v":0},{"$f":"IF((-AP$14-AP$59-AP$69-AP$79-AP$60-AP$70-AP$80)<=0,0,IF($B$14=\"As Received\",MIN(AP$48*$B71,(-AP$14-AP$59-AP$69-AP$79-AP$60-AP$70-AP$80)*$B71),MIN((-AP$14-AP$59-AP$69-AP$79-AP$60-AP$70-AP$80)*$B71,(AP$48+IF($B$59<>AP$31,SUM($C$33:AP$35),0))*$B71)))","v":0},{"$f":"IF((-AQ$14-AQ$59-AQ$69-AQ$79-AQ$60-AQ$70-AQ$80)<=0,0,IF($B$14=\"As Received\",MIN(AQ$48*$B71,(-AQ$14-AQ$59-AQ$69-AQ$79-AQ$60-AQ$70-AQ$80)*$B71),MIN((-AQ$14-AQ$59-AQ$69-AQ$79-AQ$60-AQ$70-AQ$80)*$B71,(AQ$48+IF($B$59<>AQ$31,SUM($C$33:AQ$35),0))*$B71)))","v":0},{"$f":"IF((-AR$14-AR$59-AR$69-AR$79-AR$60-AR$70-AR$80)<=0,0,IF($B$14=\"As Received\",MIN(AR$48*$B71,(-AR$14-AR$59-AR$69-AR$79-AR$60-AR$70-AR$80)*$B71),MIN((-AR$14-AR$59-AR$69-AR$79-AR$60-AR$70-AR$80)*$B71,(AR$48+IF($B$59<>AR$31,SUM($C$33:AR$35),0))*$B71)))","v":0},{"$f":"IF((-AS$14-AS$59-AS$69-AS$79-AS$60-AS$70-AS$80)<=0,0,IF($B$14=\"As Received\",MIN(AS$48*$B71,(-AS$14-AS$59-AS$69-AS$79-AS$60-AS$70-AS$80)*$B71),MIN((-AS$14-AS$59-AS$69-AS$79-AS$60-AS$70-AS$80)*$B71,(AS$48+IF($B$59<>AS$31,SUM($C$33:AS$35),0))*$B71)))","v":0},{"$f":"IF((-AT$14-AT$59-AT$69-AT$79-AT$60-AT$70-AT$80)<=0,0,IF($B$14=\"As Received\",MIN(AT$48*$B71,(-AT$14-AT$59-AT$69-AT$79-AT$60-AT$70-AT$80)*$B71),MIN((-AT$14-AT$59-AT$69-AT$79-AT$60-AT$70-AT$80)*$B71,(AT$48+IF($B$59<>AT$31,SUM($C$33:AT$35),0))*$B71)))","v":0},{"$f":"IF((-AU$14-AU$59-AU$69-AU$79-AU$60-AU$70-AU$80)<=0,0,IF($B$14=\"As Received\",MIN(AU$48*$B71,(-AU$14-AU$59-AU$69-AU$79-AU$60-AU$70-AU$80)*$B71),MIN((-AU$14-AU$59-AU$69-AU$79-AU$60-AU$70-AU$80)*$B71,(AU$48+IF($B$59<>AU$31,SUM($C$33:AU$35),0))*$B71)))","v":0},{"$f":"IF((-AV$14-AV$59-AV$69-AV$79-AV$60-AV$70-AV$80)<=0,0,IF($B$14=\"As Received\",MIN(AV$48*$B71,(-AV$14-AV$59-AV$69-AV$79-AV$60-AV$70-AV$80)*$B71),MIN((-AV$14-AV$59-AV$69-AV$79-AV$60-AV$70-AV$80)*$B71,(AV$48+IF($B$59<>AV$31,SUM($C$33:AV$35),0))*$B71)))","v":0},{"$f":"IF((-AW$14-AW$59-AW$69-AW$79-AW$60-AW$70-AW$80)<=0,0,IF($B$14=\"As Received\",MIN(AW$48*$B71,(-AW$14-AW$59-AW$69-AW$79-AW$60-AW$70-AW$80)*$B71),MIN((-AW$14-AW$59-AW$69-AW$79-AW$60-AW$70-AW$80)*$B71,(AW$48+IF($B$59<>AW$31,SUM($C$33:AW$35),0))*$B71)))","v":0},{"$f":"IF((-AX$14-AX$59-AX$69-AX$79-AX$60-AX$70-AX$80)<=0,0,IF($B$14=\"As Received\",MIN(AX$48*$B71,(-AX$14-AX$59-AX$69-AX$79-AX$60-AX$70-AX$80)*$B71),MIN((-AX$14-AX$59-AX$69-AX$79-AX$60-AX$70-AX$80)*$B71,(AX$48+IF($B$59<>AX$31,SUM($C$33:AX$35),0))*$B71)))","v":0},{"$f":"IF((-AY$14-AY$59-AY$69-AY$79-AY$60-AY$70-AY$80)<=0,0,IF($B$14=\"As Received\",MIN(AY$48*$B71,(-AY$14-AY$59-AY$69-AY$79-AY$60-AY$70-AY$80)*$B71),MIN((-AY$14-AY$59-AY$69-AY$79-AY$60-AY$70-AY$80)*$B71,(AY$48+IF($B$59<>AY$31,SUM($C$33:AY$35),0))*$B71)))","v":0},{"$f":"IF((-AZ$14-AZ$59-AZ$69-AZ$79-AZ$60-AZ$70-AZ$80)<=0,0,IF($B$14=\"As Received\",MIN(AZ$48*$B71,(-AZ$14-AZ$59-AZ$69-AZ$79-AZ$60-AZ$70-AZ$80)*$B71),MIN((-AZ$14-AZ$59-AZ$69-AZ$79-AZ$60-AZ$70-AZ$80)*$B71,(AZ$48+IF($B$59<>AZ$31,SUM($C$33:AZ$35),0))*$B71)))","v":0},{"$f":"IF((-BA$14-BA$59-BA$69-BA$79-BA$60-BA$70-BA$80)<=0,0,IF($B$14=\"As Received\",MIN(BA$48*$B71,(-BA$14-BA$59-BA$69-BA$79-BA$60-BA$70-BA$80)*$B71),MIN((-BA$14-BA$59-BA$69-BA$79-BA$60-BA$70-BA$80)*$B71,(BA$48+IF($B$59<>BA$31,SUM($C$33:BA$35),0))*$B71)))","v":0},{"$f":"IF((-BB$14-BB$59-BB$69-BB$79-BB$60-BB$70-BB$80)<=0,0,IF($B$14=\"As Received\",MIN(BB$48*$B71,(-BB$14-BB$59-BB$69-BB$79-BB$60-BB$70-BB$80)*$B71),MIN((-BB$14-BB$59-BB$69-BB$79-BB$60-BB$70-BB$80)*$B71,(BB$48+IF($B$59<>BB$31,SUM($C$33:BB$35),0))*$B71)))","v":0},{"$f":"IF((-BC$14-BC$59-BC$69-BC$79-BC$60-BC$70-BC$80)<=0,0,IF($B$14=\"As Received\",MIN(BC$48*$B71,(-BC$14-BC$59-BC$69-BC$79-BC$60-BC$70-BC$80)*$B71),MIN((-BC$14-BC$59-BC$69-BC$79-BC$60-BC$70-BC$80)*$B71,(BC$48+IF($B$59<>BC$31,SUM($C$33:BC$35),0))*$B71)))","v":0},{"$f":"IF((-BD$14-BD$59-BD$69-BD$79-BD$60-BD$70-BD$80)<=0,0,IF($B$14=\"As Received\",MIN(BD$48*$B71,(-BD$14-BD$59-BD$69-BD$79-BD$60-BD$70-BD$80)*$B71),MIN((-BD$14-BD$59-BD$69-BD$79-BD$60-BD$70-BD$80)*$B71,(BD$48+IF($B$59<>BD$31,SUM($C$33:BD$35),0))*$B71)))","v":0},{"$f":"IF((-BE$14-BE$59-BE$69-BE$79-BE$60-BE$70-BE$80)<=0,0,IF($B$14=\"As Received\",MIN(BE$48*$B71,(-BE$14-BE$59-BE$69-BE$79-BE$60-BE$70-BE$80)*$B71),MIN((-BE$14-BE$59-BE$69-BE$79-BE$60-BE$70-BE$80)*$B71,(BE$48+IF($B$59<>BE$31,SUM($C$33:BE$35),0))*$B71)))","v":0},{"$f":"IF((-BF$14-BF$59-BF$69-BF$79-BF$60-BF$70-BF$80)<=0,0,IF($B$14=\"As Received\",MIN(BF$48*$B71,(-BF$14-BF$59-BF$69-BF$79-BF$60-BF$70-BF$80)*$B71),MIN((-BF$14-BF$59-BF$69-BF$79-BF$60-BF$70-BF$80)*$B71,(BF$48+IF($B$59<>BF$31,SUM($C$33:BF$35),0))*$B71)))","v":0},{"$f":"IF((-BG$14-BG$59-BG$69-BG$79-BG$60-BG$70-BG$80)<=0,0,IF($B$14=\"As Received\",MIN(BG$48*$B71,(-BG$14-BG$59-BG$69-BG$79-BG$60-BG$70-BG$80)*$B71),MIN((-BG$14-BG$59-BG$69-BG$79-BG$60-BG$70-BG$80)*$B71,(BG$48+IF($B$59<>BG$31,SUM($C$33:BG$35),0))*$B71)))","v":0},{"$f":"IF((-BH$14-BH$59-BH$69-BH$79-BH$60-BH$70-BH$80)<=0,0,IF($B$14=\"As Received\",MIN(BH$48*$B71,(-BH$14-BH$59-BH$69-BH$79-BH$60-BH$70-BH$80)*$B71),MIN((-BH$14-BH$59-BH$69-BH$79-BH$60-BH$70-BH$80)*$B71,(BH$48+IF($B$59<>BH$31,SUM($C$33:BH$35),0))*$B71)))","v":0},{"$f":"IF((-BI$14-BI$59-BI$69-BI$79-BI$60-BI$70-BI$80)<=0,0,IF($B$14=\"As Received\",MIN(BI$48*$B71,(-BI$14-BI$59-BI$69-BI$79-BI$60-BI$70-BI$80)*$B71),MIN((-BI$14-BI$59-BI$69-BI$79-BI$60-BI$70-BI$80)*$B71,(BI$48+IF($B$59<>BI$31,SUM($C$33:BI$35),0))*$B71)))","v":0},{"$f":"IF((-BJ$14-BJ$59-BJ$69-BJ$79-BJ$60-BJ$70-BJ$80)<=0,0,IF($B$14=\"As Received\",MIN(BJ$48*$B71,(-BJ$14-BJ$59-BJ$69-BJ$79-BJ$60-BJ$70-BJ$80)*$B71),MIN((-BJ$14-BJ$59-BJ$69-BJ$79-BJ$60-BJ$70-BJ$80)*$B71,(BJ$48+IF($B$59<>BJ$31,SUM($C$33:BJ$35),0))*$B71)))","v":0},{"$f":"IF((-BK$14-BK$59-BK$69-BK$79-BK$60-BK$70-BK$80)<=0,0,IF($B$14=\"As Received\",MIN(BK$48*$B71,(-BK$14-BK$59-BK$69-BK$79-BK$60-BK$70-BK$80)*$B71),MIN((-BK$14-BK$59-BK$69-BK$79-BK$60-BK$70-BK$80)*$B71,(BK$48+IF($B$59<>BK$31,SUM($C$33:BK$35),0))*$B71)))","v":0},{"$f":"IF((-BL$14-BL$59-BL$69-BL$79-BL$60-BL$70-BL$80)<=0,0,IF($B$14=\"As Received\",MIN(BL$48*$B71,(-BL$14-BL$59-BL$69-BL$79-BL$60-BL$70-BL$80)*$B71),MIN((-BL$14-BL$59-BL$69-BL$79-BL$60-BL$70-BL$80)*$B71,(BL$48+IF($B$59<>BL$31,SUM($C$33:BL$35),0))*$B71)))","v":0},{"$f":"IF((-BM$14-BM$59-BM$69-BM$79-BM$60-BM$70-BM$80)<=0,0,IF($B$14=\"As Received\",MIN(BM$48*$B71,(-BM$14-BM$59-BM$69-BM$79-BM$60-BM$70-BM$80)*$B71),MIN((-BM$14-BM$59-BM$69-BM$79-BM$60-BM$70-BM$80)*$B71,(BM$48+IF($B$59<>BM$31,SUM($C$33:BM$35),0))*$B71)))","v":0},{"$f":"IF((-BN$14-BN$59-BN$69-BN$79-BN$60-BN$70-BN$80)<=0,0,IF($B$14=\"As Received\",MIN(BN$48*$B71,(-BN$14-BN$59-BN$69-BN$79-BN$60-BN$70-BN$80)*$B71),MIN((-BN$14-BN$59-BN$69-BN$79-BN$60-BN$70-BN$80)*$B71,(BN$48+IF($B$59<>BN$31,SUM($C$33:BN$35),0))*$B71)))","v":0},{"$f":"IF((-BO$14-BO$59-BO$69-BO$79-BO$60-BO$70-BO$80)<=0,0,IF($B$14=\"As Received\",MIN(BO$48*$B71,(-BO$14-BO$59-BO$69-BO$79-BO$60-BO$70-BO$80)*$B71),MIN((-BO$14-BO$59-BO$69-BO$79-BO$60-BO$70-BO$80)*$B71,(BO$48+IF($B$59<>BO$31,SUM($C$33:BO$35),0))*$B71)))","v":0},{"$f":"IF((-BP$14-BP$59-BP$69-BP$79-BP$60-BP$70-BP$80)<=0,0,IF($B$14=\"As Received\",MIN(BP$48*$B71,(-BP$14-BP$59-BP$69-BP$79-BP$60-BP$70-BP$80)*$B71),MIN((-BP$14-BP$59-BP$69-BP$79-BP$60-BP$70-BP$80)*$B71,(BP$48+IF($B$59<>BP$31,SUM($C$33:BP$35),0))*$B71)))","v":0},{"$f":"IF((-BQ$14-BQ$59-BQ$69-BQ$79-BQ$60-BQ$70-BQ$80)<=0,0,IF($B$14=\"As Received\",MIN(BQ$48*$B71,(-BQ$14-BQ$59-BQ$69-BQ$79-BQ$60-BQ$70-BQ$80)*$B71),MIN((-BQ$14-BQ$59-BQ$69-BQ$79-BQ$60-BQ$70-BQ$80)*$B71,(BQ$48+IF($B$59<>BQ$31,SUM($C$33:BQ$35),0))*$B71)))","v":0},{"$f":"IF((-BR$14-BR$59-BR$69-BR$79-BR$60-BR$70-BR$80)<=0,0,IF($B$14=\"As Received\",MIN(BR$48*$B71,(-BR$14-BR$59-BR$69-BR$79-BR$60-BR$70-BR$80)*$B71),MIN((-BR$14-BR$59-BR$69-BR$79-BR$60-BR$70-BR$80)*$B71,(BR$48+IF($B$59<>BR$31,SUM($C$33:BR$35),0))*$B71)))","v":0},{"$f":"IF((-BS$14-BS$59-BS$69-BS$79-BS$60-BS$70-BS$80)<=0,0,IF($B$14=\"As Received\",MIN(BS$48*$B71,(-BS$14-BS$59-BS$69-BS$79-BS$60-BS$70-BS$80)*$B71),MIN((-BS$14-BS$59-BS$69-BS$79-BS$60-BS$70-BS$80)*$B71,(BS$48+IF($B$59<>BS$31,SUM($C$33:BS$35),0))*$B71)))","v":0},{"$f":"IF((-BT$14-BT$59-BT$69-BT$79-BT$60-BT$70-BT$80)<=0,0,IF($B$14=\"As Received\",MIN(BT$48*$B71,(-BT$14-BT$59-BT$69-BT$79-BT$60-BT$70-BT$80)*$B71),MIN((-BT$14-BT$59-BT$69-BT$79-BT$60-BT$70-BT$80)*$B71,(BT$48+IF($B$59<>BT$31,SUM($C$33:BT$35),0))*$B71)))","v":0},{"$f":"IF((-BU$14-BU$59-BU$69-BU$79-BU$60-BU$70-BU$80)<=0,0,IF($B$14=\"As Received\",MIN(BU$48*$B71,(-BU$14-BU$59-BU$69-BU$79-BU$60-BU$70-BU$80)*$B71),MIN((-BU$14-BU$59-BU$69-BU$79-BU$60-BU$70-BU$80)*$B71,(BU$48+IF($B$59<>BU$31,SUM($C$33:BU$35),0))*$B71)))","v":0},{"$f":"IF((-BV$14-BV$59-BV$69-BV$79-BV$60-BV$70-BV$80)<=0,0,IF($B$14=\"As Received\",MIN(BV$48*$B71,(-BV$14-BV$59-BV$69-BV$79-BV$60-BV$70-BV$80)*$B71),MIN((-BV$14-BV$59-BV$69-BV$79-BV$60-BV$70-BV$80)*$B71,(BV$48+IF($B$59<>BV$31,SUM($C$33:BV$35),0))*$B71)))","v":0},{"$f":"IF((-BW$14-BW$59-BW$69-BW$79-BW$60-BW$70-BW$80)<=0,0,IF($B$14=\"As Received\",MIN(BW$48*$B71,(-BW$14-BW$59-BW$69-BW$79-BW$60-BW$70-BW$80)*$B71),MIN((-BW$14-BW$59-BW$69-BW$79-BW$60-BW$70-BW$80)*$B71,(BW$48+IF($B$59<>BW$31,SUM($C$33:BW$35),0))*$B71)))","v":0},{"$f":"IF((-BX$14-BX$59-BX$69-BX$79-BX$60-BX$70-BX$80)<=0,0,IF($B$14=\"As Received\",MIN(BX$48*$B71,(-BX$14-BX$59-BX$69-BX$79-BX$60-BX$70-BX$80)*$B71),MIN((-BX$14-BX$59-BX$69-BX$79-BX$60-BX$70-BX$80)*$B71,(BX$48+IF($B$59<>BX$31,SUM($C$33:BX$35),0))*$B71)))","v":0},{"$f":"IF((-BY$14-BY$59-BY$69-BY$79-BY$60-BY$70-BY$80)<=0,0,IF($B$14=\"As Received\",MIN(BY$48*$B71,(-BY$14-BY$59-BY$69-BY$79-BY$60-BY$70-BY$80)*$B71),MIN((-BY$14-BY$59-BY$69-BY$79-BY$60-BY$70-BY$80)*$B71,(BY$48+IF($B$59<>BY$31,SUM($C$33:BY$35),0))*$B71)))","v":0},{"$f":"IF((-BZ$14-BZ$59-BZ$69-BZ$79-BZ$60-BZ$70-BZ$80)<=0,0,IF($B$14=\"As Received\",MIN(BZ$48*$B71,(-BZ$14-BZ$59-BZ$69-BZ$79-BZ$60-BZ$70-BZ$80)*$B71),MIN((-BZ$14-BZ$59-BZ$69-BZ$79-BZ$60-BZ$70-BZ$80)*$B71,(BZ$48+IF($B$59<>BZ$31,SUM($C$33:BZ$35),0))*$B71)))","v":0},{"$f":"IF((-CA$14-CA$59-CA$69-CA$79-CA$60-CA$70-CA$80)<=0,0,IF($B$14=\"As Received\",MIN(CA$48*$B71,(-CA$14-CA$59-CA$69-CA$79-CA$60-CA$70-CA$80)*$B71),MIN((-CA$14-CA$59-CA$69-CA$79-CA$60-CA$70-CA$80)*$B71,(CA$48+IF($B$59<>CA$31,SUM($C$33:CA$35),0))*$B71)))","v":0},{"$f":"IF((-CB$14-CB$59-CB$69-CB$79-CB$60-CB$70-CB$80)<=0,0,IF($B$14=\"As Received\",MIN(CB$48*$B71,(-CB$14-CB$59-CB$69-CB$79-CB$60-CB$70-CB$80)*$B71),MIN((-CB$14-CB$59-CB$69-CB$79-CB$60-CB$70-CB$80)*$B71,(CB$48+IF($B$59<>CB$31,SUM($C$33:CB$35),0))*$B71)))","v":0},{"$f":"IF((-CC$14-CC$59-CC$69-CC$79-CC$60-CC$70-CC$80)<=0,0,IF($B$14=\"As Received\",MIN(CC$48*$B71,(-CC$14-CC$59-CC$69-CC$79-CC$60-CC$70-CC$80)*$B71),MIN((-CC$14-CC$59-CC$69-CC$79-CC$60-CC$70-CC$80)*$B71,(CC$48+IF($B$59<>CC$31,SUM($C$33:CC$35),0))*$B71)))","v":0},{"$f":"IF((-CD$14-CD$59-CD$69-CD$79-CD$60-CD$70-CD$80)<=0,0,IF($B$14=\"As Received\",MIN(CD$48*$B71,(-CD$14-CD$59-CD$69-CD$79-CD$60-CD$70-CD$80)*$B71),MIN((-CD$14-CD$59-CD$69-CD$79-CD$60-CD$70-CD$80)*$B71,(CD$48+IF($B$59<>CD$31,SUM($C$33:CD$35),0))*$B71)))","v":0},{"$f":"IF((-CE$14-CE$59-CE$69-CE$79-CE$60-CE$70-CE$80)<=0,0,IF($B$14=\"As Received\",MIN(CE$48*$B71,(-CE$14-CE$59-CE$69-CE$79-CE$60-CE$70-CE$80)*$B71),MIN((-CE$14-CE$59-CE$69-CE$79-CE$60-CE$70-CE$80)*$B71,(CE$48+IF($B$59<>CE$31,SUM($C$33:CE$35),0))*$B71)))","v":0},{"$f":"IF((-CF$14-CF$59-CF$69-CF$79-CF$60-CF$70-CF$80)<=0,0,IF($B$14=\"As Received\",MIN(CF$48*$B71,(-CF$14-CF$59-CF$69-CF$79-CF$60-CF$70-CF$80)*$B71),MIN((-CF$14-CF$59-CF$69-CF$79-CF$60-CF$70-CF$80)*$B71,(CF$48+IF($B$59<>CF$31,SUM($C$33:CF$35),0))*$B71)))","v":0},{"$f":"IF((-CG$14-CG$59-CG$69-CG$79-CG$60-CG$70-CG$80)<=0,0,IF($B$14=\"As Received\",MIN(CG$48*$B71,(-CG$14-CG$59-CG$69-CG$79-CG$60-CG$70-CG$80)*$B71),MIN((-CG$14-CG$59-CG$69-CG$79-CG$60-CG$70-CG$80)*$B71,(CG$48+IF($B$59<>CG$31,SUM($C$33:CG$35),0))*$B71)))","v":0},{"$f":"IF((-CH$14-CH$59-CH$69-CH$79-CH$60-CH$70-CH$80)<=0,0,IF($B$14=\"As Received\",MIN(CH$48*$B71,(-CH$14-CH$59-CH$69-CH$79-CH$60-CH$70-CH$80)*$B71),MIN((-CH$14-CH$59-CH$69-CH$79-CH$60-CH$70-CH$80)*$B71,(CH$48+IF($B$59<>CH$31,SUM($C$33:CH$35),0))*$B71)))","v":0},{"$f":"IF((-CI$14-CI$59-CI$69-CI$79-CI$60-CI$70-CI$80)<=0,0,IF($B$14=\"As Received\",MIN(CI$48*$B71,(-CI$14-CI$59-CI$69-CI$79-CI$60-CI$70-CI$80)*$B71),MIN((-CI$14-CI$59-CI$69-CI$79-CI$60-CI$70-CI$80)*$B71,(CI$48+IF($B$59<>CI$31,SUM($C$33:CI$35),0))*$B71)))","v":0},{"$f":"IF((-CJ$14-CJ$59-CJ$69-CJ$79-CJ$60-CJ$70-CJ$80)<=0,0,IF($B$14=\"As Received\",MIN(CJ$48*$B71,(-CJ$14-CJ$59-CJ$69-CJ$79-CJ$60-CJ$70-CJ$80)*$B71),MIN((-CJ$14-CJ$59-CJ$69-CJ$79-CJ$60-CJ$70-CJ$80)*$B71,(CJ$48+IF($B$59<>CJ$31,SUM($C$33:CJ$35),0))*$B71)))","v":0},{"$f":"IF((-CK$14-CK$59-CK$69-CK$79-CK$60-CK$70-CK$80)<=0,0,IF($B$14=\"As Received\",MIN(CK$48*$B71,(-CK$14-CK$59-CK$69-CK$79-CK$60-CK$70-CK$80)*$B71),MIN((-CK$14-CK$59-CK$69-CK$79-CK$60-CK$70-CK$80)*$B71,(CK$48+IF($B$59<>CK$31,SUM($C$33:CK$35),0))*$B71)))","v":0},{"$f":"IF((-CL$14-CL$59-CL$69-CL$79-CL$60-CL$70-CL$80)<=0,0,IF($B$14=\"As Received\",MIN(CL$48*$B71,(-CL$14-CL$59-CL$69-CL$79-CL$60-CL$70-CL$80)*$B71),MIN((-CL$14-CL$59-CL$69-CL$79-CL$60-CL$70-CL$80)*$B71,(CL$48+IF($B$59<>CL$31,SUM($C$33:CL$35),0))*$B71)))","v":0},{"$f":"IF((-CM$14-CM$59-CM$69-CM$79-CM$60-CM$70-CM$80)<=0,0,IF($B$14=\"As Received\",MIN(CM$48*$B71,(-CM$14-CM$59-CM$69-CM$79-CM$60-CM$70-CM$80)*$B71),MIN((-CM$14-CM$59-CM$69-CM$79-CM$60-CM$70-CM$80)*$B71,(CM$48+IF($B$59<>CM$31,SUM($C$33:CM$35),0))*$B71)))","v":0},{"$f":"IF((-CN$14-CN$59-CN$69-CN$79-CN$60-CN$70-CN$80)<=0,0,IF($B$14=\"As Received\",MIN(CN$48*$B71,(-CN$14-CN$59-CN$69-CN$79-CN$60-CN$70-CN$80)*$B71),MIN((-CN$14-CN$59-CN$69-CN$79-CN$60-CN$70-CN$80)*$B71,(CN$48+IF($B$59<>CN$31,SUM($C$33:CN$35),0))*$B71)))","v":0},{"$f":"IF((-CO$14-CO$59-CO$69-CO$79-CO$60-CO$70-CO$80)<=0,0,IF($B$14=\"As Received\",MIN(CO$48*$B71,(-CO$14-CO$59-CO$69-CO$79-CO$60-CO$70-CO$80)*$B71),MIN((-CO$14-CO$59-CO$69-CO$79-CO$60-CO$70-CO$80)*$B71,(CO$48+IF($B$59<>CO$31,SUM($C$33:CO$35),0))*$B71)))","v":0},{"$f":"IF((-CP$14-CP$59-CP$69-CP$79-CP$60-CP$70-CP$80)<=0,0,IF($B$14=\"As Received\",MIN(CP$48*$B71,(-CP$14-CP$59-CP$69-CP$79-CP$60-CP$70-CP$80)*$B71),MIN((-CP$14-CP$59-CP$69-CP$79-CP$60-CP$70-CP$80)*$B71,(CP$48+IF($B$59<>CP$31,SUM($C$33:CP$35),0))*$B71)))","v":0},{"$f":"IF((-CQ$14-CQ$59-CQ$69-CQ$79-CQ$60-CQ$70-CQ$80)<=0,0,IF($B$14=\"As Received\",MIN(CQ$48*$B71,(-CQ$14-CQ$59-CQ$69-CQ$79-CQ$60-CQ$70-CQ$80)*$B71),MIN((-CQ$14-CQ$59-CQ$69-CQ$79-CQ$60-CQ$70-CQ$80)*$B71,(CQ$48+IF($B$59<>CQ$31,SUM($C$33:CQ$35),0))*$B71)))","v":0},{"$f":"IF((-CR$14-CR$59-CR$69-CR$79-CR$60-CR$70-CR$80)<=0,0,IF($B$14=\"As Received\",MIN(CR$48*$B71,(-CR$14-CR$59-CR$69-CR$79-CR$60-CR$70-CR$80)*$B71),MIN((-CR$14-CR$59-CR$69-CR$79-CR$60-CR$70-CR$80)*$B71,(CR$48+IF($B$59<>CR$31,SUM($C$33:CR$35),0))*$B71)))","v":0},{"$f":"IF((-CS$14-CS$59-CS$69-CS$79-CS$60-CS$70-CS$80)<=0,0,IF($B$14=\"As Received\",MIN(CS$48*$B71,(-CS$14-CS$59-CS$69-CS$79-CS$60-CS$70-CS$80)*$B71),MIN((-CS$14-CS$59-CS$69-CS$79-CS$60-CS$70-CS$80)*$B71,(CS$48+IF($B$59<>CS$31,SUM($C$33:CS$35),0))*$B71)))","v":0},{"$f":"IF((-CT$14-CT$59-CT$69-CT$79-CT$60-CT$70-CT$80)<=0,0,IF($B$14=\"As Received\",MIN(CT$48*$B71,(-CT$14-CT$59-CT$69-CT$79-CT$60-CT$70-CT$80)*$B71),MIN((-CT$14-CT$59-CT$69-CT$79-CT$60-CT$70-CT$80)*$B71,(CT$48+IF($B$59<>CT$31,SUM($C$33:CT$35),0))*$B71)))","v":0},{"$f":"IF((-CU$14-CU$59-CU$69-CU$79-CU$60-CU$70-CU$80)<=0,0,IF($B$14=\"As Received\",MIN(CU$48*$B71,(-CU$14-CU$59-CU$69-CU$79-CU$60-CU$70-CU$80)*$B71),MIN((-CU$14-CU$59-CU$69-CU$79-CU$60-CU$70-CU$80)*$B71,(CU$48+IF($B$59<>CU$31,SUM($C$33:CU$35),0))*$B71)))","v":0},{"$f":"IF((-CV$14-CV$59-CV$69-CV$79-CV$60-CV$70-CV$80)<=0,0,IF($B$14=\"As Received\",MIN(CV$48*$B71,(-CV$14-CV$59-CV$69-CV$79-CV$60-CV$70-CV$80)*$B71),MIN((-CV$14-CV$59-CV$69-CV$79-CV$60-CV$70-CV$80)*$B71,(CV$48+IF($B$59<>CV$31,SUM($C$33:CV$35),0))*$B71)))","v":0},{"$f":"IF((-CW$14-CW$59-CW$69-CW$79-CW$60-CW$70-CW$80)<=0,0,IF($B$14=\"As Received\",MIN(CW$48*$B71,(-CW$14-CW$59-CW$69-CW$79-CW$60-CW$70-CW$80)*$B71),MIN((-CW$14-CW$59-CW$69-CW$79-CW$60-CW$70-CW$80)*$B71,(CW$48+IF($B$59<>CW$31,SUM($C$33:CW$35),0))*$B71)))","v":0},{"$f":"IF((-CX$14-CX$59-CX$69-CX$79-CX$60-CX$70-CX$80)<=0,0,IF($B$14=\"As Received\",MIN(CX$48*$B71,(-CX$14-CX$59-CX$69-CX$79-CX$60-CX$70-CX$80)*$B71),MIN((-CX$14-CX$59-CX$69-CX$79-CX$60-CX$70-CX$80)*$B71,(CX$48+IF($B$59<>CX$31,SUM($C$33:CX$35),0))*$B71)))","v":0},{"$f":"IF((-CY$14-CY$59-CY$69-CY$79-CY$60-CY$70-CY$80)<=0,0,IF($B$14=\"As Received\",MIN(CY$48*$B71,(-CY$14-CY$59-CY$69-CY$79-CY$60-CY$70-CY$80)*$B71),MIN((-CY$14-CY$59-CY$69-CY$79-CY$60-CY$70-CY$80)*$B71,(CY$48+IF($B$59<>CY$31,SUM($C$33:CY$35),0))*$B71)))","v":0},{"$f":"IF((-CZ$14-CZ$59-CZ$69-CZ$79-CZ$60-CZ$70-CZ$80)<=0,0,IF($B$14=\"As Received\",MIN(CZ$48*$B71,(-CZ$14-CZ$59-CZ$69-CZ$79-CZ$60-CZ$70-CZ$80)*$B71),MIN((-CZ$14-CZ$59-CZ$69-CZ$79-CZ$60-CZ$70-CZ$80)*$B71,(CZ$48+IF($B$59<>CZ$31,SUM($C$33:CZ$35),0))*$B71)))","v":0},{"$f":"IF((-DA$14-DA$59-DA$69-DA$79-DA$60-DA$70-DA$80)<=0,0,IF($B$14=\"As Received\",MIN(DA$48*$B71,(-DA$14-DA$59-DA$69-DA$79-DA$60-DA$70-DA$80)*$B71),MIN((-DA$14-DA$59-DA$69-DA$79-DA$60-DA$70-DA$80)*$B71,(DA$48+IF($B$59<>DA$31,SUM($C$33:DA$35),0))*$B71)))","v":0},{"$f":"IF((-DB$14-DB$59-DB$69-DB$79-DB$60-DB$70-DB$80)<=0,0,IF($B$14=\"As Received\",MIN(DB$48*$B71,(-DB$14-DB$59-DB$69-DB$79-DB$60-DB$70-DB$80)*$B71),MIN((-DB$14-DB$59-DB$69-DB$79-DB$60-DB$70-DB$80)*$B71,(DB$48+IF($B$59<>DB$31,SUM($C$33:DB$35),0))*$B71)))","v":0},{"$f":"IF((-DC$14-DC$59-DC$69-DC$79-DC$60-DC$70-DC$80)<=0,0,IF($B$14=\"As Received\",MIN(DC$48*$B71,(-DC$14-DC$59-DC$69-DC$79-DC$60-DC$70-DC$80)*$B71),MIN((-DC$14-DC$59-DC$69-DC$79-DC$60-DC$70-DC$80)*$B71,(DC$48+IF($B$59<>DC$31,SUM($C$33:DC$35),0))*$B71)))","v":0},{"$f":"IF((-DD$14-DD$59-DD$69-DD$79-DD$60-DD$70-DD$80)<=0,0,IF($B$14=\"As Received\",MIN(DD$48*$B71,(-DD$14-DD$59-DD$69-DD$79-DD$60-DD$70-DD$80)*$B71),MIN((-DD$14-DD$59-DD$69-DD$79-DD$60-DD$70-DD$80)*$B71,(DD$48+IF($B$59<>DD$31,SUM($C$33:DD$35),0))*$B71)))","v":0},{"$f":"IF((-DE$14-DE$59-DE$69-DE$79-DE$60-DE$70-DE$80)<=0,0,IF($B$14=\"As Received\",MIN(DE$48*$B71,(-DE$14-DE$59-DE$69-DE$79-DE$60-DE$70-DE$80)*$B71),MIN((-DE$14-DE$59-DE$69-DE$79-DE$60-DE$70-DE$80)*$B71,(DE$48+IF($B$59<>DE$31,SUM($C$33:DE$35),0))*$B71)))","v":0},{"$f":"IF((-DF$14-DF$59-DF$69-DF$79-DF$60-DF$70-DF$80)<=0,0,IF($B$14=\"As Received\",MIN(DF$48*$B71,(-DF$14-DF$59-DF$69-DF$79-DF$60-DF$70-DF$80)*$B71),MIN((-DF$14-DF$59-DF$69-DF$79-DF$60-DF$70-DF$80)*$B71,(DF$48+IF($B$59<>DF$31,SUM($C$33:DF$35),0))*$B71)))","v":0},{"$f":"IF((-DG$14-DG$59-DG$69-DG$79-DG$60-DG$70-DG$80)<=0,0,IF($B$14=\"As Received\",MIN(DG$48*$B71,(-DG$14-DG$59-DG$69-DG$79-DG$60-DG$70-DG$80)*$B71),MIN((-DG$14-DG$59-DG$69-DG$79-DG$60-DG$70-DG$80)*$B71,(DG$48+IF($B$59<>DG$31,SUM($C$33:DG$35),0))*$B71)))","v":0},{"$f":"IF((-DH$14-DH$59-DH$69-DH$79-DH$60-DH$70-DH$80)<=0,0,IF($B$14=\"As Received\",MIN(DH$48*$B71,(-DH$14-DH$59-DH$69-DH$79-DH$60-DH$70-DH$80)*$B71),MIN((-DH$14-DH$59-DH$69-DH$79-DH$60-DH$70-DH$80)*$B71,(DH$48+IF($B$59<>DH$31,SUM($C$33:DH$35),0))*$B71)))","v":0},{"$f":"IF((-DI$14-DI$59-DI$69-DI$79-DI$60-DI$70-DI$80)<=0,0,IF($B$14=\"As Received\",MIN(DI$48*$B71,(-DI$14-DI$59-DI$69-DI$79-DI$60-DI$70-DI$80)*$B71),MIN((-DI$14-DI$59-DI$69-DI$79-DI$60-DI$70-DI$80)*$B71,(DI$48+IF($B$59<>DI$31,SUM($C$33:DI$35),0))*$B71)))","v":0},{"$f":"IF((-DJ$14-DJ$59-DJ$69-DJ$79-DJ$60-DJ$70-DJ$80)<=0,0,IF($B$14=\"As Received\",MIN(DJ$48*$B71,(-DJ$14-DJ$59-DJ$69-DJ$79-DJ$60-DJ$70-DJ$80)*$B71),MIN((-DJ$14-DJ$59-DJ$69-DJ$79-DJ$60-DJ$70-DJ$80)*$B71,(DJ$48+IF($B$59<>DJ$31,SUM($C$33:DJ$35),0))*$B71)))","v":0},{"$f":"IF((-DK$14-DK$59-DK$69-DK$79-DK$60-DK$70-DK$80)<=0,0,IF($B$14=\"As Received\",MIN(DK$48*$B71,(-DK$14-DK$59-DK$69-DK$79-DK$60-DK$70-DK$80)*$B71),MIN((-DK$14-DK$59-DK$69-DK$79-DK$60-DK$70-DK$80)*$B71,(DK$48+IF($B$59<>DK$31,SUM($C$33:DK$35),0))*$B71)))","v":0},{"$f":"IF((-DL$14-DL$59-DL$69-DL$79-DL$60-DL$70-DL$80)<=0,0,IF($B$14=\"As Received\",MIN(DL$48*$B71,(-DL$14-DL$59-DL$69-DL$79-DL$60-DL$70-DL$80)*$B71),MIN((-DL$14-DL$59-DL$69-DL$79-DL$60-DL$70-DL$80)*$B71,(DL$48+IF($B$59<>DL$31,SUM($C$33:DL$35),0))*$B71)))","v":0},{"$f":"IF((-DM$14-DM$59-DM$69-DM$79-DM$60-DM$70-DM$80)<=0,0,IF($B$14=\"As Received\",MIN(DM$48*$B71,(-DM$14-DM$59-DM$69-DM$79-DM$60-DM$70-DM$80)*$B71),MIN((-DM$14-DM$59-DM$69-DM$79-DM$60-DM$70-DM$80)*$B71,(DM$48+IF($B$59<>DM$31,SUM($C$33:DM$35),0))*$B71)))","v":0},{"$f":"IF((-DN$14-DN$59-DN$69-DN$79-DN$60-DN$70-DN$80)<=0,0,IF($B$14=\"As Received\",MIN(DN$48*$B71,(-DN$14-DN$59-DN$69-DN$79-DN$60-DN$70-DN$80)*$B71),MIN((-DN$14-DN$59-DN$69-DN$79-DN$60-DN$70-DN$80)*$B71,(DN$48+IF($B$59<>DN$31,SUM($C$33:DN$35),0))*$B71)))","v":0},{"$f":"IF((-DO$14-DO$59-DO$69-DO$79-DO$60-DO$70-DO$80)<=0,0,IF($B$14=\"As Received\",MIN(DO$48*$B71,(-DO$14-DO$59-DO$69-DO$79-DO$60-DO$70-DO$80)*$B71),MIN((-DO$14-DO$59-DO$69-DO$79-DO$60-DO$70-DO$80)*$B71,(DO$48+IF($B$59<>DO$31,SUM($C$33:DO$35),0))*$B71)))","v":0},{"$f":"IF((-DP$14-DP$59-DP$69-DP$79-DP$60-DP$70-DP$80)<=0,0,IF($B$14=\"As Received\",MIN(DP$48*$B71,(-DP$14-DP$59-DP$69-DP$79-DP$60-DP$70-DP$80)*$B71),MIN((-DP$14-DP$59-DP$69-DP$79-DP$60-DP$70-DP$80)*$B71,(DP$48+IF($B$59<>DP$31,SUM($C$33:DP$35),0))*$B71)))","v":0},{"$f":"IF((-DQ$14-DQ$59-DQ$69-DQ$79-DQ$60-DQ$70-DQ$80)<=0,0,IF($B$14=\"As Received\",MIN(DQ$48*$B71,(-DQ$14-DQ$59-DQ$69-DQ$79-DQ$60-DQ$70-DQ$80)*$B71),MIN((-DQ$14-DQ$59-DQ$69-DQ$79-DQ$60-DQ$70-DQ$80)*$B71,(DQ$48+IF($B$59<>DQ$31,SUM($C$33:DQ$35),0))*$B71)))","v":0},{"$f":"IF((-DR$14-DR$59-DR$69-DR$79-DR$60-DR$70-DR$80)<=0,0,IF($B$14=\"As Received\",MIN(DR$48*$B71,(-DR$14-DR$59-DR$69-DR$79-DR$60-DR$70-DR$80)*$B71),MIN((-DR$14-DR$59-DR$69-DR$79-DR$60-DR$70-DR$80)*$B71,(DR$48+IF($B$59<>DR$31,SUM($C$33:DR$35),0))*$B71)))","v":0},{"$f":"IF((-DS$14-DS$59-DS$69-DS$79-DS$60-DS$70-DS$80)<=0,0,IF($B$14=\"As Received\",MIN(DS$48*$B71,(-DS$14-DS$59-DS$69-DS$79-DS$60-DS$70-DS$80)*$B71),MIN((-DS$14-DS$59-DS$69-DS$79-DS$60-DS$70-DS$80)*$B71,(DS$48+IF($B$59<>DS$31,SUM($C$33:DS$35),0))*$B71)))","v":0}]
["Tier 3 Preferred Return",{"$f":"F27","v":0.1144},{"$f":"IF((-C$14-C$59-C$69-C$79-C$60-C$70-C$80-C$61-C$71-C$81)<=0,0,IF($B$14=\"As Received\",MIN(C$54*$B72,(-C$14-C$59-C$69-C$79-C$60-C$70-C$80-C$61-C$71-C$81)*$B72),MIN((-C$14-C$59-C$69-C$79-C$60-C$70-C$80-C$61-C$71-C$81)*$B72,(C$54+IF($B$59<>C$31,SUM($C$33:C$35),0))*$B72)))","v":0},{"$f":"IF((-D$14-D$59-D$69-D$79-D$60-D$70-D$80-D$61-D$71-D$81)<=0,0,IF($B$14=\"As Received\",MIN(D$54*$B72,(-D$14-D$59-D$69-D$79-D$60-D$70-D$80-D$61-D$71-D$81)*$B72),MIN((-D$14-D$59-D$69-D$79-D$60-D$70-D$80-D$61-D$71-D$81)*$B72,(D$54+IF($B$59<>D$31,SUM($C$33:D$35),0))*$B72)))","v":0},{"$f":"IF((-E$14-E$59-E$69-E$79-E$60-E$70-E$80-E$61-E$71-E$81)<=0,0,IF($B$14=\"As Received\",MIN(E$54*$B72,(-E$14-E$59-E$69-E$79-E$60-E$70-E$80-E$61-E$71-E$81)*$B72),MIN((-E$14-E$59-E$69-E$79-E$60-E$70-E$80-E$61-E$71-E$81)*$B72,(E$54+IF($B$59<>E$31,SUM($C$33:E$35),0))*$B72)))","v":0},{"$f":"IF((-F$14-F$59-F$69-F$79-F$60-F$70-F$80-F$61-F$71-F$81)<=0,0,IF($B$14=\"As Received\",MIN(F$54*$B72,(-F$14-F$59-F$69-F$79-F$60-F$70-F$80-F$61-F$71-F$81)*$B72),MIN((-F$14-F$59-F$69-F$79-F$60-F$70-F$80-F$61-F$71-F$81)*$B72,(F$54+IF($B$59<>F$31,SUM($C$33:F$35),0))*$B72)))","v":0},{"$f":"IF((-G$14-G$59-G$69-G$79-G$60-G$70-G$80-G$61-G$71-G$81)<=0,0,IF($B$14=\"As Received\",MIN(G$54*$B72,(-G$14-G$59-G$69-G$79-G$60-G$70-G$80-G$61-G$71-G$81)*$B72),MIN((-G$14-G$59-G$69-G$79-G$60-G$70-G$80-G$61-G$71-G$81)*$B72,(G$54+IF($B$59<>G$31,SUM($C$33:G$35),0))*$B72)))","v":0},{"$f":"IF((-H$14-H$59-H$69-H$79-H$60-H$70-H$80-H$61-H$71-H$81)<=0,0,IF($B$14=\"As Received\",MIN(H$54*$B72,(-H$14-H$59-H$69-H$79-H$60-H$70-H$80-H$61-H$71-H$81)*$B72),MIN((-H$14-H$59-H$69-H$79-H$60-H$70-H$80-H$61-H$71-H$81)*$B72,(H$54+IF($B$59<>H$31,SUM($C$33:H$35),0))*$B72)))","v":0},{"$f":"IF((-I$14-I$59-I$69-I$79-I$60-I$70-I$80-I$61-I$71-I$81)<=0,0,IF($B$14=\"As Received\",MIN(I$54*$B72,(-I$14-I$59-I$69-I$79-I$60-I$70-I$80-I$61-I$71-I$81)*$B72),MIN((-I$14-I$59-I$69-I$79-I$60-I$70-I$80-I$61-I$71-I$81)*$B72,(I$54+IF($B$59<>I$31,SUM($C$33:I$35),0))*$B72)))","v":0},{"$f":"IF((-J$14-J$59-J$69-J$79-J$60-J$70-J$80-J$61-J$71-J$81)<=0,0,IF($B$14=\"As Received\",MIN(J$54*$B72,(-J$14-J$59-J$69-J$79-J$60-J$70-J$80-J$61-J$71-J$81)*$B72),MIN((-J$14-J$59-J$69-J$79-J$60-J$70-J$80-J$61-J$71-J$81)*$B72,(J$54+IF($B$59<>J$31,SUM($C$33:J$35),0))*$B72)))","v":0},{"$f":"IF((-K$14-K$59-K$69-K$79-K$60-K$70-K$80-K$61-K$71-K$81)<=0,0,IF($B$14=\"As Received\",MIN(K$54*$B72,(-K$14-K$59-K$69-K$79-K$60-K$70-K$80-K$61-K$71-K$81)*$B72),MIN((-K$14-K$59-K$69-K$79-K$60-K$70-K$80-K$61-K$71-K$81)*$B72,(K$54+IF($B$59<>K$31,SUM($C$33:K$35),0))*$B72)))","v":0},{"$f":"IF((-L$14-L$59-L$69-L$79-L$60-L$70-L$80-L$61-L$71-L$81)<=0,0,IF($B$14=\"As Received\",MIN(L$54*$B72,(-L$14-L$59-L$69-L$79-L$60-L$70-L$80-L$61-L$71-L$81)*$B72),MIN((-L$14-L$59-L$69-L$79-L$60-L$70-L$80-L$61-L$71-L$81)*$B72,(L$54+IF($B$59<>L$31,SUM($C$33:L$35),0))*$B72)))","v":0},{"$f":"IF((-M$14-M$59-M$69-M$79-M$60-M$70-M$80-M$61-M$71-M$81)<=0,0,IF($B$14=\"As Received\",MIN(M$54*$B72,(-M$14-M$59-M$69-M$79-M$60-M$70-M$80-M$61-M$71-M$81)*$B72),MIN((-M$14-M$59-M$69-M$79-M$60-M$70-M$80-M$61-M$71-M$81)*$B72,(M$54+IF($B$59<>M$31,SUM($C$33:M$35),0))*$B72)))","v":0},{"$f":"IF((-N$14-N$59-N$69-N$79-N$60-N$70-N$80-N$61-N$71-N$81)<=0,0,IF($B$14=\"As Received\",MIN(N$54*$B72,(-N$14-N$59-N$69-N$79-N$60-N$70-N$80-N$61-N$71-N$81)*$B72),MIN((-N$14-N$59-N$69-N$79-N$60-N$70-N$80-N$61-N$71-N$81)*$B72,(N$54+IF($B$59<>N$31,SUM($C$33:N$35),0))*$B72)))","v":0},{"$f":"IF((-O$14-O$59-O$69-O$79-O$60-O$70-O$80-O$61-O$71-O$81)<=0,0,IF($B$14=\"As Received\",MIN(O$54*$B72,(-O$14-O$59-O$69-O$79-O$60-O$70-O$80-O$61-O$71-O$81)*$B72),MIN((-O$14-O$59-O$69-O$79-O$60-O$70-O$80-O$61-O$71-O$81)*$B72,(O$54+IF($B$59<>O$31,SUM($C$33:O$35),0))*$B72)))","v":0},{"$f":"IF((-P$14-P$59-P$69-P$79-P$60-P$70-P$80-P$61-P$71-P$81)<=0,0,IF($B$14=\"As Received\",MIN(P$54*$B72,(-P$14-P$59-P$69-P$79-P$60-P$70-P$80-P$61-P$71-P$81)*$B72),MIN((-P$14-P$59-P$69-P$79-P$60-P$70-P$80-P$61-P$71-P$81)*$B72,(P$54+IF($B$59<>P$31,SUM($C$33:P$35),0))*$B72)))","v":0},{"$f":"IF((-Q$14-Q$59-Q$69-Q$79-Q$60-Q$70-Q$80-Q$61-Q$71-Q$81)<=0,0,IF($B$14=\"As Received\",MIN(Q$54*$B72,(-Q$14-Q$59-Q$69-Q$79-Q$60-Q$70-Q$80-Q$61-Q$71-Q$81)*$B72),MIN((-Q$14-Q$59-Q$69-Q$79-Q$60-Q$70-Q$80-Q$61-Q$71-Q$81)*$B72,(Q$54+IF($B$59<>Q$31,SUM($C$33:Q$35),0))*$B72)))","v":0},{"$f":"IF((-R$14-R$59-R$69-R$79-R$60-R$70-R$80-R$61-R$71-R$81)<=0,0,IF($B$14=\"As Received\",MIN(R$54*$B72,(-R$14-R$59-R$69-R$79-R$60-R$70-R$80-R$61-R$71-R$81)*$B72),MIN((-R$14-R$59-R$69-R$79-R$60-R$70-R$80-R$61-R$71-R$81)*$B72,(R$54+IF($B$59<>R$31,SUM($C$33:R$35),0))*$B72)))","v":0},{"$f":"IF((-S$14-S$59-S$69-S$79-S$60-S$70-S$80-S$61-S$71-S$81)<=0,0,IF($B$14=\"As Received\",MIN(S$54*$B72,(-S$14-S$59-S$69-S$79-S$60-S$70-S$80-S$61-S$71-S$81)*$B72),MIN((-S$14-S$59-S$69-S$79-S$60-S$70-S$80-S$61-S$71-S$81)*$B72,(S$54+IF($B$59<>S$31,SUM($C$33:S$35),0))*$B72)))","v":0},{"$f":"IF((-T$14-T$59-T$69-T$79-T$60-T$70-T$80-T$61-T$71-T$81)<=0,0,IF($B$14=\"As Received\",MIN(T$54*$B72,(-T$14-T$59-T$69-T$79-T$60-T$70-T$80-T$61-T$71-T$81)*$B72),MIN((-T$14-T$59-T$69-T$79-T$60-T$70-T$80-T$61-T$71-T$81)*$B72,(T$54+IF($B$59<>T$31,SUM($C$33:T$35),0))*$B72)))","v":0},{"$f":"IF((-U$14-U$59-U$69-U$79-U$60-U$70-U$80-U$61-U$71-U$81)<=0,0,IF($B$14=\"As Received\",MIN(U$54*$B72,(-U$14-U$59-U$69-U$79-U$60-U$70-U$80-U$61-U$71-U$81)*$B72),MIN((-U$14-U$59-U$69-U$79-U$60-U$70-U$80-U$61-U$71-U$81)*$B72,(U$54+IF($B$59<>U$31,SUM($C$33:U$35),0))*$B72)))","v":0},{"$f":"IF((-V$14-V$59-V$69-V$79-V$60-V$70-V$80-V$61-V$71-V$81)<=0,0,IF($B$14=\"As Received\",MIN(V$54*$B72,(-V$14-V$59-V$69-V$79-V$60-V$70-V$80-V$61-V$71-V$81)*$B72),MIN((-V$14-V$59-V$69-V$79-V$60-V$70-V$80-V$61-V$71-V$81)*$B72,(V$54+IF($B$59<>V$31,SUM($C$33:V$35),0))*$B72)))","v":0},{"$f":"IF((-W$14-W$59-W$69-W$79-W$60-W$70-W$80-W$61-W$71-W$81)<=0,0,IF($B$14=\"As Received\",MIN(W$54*$B72,(-W$14-W$59-W$69-W$79-W$60-W$70-W$80-W$61-W$71-W$81)*$B72),MIN((-W$14-W$59-W$69-W$79-W$60-W$70-W$80-W$61-W$71-W$81)*$B72,(W$54+IF($B$59<>W$31,SUM($C$33:W$35),0))*$B72)))","v":0},{"$f":"IF((-X$14-X$59-X$69-X$79-X$60-X$70-X$80-X$61-X$71-X$81)<=0,0,IF($B$14=\"As Received\",MIN(X$54*$B72,(-X$14-X$59-X$69-X$79-X$60-X$70-X$80-X$61-X$71-X$81)*$B72),MIN((-X$14-X$59-X$69-X$79-X$60-X$70-X$80-X$61-X$71-X$81)*$B72,(X$54+IF($B$59<>X$31,SUM($C$33:X$35),0))*$B72)))","v":0},{"$f":"IF((-Y$14-Y$59-Y$69-Y$79-Y$60-Y$70-Y$80-Y$61-Y$71-Y$81)<=0,0,IF($B$14=\"As Received\",MIN(Y$54*$B72,(-Y$14-Y$59-Y$69-Y$79-Y$60-Y$70-Y$80-Y$61-Y$71-Y$81)*$B72),MIN((-Y$14-Y$59-Y$69-Y$79-Y$60-Y$70-Y$80-Y$61-Y$71-Y$81)*$B72,(Y$54+IF($B$59<>Y$31,SUM($C$33:Y$35),0))*$B72)))","v":0},{"$f":"IF((-Z$14-Z$59-Z$69-Z$79-Z$60-Z$70-Z$80-Z$61-Z$71-Z$81)<=0,0,IF($B$14=\"As Received\",MIN(Z$54*$B72,(-Z$14-Z$59-Z$69-Z$79-Z$60-Z$70-Z$80-Z$61-Z$71-Z$81)*$B72),MIN((-Z$14-Z$59-Z$69-Z$79-Z$60-Z$70-Z$80-Z$61-Z$71-Z$81)*$B72,(Z$54+IF($B$59<>Z$31,SUM($C$33:Z$35),0))*$B72)))","v":0},{"$f":"IF((-AA$14-AA$59-AA$69-AA$79-AA$60-AA$70-AA$80-AA$61-AA$71-AA$81)<=0,0,IF($B$14=\"As Received\",MIN(AA$54*$B72,(-AA$14-AA$59-AA$69-AA$79-AA$60-AA$70-AA$80-AA$61-AA$71-AA$81)*$B72),MIN((-AA$14-AA$59-AA$69-AA$79-AA$60-AA$70-AA$80-AA$61-AA$71-AA$81)*$B72,(AA$54+IF($B$59<>AA$31,SUM($C$33:AA$35),0))*$B72)))","v":0},{"$f":"IF((-AB$14-AB$59-AB$69-AB$79-AB$60-AB$70-AB$80-AB$61-AB$71-AB$81)<=0,0,IF($B$14=\"As Received\",MIN(AB$54*$B72,(-AB$14-AB$59-AB$69-AB$79-AB$60-AB$70-AB$80-AB$61-AB$71-AB$81)*$B72),MIN((-AB$14-AB$59-AB$69-AB$79-AB$60-AB$70-AB$80-AB$61-AB$71-AB$81)*$B72,(AB$54+IF($B$59<>AB$31,SUM($C$33:AB$35),0))*$B72)))","v":0},{"$f":"IF((-AC$14-AC$59-AC$69-AC$79-AC$60-AC$70-AC$80-AC$61-AC$71-AC$81)<=0,0,IF($B$14=\"As Received\",MIN(AC$54*$B72,(-AC$14-AC$59-AC$69-AC$79-AC$60-AC$70-AC$80-AC$61-AC$71-AC$81)*$B72),MIN((-AC$14-AC$59-AC$69-AC$79-AC$60-AC$70-AC$80-AC$61-AC$71-AC$81)*$B72,(AC$54+IF($B$59<>AC$31,SUM($C$33:AC$35),0))*$B72)))","v":0},{"$f":"IF((-AD$14-AD$59-AD$69-AD$79-AD$60-AD$70-AD$80-AD$61-AD$71-AD$81)<=0,0,IF($B$14=\"As Received\",MIN(AD$54*$B72,(-AD$14-AD$59-AD$69-AD$79-AD$60-AD$70-AD$80-AD$61-AD$71-AD$81)*$B72),MIN((-AD$14-AD$59-AD$69-AD$79-AD$60-AD$70-AD$80-AD$61-AD$71-AD$81)*$B72,(AD$54+IF($B$59<>AD$31,SUM($C$33:AD$35),0))*$B72)))","v":0},{"$f":"IF((-AE$14-AE$59-AE$69-AE$79-AE$60-AE$70-AE$80-AE$61-AE$71-AE$81)<=0,0,IF($B$14=\"As Received\",MIN(AE$54*$B72,(-AE$14-AE$59-AE$69-AE$79-AE$60-AE$70-AE$80-AE$61-AE$71-AE$81)*$B72),MIN((-AE$14-AE$59-AE$69-AE$79-AE$60-AE$70-AE$80-AE$61-AE$71-AE$81)*$B72,(AE$54+IF($B$59<>AE$31,SUM($C$33:AE$35),0))*$B72)))","v":0},{"$f":"IF((-AF$14-AF$59-AF$69-AF$79-AF$60-AF$70-AF$80-AF$61-AF$71-AF$81)<=0,0,IF($B$14=\"As Received\",MIN(AF$54*$B72,(-AF$14-AF$59-AF$69-AF$79-AF$60-AF$70-AF$80-AF$61-AF$71-AF$81)*$B72),MIN((-AF$14-AF$59-AF$69-AF$79-AF$60-AF$70-AF$80-AF$61-AF$71-AF$81)*$B72,(AF$54+IF($B$59<>AF$31,SUM($C$33:AF$35),0))*$B72)))","v":0},{"$f":"IF((-AG$14-AG$59-AG$69-AG$79-AG$60-AG$70-AG$80-AG$61-AG$71-AG$81)<=0,0,IF($B$14=\"As Received\",MIN(AG$54*$B72,(-AG$14-AG$59-AG$69-AG$79-AG$60-AG$70-AG$80-AG$61-AG$71-AG$81)*$B72),MIN((-AG$14-AG$59-AG$69-AG$79-AG$60-AG$70-AG$80-AG$61-AG$71-AG$81)*$B72,(AG$54+IF($B$59<>AG$31,SUM($C$33:AG$35),0))*$B72)))","v":0},{"$f":"IF((-AH$14-AH$59-AH$69-AH$79-AH$60-AH$70-AH$80-AH$61-AH$71-AH$81)<=0,0,IF($B$14=\"As Received\",MIN(AH$54*$B72,(-AH$14-AH$59-AH$69-AH$79-AH$60-AH$70-AH$80-AH$61-AH$71-AH$81)*$B72),MIN((-AH$14-AH$59-AH$69-AH$79-AH$60-AH$70-AH$80-AH$61-AH$71-AH$81)*$B72,(AH$54+IF($B$59<>AH$31,SUM($C$33:AH$35),0))*$B72)))","v":0},{"$f":"IF((-AI$14-AI$59-AI$69-AI$79-AI$60-AI$70-AI$80-AI$61-AI$71-AI$81)<=0,0,IF($B$14=\"As Received\",MIN(AI$54*$B72,(-AI$14-AI$59-AI$69-AI$79-AI$60-AI$70-AI$80-AI$61-AI$71-AI$81)*$B72),MIN((-AI$14-AI$59-AI$69-AI$79-AI$60-AI$70-AI$80-AI$61-AI$71-AI$81)*$B72,(AI$54+IF($B$59<>AI$31,SUM($C$33:AI$35),0))*$B72)))","v":0},{"$f":"IF((-AJ$14-AJ$59-AJ$69-AJ$79-AJ$60-AJ$70-AJ$80-AJ$61-AJ$71-AJ$81)<=0,0,IF($B$14=\"As Received\",MIN(AJ$54*$B72,(-AJ$14-AJ$59-AJ$69-AJ$79-AJ$60-AJ$70-AJ$80-AJ$61-AJ$71-AJ$81)*$B72),MIN((-AJ$14-AJ$59-AJ$69-AJ$79-AJ$60-AJ$70-AJ$80-AJ$61-AJ$71-AJ$81)*$B72,(AJ$54+IF($B$59<>AJ$31,SUM($C$33:AJ$35),0))*$B72)))","v":0},{"$f":"IF((-AK$14-AK$59-AK$69-AK$79-AK$60-AK$70-AK$80-AK$61-AK$71-AK$81)<=0,0,IF($B$14=\"As Received\",MIN(AK$54*$B72,(-AK$14-AK$59-AK$69-AK$79-AK$60-AK$70-AK$80-AK$61-AK$71-AK$81)*$B72),MIN((-AK$14-AK$59-AK$69-AK$79-AK$60-AK$70-AK$80-AK$61-AK$71-AK$81)*$B72,(AK$54+IF($B$59<>AK$31,SUM($C$33:AK$35),0))*$B72)))","v":0},{"$f":"IF((-AL$14-AL$59-AL$69-AL$79-AL$60-AL$70-AL$80-AL$61-AL$71-AL$81)<=0,0,IF($B$14=\"As Received\",MIN(AL$54*$B72,(-AL$14-AL$59-AL$69-AL$79-AL$60-AL$70-AL$80-AL$61-AL$71-AL$81)*$B72),MIN((-AL$14-AL$59-AL$69-AL$79-AL$60-AL$70-AL$80-AL$61-AL$71-AL$81)*$B72,(AL$54+IF($B$59<>AL$31,SUM($C$33:AL$35),0))*$B72)))","v":0},{"$f":"IF((-AM$14-AM$59-AM$69-AM$79-AM$60-AM$70-AM$80-AM$61-AM$71-AM$81)<=0,0,IF($B$14=\"As Received\",MIN(AM$54*$B72,(-AM$14-AM$59-AM$69-AM$79-AM$60-AM$70-AM$80-AM$61-AM$71-AM$81)*$B72),MIN((-AM$14-AM$59-AM$69-AM$79-AM$60-AM$70-AM$80-AM$61-AM$71-AM$81)*$B72,(AM$54+IF($B$59<>AM$31,SUM($C$33:AM$35),0))*$B72)))","v":0},{"$f":"IF((-AN$14-AN$59-AN$69-AN$79-AN$60-AN$70-AN$80-AN$61-AN$71-AN$81)<=0,0,IF($B$14=\"As Received\",MIN(AN$54*$B72,(-AN$14-AN$59-AN$69-AN$79-AN$60-AN$70-AN$80-AN$61-AN$71-AN$81)*$B72),MIN((-AN$14-AN$59-AN$69-AN$79-AN$60-AN$70-AN$80-AN$61-AN$71-AN$81)*$B72,(AN$54+IF($B$59<>AN$31,SUM($C$33:AN$35),0))*$B72)))","v":0},{"$f":"IF((-AO$14-AO$59-AO$69-AO$79-AO$60-AO$70-AO$80-AO$61-AO$71-AO$81)<=0,0,IF($B$14=\"As Received\",MIN(AO$54*$B72,(-AO$14-AO$59-AO$69-AO$79-AO$60-AO$70-AO$80-AO$61-AO$71-AO$81)*$B72),MIN((-AO$14-AO$59-AO$69-AO$79-AO$60-AO$70-AO$80-AO$61-AO$71-AO$81)*$B72,(AO$54+IF($B$59<>AO$31,SUM($C$33:AO$35),0))*$B72)))","v":0},{"$f":"IF((-AP$14-AP$59-AP$69-AP$79-AP$60-AP$70-AP$80-AP$61-AP$71-AP$81)<=0,0,IF($B$14=\"As Received\",MIN(AP$54*$B72,(-AP$14-AP$59-AP$69-AP$79-AP$60-AP$70-AP$80-AP$61-AP$71-AP$81)*$B72),MIN((-AP$14-AP$59-AP$69-AP$79-AP$60-AP$70-AP$80-AP$61-AP$71-AP$81)*$B72,(AP$54+IF($B$59<>AP$31,SUM($C$33:AP$35),0))*$B72)))","v":0},{"$f":"IF((-AQ$14-AQ$59-AQ$69-AQ$79-AQ$60-AQ$70-AQ$80-AQ$61-AQ$71-AQ$81)<=0,0,IF($B$14=\"As Received\",MIN(AQ$54*$B72,(-AQ$14-AQ$59-AQ$69-AQ$79-AQ$60-AQ$70-AQ$80-AQ$61-AQ$71-AQ$81)*$B72),MIN((-AQ$14-AQ$59-AQ$69-AQ$79-AQ$60-AQ$70-AQ$80-AQ$61-AQ$71-AQ$81)*$B72,(AQ$54+IF($B$59<>AQ$31,SUM($C$33:AQ$35),0))*$B72)))","v":0},{"$f":"IF((-AR$14-AR$59-AR$69-AR$79-AR$60-AR$70-AR$80-AR$61-AR$71-AR$81)<=0,0,IF($B$14=\"As Received\",MIN(AR$54*$B72,(-AR$14-AR$59-AR$69-AR$79-AR$60-AR$70-AR$80-AR$61-AR$71-AR$81)*$B72),MIN((-AR$14-AR$59-AR$69-AR$79-AR$60-AR$70-AR$80-AR$61-AR$71-AR$81)*$B72,(AR$54+IF($B$59<>AR$31,SUM($C$33:AR$35),0))*$B72)))","v":0},{"$f":"IF((-AS$14-AS$59-AS$69-AS$79-AS$60-AS$70-AS$80-AS$61-AS$71-AS$81)<=0,0,IF($B$14=\"As Received\",MIN(AS$54*$B72,(-AS$14-AS$59-AS$69-AS$79-AS$60-AS$70-AS$80-AS$61-AS$71-AS$81)*$B72),MIN((-AS$14-AS$59-AS$69-AS$79-AS$60-AS$70-AS$80-AS$61-AS$71-AS$81)*$B72,(AS$54+IF($B$59<>AS$31,SUM($C$33:AS$35),0))*$B72)))","v":0},{"$f":"IF((-AT$14-AT$59-AT$69-AT$79-AT$60-AT$70-AT$80-AT$61-AT$71-AT$81)<=0,0,IF($B$14=\"As Received\",MIN(AT$54*$B72,(-AT$14-AT$59-AT$69-AT$79-AT$60-AT$70-AT$80-AT$61-AT$71-AT$81)*$B72),MIN((-AT$14-AT$59-AT$69-AT$79-AT$60-AT$70-AT$80-AT$61-AT$71-AT$81)*$B72,(AT$54+IF($B$59<>AT$31,SUM($C$33:AT$35),0))*$B72)))","v":0},{"$f":"IF((-AU$14-AU$59-AU$69-AU$79-AU$60-AU$70-AU$80-AU$61-AU$71-AU$81)<=0,0,IF($B$14=\"As Received\",MIN(AU$54*$B72,(-AU$14-AU$59-AU$69-AU$79-AU$60-AU$70-AU$80-AU$61-AU$71-AU$81)*$B72),MIN((-AU$14-AU$59-AU$69-AU$79-AU$60-AU$70-AU$80-AU$61-AU$71-AU$81)*$B72,(AU$54+IF($B$59<>AU$31,SUM($C$33:AU$35),0))*$B72)))","v":0},{"$f":"IF((-AV$14-AV$59-AV$69-AV$79-AV$60-AV$70-AV$80-AV$61-AV$71-AV$81)<=0,0,IF($B$14=\"As Received\",MIN(AV$54*$B72,(-AV$14-AV$59-AV$69-AV$79-AV$60-AV$70-AV$80-AV$61-AV$71-AV$81)*$B72),MIN((-AV$14-AV$59-AV$69-AV$79-AV$60-AV$70-AV$80-AV$61-AV$71-AV$81)*$B72,(AV$54+IF($B$59<>AV$31,SUM($C$33:AV$35),0))*$B72)))","v":0},{"$f":"IF((-AW$14-AW$59-AW$69-AW$79-AW$60-AW$70-AW$80-AW$61-AW$71-AW$81)<=0,0,IF($B$14=\"As Received\",MIN(AW$54*$B72,(-AW$14-AW$59-AW$69-AW$79-AW$60-AW$70-AW$80-AW$61-AW$71-AW$81)*$B72),MIN((-AW$14-AW$59-AW$69-AW$79-AW$60-AW$70-AW$80-AW$61-AW$71-AW$81)*$B72,(AW$54+IF($B$59<>AW$31,SUM($C$33:AW$35),0))*$B72)))","v":0},{"$f":"IF((-AX$14-AX$59-AX$69-AX$79-AX$60-AX$70-AX$80-AX$61-AX$71-AX$81)<=0,0,IF($B$14=\"As Received\",MIN(AX$54*$B72,(-AX$14-AX$59-AX$69-AX$79-AX$60-AX$70-AX$80-AX$61-AX$71-AX$81)*$B72),MIN((-AX$14-AX$59-AX$69-AX$79-AX$60-AX$70-AX$80-AX$61-AX$71-AX$81)*$B72,(AX$54+IF($B$59<>AX$31,SUM($C$33:AX$35),0))*$B72)))","v":0},{"$f":"IF((-AY$14-AY$59-AY$69-AY$79-AY$60-AY$70-AY$80-AY$61-AY$71-AY$81)<=0,0,IF($B$14=\"As Received\",MIN(AY$54*$B72,(-AY$14-AY$59-AY$69-AY$79-AY$60-AY$70-AY$80-AY$61-AY$71-AY$81)*$B72),MIN((-AY$14-AY$59-AY$69-AY$79-AY$60-AY$70-AY$80-AY$61-AY$71-AY$81)*$B72,(AY$54+IF($B$59<>AY$31,SUM($C$33:AY$35),0))*$B72)))","v":0},{"$f":"IF((-AZ$14-AZ$59-AZ$69-AZ$79-AZ$60-AZ$70-AZ$80-AZ$61-AZ$71-AZ$81)<=0,0,IF($B$14=\"As Received\",MIN(AZ$54*$B72,(-AZ$14-AZ$59-AZ$69-AZ$79-AZ$60-AZ$70-AZ$80-AZ$61-AZ$71-AZ$81)*$B72),MIN((-AZ$14-AZ$59-AZ$69-AZ$79-AZ$60-AZ$70-AZ$80-AZ$61-AZ$71-AZ$81)*$B72,(AZ$54+IF($B$59<>AZ$31,SUM($C$33:AZ$35),0))*$B72)))","v":0},{"$f":"IF((-BA$14-BA$59-BA$69-BA$79-BA$60-BA$70-BA$80-BA$61-BA$71-BA$81)<=0,0,IF($B$14=\"As Received\",MIN(BA$54*$B72,(-BA$14-BA$59-BA$69-BA$79-BA$60-BA$70-BA$80-BA$61-BA$71-BA$81)*$B72),MIN((-BA$14-BA$59-BA$69-BA$79-BA$60-BA$70-BA$80-BA$61-BA$71-BA$81)*$B72,(BA$54+IF($B$59<>BA$31,SUM($C$33:BA$35),0))*$B72)))","v":0},{"$f":"IF((-BB$14-BB$59-BB$69-BB$79-BB$60-BB$70-BB$80-BB$61-BB$71-BB$81)<=0,0,IF($B$14=\"As Received\",MIN(BB$54*$B72,(-BB$14-BB$59-BB$69-BB$79-BB$60-BB$70-BB$80-BB$61-BB$71-BB$81)*$B72),MIN((-BB$14-BB$59-BB$69-BB$79-BB$60-BB$70-BB$80-BB$61-BB$71-BB$81)*$B72,(BB$54+IF($B$59<>BB$31,SUM($C$33:BB$35),0))*$B72)))","v":0},{"$f":"IF((-BC$14-BC$59-BC$69-BC$79-BC$60-BC$70-BC$80-BC$61-BC$71-BC$81)<=0,0,IF($B$14=\"As Received\",MIN(BC$54*$B72,(-BC$14-BC$59-BC$69-BC$79-BC$60-BC$70-BC$80-BC$61-BC$71-BC$81)*$B72),MIN((-BC$14-BC$59-BC$69-BC$79-BC$60-BC$70-BC$80-BC$61-BC$71-BC$81)*$B72,(BC$54+IF($B$59<>BC$31,SUM($C$33:BC$35),0))*$B72)))","v":0},{"$f":"IF((-BD$14-BD$59-BD$69-BD$79-BD$60-BD$70-BD$80-BD$61-BD$71-BD$81)<=0,0,IF($B$14=\"As Received\",MIN(BD$54*$B72,(-BD$14-BD$59-BD$69-BD$79-BD$60-BD$70-BD$80-BD$61-BD$71-BD$81)*$B72),MIN((-BD$14-BD$59-BD$69-BD$79-BD$60-BD$70-BD$80-BD$61-BD$71-BD$81)*$B72,(BD$54+IF($B$59<>BD$31,SUM($C$33:BD$35),0))*$B72)))","v":0},{"$f":"IF((-BE$14-BE$59-BE$69-BE$79-BE$60-BE$70-BE$80-BE$61-BE$71-BE$81)<=0,0,IF($B$14=\"As Received\",MIN(BE$54*$B72,(-BE$14-BE$59-BE$69-BE$79-BE$60-BE$70-BE$80-BE$61-BE$71-BE$81)*$B72),MIN((-BE$14-BE$59-BE$69-BE$79-BE$60-BE$70-BE$80-BE$61-BE$71-BE$81)*$B72,(BE$54+IF($B$59<>BE$31,SUM($C$33:BE$35),0))*$B72)))","v":0},{"$f":"IF((-BF$14-BF$59-BF$69-BF$79-BF$60-BF$70-BF$80-BF$61-BF$71-BF$81)<=0,0,IF($B$14=\"As Received\",MIN(BF$54*$B72,(-BF$14-BF$59-BF$69-BF$79-BF$60-BF$70-BF$80-BF$61-BF$71-BF$81)*$B72),MIN((-BF$14-BF$59-BF$69-BF$79-BF$60-BF$70-BF$80-BF$61-BF$71-BF$81)*$B72,(BF$54+IF($B$59<>BF$31,SUM($C$33:BF$35),0))*$B72)))","v":0},{"$f":"IF((-BG$14-BG$59-BG$69-BG$79-BG$60-BG$70-BG$80-BG$61-BG$71-BG$81)<=0,0,IF($B$14=\"As Received\",MIN(BG$54*$B72,(-BG$14-BG$59-BG$69-BG$79-BG$60-BG$70-BG$80-BG$61-BG$71-BG$81)*$B72),MIN((-BG$14-BG$59-BG$69-BG$79-BG$60-BG$70-BG$80-BG$61-BG$71-BG$81)*$B72,(BG$54+IF($B$59<>BG$31,SUM($C$33:BG$35),0))*$B72)))","v":0},{"$f":"IF((-BH$14-BH$59-BH$69-BH$79-BH$60-BH$70-BH$80-BH$61-BH$71-BH$81)<=0,0,IF($B$14=\"As Received\",MIN(BH$54*$B72,(-BH$14-BH$59-BH$69-BH$79-BH$60-BH$70-BH$80-BH$61-BH$71-BH$81)*$B72),MIN((-BH$14-BH$59-BH$69-BH$79-BH$60-BH$70-BH$80-BH$61-BH$71-BH$81)*$B72,(BH$54+IF($B$59<>BH$31,SUM($C$33:BH$35),0))*$B72)))","v":0},{"$f":"IF((-BI$14-BI$59-BI$69-BI$79-BI$60-BI$70-BI$80-BI$61-BI$71-BI$81)<=0,0,IF($B$14=\"As Received\",MIN(BI$54*$B72,(-BI$14-BI$59-BI$69-BI$79-BI$60-BI$70-BI$80-BI$61-BI$71-BI$81)*$B72),MIN((-BI$14-BI$59-BI$69-BI$79-BI$60-BI$70-BI$80-BI$61-BI$71-BI$81)*$B72,(BI$54+IF($B$59<>BI$31,SUM($C$33:BI$35),0))*$B72)))","v":0},{"$f":"IF((-BJ$14-BJ$59-BJ$69-BJ$79-BJ$60-BJ$70-BJ$80-BJ$61-BJ$71-BJ$81)<=0,0,IF($B$14=\"As Received\",MIN(BJ$54*$B72,(-BJ$14-BJ$59-BJ$69-BJ$79-BJ$60-BJ$70-BJ$80-BJ$61-BJ$71-BJ$81)*$B72),MIN((-BJ$14-BJ$59-BJ$69-BJ$79-BJ$60-BJ$70-BJ$80-BJ$61-BJ$71-BJ$81)*$B72,(BJ$54+IF($B$59<>BJ$31,SUM($C$33:BJ$35),0))*$B72)))","v":0},{"$f":"IF((-BK$14-BK$59-BK$69-BK$79-BK$60-BK$70-BK$80-BK$61-BK$71-BK$81)<=0,0,IF($B$14=\"As Received\",MIN(BK$54*$B72,(-BK$14-BK$59-BK$69-BK$79-BK$60-BK$70-BK$80-BK$61-BK$71-BK$81)*$B72),MIN((-BK$14-BK$59-BK$69-BK$79-BK$60-BK$70-BK$80-BK$61-BK$71-BK$81)*$B72,(BK$54+IF($B$59<>BK$31,SUM($C$33:BK$35),0))*$B72)))","v":0},{"$f":"IF((-BL$14-BL$59-BL$69-BL$79-BL$60-BL$70-BL$80-BL$61-BL$71-BL$81)<=0,0,IF($B$14=\"As Received\",MIN(BL$54*$B72,(-BL$14-BL$59-BL$69-BL$79-BL$60-BL$70-BL$80-BL$61-BL$71-BL$81)*$B72),MIN((-BL$14-BL$59-BL$69-BL$79-BL$60-BL$70-BL$80-BL$61-BL$71-BL$81)*$B72,(BL$54+IF($B$59<>BL$31,SUM($C$33:BL$35),0))*$B72)))","v":0},{"$f":"IF((-BM$14-BM$59-BM$69-BM$79-BM$60-BM$70-BM$80-BM$61-BM$71-BM$81)<=0,0,IF($B$14=\"As Received\",MIN(BM$54*$B72,(-BM$14-BM$59-BM$69-BM$79-BM$60-BM$70-BM$80-BM$61-BM$71-BM$81)*$B72),MIN((-BM$14-BM$59-BM$69-BM$79-BM$60-BM$70-BM$80-BM$61-BM$71-BM$81)*$B72,(BM$54+IF($B$59<>BM$31,SUM($C$33:BM$35),0))*$B72)))","v":0},{"$f":"IF((-BN$14-BN$59-BN$69-BN$79-BN$60-BN$70-BN$80-BN$61-BN$71-BN$81)<=0,0,IF($B$14=\"As Received\",MIN(BN$54*$B72,(-BN$14-BN$59-BN$69-BN$79-BN$60-BN$70-BN$80-BN$61-BN$71-BN$81)*$B72),MIN((-BN$14-BN$59-BN$69-BN$79-BN$60-BN$70-BN$80-BN$61-BN$71-BN$81)*$B72,(BN$54+IF($B$59<>BN$31,SUM($C$33:BN$35),0))*$B72)))","v":0},{"$f":"IF((-BO$14-BO$59-BO$69-BO$79-BO$60-BO$70-BO$80-BO$61-BO$71-BO$81)<=0,0,IF($B$14=\"As Received\",MIN(BO$54*$B72,(-BO$14-BO$59-BO$69-BO$79-BO$60-BO$70-BO$80-BO$61-BO$71-BO$81)*$B72),MIN((-BO$14-BO$59-BO$69-BO$79-BO$60-BO$70-BO$80-BO$61-BO$71-BO$81)*$B72,(BO$54+IF($B$59<>BO$31,SUM($C$33:BO$35),0))*$B72)))","v":0},{"$f":"IF((-BP$14-BP$59-BP$69-BP$79-BP$60-BP$70-BP$80-BP$61-BP$71-BP$81)<=0,0,IF($B$14=\"As Received\",MIN(BP$54*$B72,(-BP$14-BP$59-BP$69-BP$79-BP$60-BP$70-BP$80-BP$61-BP$71-BP$81)*$B72),MIN((-BP$14-BP$59-BP$69-BP$79-BP$60-BP$70-BP$80-BP$61-BP$71-BP$81)*$B72,(BP$54+IF($B$59<>BP$31,SUM($C$33:BP$35),0))*$B72)))","v":0},{"$f":"IF((-BQ$14-BQ$59-BQ$69-BQ$79-BQ$60-BQ$70-BQ$80-BQ$61-BQ$71-BQ$81)<=0,0,IF($B$14=\"As Received\",MIN(BQ$54*$B72,(-BQ$14-BQ$59-BQ$69-BQ$79-BQ$60-BQ$70-BQ$80-BQ$61-BQ$71-BQ$81)*$B72),MIN((-BQ$14-BQ$59-BQ$69-BQ$79-BQ$60-BQ$70-BQ$80-BQ$61-BQ$71-BQ$81)*$B72,(BQ$54+IF($B$59<>BQ$31,SUM($C$33:BQ$35),0))*$B72)))","v":0},{"$f":"IF((-BR$14-BR$59-BR$69-BR$79-BR$60-BR$70-BR$80-BR$61-BR$71-BR$81)<=0,0,IF($B$14=\"As Received\",MIN(BR$54*$B72,(-BR$14-BR$59-BR$69-BR$79-BR$60-BR$70-BR$80-BR$61-BR$71-BR$81)*$B72),MIN((-BR$14-BR$59-BR$69-BR$79-BR$60-BR$70-BR$80-BR$61-BR$71-BR$81)*$B72,(BR$54+IF($B$59<>BR$31,SUM($C$33:BR$35),0))*$B72)))","v":0},{"$f":"IF((-BS$14-BS$59-BS$69-BS$79-BS$60-BS$70-BS$80-BS$61-BS$71-BS$81)<=0,0,IF($B$14=\"As Received\",MIN(BS$54*$B72,(-BS$14-BS$59-BS$69-BS$79-BS$60-BS$70-BS$80-BS$61-BS$71-BS$81)*$B72),MIN((-BS$14-BS$59-BS$69-BS$79-BS$60-BS$70-BS$80-BS$61-BS$71-BS$81)*$B72,(BS$54+IF($B$59<>BS$31,SUM($C$33:BS$35),0))*$B72)))","v":0},{"$f":"IF((-BT$14-BT$59-BT$69-BT$79-BT$60-BT$70-BT$80-BT$61-BT$71-BT$81)<=0,0,IF($B$14=\"As Received\",MIN(BT$54*$B72,(-BT$14-BT$59-BT$69-BT$79-BT$60-BT$70-BT$80-BT$61-BT$71-BT$81)*$B72),MIN((-BT$14-BT$59-BT$69-BT$79-BT$60-BT$70-BT$80-BT$61-BT$71-BT$81)*$B72,(BT$54+IF($B$59<>BT$31,SUM($C$33:BT$35),0))*$B72)))","v":0},{"$f":"IF((-BU$14-BU$59-BU$69-BU$79-BU$60-BU$70-BU$80-BU$61-BU$71-BU$81)<=0,0,IF($B$14=\"As Received\",MIN(BU$54*$B72,(-BU$14-BU$59-BU$69-BU$79-BU$60-BU$70-BU$80-BU$61-BU$71-BU$81)*$B72),MIN((-BU$14-BU$59-BU$69-BU$79-BU$60-BU$70-BU$80-BU$61-BU$71-BU$81)*$B72,(BU$54+IF($B$59<>BU$31,SUM($C$33:BU$35),0))*$B72)))","v":0},{"$f":"IF((-BV$14-BV$59-BV$69-BV$79-BV$60-BV$70-BV$80-BV$61-BV$71-BV$81)<=0,0,IF($B$14=\"As Received\",MIN(BV$54*$B72,(-BV$14-BV$59-BV$69-BV$79-BV$60-BV$70-BV$80-BV$61-BV$71-BV$81)*$B72),MIN((-BV$14-BV$59-BV$69-BV$79-BV$60-BV$70-BV$80-BV$61-BV$71-BV$81)*$B72,(BV$54+IF($B$59<>BV$31,SUM($C$33:BV$35),0))*$B72)))","v":0},{"$f":"IF((-BW$14-BW$59-BW$69-BW$79-BW$60-BW$70-BW$80-BW$61-BW$71-BW$81)<=0,0,IF($B$14=\"As Received\",MIN(BW$54*$B72,(-BW$14-BW$59-BW$69-BW$79-BW$60-BW$70-BW$80-BW$61-BW$71-BW$81)*$B72),MIN((-BW$14-BW$59-BW$69-BW$79-BW$60-BW$70-BW$80-BW$61-BW$71-BW$81)*$B72,(BW$54+IF($B$59<>BW$31,SUM($C$33:BW$35),0))*$B72)))","v":0},{"$f":"IF((-BX$14-BX$59-BX$69-BX$79-BX$60-BX$70-BX$80-BX$61-BX$71-BX$81)<=0,0,IF($B$14=\"As Received\",MIN(BX$54*$B72,(-BX$14-BX$59-BX$69-BX$79-BX$60-BX$70-BX$80-BX$61-BX$71-BX$81)*$B72),MIN((-BX$14-BX$59-BX$69-BX$79-BX$60-BX$70-BX$80-BX$61-BX$71-BX$81)*$B72,(BX$54+IF($B$59<>BX$31,SUM($C$33:BX$35),0))*$B72)))","v":0},{"$f":"IF((-BY$14-BY$59-BY$69-BY$79-BY$60-BY$70-BY$80-BY$61-BY$71-BY$81)<=0,0,IF($B$14=\"As Received\",MIN(BY$54*$B72,(-BY$14-BY$59-BY$69-BY$79-BY$60-BY$70-BY$80-BY$61-BY$71-BY$81)*$B72),MIN((-BY$14-BY$59-BY$69-BY$79-BY$60-BY$70-BY$80-BY$61-BY$71-BY$81)*$B72,(BY$54+IF($B$59<>BY$31,SUM($C$33:BY$35),0))*$B72)))","v":0},{"$f":"IF((-BZ$14-BZ$59-BZ$69-BZ$79-BZ$60-BZ$70-BZ$80-BZ$61-BZ$71-BZ$81)<=0,0,IF($B$14=\"As Received\",MIN(BZ$54*$B72,(-BZ$14-BZ$59-BZ$69-BZ$79-BZ$60-BZ$70-BZ$80-BZ$61-BZ$71-BZ$81)*$B72),MIN((-BZ$14-BZ$59-BZ$69-BZ$79-BZ$60-BZ$70-BZ$80-BZ$61-BZ$71-BZ$81)*$B72,(BZ$54+IF($B$59<>BZ$31,SUM($C$33:BZ$35),0))*$B72)))","v":0},{"$f":"IF((-CA$14-CA$59-CA$69-CA$79-CA$60-CA$70-CA$80-CA$61-CA$71-CA$81)<=0,0,IF($B$14=\"As Received\",MIN(CA$54*$B72,(-CA$14-CA$59-CA$69-CA$79-CA$60-CA$70-CA$80-CA$61-CA$71-CA$81)*$B72),MIN((-CA$14-CA$59-CA$69-CA$79-CA$60-CA$70-CA$80-CA$61-CA$71-CA$81)*$B72,(CA$54+IF($B$59<>CA$31,SUM($C$33:CA$35),0))*$B72)))","v":0},{"$f":"IF((-CB$14-CB$59-CB$69-CB$79-CB$60-CB$70-CB$80-CB$61-CB$71-CB$81)<=0,0,IF($B$14=\"As Received\",MIN(CB$54*$B72,(-CB$14-CB$59-CB$69-CB$79-CB$60-CB$70-CB$80-CB$61-CB$71-CB$81)*$B72),MIN((-CB$14-CB$59-CB$69-CB$79-CB$60-CB$70-CB$80-CB$61-CB$71-CB$81)*$B72,(CB$54+IF($B$59<>CB$31,SUM($C$33:CB$35),0))*$B72)))","v":0},{"$f":"IF((-CC$14-CC$59-CC$69-CC$79-CC$60-CC$70-CC$80-CC$61-CC$71-CC$81)<=0,0,IF($B$14=\"As Received\",MIN(CC$54*$B72,(-CC$14-CC$59-CC$69-CC$79-CC$60-CC$70-CC$80-CC$61-CC$71-CC$81)*$B72),MIN((-CC$14-CC$59-CC$69-CC$79-CC$60-CC$70-CC$80-CC$61-CC$71-CC$81)*$B72,(CC$54+IF($B$59<>CC$31,SUM($C$33:CC$35),0))*$B72)))","v":0},{"$f":"IF((-CD$14-CD$59-CD$69-CD$79-CD$60-CD$70-CD$80-CD$61-CD$71-CD$81)<=0,0,IF($B$14=\"As Received\",MIN(CD$54*$B72,(-CD$14-CD$59-CD$69-CD$79-CD$60-CD$70-CD$80-CD$61-CD$71-CD$81)*$B72),MIN((-CD$14-CD$59-CD$69-CD$79-CD$60-CD$70-CD$80-CD$61-CD$71-CD$81)*$B72,(CD$54+IF($B$59<>CD$31,SUM($C$33:CD$35),0))*$B72)))","v":0},{"$f":"IF((-CE$14-CE$59-CE$69-CE$79-CE$60-CE$70-CE$80-CE$61-CE$71-CE$81)<=0,0,IF($B$14=\"As Received\",MIN(CE$54*$B72,(-CE$14-CE$59-CE$69-CE$79-CE$60-CE$70-CE$80-CE$61-CE$71-CE$81)*$B72),MIN((-CE$14-CE$59-CE$69-CE$79-CE$60-CE$70-CE$80-CE$61-CE$71-CE$81)*$B72,(CE$54+IF($B$59<>CE$31,SUM($C$33:CE$35),0))*$B72)))","v":0},{"$f":"IF((-CF$14-CF$59-CF$69-CF$79-CF$60-CF$70-CF$80-CF$61-CF$71-CF$81)<=0,0,IF($B$14=\"As Received\",MIN(CF$54*$B72,(-CF$14-CF$59-CF$69-CF$79-CF$60-CF$70-CF$80-CF$61-CF$71-CF$81)*$B72),MIN((-CF$14-CF$59-CF$69-CF$79-CF$60-CF$70-CF$80-CF$61-CF$71-CF$81)*$B72,(CF$54+IF($B$59<>CF$31,SUM($C$33:CF$35),0))*$B72)))","v":0},{"$f":"IF((-CG$14-CG$59-CG$69-CG$79-CG$60-CG$70-CG$80-CG$61-CG$71-CG$81)<=0,0,IF($B$14=\"As Received\",MIN(CG$54*$B72,(-CG$14-CG$59-CG$69-CG$79-CG$60-CG$70-CG$80-CG$61-CG$71-CG$81)*$B72),MIN((-CG$14-CG$59-CG$69-CG$79-CG$60-CG$70-CG$80-CG$61-CG$71-CG$81)*$B72,(CG$54+IF($B$59<>CG$31,SUM($C$33:CG$35),0))*$B72)))","v":0},{"$f":"IF((-CH$14-CH$59-CH$69-CH$79-CH$60-CH$70-CH$80-CH$61-CH$71-CH$81)<=0,0,IF($B$14=\"As Received\",MIN(CH$54*$B72,(-CH$14-CH$59-CH$69-CH$79-CH$60-CH$70-CH$80-CH$61-CH$71-CH$81)*$B72),MIN((-CH$14-CH$59-CH$69-CH$79-CH$60-CH$70-CH$80-CH$61-CH$71-CH$81)*$B72,(CH$54+IF($B$59<>CH$31,SUM($C$33:CH$35),0))*$B72)))","v":0},{"$f":"IF((-CI$14-CI$59-CI$69-CI$79-CI$60-CI$70-CI$80-CI$61-CI$71-CI$81)<=0,0,IF($B$14=\"As Received\",MIN(CI$54*$B72,(-CI$14-CI$59-CI$69-CI$79-CI$60-CI$70-CI$80-CI$61-CI$71-CI$81)*$B72),MIN((-CI$14-CI$59-CI$69-CI$79-CI$60-CI$70-CI$80-CI$61-CI$71-CI$81)*$B72,(CI$54+IF($B$59<>CI$31,SUM($C$33:CI$35),0))*$B72)))","v":0},{"$f":"IF((-CJ$14-CJ$59-CJ$69-CJ$79-CJ$60-CJ$70-CJ$80-CJ$61-CJ$71-CJ$81)<=0,0,IF($B$14=\"As Received\",MIN(CJ$54*$B72,(-CJ$14-CJ$59-CJ$69-CJ$79-CJ$60-CJ$70-CJ$80-CJ$61-CJ$71-CJ$81)*$B72),MIN((-CJ$14-CJ$59-CJ$69-CJ$79-CJ$60-CJ$70-CJ$80-CJ$61-CJ$71-CJ$81)*$B72,(CJ$54+IF($B$59<>CJ$31,SUM($C$33:CJ$35),0))*$B72)))","v":0},{"$f":"IF((-CK$14-CK$59-CK$69-CK$79-CK$60-CK$70-CK$80-CK$61-CK$71-CK$81)<=0,0,IF($B$14=\"As Received\",MIN(CK$54*$B72,(-CK$14-CK$59-CK$69-CK$79-CK$60-CK$70-CK$80-CK$61-CK$71-CK$81)*$B72),MIN((-CK$14-CK$59-CK$69-CK$79-CK$60-CK$70-CK$80-CK$61-CK$71-CK$81)*$B72,(CK$54+IF($B$59<>CK$31,SUM($C$33:CK$35),0))*$B72)))","v":0},{"$f":"IF((-CL$14-CL$59-CL$69-CL$79-CL$60-CL$70-CL$80-CL$61-CL$71-CL$81)<=0,0,IF($B$14=\"As Received\",MIN(CL$54*$B72,(-CL$14-CL$59-CL$69-CL$79-CL$60-CL$70-CL$80-CL$61-CL$71-CL$81)*$B72),MIN((-CL$14-CL$59-CL$69-CL$79-CL$60-CL$70-CL$80-CL$61-CL$71-CL$81)*$B72,(CL$54+IF($B$59<>CL$31,SUM($C$33:CL$35),0))*$B72)))","v":0},{"$f":"IF((-CM$14-CM$59-CM$69-CM$79-CM$60-CM$70-CM$80-CM$61-CM$71-CM$81)<=0,0,IF($B$14=\"As Received\",MIN(CM$54*$B72,(-CM$14-CM$59-CM$69-CM$79-CM$60-CM$70-CM$80-CM$61-CM$71-CM$81)*$B72),MIN((-CM$14-CM$59-CM$69-CM$79-CM$60-CM$70-CM$80-CM$61-CM$71-CM$81)*$B72,(CM$54+IF($B$59<>CM$31,SUM($C$33:CM$35),0))*$B72)))","v":0},{"$f":"IF((-CN$14-CN$59-CN$69-CN$79-CN$60-CN$70-CN$80-CN$61-CN$71-CN$81)<=0,0,IF($B$14=\"As Received\",MIN(CN$54*$B72,(-CN$14-CN$59-CN$69-CN$79-CN$60-CN$70-CN$80-CN$61-CN$71-CN$81)*$B72),MIN((-CN$14-CN$59-CN$69-CN$79-CN$60-CN$70-CN$80-CN$61-CN$71-CN$81)*$B72,(CN$54+IF($B$59<>CN$31,SUM($C$33:CN$35),0))*$B72)))","v":0},{"$f":"IF((-CO$14-CO$59-CO$69-CO$79-CO$60-CO$70-CO$80-CO$61-CO$71-CO$81)<=0,0,IF($B$14=\"As Received\",MIN(CO$54*$B72,(-CO$14-CO$59-CO$69-CO$79-CO$60-CO$70-CO$80-CO$61-CO$71-CO$81)*$B72),MIN((-CO$14-CO$59-CO$69-CO$79-CO$60-CO$70-CO$80-CO$61-CO$71-CO$81)*$B72,(CO$54+IF($B$59<>CO$31,SUM($C$33:CO$35),0))*$B72)))","v":0},{"$f":"IF((-CP$14-CP$59-CP$69-CP$79-CP$60-CP$70-CP$80-CP$61-CP$71-CP$81)<=0,0,IF($B$14=\"As Received\",MIN(CP$54*$B72,(-CP$14-CP$59-CP$69-CP$79-CP$60-CP$70-CP$80-CP$61-CP$71-CP$81)*$B72),MIN((-CP$14-CP$59-CP$69-CP$79-CP$60-CP$70-CP$80-CP$61-CP$71-CP$81)*$B72,(CP$54+IF($B$59<>CP$31,SUM($C$33:CP$35),0))*$B72)))","v":0},{"$f":"IF((-CQ$14-CQ$59-CQ$69-CQ$79-CQ$60-CQ$70-CQ$80-CQ$61-CQ$71-CQ$81)<=0,0,IF($B$14=\"As Received\",MIN(CQ$54*$B72,(-CQ$14-CQ$59-CQ$69-CQ$79-CQ$60-CQ$70-CQ$80-CQ$61-CQ$71-CQ$81)*$B72),MIN((-CQ$14-CQ$59-CQ$69-CQ$79-CQ$60-CQ$70-CQ$80-CQ$61-CQ$71-CQ$81)*$B72,(CQ$54+IF($B$59<>CQ$31,SUM($C$33:CQ$35),0))*$B72)))","v":0},{"$f":"IF((-CR$14-CR$59-CR$69-CR$79-CR$60-CR$70-CR$80-CR$61-CR$71-CR$81)<=0,0,IF($B$14=\"As Received\",MIN(CR$54*$B72,(-CR$14-CR$59-CR$69-CR$79-CR$60-CR$70-CR$80-CR$61-CR$71-CR$81)*$B72),MIN((-CR$14-CR$59-CR$69-CR$79-CR$60-CR$70-CR$80-CR$61-CR$71-CR$81)*$B72,(CR$54+IF($B$59<>CR$31,SUM($C$33:CR$35),0))*$B72)))","v":0},{"$f":"IF((-CS$14-CS$59-CS$69-CS$79-CS$60-CS$70-CS$80-CS$61-CS$71-CS$81)<=0,0,IF($B$14=\"As Received\",MIN(CS$54*$B72,(-CS$14-CS$59-CS$69-CS$79-CS$60-CS$70-CS$80-CS$61-CS$71-CS$81)*$B72),MIN((-CS$14-CS$59-CS$69-CS$79-CS$60-CS$70-CS$80-CS$61-CS$71-CS$81)*$B72,(CS$54+IF($B$59<>CS$31,SUM($C$33:CS$35),0))*$B72)))","v":0},{"$f":"IF((-CT$14-CT$59-CT$69-CT$79-CT$60-CT$70-CT$80-CT$61-CT$71-CT$81)<=0,0,IF($B$14=\"As Received\",MIN(CT$54*$B72,(-CT$14-CT$59-CT$69-CT$79-CT$60-CT$70-CT$80-CT$61-CT$71-CT$81)*$B72),MIN((-CT$14-CT$59-CT$69-CT$79-CT$60-CT$70-CT$80-CT$61-CT$71-CT$81)*$B72,(CT$54+IF($B$59<>CT$31,SUM($C$33:CT$35),0))*$B72)))","v":0},{"$f":"IF((-CU$14-CU$59-CU$69-CU$79-CU$60-CU$70-CU$80-CU$61-CU$71-CU$81)<=0,0,IF($B$14=\"As Received\",MIN(CU$54*$B72,(-CU$14-CU$59-CU$69-CU$79-CU$60-CU$70-CU$80-CU$61-CU$71-CU$81)*$B72),MIN((-CU$14-CU$59-CU$69-CU$79-CU$60-CU$70-CU$80-CU$61-CU$71-CU$81)*$B72,(CU$54+IF($B$59<>CU$31,SUM($C$33:CU$35),0))*$B72)))","v":0},{"$f":"IF((-CV$14-CV$59-CV$69-CV$79-CV$60-CV$70-CV$80-CV$61-CV$71-CV$81)<=0,0,IF($B$14=\"As Received\",MIN(CV$54*$B72,(-CV$14-CV$59-CV$69-CV$79-CV$60-CV$70-CV$80-CV$61-CV$71-CV$81)*$B72),MIN((-CV$14-CV$59-CV$69-CV$79-CV$60-CV$70-CV$80-CV$61-CV$71-CV$81)*$B72,(CV$54+IF($B$59<>CV$31,SUM($C$33:CV$35),0))*$B72)))","v":0},{"$f":"IF((-CW$14-CW$59-CW$69-CW$79-CW$60-CW$70-CW$80-CW$61-CW$71-CW$81)<=0,0,IF($B$14=\"As Received\",MIN(CW$54*$B72,(-CW$14-CW$59-CW$69-CW$79-CW$60-CW$70-CW$80-CW$61-CW$71-CW$81)*$B72),MIN((-CW$14-CW$59-CW$69-CW$79-CW$60-CW$70-CW$80-CW$61-CW$71-CW$81)*$B72,(CW$54+IF($B$59<>CW$31,SUM($C$33:CW$35),0))*$B72)))","v":0},{"$f":"IF((-CX$14-CX$59-CX$69-CX$79-CX$60-CX$70-CX$80-CX$61-CX$71-CX$81)<=0,0,IF($B$14=\"As Received\",MIN(CX$54*$B72,(-CX$14-CX$59-CX$69-CX$79-CX$60-CX$70-CX$80-CX$61-CX$71-CX$81)*$B72),MIN((-CX$14-CX$59-CX$69-CX$79-CX$60-CX$70-CX$80-CX$61-CX$71-CX$81)*$B72,(CX$54+IF($B$59<>CX$31,SUM($C$33:CX$35),0))*$B72)))","v":0},{"$f":"IF((-CY$14-CY$59-CY$69-CY$79-CY$60-CY$70-CY$80-CY$61-CY$71-CY$81)<=0,0,IF($B$14=\"As Received\",MIN(CY$54*$B72,(-CY$14-CY$59-CY$69-CY$79-CY$60-CY$70-CY$80-CY$61-CY$71-CY$81)*$B72),MIN((-CY$14-CY$59-CY$69-CY$79-CY$60-CY$70-CY$80-CY$61-CY$71-CY$81)*$B72,(CY$54+IF($B$59<>CY$31,SUM($C$33:CY$35),0))*$B72)))","v":0},{"$f":"IF((-CZ$14-CZ$59-CZ$69-CZ$79-CZ$60-CZ$70-CZ$80-CZ$61-CZ$71-CZ$81)<=0,0,IF($B$14=\"As Received\",MIN(CZ$54*$B72,(-CZ$14-CZ$59-CZ$69-CZ$79-CZ$60-CZ$70-CZ$80-CZ$61-CZ$71-CZ$81)*$B72),MIN((-CZ$14-CZ$59-CZ$69-CZ$79-CZ$60-CZ$70-CZ$80-CZ$61-CZ$71-CZ$81)*$B72,(CZ$54+IF($B$59<>CZ$31,SUM($C$33:CZ$35),0))*$B72)))","v":0},{"$f":"IF((-DA$14-DA$59-DA$69-DA$79-DA$60-DA$70-DA$80-DA$61-DA$71-DA$81)<=0,0,IF($B$14=\"As Received\",MIN(DA$54*$B72,(-DA$14-DA$59-DA$69-DA$79-DA$60-DA$70-DA$80-DA$61-DA$71-DA$81)*$B72),MIN((-DA$14-DA$59-DA$69-DA$79-DA$60-DA$70-DA$80-DA$61-DA$71-DA$81)*$B72,(DA$54+IF($B$59<>DA$31,SUM($C$33:DA$35),0))*$B72)))","v":0},{"$f":"IF((-DB$14-DB$59-DB$69-DB$79-DB$60-DB$70-DB$80-DB$61-DB$71-DB$81)<=0,0,IF($B$14=\"As Received\",MIN(DB$54*$B72,(-DB$14-DB$59-DB$69-DB$79-DB$60-DB$70-DB$80-DB$61-DB$71-DB$81)*$B72),MIN((-DB$14-DB$59-DB$69-DB$79-DB$60-DB$70-DB$80-DB$61-DB$71-DB$81)*$B72,(DB$54+IF($B$59<>DB$31,SUM($C$33:DB$35),0))*$B72)))","v":0},{"$f":"IF((-DC$14-DC$59-DC$69-DC$79-DC$60-DC$70-DC$80-DC$61-DC$71-DC$81)<=0,0,IF($B$14=\"As Received\",MIN(DC$54*$B72,(-DC$14-DC$59-DC$69-DC$79-DC$60-DC$70-DC$80-DC$61-DC$71-DC$81)*$B72),MIN((-DC$14-DC$59-DC$69-DC$79-DC$60-DC$70-DC$80-DC$61-DC$71-DC$81)*$B72,(DC$54+IF($B$59<>DC$31,SUM($C$33:DC$35),0))*$B72)))","v":0},{"$f":"IF((-DD$14-DD$59-DD$69-DD$79-DD$60-DD$70-DD$80-DD$61-DD$71-DD$81)<=0,0,IF($B$14=\"As Received\",MIN(DD$54*$B72,(-DD$14-DD$59-DD$69-DD$79-DD$60-DD$70-DD$80-DD$61-DD$71-DD$81)*$B72),MIN((-DD$14-DD$59-DD$69-DD$79-DD$60-DD$70-DD$80-DD$61-DD$71-DD$81)*$B72,(DD$54+IF($B$59<>DD$31,SUM($C$33:DD$35),0))*$B72)))","v":0},{"$f":"IF((-DE$14-DE$59-DE$69-DE$79-DE$60-DE$70-DE$80-DE$61-DE$71-DE$81)<=0,0,IF($B$14=\"As Received\",MIN(DE$54*$B72,(-DE$14-DE$59-DE$69-DE$79-DE$60-DE$70-DE$80-DE$61-DE$71-DE$81)*$B72),MIN((-DE$14-DE$59-DE$69-DE$79-DE$60-DE$70-DE$80-DE$61-DE$71-DE$81)*$B72,(DE$54+IF($B$59<>DE$31,SUM($C$33:DE$35),0))*$B72)))","v":0},{"$f":"IF((-DF$14-DF$59-DF$69-DF$79-DF$60-DF$70-DF$80-DF$61-DF$71-DF$81)<=0,0,IF($B$14=\"As Received\",MIN(DF$54*$B72,(-DF$14-DF$59-DF$69-DF$79-DF$60-DF$70-DF$80-DF$61-DF$71-DF$81)*$B72),MIN((-DF$14-DF$59-DF$69-DF$79-DF$60-DF$70-DF$80-DF$61-DF$71-DF$81)*$B72,(DF$54+IF($B$59<>DF$31,SUM($C$33:DF$35),0))*$B72)))","v":0},{"$f":"IF((-DG$14-DG$59-DG$69-DG$79-DG$60-DG$70-DG$80-DG$61-DG$71-DG$81)<=0,0,IF($B$14=\"As Received\",MIN(DG$54*$B72,(-DG$14-DG$59-DG$69-DG$79-DG$60-DG$70-DG$80-DG$61-DG$71-DG$81)*$B72),MIN((-DG$14-DG$59-DG$69-DG$79-DG$60-DG$70-DG$80-DG$61-DG$71-DG$81)*$B72,(DG$54+IF($B$59<>DG$31,SUM($C$33:DG$35),0))*$B72)))","v":0},{"$f":"IF((-DH$14-DH$59-DH$69-DH$79-DH$60-DH$70-DH$80-DH$61-DH$71-DH$81)<=0,0,IF($B$14=\"As Received\",MIN(DH$54*$B72,(-DH$14-DH$59-DH$69-DH$79-DH$60-DH$70-DH$80-DH$61-DH$71-DH$81)*$B72),MIN((-DH$14-DH$59-DH$69-DH$79-DH$60-DH$70-DH$80-DH$61-DH$71-DH$81)*$B72,(DH$54+IF($B$59<>DH$31,SUM($C$33:DH$35),0))*$B72)))","v":0},{"$f":"IF((-DI$14-DI$59-DI$69-DI$79-DI$60-DI$70-DI$80-DI$61-DI$71-DI$81)<=0,0,IF($B$14=\"As Received\",MIN(DI$54*$B72,(-DI$14-DI$59-DI$69-DI$79-DI$60-DI$70-DI$80-DI$61-DI$71-DI$81)*$B72),MIN((-DI$14-DI$59-DI$69-DI$79-DI$60-DI$70-DI$80-DI$61-DI$71-DI$81)*$B72,(DI$54+IF($B$59<>DI$31,SUM($C$33:DI$35),0))*$B72)))","v":0},{"$f":"IF((-DJ$14-DJ$59-DJ$69-DJ$79-DJ$60-DJ$70-DJ$80-DJ$61-DJ$71-DJ$81)<=0,0,IF($B$14=\"As Received\",MIN(DJ$54*$B72,(-DJ$14-DJ$59-DJ$69-DJ$79-DJ$60-DJ$70-DJ$80-DJ$61-DJ$71-DJ$81)*$B72),MIN((-DJ$14-DJ$59-DJ$69-DJ$79-DJ$60-DJ$70-DJ$80-DJ$61-DJ$71-DJ$81)*$B72,(DJ$54+IF($B$59<>DJ$31,SUM($C$33:DJ$35),0))*$B72)))","v":0},{"$f":"IF((-DK$14-DK$59-DK$69-DK$79-DK$60-DK$70-DK$80-DK$61-DK$71-DK$81)<=0,0,IF($B$14=\"As Received\",MIN(DK$54*$B72,(-DK$14-DK$59-DK$69-DK$79-DK$60-DK$70-DK$80-DK$61-DK$71-DK$81)*$B72),MIN((-DK$14-DK$59-DK$69-DK$79-DK$60-DK$70-DK$80-DK$61-DK$71-DK$81)*$B72,(DK$54+IF($B$59<>DK$31,SUM($C$33:DK$35),0))*$B72)))","v":0},{"$f":"IF((-DL$14-DL$59-DL$69-DL$79-DL$60-DL$70-DL$80-DL$61-DL$71-DL$81)<=0,0,IF($B$14=\"As Received\",MIN(DL$54*$B72,(-DL$14-DL$59-DL$69-DL$79-DL$60-DL$70-DL$80-DL$61-DL$71-DL$81)*$B72),MIN((-DL$14-DL$59-DL$69-DL$79-DL$60-DL$70-DL$80-DL$61-DL$71-DL$81)*$B72,(DL$54+IF($B$59<>DL$31,SUM($C$33:DL$35),0))*$B72)))","v":0},{"$f":"IF((-DM$14-DM$59-DM$69-DM$79-DM$60-DM$70-DM$80-DM$61-DM$71-DM$81)<=0,0,IF($B$14=\"As Received\",MIN(DM$54*$B72,(-DM$14-DM$59-DM$69-DM$79-DM$60-DM$70-DM$80-DM$61-DM$71-DM$81)*$B72),MIN((-DM$14-DM$59-DM$69-DM$79-DM$60-DM$70-DM$80-DM$61-DM$71-DM$81)*$B72,(DM$54+IF($B$59<>DM$31,SUM($C$33:DM$35),0))*$B72)))","v":0},{"$f":"IF((-DN$14-DN$59-DN$69-DN$79-DN$60-DN$70-DN$80-DN$61-DN$71-DN$81)<=0,0,IF($B$14=\"As Received\",MIN(DN$54*$B72,(-DN$14-DN$59-DN$69-DN$79-DN$60-DN$70-DN$80-DN$61-DN$71-DN$81)*$B72),MIN((-DN$14-DN$59-DN$69-DN$79-DN$60-DN$70-DN$80-DN$61-DN$71-DN$81)*$B72,(DN$54+IF($B$59<>DN$31,SUM($C$33:DN$35),0))*$B72)))","v":0},{"$f":"IF((-DO$14-DO$59-DO$69-DO$79-DO$60-DO$70-DO$80-DO$61-DO$71-DO$81)<=0,0,IF($B$14=\"As Received\",MIN(DO$54*$B72,(-DO$14-DO$59-DO$69-DO$79-DO$60-DO$70-DO$80-DO$61-DO$71-DO$81)*$B72),MIN((-DO$14-DO$59-DO$69-DO$79-DO$60-DO$70-DO$80-DO$61-DO$71-DO$81)*$B72,(DO$54+IF($B$59<>DO$31,SUM($C$33:DO$35),0))*$B72)))","v":0},{"$f":"IF((-DP$14-DP$59-DP$69-DP$79-DP$60-DP$70-DP$80-DP$61-DP$71-DP$81)<=0,0,IF($B$14=\"As Received\",MIN(DP$54*$B72,(-DP$14-DP$59-DP$69-DP$79-DP$60-DP$70-DP$80-DP$61-DP$71-DP$81)*$B72),MIN((-DP$14-DP$59-DP$69-DP$79-DP$60-DP$70-DP$80-DP$61-DP$71-DP$81)*$B72,(DP$54+IF($B$59<>DP$31,SUM($C$33:DP$35),0))*$B72)))","v":0},{"$f":"IF((-DQ$14-DQ$59-DQ$69-DQ$79-DQ$60-DQ$70-DQ$80-DQ$61-DQ$71-DQ$81)<=0,0,IF($B$14=\"As Received\",MIN(DQ$54*$B72,(-DQ$14-DQ$59-DQ$69-DQ$79-DQ$60-DQ$70-DQ$80-DQ$61-DQ$71-DQ$81)*$B72),MIN((-DQ$14-DQ$59-DQ$69-DQ$79-DQ$60-DQ$70-DQ$80-DQ$61-DQ$71-DQ$81)*$B72,(DQ$54+IF($B$59<>DQ$31,SUM($C$33:DQ$35),0))*$B72)))","v":0},{"$f":"IF((-DR$14-DR$59-DR$69-DR$79-DR$60-DR$70-DR$80-DR$61-DR$71-DR$81)<=0,0,IF($B$14=\"As Received\",MIN(DR$54*$B72,(-DR$14-DR$59-DR$69-DR$79-DR$60-DR$70-DR$80-DR$61-DR$71-DR$81)*$B72),MIN((-DR$14-DR$59-DR$69-DR$79-DR$60-DR$70-DR$80-DR$61-DR$71-DR$81)*$B72,(DR$54+IF($B$59<>DR$31,SUM($C$33:DR$35),0))*$B72)))","v":0},{"$f":"IF((-DS$14-DS$59-DS$69-DS$79-DS$60-DS$70-DS$80-DS$61-DS$71-DS$81)<=0,0,IF($B$14=\"As Received\",MIN(DS$54*$B72,(-DS$14-DS$59-DS$69-DS$79-DS$60-DS$70-DS$80-DS$61-DS$71-DS$81)*$B72),MIN((-DS$14-DS$59-DS$69-DS$79-DS$60-DS$70-DS$80-DS$61-DS$71-DS$81)*$B72,(DS$54+IF($B$59<>DS$31,SUM($C$33:DS$35),0))*$B72)))","v":0}]
["Residual",{"$f":"G27","v":0.1144},{"$f":"IF((-C$14-C$59-C$69-C$79-C$60-C$70-C$80-C$61-C$71-C$81-C$62-C$72-C$82)<=0,0,IF($B$14=\"As Received\",(-C$14-C$59-C$69-C$79-C$60-C$70-C$80-C$61-C$71-C$81-C$62-C$72-C$82)*$B73,MIN((-C$14-C$59-C$69-C$79-C$60-C$70-C$80-C$61-C$71-C$81-C$62-C$72-C$82)*$B73,(C$54+IF($B$59<>C$31,SUM($C$33:C$35),0))*$B73)))","v":0},{"$f":"IF((-D$14-D$59-D$69-D$79-D$60-D$70-D$80-D$61-D$71-D$81-D$62-D$72-D$82)<=0,0,IF($B$14=\"As Received\",(-D$14-D$59-D$69-D$79-D$60-D$70-D$80-D$61-D$71-D$81-D$62-D$72-D$82)*$B73,MIN((-D$14-D$59-D$69-D$79-D$60-D$70-D$80-D$61-D$71-D$81-D$62-D$72-D$82)*$B73,(D$54+IF($B$59<>D$31,SUM($C$33:D$35),0))*$B73)))","v":0},{"$f":"IF((-E$14-E$59-E$69-E$79-E$60-E$70-E$80-E$61-E$71-E$81-E$62-E$72-E$82)<=0,0,IF($B$14=\"As Received\",(-E$14-E$59-E$69-E$79-E$60-E$70-E$80-E$61-E$71-E$81-E$62-E$72-E$82)*$B73,MIN((-E$14-E$59-E$69-E$79-E$60-E$70-E$80-E$61-E$71-E$81-E$62-E$72-E$82)*$B73,(E$54+IF($B$59<>E$31,SUM($C$33:E$35),0))*$B73)))","v":0},{"$f":"IF((-F$14-F$59-F$69-F$79-F$60-F$70-F$80-F$61-F$71-F$81-F$62-F$72-F$82)<=0,0,IF($B$14=\"As Received\",(-F$14-F$59-F$69-F$79-F$60-F$70-F$80-F$61-F$71-F$81-F$62-F$72-F$82)*$B73,MIN((-F$14-F$59-F$69-F$79-F$60-F$70-F$80-F$61-F$71-F$81-F$62-F$72-F$82)*$B73,(F$54+IF($B$59<>F$31,SUM($C$33:F$35),0))*$B73)))","v":0},{"$f":"IF((-G$14-G$59-G$69-G$79-G$60-G$70-G$80-G$61-G$71-G$81-G$62-G$72-G$82)<=0,0,IF($B$14=\"As Received\",(-G$14-G$59-G$69-G$79-G$60-G$70-G$80-G$61-G$71-G$81-G$62-G$72-G$82)*$B73,MIN((-G$14-G$59-G$69-G$79-G$60-G$70-G$80-G$61-G$71-G$81-G$62-G$72-G$82)*$B73,(G$54+IF($B$59<>G$31,SUM($C$33:G$35),0))*$B73)))","v":0},{"$f":"IF((-H$14-H$59-H$69-H$79-H$60-H$70-H$80-H$61-H$71-H$81-H$62-H$72-H$82)<=0,0,IF($B$14=\"As Received\",(-H$14-H$59-H$69-H$79-H$60-H$70-H$80-H$61-H$71-H$81-H$62-H$72-H$82)*$B73,MIN((-H$14-H$59-H$69-H$79-H$60-H$70-H$80-H$61-H$71-H$81-H$62-H$72-H$82)*$B73,(H$54+IF($B$59<>H$31,SUM($C$33:H$35),0))*$B73)))","v":0},{"$f":"IF((-I$14-I$59-I$69-I$79-I$60-I$70-I$80-I$61-I$71-I$81-I$62-I$72-I$82)<=0,0,IF($B$14=\"As Received\",(-I$14-I$59-I$69-I$79-I$60-I$70-I$80-I$61-I$71-I$81-I$62-I$72-I$82)*$B73,MIN((-I$14-I$59-I$69-I$79-I$60-I$70-I$80-I$61-I$71-I$81-I$62-I$72-I$82)*$B73,(I$54+IF($B$59<>I$31,SUM($C$33:I$35),0))*$B73)))","v":0},{"$f":"IF((-J$14-J$59-J$69-J$79-J$60-J$70-J$80-J$61-J$71-J$81-J$62-J$72-J$82)<=0,0,IF($B$14=\"As Received\",(-J$14-J$59-J$69-J$79-J$60-J$70-J$80-J$61-J$71-J$81-J$62-J$72-J$82)*$B73,MIN((-J$14-J$59-J$69-J$79-J$60-J$70-J$80-J$61-J$71-J$81-J$62-J$72-J$82)*$B73,(J$54+IF($B$59<>J$31,SUM($C$33:J$35),0))*$B73)))","v":0},{"$f":"IF((-K$14-K$59-K$69-K$79-K$60-K$70-K$80-K$61-K$71-K$81-K$62-K$72-K$82)<=0,0,IF($B$14=\"As Received\",(-K$14-K$59-K$69-K$79-K$60-K$70-K$80-K$61-K$71-K$81-K$62-K$72-K$82)*$B73,MIN((-K$14-K$59-K$69-K$79-K$60-K$70-K$80-K$61-K$71-K$81-K$62-K$72-K$82)*$B73,(K$54+IF($B$59<>K$31,SUM($C$33:K$35),0))*$B73)))","v":0},{"$f":"IF((-L$14-L$59-L$69-L$79-L$60-L$70-L$80-L$61-L$71-L$81-L$62-L$72-L$82)<=0,0,IF($B$14=\"As Received\",(-L$14-L$59-L$69-L$79-L$60-L$70-L$80-L$61-L$71-L$81-L$62-L$72-L$82)*$B73,MIN((-L$14-L$59-L$69-L$79-L$60-L$70-L$80-L$61-L$71-L$81-L$62-L$72-L$82)*$B73,(L$54+IF($B$59<>L$31,SUM($C$33:L$35),0))*$B73)))","v":0},{"$f":"IF((-M$14-M$59-M$69-M$79-M$60-M$70-M$80-M$61-M$71-M$81-M$62-M$72-M$82)<=0,0,IF($B$14=\"As Received\",(-M$14-M$59-M$69-M$79-M$60-M$70-M$80-M$61-M$71-M$81-M$62-M$72-M$82)*$B73,MIN((-M$14-M$59-M$69-M$79-M$60-M$70-M$80-M$61-M$71-M$81-M$62-M$72-M$82)*$B73,(M$54+IF($B$59<>M$31,SUM($C$33:M$35),0))*$B73)))","v":0},{"$f":"IF((-N$14-N$59-N$69-N$79-N$60-N$70-N$80-N$61-N$71-N$81-N$62-N$72-N$82)<=0,0,IF($B$14=\"As Received\",(-N$14-N$59-N$69-N$79-N$60-N$70-N$80-N$61-N$71-N$81-N$62-N$72-N$82)*$B73,MIN((-N$14-N$59-N$69-N$79-N$60-N$70-N$80-N$61-N$71-N$81-N$62-N$72-N$82)*$B73,(N$54+IF($B$59<>N$31,SUM($C$33:N$35),0))*$B73)))","v":0},{"$f":"IF((-O$14-O$59-O$69-O$79-O$60-O$70-O$80-O$61-O$71-O$81-O$62-O$72-O$82)<=0,0,IF($B$14=\"As Received\",(-O$14-O$59-O$69-O$79-O$60-O$70-O$80-O$61-O$71-O$81-O$62-O$72-O$82)*$B73,MIN((-O$14-O$59-O$69-O$79-O$60-O$70-O$80-O$61-O$71-O$81-O$62-O$72-O$82)*$B73,(O$54+IF($B$59<>O$31,SUM($C$33:O$35),0))*$B73)))","v":0},{"$f":"IF((-P$14-P$59-P$69-P$79-P$60-P$70-P$80-P$61-P$71-P$81-P$62-P$72-P$82)<=0,0,IF($B$14=\"As Received\",(-P$14-P$59-P$69-P$79-P$60-P$70-P$80-P$61-P$71-P$81-P$62-P$72-P$82)*$B73,MIN((-P$14-P$59-P$69-P$79-P$60-P$70-P$80-P$61-P$71-P$81-P$62-P$72-P$82)*$B73,(P$54+IF($B$59<>P$31,SUM($C$33:P$35),0))*$B73)))","v":0},{"$f":"IF((-Q$14-Q$59-Q$69-Q$79-Q$60-Q$70-Q$80-Q$61-Q$71-Q$81-Q$62-Q$72-Q$82)<=0,0,IF($B$14=\"As Received\",(-Q$14-Q$59-Q$69-Q$79-Q$60-Q$70-Q$80-Q$61-Q$71-Q$81-Q$62-Q$72-Q$82)*$B73,MIN((-Q$14-Q$59-Q$69-Q$79-Q$60-Q$70-Q$80-Q$61-Q$71-Q$81-Q$62-Q$72-Q$82)*$B73,(Q$54+IF($B$59<>Q$31,SUM($C$33:Q$35),0))*$B73)))","v":0},{"$f":"IF((-R$14-R$59-R$69-R$79-R$60-R$70-R$80-R$61-R$71-R$81-R$62-R$72-R$82)<=0,0,IF($B$14=\"As Received\",(-R$14-R$59-R$69-R$79-R$60-R$70-R$80-R$61-R$71-R$81-R$62-R$72-R$82)*$B73,MIN((-R$14-R$59-R$69-R$79-R$60-R$70-R$80-R$61-R$71-R$81-R$62-R$72-R$82)*$B73,(R$54+IF($B$59<>R$31,SUM($C$33:R$35),0))*$B73)))","v":0},{"$f":"IF((-S$14-S$59-S$69-S$79-S$60-S$70-S$80-S$61-S$71-S$81-S$62-S$72-S$82)<=0,0,IF($B$14=\"As Received\",(-S$14-S$59-S$69-S$79-S$60-S$70-S$80-S$61-S$71-S$81-S$62-S$72-S$82)*$B73,MIN((-S$14-S$59-S$69-S$79-S$60-S$70-S$80-S$61-S$71-S$81-S$62-S$72-S$82)*$B73,(S$54+IF($B$59<>S$31,SUM($C$33:S$35),0))*$B73)))","v":0},{"$f":"IF((-T$14-T$59-T$69-T$79-T$60-T$70-T$80-T$61-T$71-T$81-T$62-T$72-T$82)<=0,0,IF($B$14=\"As Received\",(-T$14-T$59-T$69-T$79-T$60-T$70-T$80-T$61-T$71-T$81-T$62-T$72-T$82)*$B73,MIN((-T$14-T$59-T$69-T$79-T$60-T$70-T$80-T$61-T$71-T$81-T$62-T$72-T$82)*$B73,(T$54+IF($B$59<>T$31,SUM($C$33:T$35),0))*$B73)))","v":0},{"$f":"IF((-U$14-U$59-U$69-U$79-U$60-U$70-U$80-U$61-U$71-U$81-U$62-U$72-U$82)<=0,0,IF($B$14=\"As Received\",(-U$14-U$59-U$69-U$79-U$60-U$70-U$80-U$61-U$71-U$81-U$62-U$72-U$82)*$B73,MIN((-U$14-U$59-U$69-U$79-U$60-U$70-U$80-U$61-U$71-U$81-U$62-U$72-U$82)*$B73,(U$54+IF($B$59<>U$31,SUM($C$33:U$35),0))*$B73)))","v":0},{"$f":"IF((-V$14-V$59-V$69-V$79-V$60-V$70-V$80-V$61-V$71-V$81-V$62-V$72-V$82)<=0,0,IF($B$14=\"As Received\",(-V$14-V$59-V$69-V$79-V$60-V$70-V$80-V$61-V$71-V$81-V$62-V$72-V$82)*$B73,MIN((-V$14-V$59-V$69-V$79-V$60-V$70-V$80-V$61-V$71-V$81-V$62-V$72-V$82)*$B73,(V$54+IF($B$59<>V$31,SUM($C$33:V$35),0))*$B73)))","v":0},{"$f":"IF((-W$14-W$59-W$69-W$79-W$60-W$70-W$80-W$61-W$71-W$81-W$62-W$72-W$82)<=0,0,IF($B$14=\"As Received\",(-W$14-W$59-W$69-W$79-W$60-W$70-W$80-W$61-W$71-W$81-W$62-W$72-W$82)*$B73,MIN((-W$14-W$59-W$69-W$79-W$60-W$70-W$80-W$61-W$71-W$81-W$62-W$72-W$82)*$B73,(W$54+IF($B$59<>W$31,SUM($C$33:W$35),0))*$B73)))","v":0},{"$f":"IF((-X$14-X$59-X$69-X$79-X$60-X$70-X$80-X$61-X$71-X$81-X$62-X$72-X$82)<=0,0,IF($B$14=\"As Received\",(-X$14-X$59-X$69-X$79-X$60-X$70-X$80-X$61-X$71-X$81-X$62-X$72-X$82)*$B73,MIN((-X$14-X$59-X$69-X$79-X$60-X$70-X$80-X$61-X$71-X$81-X$62-X$72-X$82)*$B73,(X$54+IF($B$59<>X$31,SUM($C$33:X$35),0))*$B73)))","v":0},{"$f":"IF((-Y$14-Y$59-Y$69-Y$79-Y$60-Y$70-Y$80-Y$61-Y$71-Y$81-Y$62-Y$72-Y$82)<=0,0,IF($B$14=\"As Received\",(-Y$14-Y$59-Y$69-Y$79-Y$60-Y$70-Y$80-Y$61-Y$71-Y$81-Y$62-Y$72-Y$82)*$B73,MIN((-Y$14-Y$59-Y$69-Y$79-Y$60-Y$70-Y$80-Y$61-Y$71-Y$81-Y$62-Y$72-Y$82)*$B73,(Y$54+IF($B$59<>Y$31,SUM($C$33:Y$35),0))*$B73)))","v":0},{"$f":"IF((-Z$14-Z$59-Z$69-Z$79-Z$60-Z$70-Z$80-Z$61-Z$71-Z$81-Z$62-Z$72-Z$82)<=0,0,IF($B$14=\"As Received\",(-Z$14-Z$59-Z$69-Z$79-Z$60-Z$70-Z$80-Z$61-Z$71-Z$81-Z$62-Z$72-Z$82)*$B73,MIN((-Z$14-Z$59-Z$69-Z$79-Z$60-Z$70-Z$80-Z$61-Z$71-Z$81-Z$62-Z$72-Z$82)*$B73,(Z$54+IF($B$59<>Z$31,SUM($C$33:Z$35),0))*$B73)))","v":0},{"$f":"IF((-AA$14-AA$59-AA$69-AA$79-AA$60-AA$70-AA$80-AA$61-AA$71-AA$81-AA$62-AA$72-AA$82)<=0,0,IF($B$14=\"As Received\",(-AA$14-AA$59-AA$69-AA$79-AA$60-AA$70-AA$80-AA$61-AA$71-AA$81-AA$62-AA$72-AA$82)*$B73,MIN((-AA$14-AA$59-AA$69-AA$79-AA$60-AA$70-AA$80-AA$61-AA$71-AA$81-AA$62-AA$72-AA$82)*$B73,(AA$54+IF($B$59<>AA$31,SUM($C$33:AA$35),0))*$B73)))","v":0},{"$f":"IF((-AB$14-AB$59-AB$69-AB$79-AB$60-AB$70-AB$80-AB$61-AB$71-AB$81-AB$62-AB$72-AB$82)<=0,0,IF($B$14=\"As Received\",(-AB$14-AB$59-AB$69-AB$79-AB$60-AB$70-AB$80-AB$61-AB$71-AB$81-AB$62-AB$72-AB$82)*$B73,MIN((-AB$14-AB$59-AB$69-AB$79-AB$60-AB$70-AB$80-AB$61-AB$71-AB$81-AB$62-AB$72-AB$82)*$B73,(AB$54+IF($B$59<>AB$31,SUM($C$33:AB$35),0))*$B73)))","v":0},{"$f":"IF((-AC$14-AC$59-AC$69-AC$79-AC$60-AC$70-AC$80-AC$61-AC$71-AC$81-AC$62-AC$72-AC$82)<=0,0,IF($B$14=\"As Received\",(-AC$14-AC$59-AC$69-AC$79-AC$60-AC$70-AC$80-AC$61-AC$71-AC$81-AC$62-AC$72-AC$82)*$B73,MIN((-AC$14-AC$59-AC$69-AC$79-AC$60-AC$70-AC$80-AC$61-AC$71-AC$81-AC$62-AC$72-AC$82)*$B73,(AC$54+IF($B$59<>AC$31,SUM($C$33:AC$35),0))*$B73)))","v":0},{"$f":"IF((-AD$14-AD$59-AD$69-AD$79-AD$60-AD$70-AD$80-AD$61-AD$71-AD$81-AD$62-AD$72-AD$82)<=0,0,IF($B$14=\"As Received\",(-AD$14-AD$59-AD$69-AD$79-AD$60-AD$70-AD$80-AD$61-AD$71-AD$81-AD$62-AD$72-AD$82)*$B73,MIN((-AD$14-AD$59-AD$69-AD$79-AD$60-AD$70-AD$80-AD$61-AD$71-AD$81-AD$62-AD$72-AD$82)*$B73,(AD$54+IF($B$59<>AD$31,SUM($C$33:AD$35),0))*$B73)))","v":0},{"$f":"IF((-AE$14-AE$59-AE$69-AE$79-AE$60-AE$70-AE$80-AE$61-AE$71-AE$81-AE$62-AE$72-AE$82)<=0,0,IF($B$14=\"As Received\",(-AE$14-AE$59-AE$69-AE$79-AE$60-AE$70-AE$80-AE$61-AE$71-AE$81-AE$62-AE$72-AE$82)*$B73,MIN((-AE$14-AE$59-AE$69-AE$79-AE$60-AE$70-AE$80-AE$61-AE$71-AE$81-AE$62-AE$72-AE$82)*$B73,(AE$54+IF($B$59<>AE$31,SUM($C$33:AE$35),0))*$B73)))","v":0},{"$f":"IF((-AF$14-AF$59-AF$69-AF$79-AF$60-AF$70-AF$80-AF$61-AF$71-AF$81-AF$62-AF$72-AF$82)<=0,0,IF($B$14=\"As Received\",(-AF$14-AF$59-AF$69-AF$79-AF$60-AF$70-AF$80-AF$61-AF$71-AF$81-AF$62-AF$72-AF$82)*$B73,MIN((-AF$14-AF$59-AF$69-AF$79-AF$60-AF$70-AF$80-AF$61-AF$71-AF$81-AF$62-AF$72-AF$82)*$B73,(AF$54+IF($B$59<>AF$31,SUM($C$33:AF$35),0))*$B73)))","v":0},{"$f":"IF((-AG$14-AG$59-AG$69-AG$79-AG$60-AG$70-AG$80-AG$61-AG$71-AG$81-AG$62-AG$72-AG$82)<=0,0,IF($B$14=\"As Received\",(-AG$14-AG$59-AG$69-AG$79-AG$60-AG$70-AG$80-AG$61-AG$71-AG$81-AG$62-AG$72-AG$82)*$B73,MIN((-AG$14-AG$59-AG$69-AG$79-AG$60-AG$70-AG$80-AG$61-AG$71-AG$81-AG$62-AG$72-AG$82)*$B73,(AG$54+IF($B$59<>AG$31,SUM($C$33:AG$35),0))*$B73)))","v":0},{"$f":"IF((-AH$14-AH$59-AH$69-AH$79-AH$60-AH$70-AH$80-AH$61-AH$71-AH$81-AH$62-AH$72-AH$82)<=0,0,IF($B$14=\"As Received\",(-AH$14-AH$59-AH$69-AH$79-AH$60-AH$70-AH$80-AH$61-AH$71-AH$81-AH$62-AH$72-AH$82)*$B73,MIN((-AH$14-AH$59-AH$69-AH$79-AH$60-AH$70-AH$80-AH$61-AH$71-AH$81-AH$62-AH$72-AH$82)*$B73,(AH$54+IF($B$59<>AH$31,SUM($C$33:AH$35),0))*$B73)))","v":0},{"$f":"IF((-AI$14-AI$59-AI$69-AI$79-AI$60-AI$70-AI$80-AI$61-AI$71-AI$81-AI$62-AI$72-AI$82)<=0,0,IF($B$14=\"As Received\",(-AI$14-AI$59-AI$69-AI$79-AI$60-AI$70-AI$80-AI$61-AI$71-AI$81-AI$62-AI$72-AI$82)*$B73,MIN((-AI$14-AI$59-AI$69-AI$79-AI$60-AI$70-AI$80-AI$61-AI$71-AI$81-AI$62-AI$72-AI$82)*$B73,(AI$54+IF($B$59<>AI$31,SUM($C$33:AI$35),0))*$B73)))","v":0},{"$f":"IF((-AJ$14-AJ$59-AJ$69-AJ$79-AJ$60-AJ$70-AJ$80-AJ$61-AJ$71-AJ$81-AJ$62-AJ$72-AJ$82)<=0,0,IF($B$14=\"As Received\",(-AJ$14-AJ$59-AJ$69-AJ$79-AJ$60-AJ$70-AJ$80-AJ$61-AJ$71-AJ$81-AJ$62-AJ$72-AJ$82)*$B73,MIN((-AJ$14-AJ$59-AJ$69-AJ$79-AJ$60-AJ$70-AJ$80-AJ$61-AJ$71-AJ$81-AJ$62-AJ$72-AJ$82)*$B73,(AJ$54+IF($B$59<>AJ$31,SUM($C$33:AJ$35),0))*$B73)))","v":0},{"$f":"IF((-AK$14-AK$59-AK$69-AK$79-AK$60-AK$70-AK$80-AK$61-AK$71-AK$81-AK$62-AK$72-AK$82)<=0,0,IF($B$14=\"As Received\",(-AK$14-AK$59-AK$69-AK$79-AK$60-AK$70-AK$80-AK$61-AK$71-AK$81-AK$62-AK$72-AK$82)*$B73,MIN((-AK$14-AK$59-AK$69-AK$79-AK$60-AK$70-AK$80-AK$61-AK$71-AK$81-AK$62-AK$72-AK$82)*$B73,(AK$54+IF($B$59<>AK$31,SUM($C$33:AK$35),0))*$B73)))","v":0},{"$f":"IF((-AL$14-AL$59-AL$69-AL$79-AL$60-AL$70-AL$80-AL$61-AL$71-AL$81-AL$62-AL$72-AL$82)<=0,0,IF($B$14=\"As Received\",(-AL$14-AL$59-AL$69-AL$79-AL$60-AL$70-AL$80-AL$61-AL$71-AL$81-AL$62-AL$72-AL$82)*$B73,MIN((-AL$14-AL$59-AL$69-AL$79-AL$60-AL$70-AL$80-AL$61-AL$71-AL$81-AL$62-AL$72-AL$82)*$B73,(AL$54+IF($B$59<>AL$31,SUM($C$33:AL$35),0))*$B73)))","v":0},{"$f":"IF((-AM$14-AM$59-AM$69-AM$79-AM$60-AM$70-AM$80-AM$61-AM$71-AM$81-AM$62-AM$72-AM$82)<=0,0,IF($B$14=\"As Received\",(-AM$14-AM$59-AM$69-AM$79-AM$60-AM$70-AM$80-AM$61-AM$71-AM$81-AM$62-AM$72-AM$82)*$B73,MIN((-AM$14-AM$59-AM$69-AM$79-AM$60-AM$70-AM$80-AM$61-AM$71-AM$81-AM$62-AM$72-AM$82)*$B73,(AM$54+IF($B$59<>AM$31,SUM($C$33:AM$35),0))*$B73)))","v":0},{"$f":"IF((-AN$14-AN$59-AN$69-AN$79-AN$60-AN$70-AN$80-AN$61-AN$71-AN$81-AN$62-AN$72-AN$82)<=0,0,IF($B$14=\"As Received\",(-AN$14-AN$59-AN$69-AN$79-AN$60-AN$70-AN$80-AN$61-AN$71-AN$81-AN$62-AN$72-AN$82)*$B73,MIN((-AN$14-AN$59-AN$69-AN$79-AN$60-AN$70-AN$80-AN$61-AN$71-AN$81-AN$62-AN$72-AN$82)*$B73,(AN$54+IF($B$59<>AN$31,SUM($C$33:AN$35),0))*$B73)))","v":0},{"$f":"IF((-AO$14-AO$59-AO$69-AO$79-AO$60-AO$70-AO$80-AO$61-AO$71-AO$81-AO$62-AO$72-AO$82)<=0,0,IF($B$14=\"As Received\",(-AO$14-AO$59-AO$69-AO$79-AO$60-AO$70-AO$80-AO$61-AO$71-AO$81-AO$62-AO$72-AO$82)*$B73,MIN((-AO$14-AO$59-AO$69-AO$79-AO$60-AO$70-AO$80-AO$61-AO$71-AO$81-AO$62-AO$72-AO$82)*$B73,(AO$54+IF($B$59<>AO$31,SUM($C$33:AO$35),0))*$B73)))","v":0},{"$f":"IF((-AP$14-AP$59-AP$69-AP$79-AP$60-AP$70-AP$80-AP$61-AP$71-AP$81-AP$62-AP$72-AP$82)<=0,0,IF($B$14=\"As Received\",(-AP$14-AP$59-AP$69-AP$79-AP$60-AP$70-AP$80-AP$61-AP$71-AP$81-AP$62-AP$72-AP$82)*$B73,MIN((-AP$14-AP$59-AP$69-AP$79-AP$60-AP$70-AP$80-AP$61-AP$71-AP$81-AP$62-AP$72-AP$82)*$B73,(AP$54+IF($B$59<>AP$31,SUM($C$33:AP$35),0))*$B73)))","v":0},{"$f":"IF((-AQ$14-AQ$59-AQ$69-AQ$79-AQ$60-AQ$70-AQ$80-AQ$61-AQ$71-AQ$81-AQ$62-AQ$72-AQ$82)<=0,0,IF($B$14=\"As Received\",(-AQ$14-AQ$59-AQ$69-AQ$79-AQ$60-AQ$70-AQ$80-AQ$61-AQ$71-AQ$81-AQ$62-AQ$72-AQ$82)*$B73,MIN((-AQ$14-AQ$59-AQ$69-AQ$79-AQ$60-AQ$70-AQ$80-AQ$61-AQ$71-AQ$81-AQ$62-AQ$72-AQ$82)*$B73,(AQ$54+IF($B$59<>AQ$31,SUM($C$33:AQ$35),0))*$B73)))","v":0},{"$f":"IF((-AR$14-AR$59-AR$69-AR$79-AR$60-AR$70-AR$80-AR$61-AR$71-AR$81-AR$62-AR$72-AR$82)<=0,0,IF($B$14=\"As Received\",(-AR$14-AR$59-AR$69-AR$79-AR$60-AR$70-AR$80-AR$61-AR$71-AR$81-AR$62-AR$72-AR$82)*$B73,MIN((-AR$14-AR$59-AR$69-AR$79-AR$60-AR$70-AR$80-AR$61-AR$71-AR$81-AR$62-AR$72-AR$82)*$B73,(AR$54+IF($B$59<>AR$31,SUM($C$33:AR$35),0))*$B73)))","v":0},{"$f":"IF((-AS$14-AS$59-AS$69-AS$79-AS$60-AS$70-AS$80-AS$61-AS$71-AS$81-AS$62-AS$72-AS$82)<=0,0,IF($B$14=\"As Received\",(-AS$14-AS$59-AS$69-AS$79-AS$60-AS$70-AS$80-AS$61-AS$71-AS$81-AS$62-AS$72-AS$82)*$B73,MIN((-AS$14-AS$59-AS$69-AS$79-AS$60-AS$70-AS$80-AS$61-AS$71-AS$81-AS$62-AS$72-AS$82)*$B73,(AS$54+IF($B$59<>AS$31,SUM($C$33:AS$35),0))*$B73)))","v":0},{"$f":"IF((-AT$14-AT$59-AT$69-AT$79-AT$60-AT$70-AT$80-AT$61-AT$71-AT$81-AT$62-AT$72-AT$82)<=0,0,IF($B$14=\"As Received\",(-AT$14-AT$59-AT$69-AT$79-AT$60-AT$70-AT$80-AT$61-AT$71-AT$81-AT$62-AT$72-AT$82)*$B73,MIN((-AT$14-AT$59-AT$69-AT$79-AT$60-AT$70-AT$80-AT$61-AT$71-AT$81-AT$62-AT$72-AT$82)*$B73,(AT$54+IF($B$59<>AT$31,SUM($C$33:AT$35),0))*$B73)))","v":0},{"$f":"IF((-AU$14-AU$59-AU$69-AU$79-AU$60-AU$70-AU$80-AU$61-AU$71-AU$81-AU$62-AU$72-AU$82)<=0,0,IF($B$14=\"As Received\",(-AU$14-AU$59-AU$69-AU$79-AU$60-AU$70-AU$80-AU$61-AU$71-AU$81-AU$62-AU$72-AU$82)*$B73,MIN((-AU$14-AU$59-AU$69-AU$79-AU$60-AU$70-AU$80-AU$61-AU$71-AU$81-AU$62-AU$72-AU$82)*$B73,(AU$54+IF($B$59<>AU$31,SUM($C$33:AU$35),0))*$B73)))","v":0},{"$f":"IF((-AV$14-AV$59-AV$69-AV$79-AV$60-AV$70-AV$80-AV$61-AV$71-AV$81-AV$62-AV$72-AV$82)<=0,0,IF($B$14=\"As Received\",(-AV$14-AV$59-AV$69-AV$79-AV$60-AV$70-AV$80-AV$61-AV$71-AV$81-AV$62-AV$72-AV$82)*$B73,MIN((-AV$14-AV$59-AV$69-AV$79-AV$60-AV$70-AV$80-AV$61-AV$71-AV$81-AV$62-AV$72-AV$82)*$B73,(AV$54+IF($B$59<>AV$31,SUM($C$33:AV$35),0))*$B73)))","v":0},{"$f":"IF((-AW$14-AW$59-AW$69-AW$79-AW$60-AW$70-AW$80-AW$61-AW$71-AW$81-AW$62-AW$72-AW$82)<=0,0,IF($B$14=\"As Received\",(-AW$14-AW$59-AW$69-AW$79-AW$60-AW$70-AW$80-AW$61-AW$71-AW$81-AW$62-AW$72-AW$82)*$B73,MIN((-AW$14-AW$59-AW$69-AW$79-AW$60-AW$70-AW$80-AW$61-AW$71-AW$81-AW$62-AW$72-AW$82)*$B73,(AW$54+IF($B$59<>AW$31,SUM($C$33:AW$35),0))*$B73)))","v":0},{"$f":"IF((-AX$14-AX$59-AX$69-AX$79-AX$60-AX$70-AX$80-AX$61-AX$71-AX$81-AX$62-AX$72-AX$82)<=0,0,IF($B$14=\"As Received\",(-AX$14-AX$59-AX$69-AX$79-AX$60-AX$70-AX$80-AX$61-AX$71-AX$81-AX$62-AX$72-AX$82)*$B73,MIN((-AX$14-AX$59-AX$69-AX$79-AX$60-AX$70-AX$80-AX$61-AX$71-AX$81-AX$62-AX$72-AX$82)*$B73,(AX$54+IF($B$59<>AX$31,SUM($C$33:AX$35),0))*$B73)))","v":0},{"$f":"IF((-AY$14-AY$59-AY$69-AY$79-AY$60-AY$70-AY$80-AY$61-AY$71-AY$81-AY$62-AY$72-AY$82)<=0,0,IF($B$14=\"As Received\",(-AY$14-AY$59-AY$69-AY$79-AY$60-AY$70-AY$80-AY$61-AY$71-AY$81-AY$62-AY$72-AY$82)*$B73,MIN((-AY$14-AY$59-AY$69-AY$79-AY$60-AY$70-AY$80-AY$61-AY$71-AY$81-AY$62-AY$72-AY$82)*$B73,(AY$54+IF($B$59<>AY$31,SUM($C$33:AY$35),0))*$B73)))","v":0},{"$f":"IF((-AZ$14-AZ$59-AZ$69-AZ$79-AZ$60-AZ$70-AZ$80-AZ$61-AZ$71-AZ$81-AZ$62-AZ$72-AZ$82)<=0,0,IF($B$14=\"As Received\",(-AZ$14-AZ$59-AZ$69-AZ$79-AZ$60-AZ$70-AZ$80-AZ$61-AZ$71-AZ$81-AZ$62-AZ$72-AZ$82)*$B73,MIN((-AZ$14-AZ$59-AZ$69-AZ$79-AZ$60-AZ$70-AZ$80-AZ$61-AZ$71-AZ$81-AZ$62-AZ$72-AZ$82)*$B73,(AZ$54+IF($B$59<>AZ$31,SUM($C$33:AZ$35),0))*$B73)))","v":0},{"$f":"IF((-BA$14-BA$59-BA$69-BA$79-BA$60-BA$70-BA$80-BA$61-BA$71-BA$81-BA$62-BA$72-BA$82)<=0,0,IF($B$14=\"As Received\",(-BA$14-BA$59-BA$69-BA$79-BA$60-BA$70-BA$80-BA$61-BA$71-BA$81-BA$62-BA$72-BA$82)*$B73,MIN((-BA$14-BA$59-BA$69-BA$79-BA$60-BA$70-BA$80-BA$61-BA$71-BA$81-BA$62-BA$72-BA$82)*$B73,(BA$54+IF($B$59<>BA$31,SUM($C$33:BA$35),0))*$B73)))","v":0},{"$f":"IF((-BB$14-BB$59-BB$69-BB$79-BB$60-BB$70-BB$80-BB$61-BB$71-BB$81-BB$62-BB$72-BB$82)<=0,0,IF($B$14=\"As Received\",(-BB$14-BB$59-BB$69-BB$79-BB$60-BB$70-BB$80-BB$61-BB$71-BB$81-BB$62-BB$72-BB$82)*$B73,MIN((-BB$14-BB$59-BB$69-BB$79-BB$60-BB$70-BB$80-BB$61-BB$71-BB$81-BB$62-BB$72-BB$82)*$B73,(BB$54+IF($B$59<>BB$31,SUM($C$33:BB$35),0))*$B73)))","v":0},{"$f":"IF((-BC$14-BC$59-BC$69-BC$79-BC$60-BC$70-BC$80-BC$61-BC$71-BC$81-BC$62-BC$72-BC$82)<=0,0,IF($B$14=\"As Received\",(-BC$14-BC$59-BC$69-BC$79-BC$60-BC$70-BC$80-BC$61-BC$71-BC$81-BC$62-BC$72-BC$82)*$B73,MIN((-BC$14-BC$59-BC$69-BC$79-BC$60-BC$70-BC$80-BC$61-BC$71-BC$81-BC$62-BC$72-BC$82)*$B73,(BC$54+IF($B$59<>BC$31,SUM($C$33:BC$35),0))*$B73)))","v":0},{"$f":"IF((-BD$14-BD$59-BD$69-BD$79-BD$60-BD$70-BD$80-BD$61-BD$71-BD$81-BD$62-BD$72-BD$82)<=0,0,IF($B$14=\"As Received\",(-BD$14-BD$59-BD$69-BD$79-BD$60-BD$70-BD$80-BD$61-BD$71-BD$81-BD$62-BD$72-BD$82)*$B73,MIN((-BD$14-BD$59-BD$69-BD$79-BD$60-BD$70-BD$80-BD$61-BD$71-BD$81-BD$62-BD$72-BD$82)*$B73,(BD$54+IF($B$59<>BD$31,SUM($C$33:BD$35),0))*$B73)))","v":0},{"$f":"IF((-BE$14-BE$59-BE$69-BE$79-BE$60-BE$70-BE$80-BE$61-BE$71-BE$81-BE$62-BE$72-BE$82)<=0,0,IF($B$14=\"As Received\",(-BE$14-BE$59-BE$69-BE$79-BE$60-BE$70-BE$80-BE$61-BE$71-BE$81-BE$62-BE$72-BE$82)*$B73,MIN((-BE$14-BE$59-BE$69-BE$79-BE$60-BE$70-BE$80-BE$61-BE$71-BE$81-BE$62-BE$72-BE$82)*$B73,(BE$54+IF($B$59<>BE$31,SUM($C$33:BE$35),0))*$B73)))","v":0},{"$f":"IF((-BF$14-BF$59-BF$69-BF$79-BF$60-BF$70-BF$80-BF$61-BF$71-BF$81-BF$62-BF$72-BF$82)<=0,0,IF($B$14=\"As Received\",(-BF$14-BF$59-BF$69-BF$79-BF$60-BF$70-BF$80-BF$61-BF$71-BF$81-BF$62-BF$72-BF$82)*$B73,MIN((-BF$14-BF$59-BF$69-BF$79-BF$60-BF$70-BF$80-BF$61-BF$71-BF$81-BF$62-BF$72-BF$82)*$B73,(BF$54+IF($B$59<>BF$31,SUM($C$33:BF$35),0))*$B73)))","v":0},{"$f":"IF((-BG$14-BG$59-BG$69-BG$79-BG$60-BG$70-BG$80-BG$61-BG$71-BG$81-BG$62-BG$72-BG$82)<=0,0,IF($B$14=\"As Received\",(-BG$14-BG$59-BG$69-BG$79-BG$60-BG$70-BG$80-BG$61-BG$71-BG$81-BG$62-BG$72-BG$82)*$B73,MIN((-BG$14-BG$59-BG$69-BG$79-BG$60-BG$70-BG$80-BG$61-BG$71-BG$81-BG$62-BG$72-BG$82)*$B73,(BG$54+IF($B$59<>BG$31,SUM($C$33:BG$35),0))*$B73)))","v":0},{"$f":"IF((-BH$14-BH$59-BH$69-BH$79-BH$60-BH$70-BH$80-BH$61-BH$71-BH$81-BH$62-BH$72-BH$82)<=0,0,IF($B$14=\"As Received\",(-BH$14-BH$59-BH$69-BH$79-BH$60-BH$70-BH$80-BH$61-BH$71-BH$81-BH$62-BH$72-BH$82)*$B73,MIN((-BH$14-BH$59-BH$69-BH$79-BH$60-BH$70-BH$80-BH$61-BH$71-BH$81-BH$62-BH$72-BH$82)*$B73,(BH$54+IF($B$59<>BH$31,SUM($C$33:BH$35),0))*$B73)))","v":0},{"$f":"IF((-BI$14-BI$59-BI$69-BI$79-BI$60-BI$70-BI$80-BI$61-BI$71-BI$81-BI$62-BI$72-BI$82)<=0,0,IF($B$14=\"As Received\",(-BI$14-BI$59-BI$69-BI$79-BI$60-BI$70-BI$80-BI$61-BI$71-BI$81-BI$62-BI$72-BI$82)*$B73,MIN((-BI$14-BI$59-BI$69-BI$79-BI$60-BI$70-BI$80-BI$61-BI$71-BI$81-BI$62-BI$72-BI$82)*$B73,(BI$54+IF($B$59<>BI$31,SUM($C$33:BI$35),0))*$B73)))","v":0},{"$f":"IF((-BJ$14-BJ$59-BJ$69-BJ$79-BJ$60-BJ$70-BJ$80-BJ$61-BJ$71-BJ$81-BJ$62-BJ$72-BJ$82)<=0,0,IF($B$14=\"As Received\",(-BJ$14-BJ$59-BJ$69-BJ$79-BJ$60-BJ$70-BJ$80-BJ$61-BJ$71-BJ$81-BJ$62-BJ$72-BJ$82)*$B73,MIN((-BJ$14-BJ$59-BJ$69-BJ$79-BJ$60-BJ$70-BJ$80-BJ$61-BJ$71-BJ$81-BJ$62-BJ$72-BJ$82)*$B73,(BJ$54+IF($B$59<>BJ$31,SUM($C$33:BJ$35),0))*$B73)))","v":0},{"$f":"IF((-BK$14-BK$59-BK$69-BK$79-BK$60-BK$70-BK$80-BK$61-BK$71-BK$81-BK$62-BK$72-BK$82)<=0,0,IF($B$14=\"As Received\",(-BK$14-BK$59-BK$69-BK$79-BK$60-BK$70-BK$80-BK$61-BK$71-BK$81-BK$62-BK$72-BK$82)*$B73,MIN((-BK$14-BK$59-BK$69-BK$79-BK$60-BK$70-BK$80-BK$61-BK$71-BK$81-BK$62-BK$72-BK$82)*$B73,(BK$54+IF($B$59<>BK$31,SUM($C$33:BK$35),0))*$B73)))","v":0},{"$f":"IF((-BL$14-BL$59-BL$69-BL$79-BL$60-BL$70-BL$80-BL$61-BL$71-BL$81-BL$62-BL$72-BL$82)<=0,0,IF($B$14=\"As Received\",(-BL$14-BL$59-BL$69-BL$79-BL$60-BL$70-BL$80-BL$61-BL$71-BL$81-BL$62-BL$72-BL$82)*$B73,MIN((-BL$14-BL$59-BL$69-BL$79-BL$60-BL$70-BL$80-BL$61-BL$71-BL$81-BL$62-BL$72-BL$82)*$B73,(BL$54+IF($B$59<>BL$31,SUM($C$33:BL$35),0))*$B73)))","v":0},{"$f":"IF((-BM$14-BM$59-BM$69-BM$79-BM$60-BM$70-BM$80-BM$61-BM$71-BM$81-BM$62-BM$72-BM$82)<=0,0,IF($B$14=\"As Received\",(-BM$14-BM$59-BM$69-BM$79-BM$60-BM$70-BM$80-BM$61-BM$71-BM$81-BM$62-BM$72-BM$82)*$B73,MIN((-BM$14-BM$59-BM$69-BM$79-BM$60-BM$70-BM$80-BM$61-BM$71-BM$81-BM$62-BM$72-BM$82)*$B73,(BM$54+IF($B$59<>BM$31,SUM($C$33:BM$35),0))*$B73)))","v":0},{"$f":"IF((-BN$14-BN$59-BN$69-BN$79-BN$60-BN$70-BN$80-BN$61-BN$71-BN$81-BN$62-BN$72-BN$82)<=0,0,IF($B$14=\"As Received\",(-BN$14-BN$59-BN$69-BN$79-BN$60-BN$70-BN$80-BN$61-BN$71-BN$81-BN$62-BN$72-BN$82)*$B73,MIN((-BN$14-BN$59-BN$69-BN$79-BN$60-BN$70-BN$80-BN$61-BN$71-BN$81-BN$62-BN$72-BN$82)*$B73,(BN$54+IF($B$59<>BN$31,SUM($C$33:BN$35),0))*$B73)))","v":0},{"$f":"IF((-BO$14-BO$59-BO$69-BO$79-BO$60-BO$70-BO$80-BO$61-BO$71-BO$81-BO$62-BO$72-BO$82)<=0,0,IF($B$14=\"As Received\",(-BO$14-BO$59-BO$69-BO$79-BO$60-BO$70-BO$80-BO$61-BO$71-BO$81-BO$62-BO$72-BO$82)*$B73,MIN((-BO$14-BO$59-BO$69-BO$79-BO$60-BO$70-BO$80-BO$61-BO$71-BO$81-BO$62-BO$72-BO$82)*$B73,(BO$54+IF($B$59<>BO$31,SUM($C$33:BO$35),0))*$B73)))","v":0},{"$f":"IF((-BP$14-BP$59-BP$69-BP$79-BP$60-BP$70-BP$80-BP$61-BP$71-BP$81-BP$62-BP$72-BP$82)<=0,0,IF($B$14=\"As Received\",(-BP$14-BP$59-BP$69-BP$79-BP$60-BP$70-BP$80-BP$61-BP$71-BP$81-BP$62-BP$72-BP$82)*$B73,MIN((-BP$14-BP$59-BP$69-BP$79-BP$60-BP$70-BP$80-BP$61-BP$71-BP$81-BP$62-BP$72-BP$82)*$B73,(BP$54+IF($B$59<>BP$31,SUM($C$33:BP$35),0))*$B73)))","v":0},{"$f":"IF((-BQ$14-BQ$59-BQ$69-BQ$79-BQ$60-BQ$70-BQ$80-BQ$61-BQ$71-BQ$81-BQ$62-BQ$72-BQ$82)<=0,0,IF($B$14=\"As Received\",(-BQ$14-BQ$59-BQ$69-BQ$79-BQ$60-BQ$70-BQ$80-BQ$61-BQ$71-BQ$81-BQ$62-BQ$72-BQ$82)*$B73,MIN((-BQ$14-BQ$59-BQ$69-BQ$79-BQ$60-BQ$70-BQ$80-BQ$61-BQ$71-BQ$81-BQ$62-BQ$72-BQ$82)*$B73,(BQ$54+IF($B$59<>BQ$31,SUM($C$33:BQ$35),0))*$B73)))","v":0},{"$f":"IF((-BR$14-BR$59-BR$69-BR$79-BR$60-BR$70-BR$80-BR$61-BR$71-BR$81-BR$62-BR$72-BR$82)<=0,0,IF($B$14=\"As Received\",(-BR$14-BR$59-BR$69-BR$79-BR$60-BR$70-BR$80-BR$61-BR$71-BR$81-BR$62-BR$72-BR$82)*$B73,MIN((-BR$14-BR$59-BR$69-BR$79-BR$60-BR$70-BR$80-BR$61-BR$71-BR$81-BR$62-BR$72-BR$82)*$B73,(BR$54+IF($B$59<>BR$31,SUM($C$33:BR$35),0))*$B73)))","v":0},{"$f":"IF((-BS$14-BS$59-BS$69-BS$79-BS$60-BS$70-BS$80-BS$61-BS$71-BS$81-BS$62-BS$72-BS$82)<=0,0,IF($B$14=\"As Received\",(-BS$14-BS$59-BS$69-BS$79-BS$60-BS$70-BS$80-BS$61-BS$71-BS$81-BS$62-BS$72-BS$82)*$B73,MIN((-BS$14-BS$59-BS$69-BS$79-BS$60-BS$70-BS$80-BS$61-BS$71-BS$81-BS$62-BS$72-BS$82)*$B73,(BS$54+IF($B$59<>BS$31,SUM($C$33:BS$35),0))*$B73)))","v":0},{"$f":"IF((-BT$14-BT$59-BT$69-BT$79-BT$60-BT$70-BT$80-BT$61-BT$71-BT$81-BT$62-BT$72-BT$82)<=0,0,IF($B$14=\"As Received\",(-BT$14-BT$59-BT$69-BT$79-BT$60-BT$70-BT$80-BT$61-BT$71-BT$81-BT$62-BT$72-BT$82)*$B73,MIN((-BT$14-BT$59-BT$69-BT$79-BT$60-BT$70-BT$80-BT$61-BT$71-BT$81-BT$62-BT$72-BT$82)*$B73,(BT$54+IF($B$59<>BT$31,SUM($C$33:BT$35),0))*$B73)))","v":0},{"$f":"IF((-BU$14-BU$59-BU$69-BU$79-BU$60-BU$70-BU$80-BU$61-BU$71-BU$81-BU$62-BU$72-BU$82)<=0,0,IF($B$14=\"As Received\",(-BU$14-BU$59-BU$69-BU$79-BU$60-BU$70-BU$80-BU$61-BU$71-BU$81-BU$62-BU$72-BU$82)*$B73,MIN((-BU$14-BU$59-BU$69-BU$79-BU$60-BU$70-BU$80-BU$61-BU$71-BU$81-BU$62-BU$72-BU$82)*$B73,(BU$54+IF($B$59<>BU$31,SUM($C$33:BU$35),0))*$B73)))","v":0},{"$f":"IF((-BV$14-BV$59-BV$69-BV$79-BV$60-BV$70-BV$80-BV$61-BV$71-BV$81-BV$62-BV$72-BV$82)<=0,0,IF($B$14=\"As Received\",(-BV$14-BV$59-BV$69-BV$79-BV$60-BV$70-BV$80-BV$61-BV$71-BV$81-BV$62-BV$72-BV$82)*$B73,MIN((-BV$14-BV$59-BV$69-BV$79-BV$60-BV$70-BV$80-BV$61-BV$71-BV$81-BV$62-BV$72-BV$82)*$B73,(BV$54+IF($B$59<>BV$31,SUM($C$33:BV$35),0))*$B73)))","v":0},{"$f":"IF((-BW$14-BW$59-BW$69-BW$79-BW$60-BW$70-BW$80-BW$61-BW$71-BW$81-BW$62-BW$72-BW$82)<=0,0,IF($B$14=\"As Received\",(-BW$14-BW$59-BW$69-BW$79-BW$60-BW$70-BW$80-BW$61-BW$71-BW$81-BW$62-BW$72-BW$82)*$B73,MIN((-BW$14-BW$59-BW$69-BW$79-BW$60-BW$70-BW$80-BW$61-BW$71-BW$81-BW$62-BW$72-BW$82)*$B73,(BW$54+IF($B$59<>BW$31,SUM($C$33:BW$35),0))*$B73)))","v":0},{"$f":"IF((-BX$14-BX$59-BX$69-BX$79-BX$60-BX$70-BX$80-BX$61-BX$71-BX$81-BX$62-BX$72-BX$82)<=0,0,IF($B$14=\"As Received\",(-BX$14-BX$59-BX$69-BX$79-BX$60-BX$70-BX$80-BX$61-BX$71-BX$81-BX$62-BX$72-BX$82)*$B73,MIN((-BX$14-BX$59-BX$69-BX$79-BX$60-BX$70-BX$80-BX$61-BX$71-BX$81-BX$62-BX$72-BX$82)*$B73,(BX$54+IF($B$59<>BX$31,SUM($C$33:BX$35),0))*$B73)))","v":0},{"$f":"IF((-BY$14-BY$59-BY$69-BY$79-BY$60-BY$70-BY$80-BY$61-BY$71-BY$81-BY$62-BY$72-BY$82)<=0,0,IF($B$14=\"As Received\",(-BY$14-BY$59-BY$69-BY$79-BY$60-BY$70-BY$80-BY$61-BY$71-BY$81-BY$62-BY$72-BY$82)*$B73,MIN((-BY$14-BY$59-BY$69-BY$79-BY$60-BY$70-BY$80-BY$61-BY$71-BY$81-BY$62-BY$72-BY$82)*$B73,(BY$54+IF($B$59<>BY$31,SUM($C$33:BY$35),0))*$B73)))","v":0},{"$f":"IF((-BZ$14-BZ$59-BZ$69-BZ$79-BZ$60-BZ$70-BZ$80-BZ$61-BZ$71-BZ$81-BZ$62-BZ$72-BZ$82)<=0,0,IF($B$14=\"As Received\",(-BZ$14-BZ$59-BZ$69-BZ$79-BZ$60-BZ$70-BZ$80-BZ$61-BZ$71-BZ$81-BZ$62-BZ$72-BZ$82)*$B73,MIN((-BZ$14-BZ$59-BZ$69-BZ$79-BZ$60-BZ$70-BZ$80-BZ$61-BZ$71-BZ$81-BZ$62-BZ$72-BZ$82)*$B73,(BZ$54+IF($B$59<>BZ$31,SUM($C$33:BZ$35),0))*$B73)))","v":0},{"$f":"IF((-CA$14-CA$59-CA$69-CA$79-CA$60-CA$70-CA$80-CA$61-CA$71-CA$81-CA$62-CA$72-CA$82)<=0,0,IF($B$14=\"As Received\",(-CA$14-CA$59-CA$69-CA$79-CA$60-CA$70-CA$80-CA$61-CA$71-CA$81-CA$62-CA$72-CA$82)*$B73,MIN((-CA$14-CA$59-CA$69-CA$79-CA$60-CA$70-CA$80-CA$61-CA$71-CA$81-CA$62-CA$72-CA$82)*$B73,(CA$54+IF($B$59<>CA$31,SUM($C$33:CA$35),0))*$B73)))","v":0},{"$f":"IF((-CB$14-CB$59-CB$69-CB$79-CB$60-CB$70-CB$80-CB$61-CB$71-CB$81-CB$62-CB$72-CB$82)<=0,0,IF($B$14=\"As Received\",(-CB$14-CB$59-CB$69-CB$79-CB$60-CB$70-CB$80-CB$61-CB$71-CB$81-CB$62-CB$72-CB$82)*$B73,MIN((-CB$14-CB$59-CB$69-CB$79-CB$60-CB$70-CB$80-CB$61-CB$71-CB$81-CB$62-CB$72-CB$82)*$B73,(CB$54+IF($B$59<>CB$31,SUM($C$33:CB$35),0))*$B73)))","v":0},{"$f":"IF((-CC$14-CC$59-CC$69-CC$79-CC$60-CC$70-CC$80-CC$61-CC$71-CC$81-CC$62-CC$72-CC$82)<=0,0,IF($B$14=\"As Received\",(-CC$14-CC$59-CC$69-CC$79-CC$60-CC$70-CC$80-CC$61-CC$71-CC$81-CC$62-CC$72-CC$82)*$B73,MIN((-CC$14-CC$59-CC$69-CC$79-CC$60-CC$70-CC$80-CC$61-CC$71-CC$81-CC$62-CC$72-CC$82)*$B73,(CC$54+IF($B$59<>CC$31,SUM($C$33:CC$35),0))*$B73)))","v":0},{"$f":"IF((-CD$14-CD$59-CD$69-CD$79-CD$60-CD$70-CD$80-CD$61-CD$71-CD$81-CD$62-CD$72-CD$82)<=0,0,IF($B$14=\"As Received\",(-CD$14-CD$59-CD$69-CD$79-CD$60-CD$70-CD$80-CD$61-CD$71-CD$81-CD$62-CD$72-CD$82)*$B73,MIN((-CD$14-CD$59-CD$69-CD$79-CD$60-CD$70-CD$80-CD$61-CD$71-CD$81-CD$62-CD$72-CD$82)*$B73,(CD$54+IF($B$59<>CD$31,SUM($C$33:CD$35),0))*$B73)))","v":0},{"$f":"IF((-CE$14-CE$59-CE$69-CE$79-CE$60-CE$70-CE$80-CE$61-CE$71-CE$81-CE$62-CE$72-CE$82)<=0,0,IF($B$14=\"As Received\",(-CE$14-CE$59-CE$69-CE$79-CE$60-CE$70-CE$80-CE$61-CE$71-CE$81-CE$62-CE$72-CE$82)*$B73,MIN((-CE$14-CE$59-CE$69-CE$79-CE$60-CE$70-CE$80-CE$61-CE$71-CE$81-CE$62-CE$72-CE$82)*$B73,(CE$54+IF($B$59<>CE$31,SUM($C$33:CE$35),0))*$B73)))","v":0},{"$f":"IF((-CF$14-CF$59-CF$69-CF$79-CF$60-CF$70-CF$80-CF$61-CF$71-CF$81-CF$62-CF$72-CF$82)<=0,0,IF($B$14=\"As Received\",(-CF$14-CF$59-CF$69-CF$79-CF$60-CF$70-CF$80-CF$61-CF$71-CF$81-CF$62-CF$72-CF$82)*$B73,MIN((-CF$14-CF$59-CF$69-CF$79-CF$60-CF$70-CF$80-CF$61-CF$71-CF$81-CF$62-CF$72-CF$82)*$B73,(CF$54+IF($B$59<>CF$31,SUM($C$33:CF$35),0))*$B73)))","v":0},{"$f":"IF((-CG$14-CG$59-CG$69-CG$79-CG$60-CG$70-CG$80-CG$61-CG$71-CG$81-CG$62-CG$72-CG$82)<=0,0,IF($B$14=\"As Received\",(-CG$14-CG$59-CG$69-CG$79-CG$60-CG$70-CG$80-CG$61-CG$71-CG$81-CG$62-CG$72-CG$82)*$B73,MIN((-CG$14-CG$59-CG$69-CG$79-CG$60-CG$70-CG$80-CG$61-CG$71-CG$81-CG$62-CG$72-CG$82)*$B73,(CG$54+IF($B$59<>CG$31,SUM($C$33:CG$35),0))*$B73)))","v":0},{"$f":"IF((-CH$14-CH$59-CH$69-CH$79-CH$60-CH$70-CH$80-CH$61-CH$71-CH$81-CH$62-CH$72-CH$82)<=0,0,IF($B$14=\"As Received\",(-CH$14-CH$59-CH$69-CH$79-CH$60-CH$70-CH$80-CH$61-CH$71-CH$81-CH$62-CH$72-CH$82)*$B73,MIN((-CH$14-CH$59-CH$69-CH$79-CH$60-CH$70-CH$80-CH$61-CH$71-CH$81-CH$62-CH$72-CH$82)*$B73,(CH$54+IF($B$59<>CH$31,SUM($C$33:CH$35),0))*$B73)))","v":0},{"$f":"IF((-CI$14-CI$59-CI$69-CI$79-CI$60-CI$70-CI$80-CI$61-CI$71-CI$81-CI$62-CI$72-CI$82)<=0,0,IF($B$14=\"As Received\",(-CI$14-CI$59-CI$69-CI$79-CI$60-CI$70-CI$80-CI$61-CI$71-CI$81-CI$62-CI$72-CI$82)*$B73,MIN((-CI$14-CI$59-CI$69-CI$79-CI$60-CI$70-CI$80-CI$61-CI$71-CI$81-CI$62-CI$72-CI$82)*$B73,(CI$54+IF($B$59<>CI$31,SUM($C$33:CI$35),0))*$B73)))","v":1007083.9454647903},{"$f":"IF((-CJ$14-CJ$59-CJ$69-CJ$79-CJ$60-CJ$70-CJ$80-CJ$61-CJ$71-CJ$81-CJ$62-CJ$72-CJ$82)<=0,0,IF($B$14=\"As Received\",(-CJ$14-CJ$59-CJ$69-CJ$79-CJ$60-CJ$70-CJ$80-CJ$61-CJ$71-CJ$81-CJ$62-CJ$72-CJ$82)*$B73,MIN((-CJ$14-CJ$59-CJ$69-CJ$79-CJ$60-CJ$70-CJ$80-CJ$61-CJ$71-CJ$81-CJ$62-CJ$72-CJ$82)*$B73,(CJ$54+IF($B$59<>CJ$31,SUM($C$33:CJ$35),0))*$B73)))","v":0},{"$f":"IF((-CK$14-CK$59-CK$69-CK$79-CK$60-CK$70-CK$80-CK$61-CK$71-CK$81-CK$62-CK$72-CK$82)<=0,0,IF($B$14=\"As Received\",(-CK$14-CK$59-CK$69-CK$79-CK$60-CK$70-CK$80-CK$61-CK$71-CK$81-CK$62-CK$72-CK$82)*$B73,MIN((-CK$14-CK$59-CK$69-CK$79-CK$60-CK$70-CK$80-CK$61-CK$71-CK$81-CK$62-CK$72-CK$82)*$B73,(CK$54+IF($B$59<>CK$31,SUM($C$33:CK$35),0))*$B73)))","v":0},{"$f":"IF((-CL$14-CL$59-CL$69-CL$79-CL$60-CL$70-CL$80-CL$61-CL$71-CL$81-CL$62-CL$72-CL$82)<=0,0,IF($B$14=\"As Received\",(-CL$14-CL$59-CL$69-CL$79-CL$60-CL$70-CL$80-CL$61-CL$71-CL$81-CL$62-CL$72-CL$82)*$B73,MIN((-CL$14-CL$59-CL$69-CL$79-CL$60-CL$70-CL$80-CL$61-CL$71-CL$81-CL$62-CL$72-CL$82)*$B73,(CL$54+IF($B$59<>CL$31,SUM($C$33:CL$35),0))*$B73)))","v":0},{"$f":"IF((-CM$14-CM$59-CM$69-CM$79-CM$60-CM$70-CM$80-CM$61-CM$71-CM$81-CM$62-CM$72-CM$82)<=0,0,IF($B$14=\"As Received\",(-CM$14-CM$59-CM$69-CM$79-CM$60-CM$70-CM$80-CM$61-CM$71-CM$81-CM$62-CM$72-CM$82)*$B73,MIN((-CM$14-CM$59-CM$69-CM$79-CM$60-CM$70-CM$80-CM$61-CM$71-CM$81-CM$62-CM$72-CM$82)*$B73,(CM$54+IF($B$59<>CM$31,SUM($C$33:CM$35),0))*$B73)))","v":0},{"$f":"IF((-CN$14-CN$59-CN$69-CN$79-CN$60-CN$70-CN$80-CN$61-CN$71-CN$81-CN$62-CN$72-CN$82)<=0,0,IF($B$14=\"As Received\",(-CN$14-CN$59-CN$69-CN$79-CN$60-CN$70-CN$80-CN$61-CN$71-CN$81-CN$62-CN$72-CN$82)*$B73,MIN((-CN$14-CN$59-CN$69-CN$79-CN$60-CN$70-CN$80-CN$61-CN$71-CN$81-CN$62-CN$72-CN$82)*$B73,(CN$54+IF($B$59<>CN$31,SUM($C$33:CN$35),0))*$B73)))","v":0},{"$f":"IF((-CO$14-CO$59-CO$69-CO$79-CO$60-CO$70-CO$80-CO$61-CO$71-CO$81-CO$62-CO$72-CO$82)<=0,0,IF($B$14=\"As Received\",(-CO$14-CO$59-CO$69-CO$79-CO$60-CO$70-CO$80-CO$61-CO$71-CO$81-CO$62-CO$72-CO$82)*$B73,MIN((-CO$14-CO$59-CO$69-CO$79-CO$60-CO$70-CO$80-CO$61-CO$71-CO$81-CO$62-CO$72-CO$82)*$B73,(CO$54+IF($B$59<>CO$31,SUM($C$33:CO$35),0))*$B73)))","v":0},{"$f":"IF((-CP$14-CP$59-CP$69-CP$79-CP$60-CP$70-CP$80-CP$61-CP$71-CP$81-CP$62-CP$72-CP$82)<=0,0,IF($B$14=\"As Received\",(-CP$14-CP$59-CP$69-CP$79-CP$60-CP$70-CP$80-CP$61-CP$71-CP$81-CP$62-CP$72-CP$82)*$B73,MIN((-CP$14-CP$59-CP$69-CP$79-CP$60-CP$70-CP$80-CP$61-CP$71-CP$81-CP$62-CP$72-CP$82)*$B73,(CP$54+IF($B$59<>CP$31,SUM($C$33:CP$35),0))*$B73)))","v":0},{"$f":"IF((-CQ$14-CQ$59-CQ$69-CQ$79-CQ$60-CQ$70-CQ$80-CQ$61-CQ$71-CQ$81-CQ$62-CQ$72-CQ$82)<=0,0,IF($B$14=\"As Received\",(-CQ$14-CQ$59-CQ$69-CQ$79-CQ$60-CQ$70-CQ$80-CQ$61-CQ$71-CQ$81-CQ$62-CQ$72-CQ$82)*$B73,MIN((-CQ$14-CQ$59-CQ$69-CQ$79-CQ$60-CQ$70-CQ$80-CQ$61-CQ$71-CQ$81-CQ$62-CQ$72-CQ$82)*$B73,(CQ$54+IF($B$59<>CQ$31,SUM($C$33:CQ$35),0))*$B73)))","v":0},{"$f":"IF((-CR$14-CR$59-CR$69-CR$79-CR$60-CR$70-CR$80-CR$61-CR$71-CR$81-CR$62-CR$72-CR$82)<=0,0,IF($B$14=\"As Received\",(-CR$14-CR$59-CR$69-CR$79-CR$60-CR$70-CR$80-CR$61-CR$71-CR$81-CR$62-CR$72-CR$82)*$B73,MIN((-CR$14-CR$59-CR$69-CR$79-CR$60-CR$70-CR$80-CR$61-CR$71-CR$81-CR$62-CR$72-CR$82)*$B73,(CR$54+IF($B$59<>CR$31,SUM($C$33:CR$35),0))*$B73)))","v":0},{"$f":"IF((-CS$14-CS$59-CS$69-CS$79-CS$60-CS$70-CS$80-CS$61-CS$71-CS$81-CS$62-CS$72-CS$82)<=0,0,IF($B$14=\"As Received\",(-CS$14-CS$59-CS$69-CS$79-CS$60-CS$70-CS$80-CS$61-CS$71-CS$81-CS$62-CS$72-CS$82)*$B73,MIN((-CS$14-CS$59-CS$69-CS$79-CS$60-CS$70-CS$80-CS$61-CS$71-CS$81-CS$62-CS$72-CS$82)*$B73,(CS$54+IF($B$59<>CS$31,SUM($C$33:CS$35),0))*$B73)))","v":0},{"$f":"IF((-CT$14-CT$59-CT$69-CT$79-CT$60-CT$70-CT$80-CT$61-CT$71-CT$81-CT$62-CT$72-CT$82)<=0,0,IF($B$14=\"As Received\",(-CT$14-CT$59-CT$69-CT$79-CT$60-CT$70-CT$80-CT$61-CT$71-CT$81-CT$62-CT$72-CT$82)*$B73,MIN((-CT$14-CT$59-CT$69-CT$79-CT$60-CT$70-CT$80-CT$61-CT$71-CT$81-CT$62-CT$72-CT$82)*$B73,(CT$54+IF($B$59<>CT$31,SUM($C$33:CT$35),0))*$B73)))","v":0},{"$f":"IF((-CU$14-CU$59-CU$69-CU$79-CU$60-CU$70-CU$80-CU$61-CU$71-CU$81-CU$62-CU$72-CU$82)<=0,0,IF($B$14=\"As Received\",(-CU$14-CU$59-CU$69-CU$79-CU$60-CU$70-CU$80-CU$61-CU$71-CU$81-CU$62-CU$72-CU$82)*$B73,MIN((-CU$14-CU$59-CU$69-CU$79-CU$60-CU$70-CU$80-CU$61-CU$71-CU$81-CU$62-CU$72-CU$82)*$B73,(CU$54+IF($B$59<>CU$31,SUM($C$33:CU$35),0))*$B73)))","v":0},{"$f":"IF((-CV$14-CV$59-CV$69-CV$79-CV$60-CV$70-CV$80-CV$61-CV$71-CV$81-CV$62-CV$72-CV$82)<=0,0,IF($B$14=\"As Received\",(-CV$14-CV$59-CV$69-CV$79-CV$60-CV$70-CV$80-CV$61-CV$71-CV$81-CV$62-CV$72-CV$82)*$B73,MIN((-CV$14-CV$59-CV$69-CV$79-CV$60-CV$70-CV$80-CV$61-CV$71-CV$81-CV$62-CV$72-CV$82)*$B73,(CV$54+IF($B$59<>CV$31,SUM($C$33:CV$35),0))*$B73)))","v":0},{"$f":"IF((-CW$14-CW$59-CW$69-CW$79-CW$60-CW$70-CW$80-CW$61-CW$71-CW$81-CW$62-CW$72-CW$82)<=0,0,IF($B$14=\"As Received\",(-CW$14-CW$59-CW$69-CW$79-CW$60-CW$70-CW$80-CW$61-CW$71-CW$81-CW$62-CW$72-CW$82)*$B73,MIN((-CW$14-CW$59-CW$69-CW$79-CW$60-CW$70-CW$80-CW$61-CW$71-CW$81-CW$62-CW$72-CW$82)*$B73,(CW$54+IF($B$59<>CW$31,SUM($C$33:CW$35),0))*$B73)))","v":0},{"$f":"IF((-CX$14-CX$59-CX$69-CX$79-CX$60-CX$70-CX$80-CX$61-CX$71-CX$81-CX$62-CX$72-CX$82)<=0,0,IF($B$14=\"As Received\",(-CX$14-CX$59-CX$69-CX$79-CX$60-CX$70-CX$80-CX$61-CX$71-CX$81-CX$62-CX$72-CX$82)*$B73,MIN((-CX$14-CX$59-CX$69-CX$79-CX$60-CX$70-CX$80-CX$61-CX$71-CX$81-CX$62-CX$72-CX$82)*$B73,(CX$54+IF($B$59<>CX$31,SUM($C$33:CX$35),0))*$B73)))","v":0},{"$f":"IF((-CY$14-CY$59-CY$69-CY$79-CY$60-CY$70-CY$80-CY$61-CY$71-CY$81-CY$62-CY$72-CY$82)<=0,0,IF($B$14=\"As Received\",(-CY$14-CY$59-CY$69-CY$79-CY$60-CY$70-CY$80-CY$61-CY$71-CY$81-CY$62-CY$72-CY$82)*$B73,MIN((-CY$14-CY$59-CY$69-CY$79-CY$60-CY$70-CY$80-CY$61-CY$71-CY$81-CY$62-CY$72-CY$82)*$B73,(CY$54+IF($B$59<>CY$31,SUM($C$33:CY$35),0))*$B73)))","v":0},{"$f":"IF((-CZ$14-CZ$59-CZ$69-CZ$79-CZ$60-CZ$70-CZ$80-CZ$61-CZ$71-CZ$81-CZ$62-CZ$72-CZ$82)<=0,0,IF($B$14=\"As Received\",(-CZ$14-CZ$59-CZ$69-CZ$79-CZ$60-CZ$70-CZ$80-CZ$61-CZ$71-CZ$81-CZ$62-CZ$72-CZ$82)*$B73,MIN((-CZ$14-CZ$59-CZ$69-CZ$79-CZ$60-CZ$70-CZ$80-CZ$61-CZ$71-CZ$81-CZ$62-CZ$72-CZ$82)*$B73,(CZ$54+IF($B$59<>CZ$31,SUM($C$33:CZ$35),0))*$B73)))","v":0},{"$f":"IF((-DA$14-DA$59-DA$69-DA$79-DA$60-DA$70-DA$80-DA$61-DA$71-DA$81-DA$62-DA$72-DA$82)<=0,0,IF($B$14=\"As Received\",(-DA$14-DA$59-DA$69-DA$79-DA$60-DA$70-DA$80-DA$61-DA$71-DA$81-DA$62-DA$72-DA$82)*$B73,MIN((-DA$14-DA$59-DA$69-DA$79-DA$60-DA$70-DA$80-DA$61-DA$71-DA$81-DA$62-DA$72-DA$82)*$B73,(DA$54+IF($B$59<>DA$31,SUM($C$33:DA$35),0))*$B73)))","v":0},{"$f":"IF((-DB$14-DB$59-DB$69-DB$79-DB$60-DB$70-DB$80-DB$61-DB$71-DB$81-DB$62-DB$72-DB$82)<=0,0,IF($B$14=\"As Received\",(-DB$14-DB$59-DB$69-DB$79-DB$60-DB$70-DB$80-DB$61-DB$71-DB$81-DB$62-DB$72-DB$82)*$B73,MIN((-DB$14-DB$59-DB$69-DB$79-DB$60-DB$70-DB$80-DB$61-DB$71-DB$81-DB$62-DB$72-DB$82)*$B73,(DB$54+IF($B$59<>DB$31,SUM($C$33:DB$35),0))*$B73)))","v":0},{"$f":"IF((-DC$14-DC$59-DC$69-DC$79-DC$60-DC$70-DC$80-DC$61-DC$71-DC$81-DC$62-DC$72-DC$82)<=0,0,IF($B$14=\"As Received\",(-DC$14-DC$59-DC$69-DC$79-DC$60-DC$70-DC$80-DC$61-DC$71-DC$81-DC$62-DC$72-DC$82)*$B73,MIN((-DC$14-DC$59-DC$69-DC$79-DC$60-DC$70-DC$80-DC$61-DC$71-DC$81-DC$62-DC$72-DC$82)*$B73,(DC$54+IF($B$59<>DC$31,SUM($C$33:DC$35),0))*$B73)))","v":0},{"$f":"IF((-DD$14-DD$59-DD$69-DD$79-DD$60-DD$70-DD$80-DD$61-DD$71-DD$81-DD$62-DD$72-DD$82)<=0,0,IF($B$14=\"As Received\",(-DD$14-DD$59-DD$69-DD$79-DD$60-DD$70-DD$80-DD$61-DD$71-DD$81-DD$62-DD$72-DD$82)*$B73,MIN((-DD$14-DD$59-DD$69-DD$79-DD$60-DD$70-DD$80-DD$61-DD$71-DD$81-DD$62-DD$72-DD$82)*$B73,(DD$54+IF($B$59<>DD$31,SUM($C$33:DD$35),0))*$B73)))","v":0},{"$f":"IF((-DE$14-DE$59-DE$69-DE$79-DE$60-DE$70-DE$80-DE$61-DE$71-DE$81-DE$62-DE$72-DE$82)<=0,0,IF($B$14=\"As Received\",(-DE$14-DE$59-DE$69-DE$79-DE$60-DE$70-DE$80-DE$61-DE$71-DE$81-DE$62-DE$72-DE$82)*$B73,MIN((-DE$14-DE$59-DE$69-DE$79-DE$60-DE$70-DE$80-DE$61-DE$71-DE$81-DE$62-DE$72-DE$82)*$B73,(DE$54+IF($B$59<>DE$31,SUM($C$33:DE$35),0))*$B73)))","v":0},{"$f":"IF((-DF$14-DF$59-DF$69-DF$79-DF$60-DF$70-DF$80-DF$61-DF$71-DF$81-DF$62-DF$72-DF$82)<=0,0,IF($B$14=\"As Received\",(-DF$14-DF$59-DF$69-DF$79-DF$60-DF$70-DF$80-DF$61-DF$71-DF$81-DF$62-DF$72-DF$82)*$B73,MIN((-DF$14-DF$59-DF$69-DF$79-DF$60-DF$70-DF$80-DF$61-DF$71-DF$81-DF$62-DF$72-DF$82)*$B73,(DF$54+IF($B$59<>DF$31,SUM($C$33:DF$35),0))*$B73)))","v":0},{"$f":"IF((-DG$14-DG$59-DG$69-DG$79-DG$60-DG$70-DG$80-DG$61-DG$71-DG$81-DG$62-DG$72-DG$82)<=0,0,IF($B$14=\"As Received\",(-DG$14-DG$59-DG$69-DG$79-DG$60-DG$70-DG$80-DG$61-DG$71-DG$81-DG$62-DG$72-DG$82)*$B73,MIN((-DG$14-DG$59-DG$69-DG$79-DG$60-DG$70-DG$80-DG$61-DG$71-DG$81-DG$62-DG$72-DG$82)*$B73,(DG$54+IF($B$59<>DG$31,SUM($C$33:DG$35),0))*$B73)))","v":0},{"$f":"IF((-DH$14-DH$59-DH$69-DH$79-DH$60-DH$70-DH$80-DH$61-DH$71-DH$81-DH$62-DH$72-DH$82)<=0,0,IF($B$14=\"As Received\",(-DH$14-DH$59-DH$69-DH$79-DH$60-DH$70-DH$80-DH$61-DH$71-DH$81-DH$62-DH$72-DH$82)*$B73,MIN((-DH$14-DH$59-DH$69-DH$79-DH$60-DH$70-DH$80-DH$61-DH$71-DH$81-DH$62-DH$72-DH$82)*$B73,(DH$54+IF($B$59<>DH$31,SUM($C$33:DH$35),0))*$B73)))","v":0},{"$f":"IF((-DI$14-DI$59-DI$69-DI$79-DI$60-DI$70-DI$80-DI$61-DI$71-DI$81-DI$62-DI$72-DI$82)<=0,0,IF($B$14=\"As Received\",(-DI$14-DI$59-DI$69-DI$79-DI$60-DI$70-DI$80-DI$61-DI$71-DI$81-DI$62-DI$72-DI$82)*$B73,MIN((-DI$14-DI$59-DI$69-DI$79-DI$60-DI$70-DI$80-DI$61-DI$71-DI$81-DI$62-DI$72-DI$82)*$B73,(DI$54+IF($B$59<>DI$31,SUM($C$33:DI$35),0))*$B73)))","v":0},{"$f":"IF((-DJ$14-DJ$59-DJ$69-DJ$79-DJ$60-DJ$70-DJ$80-DJ$61-DJ$71-DJ$81-DJ$62-DJ$72-DJ$82)<=0,0,IF($B$14=\"As Received\",(-DJ$14-DJ$59-DJ$69-DJ$79-DJ$60-DJ$70-DJ$80-DJ$61-DJ$71-DJ$81-DJ$62-DJ$72-DJ$82)*$B73,MIN((-DJ$14-DJ$59-DJ$69-DJ$79-DJ$60-DJ$70-DJ$80-DJ$61-DJ$71-DJ$81-DJ$62-DJ$72-DJ$82)*$B73,(DJ$54+IF($B$59<>DJ$31,SUM($C$33:DJ$35),0))*$B73)))","v":0},{"$f":"IF((-DK$14-DK$59-DK$69-DK$79-DK$60-DK$70-DK$80-DK$61-DK$71-DK$81-DK$62-DK$72-DK$82)<=0,0,IF($B$14=\"As Received\",(-DK$14-DK$59-DK$69-DK$79-DK$60-DK$70-DK$80-DK$61-DK$71-DK$81-DK$62-DK$72-DK$82)*$B73,MIN((-DK$14-DK$59-DK$69-DK$79-DK$60-DK$70-DK$80-DK$61-DK$71-DK$81-DK$62-DK$72-DK$82)*$B73,(DK$54+IF($B$59<>DK$31,SUM($C$33:DK$35),0))*$B73)))","v":0},{"$f":"IF((-DL$14-DL$59-DL$69-DL$79-DL$60-DL$70-DL$80-DL$61-DL$71-DL$81-DL$62-DL$72-DL$82)<=0,0,IF($B$14=\"As Received\",(-DL$14-DL$59-DL$69-DL$79-DL$60-DL$70-DL$80-DL$61-DL$71-DL$81-DL$62-DL$72-DL$82)*$B73,MIN((-DL$14-DL$59-DL$69-DL$79-DL$60-DL$70-DL$80-DL$61-DL$71-DL$81-DL$62-DL$72-DL$82)*$B73,(DL$54+IF($B$59<>DL$31,SUM($C$33:DL$35),0))*$B73)))","v":0},{"$f":"IF((-DM$14-DM$59-DM$69-DM$79-DM$60-DM$70-DM$80-DM$61-DM$71-DM$81-DM$62-DM$72-DM$82)<=0,0,IF($B$14=\"As Received\",(-DM$14-DM$59-DM$69-DM$79-DM$60-DM$70-DM$80-DM$61-DM$71-DM$81-DM$62-DM$72-DM$82)*$B73,MIN((-DM$14-DM$59-DM$69-DM$79-DM$60-DM$70-DM$80-DM$61-DM$71-DM$81-DM$62-DM$72-DM$82)*$B73,(DM$54+IF($B$59<>DM$31,SUM($C$33:DM$35),0))*$B73)))","v":0},{"$f":"IF((-DN$14-DN$59-DN$69-DN$79-DN$60-DN$70-DN$80-DN$61-DN$71-DN$81-DN$62-DN$72-DN$82)<=0,0,IF($B$14=\"As Received\",(-DN$14-DN$59-DN$69-DN$79-DN$60-DN$70-DN$80-DN$61-DN$71-DN$81-DN$62-DN$72-DN$82)*$B73,MIN((-DN$14-DN$59-DN$69-DN$79-DN$60-DN$70-DN$80-DN$61-DN$71-DN$81-DN$62-DN$72-DN$82)*$B73,(DN$54+IF($B$59<>DN$31,SUM($C$33:DN$35),0))*$B73)))","v":0},{"$f":"IF((-DO$14-DO$59-DO$69-DO$79-DO$60-DO$70-DO$80-DO$61-DO$71-DO$81-DO$62-DO$72-DO$82)<=0,0,IF($B$14=\"As Received\",(-DO$14-DO$59-DO$69-DO$79-DO$60-DO$70-DO$80-DO$61-DO$71-DO$81-DO$62-DO$72-DO$82)*$B73,MIN((-DO$14-DO$59-DO$69-DO$79-DO$60-DO$70-DO$80-DO$61-DO$71-DO$81-DO$62-DO$72-DO$82)*$B73,(DO$54+IF($B$59<>DO$31,SUM($C$33:DO$35),0))*$B73)))","v":0},{"$f":"IF((-DP$14-DP$59-DP$69-DP$79-DP$60-DP$70-DP$80-DP$61-DP$71-DP$81-DP$62-DP$72-DP$82)<=0,0,IF($B$14=\"As Received\",(-DP$14-DP$59-DP$69-DP$79-DP$60-DP$70-DP$80-DP$61-DP$71-DP$81-DP$62-DP$72-DP$82)*$B73,MIN((-DP$14-DP$59-DP$69-DP$79-DP$60-DP$70-DP$80-DP$61-DP$71-DP$81-DP$62-DP$72-DP$82)*$B73,(DP$54+IF($B$59<>DP$31,SUM($C$33:DP$35),0))*$B73)))","v":0},{"$f":"IF((-DQ$14-DQ$59-DQ$69-DQ$79-DQ$60-DQ$70-DQ$80-DQ$61-DQ$71-DQ$81-DQ$62-DQ$72-DQ$82)<=0,0,IF($B$14=\"As Received\",(-DQ$14-DQ$59-DQ$69-DQ$79-DQ$60-DQ$70-DQ$80-DQ$61-DQ$71-DQ$81-DQ$62-DQ$72-DQ$82)*$B73,MIN((-DQ$14-DQ$59-DQ$69-DQ$79-DQ$60-DQ$70-DQ$80-DQ$61-DQ$71-DQ$81-DQ$62-DQ$72-DQ$82)*$B73,(DQ$54+IF($B$59<>DQ$31,SUM($C$33:DQ$35),0))*$B73)))","v":0},{"$f":"IF((-DR$14-DR$59-DR$69-DR$79-DR$60-DR$70-DR$80-DR$61-DR$71-DR$81-DR$62-DR$72-DR$82)<=0,0,IF($B$14=\"As Received\",(-DR$14-DR$59-DR$69-DR$79-DR$60-DR$70-DR$80-DR$61-DR$71-DR$81-DR$62-DR$72-DR$82)*$B73,MIN((-DR$14-DR$59-DR$69-DR$79-DR$60-DR$70-DR$80-DR$61-DR$71-DR$81-DR$62-DR$72-DR$82)*$B73,(DR$54+IF($B$59<>DR$31,SUM($C$33:DR$35),0))*$B73)))","v":0},{"$f":"IF((-DS$14-DS$59-DS$69-DS$79-DS$60-DS$70-DS$80-DS$61-DS$71-DS$81-DS$62-DS$72-DS$82)<=0,0,IF($B$14=\"As Received\",(-DS$14-DS$59-DS$69-DS$79-DS$60-DS$70-DS$80-DS$61-DS$71-DS$81-DS$62-DS$72-DS$82)*$B73,MIN((-DS$14-DS$59-DS$69-DS$79-DS$60-DS$70-DS$80-DS$61-DS$71-DS$81-DS$62-DS$72-DS$82)*$B73,(DS$54+IF($B$59<>DS$31,SUM($C$33:DS$35),0))*$B73)))","v":0}]
["Total",null,{"$f":"SUM(C68:C73)","v":-999855.99999999977},7072.6674160289067,7072.6674160289067,7072.6674160289067,6059.4841644139633,7727.4361644139635,7727.4361644139635,7727.4361644139635,7164.5565801834373,8091.1965801834376,8138.8632468501064,8372.4299135167748,6916.2247462213527,9795.5011462213533,9795.5011462213533,9892.4360795546836,9331.3976676112725,10163.71102800243,11673.79102800243,11673.79102800243,12028.431028002437,12028.431028002437,12028.431028002437,12028.431028002437,12246.88357599439,12246.88357599439,12246.88357599439,12246.88357599439,12277.39024266106,12277.39024266106,12277.39024266106,12277.39024266106,12336.954509327728,12336.954509327728,12336.954509327728,12336.954509327728,12323.154447092782,12323.154447092782,12323.154447092782,12323.154447092782,12323.154447092782,12323.154447092782,12323.154447092782,12323.154447092782,12323.154447092782,12323.154447092782,12323.154447092782,12323.154447092782,12308.940382990781,12518.67371632412,12518.67371632412,12518.67371632412,12518.67371632412,12518.67371632412,12518.67371632412,12518.67371632412,12518.67371632412,12518.67371632412,12518.67371632412,12518.67371632412,12504.033230299057,12675.633230299058,12675.633230299058,12675.633230299058,{"$f":"SUM(BO68:BO73)","v":12675.633230299058},12675.633230299058,12675.633230299058,12675.633230299058,12675.633230299058,12675.633230299058,12742.366563632395,13078.702563632396,13063.62286302659,13139.81326302659,13139.81326302659,13139.81326302659,13139.81326302659,13139.81326302659,13139.81326302659,13139.81326302659,13139.81326302659,13139.81326302659,13139.81326302659,13139.81326302659,1042012.5381302899,0,0,0,0,0,0,0,0,0,0,0,0,0,0,0,0,0,0,0,0,0,0,0,0,0,0,0,0,0,0,0,0,0,0,0,0]
["IRR",{"$f":"IF(ISERROR(IRR(C74:OFFSET(C74,,$B$69),0.01)),\"N/A\",(1+IRR(C74:OFFSET(C74,,$B$69),0.01))^$B$113-1)","v":0.14594303425646338}]
[]
[{"$f":"A28&\" Cash Flows\"","v":"GP Cash Flows"}]
[{"$f":"A68","v":"Contributions"},null,{"$f":"C35","v":0},0,0,0,0,0,0,0,0,0,0,0,0,0,0,0,0,0,0,0,0,0,0,0,0,0,0,0,0,0,0,0,0,0,0,0,0,0,0,0,0,0,0,0,0,0,0,0,0,0,0,0,0,0,0,0,0,0,0,0,0,0,0,0,{"$f":"BO35","v":0},0,0,0,0,0,0,0,0,0,0,0,0,0,0,0,0,0,0,0,0,0,0,0,0,0,0,0,0,0,0,0,0,0,0,0,0,0,0,0,0,0,0,0,0,0,0,0,0,0,0,0,0,0,0,0,0]
["Return of Equity",{"$f":"B69","v":84},{"$f":"IF($B$14=\"As Received\",-C14*$B$21,IF($B79=C$31,-SUM($C78:C78),0))","v":0},{"$f":"IF($B$14=\"As Received\",MIN(-D14*$B$21,-SUM($C78:D78)-SUM($C$79:C79)),IF($B79=D$31,-SUM($C78:D78),0))","v":0},{"$f":"IF($B$14=\"As Received\",MIN(-E14*$B$21,-SUM($C78:E78)-SUM($C$79:D79)),IF($B79=E$31,-SUM($C78:E78),0))","v":0},{"$f":"IF($B$14=\"As Received\",MIN(-F14*$B$21,-SUM($C78:F78)-SUM($C$79:E79)),IF($B79=F$31,-SUM($C78:F78),0))","v":0},{"$f":"IF($B$14=\"As Received\",MIN(-G14*$B$21,-SUM($C78:G78)-SUM($C$79:F79)),IF($B79=G$31,-SUM($C78:G78),0))","v":0},{"$f":"IF($B$14=\"As Received\",MIN(-H14*$B$21,-SUM($C78:H78)-SUM($C$79:G79)),IF($B79=H$31,-SUM($C78:H78),0))","v":0},{"$f":"IF($B$14=\"As Received\",MIN(-I14*$B$21,-SUM($C78:I78)-SUM($C$79:H79)),IF($B79=I$31,-SUM($C78:I78),0))","v":0},{"$f":"IF($B$14=\"As Received\",MIN(-J14*$B$21,-SUM($C78:J78)-SUM($C$79:I79)),IF($B79=J$31,-SUM($C78:J78),0))","v":0},{"$f":"IF($B$14=\"As Received\",MIN(-K14*$B$21,-SUM($C78:K78)-SUM($C$79:J79)),IF($B79=K$31,-SUM($C78:K78),0))","v":0},{"$f":"IF($B$14=\"As Received\",MIN(-L14*$B$21,-SUM($C78:L78)-SUM($C$79:K79)),IF($B79=L$31,-SUM($C78:L78),0))","v":0},{"$f":"IF($B$14=\"As Received\",MIN(-M14*$B$21,-SUM($C78:M78)-SUM($C$79:L79)),IF($B79=M$31,-SUM($C78:M78),0))","v":0},{"$f":"IF($B$14=\"As Received\",MIN(-N14*$B$21,-SUM($C78:N78)-SUM($C$79:M79)),IF($B79=N$31,-SUM($C78:N78),0))","v":0},{"$f":"IF($B$14=\"As Received\",MIN(-O14*$B$21,-SUM($C78:O78)-SUM($C$79:N79)),IF($B79=O$31,-SUM($C78:O78),0))","v":0},{"$f":"IF($B$14=\"As Received\",MIN(-P14*$B$21,-SUM($C78:P78)-SUM($C$79:O79)),IF($B79=P$31,-SUM($C78:P78),0))","v":0},{"$f":"IF($B$14=\"As Received\",MIN(-Q14*$B$21,-SUM($C78:Q78)-SUM($C$79:P79)),IF($B79=Q$31,-SUM($C78:Q78),0))","v":0},{"$f":"IF($B$14=\"As Received\",MIN(-R14*$B$21,-SUM($C78:R78)-SUM($C$79:Q79)),IF($B79=R$31,-SUM($C78:R78),0))","v":0},{"$f":"IF($B$14=\"As Received\",MIN(-S14*$B$21,-SUM($C78:S78)-SUM($C$79:R79)),IF($B79=S$31,-SUM($C78:S78),0))","v":0},{"$f":"IF($B$14=\"As Received\",MIN(-T14*$B$21,-SUM($C78:T78)-SUM($C$79:S79)),IF($B79=T$31,-SUM($C78:T78),0))","v":0},{"$f":"IF($B$14=\"As Received\",MIN(-U14*$B$21,-SUM($C78:U78)-SUM($C$79:T79)),IF($B79=U$31,-SUM($C78:U78),0))","v":0},{"$f":"IF($B$14=\"As Received\",MIN(-V14*$B$21,-SUM($C78:V78)-SUM($C$79:U79)),IF($B79=V$31,-SUM($C78:V78),0))","v":0},{"$f":"IF($B$14=\"As Received\",MIN(-W14*$B$21,-SUM($C78:W78)-SUM($C$79:V79)),IF($B79=W$31,-SUM($C78:W78),0))","v":0},{"$f":"IF($B$14=\"As Received\",MIN(-X14*$B$21,-SUM($C78:X78)-SUM($C$79:W79)),IF($B79=X$31,-SUM($C78:X78),0))","v":0},{"$f":"IF($B$14=\"As Received\",MIN(-Y14*$B$21,-SUM($C78:Y78)-SUM($C$79:X79)),IF($B79=Y$31,-SUM($C78:Y78),0))","v":0},{"$f":"IF($B$14=\"As Received\",MIN(-Z14*$B$21,-SUM($C78:Z78)-SUM($C$79:Y79)),IF($B79=Z$31,-SUM($C78:Z78),0))","v":0},{"$f":"IF($B$14=\"As Received\",MIN(-AA14*$B$21,-SUM($C78:AA78)-SUM($C$79:Z79)),IF($B79=AA$31,-SUM($C78:AA78),0))","v":0},{"$f":"IF($B$14=\"As Received\",MIN(-AB14*$B$21,-SUM($C78:AB78)-SUM($C$79:AA79)),IF($B79=AB$31,-SUM($C78:AB78),0))","v":0},{"$f":"IF($B$14=\"As Received\",MIN(-AC14*$B$21,-SUM($C78:AC78)-SUM($C$79:AB79)),IF($B79=AC$31,-SUM($C78:AC78),0))","v":0},{"$f":"IF($B$14=\"As Received\",MIN(-AD14*$B$21,-SUM($C78:AD78)-SUM($C$79:AC79)),IF($B79=AD$31,-SUM($C78:AD78),0))","v":0},{"$f":"IF($B$14=\"As Received\",MIN(-AE14*$B$21,-SUM($C78:AE78)-SUM($C$79:AD79)),IF($B79=AE$31,-SUM($C78:AE78),0))","v":0},{"$f":"IF($B$14=\"As Received\",MIN(-AF14*$B$21,-SUM($C78:AF78)-SUM($C$79:AE79)),IF($B79=AF$31,-SUM($C78:AF78),0))","v":0},{"$f":"IF($B$14=\"As Received\",MIN(-AG14*$B$21,-SUM($C78:AG78)-SUM($C$79:AF79)),IF($B79=AG$31,-SUM($C78:AG78),0))","v":0},{"$f":"IF($B$14=\"As Received\",MIN(-AH14*$B$21,-SUM($C78:AH78)-SUM($C$79:AG79)),IF($B79=AH$31,-SUM($C78:AH78),0))","v":0},{"$f":"IF($B$14=\"As Received\",MIN(-AI14*$B$21,-SUM($C78:AI78)-SUM($C$79:AH79)),IF($B79=AI$31,-SUM($C78:AI78),0))","v":0},{"$f":"IF($B$14=\"As Received\",MIN(-AJ14*$B$21,-SUM($C78:AJ78)-SUM($C$79:AI79)),IF($B79=AJ$31,-SUM($C78:AJ78),0))","v":0},{"$f":"IF($B$14=\"As Received\",MIN(-AK14*$B$21,-SUM($C78:AK78)-SUM($C$79:AJ79)),IF($B79=AK$31,-SUM($C78:AK78),0))","v":0},{"$f":"IF($B$14=\"As Received\",MIN(-AL14*$B$21,-SUM($C78:AL78)-SUM($C$79:AK79)),IF($B79=AL$31,-SUM($C78:AL78),0))","v":0},{"$f":"IF($B$14=\"As Received\",MIN(-AM14*$B$21,-SUM($C78:AM78)-SUM($C$79:AL79)),IF($B79=AM$31,-SUM($C78:AM78),0))","v":0},{"$f":"IF($B$14=\"As Received\",MIN(-AN14*$B$21,-SUM($C78:AN78)-SUM($C$79:AM79)),IF($B79=AN$31,-SUM($C78:AN78),0))","v":0},{"$f":"IF($B$14=\"As Received\",MIN(-AO14*$B$21,-SUM($C78:AO78)-SUM($C$79:AN79)),IF($B79=AO$31,-SUM($C78:AO78),0))","v":0},{"$f":"IF($B$14=\"As Received\",MIN(-AP14*$B$21,-SUM($C78:AP78)-SUM($C$79:AO79)),IF($B79=AP$31,-SUM($C78:AP78),0))","v":0},{"$f":"IF($B$14=\"As Received\",MIN(-AQ14*$B$21,-SUM($C78:AQ78)-SUM($C$79:AP79)),IF($B79=AQ$31,-SUM($C78:AQ78),0))","v":0},{"$f":"IF($B$14=\"As Received\",MIN(-AR14*$B$21,-SUM($C78:AR78)-SUM($C$79:AQ79)),IF($B79=AR$31,-SUM($C78:AR78),0))","v":0},{"$f":"IF($B$14=\"As Received\",MIN(-AS14*$B$21,-SUM($C78:AS78)-SUM($C$79:AR79)),IF($B79=AS$31,-SUM($C78:AS78),0))","v":0},{"$f":"IF($B$14=\"As Received\",MIN(-AT14*$B$21,-SUM($C78:AT78)-SUM($C$79:AS79)),IF($B79=AT$31,-SUM($C78:AT78),0))","v":0},{"$f":"IF($B$14=\"As Received\",MIN(-AU14*$B$21,-SUM($C78:AU78)-SUM($C$79:AT79)),IF($B79=AU$31,-SUM($C78:AU78),0))","v":0},{"$f":"IF($B$14=\"As Received\",MIN(-AV14*$B$21,-SUM($C78:AV78)-SUM($C$79:AU79)),IF($B79=AV$31,-SUM($C78:AV78),0))","v":0},{"$f":"IF($B$14=\"As Received\",MIN(-AW14*$B$21,-SUM($C78:AW78)-SUM($C$79:AV79)),IF($B79=AW$31,-SUM($C78:AW78),0))","v":0},{"$f":"IF($B$14=\"As Received\",MIN(-AX14*$B$21,-SUM($C78:AX78)-SUM($C$79:AW79)),IF($B79=AX$31,-SUM($C78:AX78),0))","v":0},{"$f":"IF($B$14=\"As Received\",MIN(-AY14*$B$21,-SUM($C78:AY78)-SUM($C$79:AX79)),IF($B79=AY$31,-SUM($C78:AY78),0))","v":0},{"$f":"IF($B$14=\"As Received\",MIN(-AZ14*$B$21,-SUM($C78:AZ78)-SUM($C$79:AY79)),IF($B79=AZ$31,-SUM($C78:AZ78),0))","v":0},{"$f":"IF($B$14=\"As Received\",MIN(-BA14*$B$21,-SUM($C78:BA78)-SUM($C$79:AZ79)),IF($B79=BA$31,-SUM($C78:BA78),0))","v":0},{"$f":"IF($B$14=\"As Received\",MIN(-BB14*$B$21,-SUM($C78:BB78)-SUM($C$79:BA79)),IF($B79=BB$31,-SUM($C78:BB78),0))","v":0},{"$f":"IF($B$14=\"As Received\",MIN(-BC14*$B$21,-SUM($C78:BC78)-SUM($C$79:BB79)),IF($B79=BC$31,-SUM($C78:BC78),0))","v":0},{"$f":"IF($B$14=\"As Received\",MIN(-BD14*$B$21,-SUM($C78:BD78)-SUM($C$79:BC79)),IF($B79=BD$31,-SUM($C78:BD78),0))","v":0},{"$f":"IF($B$14=\"As Received\",MIN(-BE14*$B$21,-SUM($C78:BE78)-SUM($C$79:BD79)),IF($B79=BE$31,-SUM($C78:BE78),0))","v":0},{"$f":"IF($B$14=\"As Received\",MIN(-BF14*$B$21,-SUM($C78:BF78)-SUM($C$79:BE79)),IF($B79=BF$31,-SUM($C78:BF78),0))","v":0},{"$f":"IF($B$14=\"As Received\",MIN(-BG14*$B$21,-SUM($C78:BG78)-SUM($C$79:BF79)),IF($B79=BG$31,-SUM($C78:BG78),0))","v":0},{"$f":"IF($B$14=\"As Received\",MIN(-BH14*$B$21,-SUM($C78:BH78)-SUM($C$79:BG79)),IF($B79=BH$31,-SUM($C78:BH78),0))","v":0},{"$f":"IF($B$14=\"As Received\",MIN(-BI14*$B$21,-SUM($C78:BI78)-SUM($C$79:BH79)),IF($B79=BI$31,-SUM($C78:BI78),0))","v":0},{"$f":"IF($B$14=\"As Received\",MIN(-BJ14*$B$21,-SUM($C78:BJ78)-SUM($C$79:BI79)),IF($B79=BJ$31,-SUM($C78:BJ78),0))","v":0},{"$f":"IF($B$14=\"As Received\",MIN(-BK14*$B$21,-SUM($C78:BK78)-SUM($C$79:BJ79)),IF($B79=BK$31,-SUM($C78:BK78),0))","v":0},{"$f":"IF($B$14=\"As Received\",MIN(-BL14*$B$21,-SUM($C78:BL78)-SUM($C$79:BK79)),IF($B79=BL$31,-SUM($C78:BL78),0))","v":0},{"$f":"IF($B$14=\"As Received\",MIN(-BM14*$B$21,-SUM($C78:BM78)-SUM($C$79:BL79)),IF($B79=BM$31,-SUM($C78:BM78),0))","v":0},{"$f":"IF($B$14=\"As Received\",MIN(-BN14*$B$21,-SUM($C78:BN78)-SUM($C$79:BM79)),IF($B79=BN$31,-SUM($C78:BN78),0))","v":0},{"$f":"IF($B$14=\"As Received\",MIN(-BO14*$B$21,-SUM($C78:BO78)-SUM($C$79:BN79)),IF($B79=BO$31,-SUM($C78:BO78),0))","v":0},{"$f":"IF($B$14=\"As Received\",MIN(-BP14*$B$21,-SUM($C78:BP78)-SUM($C$79:BO79)),IF($B79=BP$31,-SUM($C78:BP78),0))","v":0},{"$f":"IF($B$14=\"As Received\",MIN(-BQ14*$B$21,-SUM($C78:BQ78)-SUM($C$79:BP79)),IF($B79=BQ$31,-SUM($C78:BQ78),0))","v":0},{"$f":"IF($B$14=\"As Received\",MIN(-BR14*$B$21,-SUM($C78:BR78)-SUM($C$79:BQ79)),IF($B79=BR$31,-SUM($C78:BR78),0))","v":0},{"$f":"IF($B$14=\"As Received\",MIN(-BS14*$B$21,-SUM($C78:BS78)-SUM($C$79:BR79)),IF($B79=BS$31,-SUM($C78:BS78),0))","v":0},{"$f":"IF($B$14=\"As Received\",MIN(-BT14*$B$21,-SUM($C78:BT78)-SUM($C$79:BS79)),IF($B79=BT$31,-SUM($C78:BT78),0))","v":0},{"$f":"IF($B$14=\"As Received\",MIN(-BU14*$B$21,-SUM($C78:BU78)-SUM($C$79:BT79)),IF($B79=BU$31,-SUM($C78:BU78),0))","v":0},{"$f":"IF($B$14=\"As Received\",MIN(-BV14*$B$21,-SUM($C78:BV78)-SUM($C$79:BU79)),IF($B79=BV$31,-SUM($C78:BV78),0))","v":0},{"$f":"IF($B$14=\"As Received\",MIN(-BW14*$B$21,-SUM($C78:BW78)-SUM($C$79:BV79)),IF($B79=BW$31,-SUM($C78:BW78),0))","v":0},{"$f":"IF($B$14=\"As Received\",MIN(-BX14*$B$21,-SUM($C78:BX78)-SUM($C$79:BW79)),IF($B79=BX$31,-SUM($C78:BX78),0))","v":0},{"$f":"IF($B$14=\"As Received\",MIN(-BY14*$B$21,-SUM($C78:BY78)-SUM($C$79:BX79)),IF($B79=BY$31,-SUM($C78:BY78),0))","v":0},{"$f":"IF($B$14=\"As Received\",MIN(-BZ14*$B$21,-SUM($C78:BZ78)-SUM($C$79:BY79)),IF($B79=BZ$31,-SUM($C78:BZ78),0))","v":0},{"$f":"IF($B$14=\"As Received\",MIN(-CA14*$B$21,-SUM($C78:CA78)-SUM($C$79:BZ79)),IF($B79=CA$31,-SUM($C78:CA78),0))","v":0},{"$f":"IF($B$14=\"As Received\",MIN(-CB14*$B$21,-SUM($C78:CB78)-SUM($C$79:CA79)),IF($B79=CB$31,-SUM($C78:CB78),0))","v":0},{"$f":"IF($B$14=\"As Received\",MIN(-CC14*$B$21,-SUM($C78:CC78)-SUM($C$79:CB79)),IF($B79=CC$31,-SUM($C78:CC78),0))","v":0},{"$f":"IF($B$14=\"As Received\",MIN(-CD14*$B$21,-SUM($C78:CD78)-SUM($C$79:CC79)),IF($B79=CD$31,-SUM($C78:CD78),0))","v":0},{"$f":"IF($B$14=\"As Received\",MIN(-CE14*$B$21,-SUM($C78:CE78)-SUM($C$79:CD79)),IF($B79=CE$31,-SUM($C78:CE78),0))","v":0},{"$f":"IF($B$14=\"As Received\",MIN(-CF14*$B$21,-SUM($C78:CF78)-SUM($C$79:CE79)),IF($B79=CF$31,-SUM($C78:CF78),0))","v":0},{"$f":"IF($B$14=\"As Received\",MIN(-CG14*$B$21,-SUM($C78:CG78)-SUM($C$79:CF79)),IF($B79=CG$31,-SUM($C78:CG78),0))","v":0},{"$f":"IF($B$14=\"As Received\",MIN(-CH14*$B$21,-SUM($C78:CH78)-SUM($C$79:CG79)),IF($B79=CH$31,-SUM($C78:CH78),0))","v":0},{"$f":"IF($B$14=\"As Received\",MIN(-CI14*$B$21,-SUM($C78:CI78)-SUM($C$79:CH79)),IF($B79=CI$31,-SUM($C78:CI78),0))","v":0},{"$f":"IF($B$14=\"As Received\",MIN(-CJ14*$B$21,-SUM($C78:CJ78)-SUM($C$79:CI79)),IF($B79=CJ$31,-SUM($C78:CJ78),0))","v":0},{"$f":"IF($B$14=\"As Received\",MIN(-CK14*$B$21,-SUM($C78:CK78)-SUM($C$79:CJ79)),IF($B79=CK$31,-SUM($C78:CK78),0))","v":0},{"$f":"IF($B$14=\"As Received\",MIN(-CL14*$B$21,-SUM($C78:CL78)-SUM($C$79:CK79)),IF($B79=CL$31,-SUM($C78:CL78),0))","v":0},{"$f":"IF($B$14=\"As Received\",MIN(-CM14*$B$21,-SUM($C78:CM78)-SUM($C$79:CL79)),IF($B79=CM$31,-SUM($C78:CM78),0))","v":0},{"$f":"IF($B$14=\"As Received\",MIN(-CN14*$B$21,-SUM($C78:CN78)-SUM($C$79:CM79)),IF($B79=CN$31,-SUM($C78:CN78),0))","v":0},{"$f":"IF($B$14=\"As Received\",MIN(-CO14*$B$21,-SUM($C78:CO78)-SUM($C$79:CN79)),IF($B79=CO$31,-SUM($C78:CO78),0))","v":0},{"$f":"IF($B$14=\"As Received\",MIN(-CP14*$B$21,-SUM($C78:CP78)-SUM($C$79:CO79)),IF($B79=CP$31,-SUM($C78:CP78),0))","v":0},{"$f":"IF($B$14=\"As Received\",MIN(-CQ14*$B$21,-SUM($C78:CQ78)-SUM($C$79:CP79)),IF($B79=CQ$31,-SUM($C78:CQ78),0))","v":0},{"$f":"IF($B$14=\"As Received\",MIN(-CR14*$B$21,-SUM($C78:CR78)-SUM($C$79:CQ79)),IF($B79=CR$31,-SUM($C78:CR78),0))","v":0},{"$f":"IF($B$14=\"As Received\",MIN(-CS14*$B$21,-SUM($C78:CS78)-SUM($C$79:CR79)),IF($B79=CS$31,-SUM($C78:CS78),0))","v":0},{"$f":"IF($B$14=\"As Received\",MIN(-CT14*$B$21,-SUM($C78:CT78)-SUM($C$79:CS79)),IF($B79=CT$31,-SUM($C78:CT78),0))","v":0},{"$f":"IF($B$14=\"As Received\",MIN(-CU14*$B$21,-SUM($C78:CU78)-SUM($C$79:CT79)),IF($B79=CU$31,-SUM($C78:CU78),0))","v":0},{"$f":"IF($B$14=\"As Received\",MIN(-CV14*$B$21,-SUM($C78:CV78)-SUM($C$79:CU79)),IF($B79=CV$31,-SUM($C78:CV78),0))","v":0},{"$f":"IF($B$14=\"As Received\",MIN(-CW14*$B$21,-SUM($C78:CW78)-SUM($C$79:CV79)),IF($B79=CW$31,-SUM($C78:CW78),0))","v":0},{"$f":"IF($B$14=\"As Received\",MIN(-CX14*$B$21,-SUM($C78:CX78)-SUM($C$79:CW79)),IF($B79=CX$31,-SUM($C78:CX78),0))","v":0},{"$f":"IF($B$14=\"As Received\",MIN(-CY14*$B$21,-SUM($C78:CY78)-SUM($C$79:CX79)),IF($B79=CY$31,-SUM($C78:CY78),0))","v":0},{"$f":"IF($B$14=\"As Received\",MIN(-CZ14*$B$21,-SUM($C78:CZ78)-SUM($C$79:CY79)),IF($B79=CZ$31,-SUM($C78:CZ78),0))","v":0},{"$f":"IF($B$14=\"As Received\",MIN(-DA14*$B$21,-SUM($C78:DA78)-SUM($C$79:CZ79)),IF($B79=DA$31,-SUM($C78:DA78),0))","v":0},{"$f":"IF($B$14=\"As Received\",MIN(-DB14*$B$21,-SUM($C78:DB78)-SUM($C$79:DA79)),IF($B79=DB$31,-SUM($C78:DB78),0))","v":0},{"$f":"IF($B$14=\"As Received\",MIN(-DC14*$B$21,-SUM($C78:DC78)-SUM($C$79:DB79)),IF($B79=DC$31,-SUM($C78:DC78),0))","v":0},{"$f":"IF($B$14=\"As Received\",MIN(-DD14*$B$21,-SUM($C78:DD78)-SUM($C$79:DC79)),IF($B79=DD$31,-SUM($C78:DD78),0))","v":0},{"$f":"IF($B$14=\"As Received\",MIN(-DE14*$B$21,-SUM($C78:DE78)-SUM($C$79:DD79)),IF($B79=DE$31,-SUM($C78:DE78),0))","v":0},{"$f":"IF($B$14=\"As Received\",MIN(-DF14*$B$21,-SUM($C78:DF78)-SUM($C$79:DE79)),IF($B79=DF$31,-SUM($C78:DF78),0))","v":0},{"$f":"IF($B$14=\"As Received\",MIN(-DG14*$B$21,-SUM($C78:DG78)-SUM($C$79:DF79)),IF($B79=DG$31,-SUM($C78:DG78),0))","v":0},{"$f":"IF($B$14=\"As Received\",MIN(-DH14*$B$21,-SUM($C78:DH78)-SUM($C$79:DG79)),IF($B79=DH$31,-SUM($C78:DH78),0))","v":0},{"$f":"IF($B$14=\"As Received\",MIN(-DI14*$B$21,-SUM($C78:DI78)-SUM($C$79:DH79)),IF($B79=DI$31,-SUM($C78:DI78),0))","v":0},{"$f":"IF($B$14=\"As Received\",MIN(-DJ14*$B$21,-SUM($C78:DJ78)-SUM($C$79:DI79)),IF($B79=DJ$31,-SUM($C78:DJ78),0))","v":0},{"$f":"IF($B$14=\"As Received\",MIN(-DK14*$B$21,-SUM($C78:DK78)-SUM($C$79:DJ79)),IF($B79=DK$31,-SUM($C78:DK78),0))","v":0},{"$f":"IF($B$14=\"As Received\",MIN(-DL14*$B$21,-SUM($C78:DL78)-SUM($C$79:DK79)),IF($B79=DL$31,-SUM($C78:DL78),0))","v":0},{"$f":"IF($B$14=\"As Received\",MIN(-DM14*$B$21,-SUM($C78:DM78)-SUM($C$79:DL79)),IF($B79=DM$31,-SUM($C78:DM78),0))","v":0},{"$f":"IF($B$14=\"As Received\",MIN(-DN14*$B$21,-SUM($C78:DN78)-SUM($C$79:DM79)),IF($B79=DN$31,-SUM($C78:DN78),0))","v":0},{"$f":"IF($B$14=\"As Received\",MIN(-DO14*$B$21,-SUM($C78:DO78)-SUM($C$79:DN79)),IF($B79=DO$31,-SUM($C78:DO78),0))","v":0},{"$f":"IF($B$14=\"As Received\",MIN(-DP14*$B$21,-SUM($C78:DP78)-SUM($C$79:DO79)),IF($B79=DP$31,-SUM($C78:DP78),0))","v":0},{"$f":"IF($B$14=\"As Received\",MIN(-DQ14*$B$21,-SUM($C78:DQ78)-SUM($C$79:DP79)),IF($B79=DQ$31,-SUM($C78:DQ78),0))","v":0},{"$f":"IF($B$14=\"As Received\",MIN(-DR14*$B$21,-SUM($C78:DR78)-SUM($C$79:DQ79)),IF($B79=DR$31,-SUM($C78:DR78),0))","v":0},{"$f":"IF($B$14=\"As Received\",MIN(-DS14*$B$21,-SUM($C78:DS78)-SUM($C$79:DR79)),IF($B79=DS$31,-SUM($C78:DS78),0))","v":0}]
["Tier 1 Preferred Return",{"$f":"D28","v":0.5},{"$f":"IF((-C$14-C$59-C$69-C$79)<=0,0,IF($B$14=\"As Received\",MIN(C$42*$B80,(-C$14-C$59-C$69-C$79)*$B80),MIN((-C$14-C$59-C$69-C$79)*$B80,(C$42+IF($B$59<>C$31,SUM($C$33:C$35),0))*$B80)))","v":0},{"$f":"IF((-D$14-D$59-D$69-D$79)<=0,0,IF($B$14=\"As Received\",MIN(D$42*$B80,(-D$14-D$59-D$69-D$79)*$B80),MIN((-D$14-D$59-D$69-D$79)*$B80,(D$42+IF($B$59<>D$31,SUM($C$33:D$35),0))*$B80)))","v":4.5474735088646412E-13},{"$f":"IF((-E$14-E$59-E$69-E$79)<=0,0,IF($B$14=\"As Received\",MIN(E$42*$B80,(-E$14-E$59-E$69-E$79)*$B80),MIN((-E$14-E$59-E$69-E$79)*$B80,(E$42+IF($B$59<>E$31,SUM($C$33:E$35),0))*$B80)))","v":4.5474735088646412E-13},{"$f":"IF((-F$14-F$59-F$69-F$79)<=0,0,IF($B$14=\"As Received\",MIN(F$42*$B80,(-F$14-F$59-F$69-F$79)*$B80),MIN((-F$14-F$59-F$69-F$79)*$B80,(F$42+IF($B$59<>F$31,SUM($C$33:F$35),0))*$B80)))","v":4.5474735088646412E-13},{"$f":"IF((-G$14-G$59-G$69-G$79)<=0,0,IF($B$14=\"As Received\",MIN(G$42*$B80,(-G$14-G$59-G$69-G$79)*$B80),MIN((-G$14-G$59-G$69-G$79)*$B80,(G$42+IF($B$59<>G$31,SUM($C$33:G$35),0))*$B80)))","v":0},{"$f":"IF((-H$14-H$59-H$69-H$79)<=0,0,IF($B$14=\"As Received\",MIN(H$42*$B80,(-H$14-H$59-H$69-H$79)*$B80),MIN((-H$14-H$59-H$69-H$79)*$B80,(H$42+IF($B$59<>H$31,SUM($C$33:H$35),0))*$B80)))","v":4.5474735088646412E-13},{"$f":"IF((-I$14-I$59-I$69-I$79)<=0,0,IF($B$14=\"As Received\",MIN(I$42*$B80,(-I$14-I$59-I$69-I$79)*$B80),MIN((-I$14-I$59-I$69-I$79)*$B80,(I$42+IF($B$59<>I$31,SUM($C$33:I$35),0))*$B80)))","v":4.5474735088646412E-13},{"$f":"IF((-J$14-J$59-J$69-J$79)<=0,0,IF($B$14=\"As Received\",MIN(J$42*$B80,(-J$14-J$59-J$69-J$79)*$B80),MIN((-J$14-J$59-J$69-J$79)*$B80,(J$42+IF($B$59<>J$31,SUM($C$33:J$35),0))*$B80)))","v":4.5474735088646412E-13},{"$f":"IF((-K$14-K$59-K$69-K$79)<=0,0,IF($B$14=\"As Received\",MIN(K$42*$B80,(-K$14-K$59-K$69-K$79)*$B80),MIN((-K$14-K$59-K$69-K$79)*$B80,(K$42+IF($B$59<>K$31,SUM($C$33:K$35),0))*$B80)))","v":4.5474735088646412E-13},{"$f":"IF((-L$14-L$59-L$69-L$79)<=0,0,IF($B$14=\"As Received\",MIN(L$42*$B80,(-L$14-L$59-L$69-L$79)*$B80),MIN((-L$14-L$59-L$69-L$79)*$B80,(L$42+IF($B$59<>L$31,SUM($C$33:L$35),0))*$B80)))","v":0},{"$f":"IF((-M$14-M$59-M$69-M$79)<=0,0,IF($B$14=\"As Received\",MIN(M$42*$B80,(-M$14-M$59-M$69-M$79)*$B80),MIN((-M$14-M$59-M$69-M$79)*$B80,(M$42+IF($B$59<>M$31,SUM($C$33:M$35),0))*$B80)))","v":0},{"$f":"IF((-N$14-N$59-N$69-N$79)<=0,0,IF($B$14=\"As Received\",MIN(N$42*$B80,(-N$14-N$59-N$69-N$79)*$B80),MIN((-N$14-N$59-N$69-N$79)*$B80,(N$42+IF($B$59<>N$31,SUM($C$33:N$35),0))*$B80)))","v":0},{"$f":"IF((-O$14-O$59-O$69-O$79)<=0,0,IF($B$14=\"As Received\",MIN(O$42*$B80,(-O$14-O$59-O$69-O$79)*$B80),MIN((-O$14-O$59-O$69-O$79)*$B80,(O$42+IF($B$59<>O$31,SUM($C$33:O$35),0))*$B80)))","v":0},{"$f":"IF((-P$14-P$59-P$69-P$79)<=0,0,IF($B$14=\"As Received\",MIN(P$42*$B80,(-P$14-P$59-P$69-P$79)*$B80),MIN((-P$14-P$59-P$69-P$79)*$B80,(P$42+IF($B$59<>P$31,SUM($C$33:P$35),0))*$B80)))","v":0},{"$f":"IF((-Q$14-Q$59-Q$69-Q$79)<=0,0,IF($B$14=\"As Received\",MIN(Q$42*$B80,(-Q$14-Q$59-Q$69-Q$79)*$B80),MIN((-Q$14-Q$59-Q$69-Q$79)*$B80,(Q$42+IF($B$59<>Q$31,SUM($C$33:Q$35),0))*$B80)))","v":0},{"$f":"IF((-R$14-R$59-R$69-R$79)<=0,0,IF($B$14=\"As Received\",MIN(R$42*$B80,(-R$14-R$59-R$69-R$79)*$B80),MIN((-R$14-R$59-R$69-R$79)*$B80,(R$42+IF($B$59<>R$31,SUM($C$33:R$35),0))*$B80)))","v":0},{"$f":"IF((-S$14-S$59-S$69-S$79)<=0,0,IF($B$14=\"As Received\",MIN(S$42*$B80,(-S$14-S$59-S$69-S$79)*$B80),MIN((-S$14-S$59-S$69-S$79)*$B80,(S$42+IF($B$59<>S$31,SUM($C$33:S$35),0))*$B80)))","v":0},{"$f":"IF((-T$14-T$59-T$69-T$79)<=0,0,IF($B$14=\"As Received\",MIN(T$42*$B80,(-T$14-T$59-T$69-T$79)*$B80),MIN((-T$14-T$59-T$69-T$79)*$B80,(T$42+IF($B$59<>T$31,SUM($C$33:T$35),0))*$B80)))","v":0},{"$f":"IF((-U$14-U$59-U$69-U$79)<=0,0,IF($B$14=\"As Received\",MIN(U$42*$B80,(-U$14-U$59-U$69-U$79)*$B80),MIN((-U$14-U$59-U$69-U$79)*$B80,(U$42+IF($B$59<>U$31,SUM($C$33:U$35),0))*$B80)))","v":0},{"$f":"IF((-V$14-V$59-V$69-V$79)<=0,0,IF($B$14=\"As Received\",MIN(V$42*$B80,(-V$14-V$59-V$69-V$79)*$B80),MIN((-V$14-V$59-V$69-V$79)*$B80,(V$42+IF($B$59<>V$31,SUM($C$33:V$35),0))*$B80)))","v":0},{"$f":"IF((-W$14-W$59-W$69-W$79)<=0,0,IF($B$14=\"As Received\",MIN(W$42*$B80,(-W$14-W$59-W$69-W$79)*$B80),MIN((-W$14-W$59-W$69-W$79)*$B80,(W$42+IF($B$59<>W$31,SUM($C$33:W$35),0))*$B80)))","v":0},{"$f":"IF((-X$14-X$59-X$69-X$79)<=0,0,IF($B$14=\"As Received\",MIN(X$42*$B80,(-X$14-X$59-X$69-X$79)*$B80),MIN((-X$14-X$59-X$69-X$79)*$B80,(X$42+IF($B$59<>X$31,SUM($C$33:X$35),0))*$B80)))","v":0},{"$f":"IF((-Y$14-Y$59-Y$69-Y$79)<=0,0,IF($B$14=\"As Received\",MIN(Y$42*$B80,(-Y$14-Y$59-Y$69-Y$79)*$B80),MIN((-Y$14-Y$59-Y$69-Y$79)*$B80,(Y$42+IF($B$59<>Y$31,SUM($C$33:Y$35),0))*$B80)))","v":0},{"$f":"IF((-Z$14-Z$59-Z$69-Z$79)<=0,0,IF($B$14=\"As Received\",MIN(Z$42*$B80,(-Z$14-Z$59-Z$69-Z$79)*$B80),MIN((-Z$14-Z$59-Z$69-Z$79)*$B80,(Z$42+IF($B$59<>Z$31,SUM($C$33:Z$35),0))*$B80)))","v":0},{"$f":"IF((-AA$14-AA$59-AA$69-AA$79)<=0,0,IF($B$14=\"As Received\",MIN(AA$42*$B80,(-AA$14-AA$59-AA$69-AA$79)*$B80),MIN((-AA$14-AA$59-AA$69-AA$79)*$B80,(AA$42+IF($B$59<>AA$31,SUM($C$33:AA$35),0))*$B80)))","v":0},{"$f":"IF((-AB$14-AB$59-AB$69-AB$79)<=0,0,IF($B$14=\"As Received\",MIN(AB$42*$B80,(-AB$14-AB$59-AB$69-AB$79)*$B80),MIN((-AB$14-AB$59-AB$69-AB$79)*$B80,(AB$42+IF($B$59<>AB$31,SUM($C$33:AB$35),0))*$B80)))","v":0},{"$f":"IF((-AC$14-AC$59-AC$69-AC$79)<=0,0,IF($B$14=\"As Received\",MIN(AC$42*$B80,(-AC$14-AC$59-AC$69-AC$79)*$B80),MIN((-AC$14-AC$59-AC$69-AC$79)*$B80,(AC$42+IF($B$59<>AC$31,SUM($C$33:AC$35),0))*$B80)))","v":0},{"$f":"IF((-AD$14-AD$59-AD$69-AD$79)<=0,0,IF($B$14=\"As Received\",MIN(AD$42*$B80,(-AD$14-AD$59-AD$69-AD$79)*$B80),MIN((-AD$14-AD$59-AD$69-AD$79)*$B80,(AD$42+IF($B$59<>AD$31,SUM($C$33:AD$35),0))*$B80)))","v":0},{"$f":"IF((-AE$14-AE$59-AE$69-AE$79)<=0,0,IF($B$14=\"As Received\",MIN(AE$42*$B80,(-AE$14-AE$59-AE$69-AE$79)*$B80),MIN((-AE$14-AE$59-AE$69-AE$79)*$B80,(AE$42+IF($B$59<>AE$31,SUM($C$33:AE$35),0))*$B80)))","v":0},{"$f":"IF((-AF$14-AF$59-AF$69-AF$79)<=0,0,IF($B$14=\"As Received\",MIN(AF$42*$B80,(-AF$14-AF$59-AF$69-AF$79)*$B80),MIN((-AF$14-AF$59-AF$69-AF$79)*$B80,(AF$42+IF($B$59<>AF$31,SUM($C$33:AF$35),0))*$B80)))","v":0},{"$f":"IF((-AG$14-AG$59-AG$69-AG$79)<=0,0,IF($B$14=\"As Received\",MIN(AG$42*$B80,(-AG$14-AG$59-AG$69-AG$79)*$B80),MIN((-AG$14-AG$59-AG$69-AG$79)*$B80,(AG$42+IF($B$59<>AG$31,SUM($C$33:AG$35),0))*$B80)))","v":0},{"$f":"IF((-AH$14-AH$59-AH$69-AH$79)<=0,0,IF($B$14=\"As Received\",MIN(AH$42*$B80,(-AH$14-AH$59-AH$69-AH$79)*$B80),MIN((-AH$14-AH$59-AH$69-AH$79)*$B80,(AH$42+IF($B$59<>AH$31,SUM($C$33:AH$35),0))*$B80)))","v":0},{"$f":"IF((-AI$14-AI$59-AI$69-AI$79)<=0,0,IF($B$14=\"As Received\",MIN(AI$42*$B80,(-AI$14-AI$59-AI$69-AI$79)*$B80),MIN((-AI$14-AI$59-AI$69-AI$79)*$B80,(AI$42+IF($B$59<>AI$31,SUM($C$33:AI$35),0))*$B80)))","v":0},{"$f":"IF((-AJ$14-AJ$59-AJ$69-AJ$79)<=0,0,IF($B$14=\"As Received\",MIN(AJ$42*$B80,(-AJ$14-AJ$59-AJ$69-AJ$79)*$B80),MIN((-AJ$14-AJ$59-AJ$69-AJ$79)*$B80,(AJ$42+IF($B$59<>AJ$31,SUM($C$33:AJ$35),0))*$B80)))","v":0},{"$f":"IF((-AK$14-AK$59-AK$69-AK$79)<=0,0,IF($B$14=\"As Received\",MIN(AK$42*$B80,(-AK$14-AK$59-AK$69-AK$79)*$B80),MIN((-AK$14-AK$59-AK$69-AK$79)*$B80,(AK$42+IF($B$59<>AK$31,SUM($C$33:AK$35),0))*$B80)))","v":0},{"$f":"IF((-AL$14-AL$59-AL$69-AL$79)<=0,0,IF($B$14=\"As Received\",MIN(AL$42*$B80,(-AL$14-AL$59-AL$69-AL$79)*$B80),MIN((-AL$14-AL$59-AL$69-AL$79)*$B80,(AL$42+IF($B$59<>AL$31,SUM($C$33:AL$35),0))*$B80)))","v":0},{"$f":"IF((-AM$14-AM$59-AM$69-AM$79)<=0,0,IF($B$14=\"As Received\",MIN(AM$42*$B80,(-AM$14-AM$59-AM$69-AM$79)*$B80),MIN((-AM$14-AM$59-AM$69-AM$79)*$B80,(AM$42+IF($B$59<>AM$31,SUM($C$33:AM$35),0))*$B80)))","v":9.0949470177292824E-13},{"$f":"IF((-AN$14-AN$59-AN$69-AN$79)<=0,0,IF($B$14=\"As Received\",MIN(AN$42*$B80,(-AN$14-AN$59-AN$69-AN$79)*$B80),MIN((-AN$14-AN$59-AN$69-AN$79)*$B80,(AN$42+IF($B$59<>AN$31,SUM($C$33:AN$35),0))*$B80)))","v":9.0949470177292824E-13},{"$f":"IF((-AO$14-AO$59-AO$69-AO$79)<=0,0,IF($B$14=\"As Received\",MIN(AO$42*$B80,(-AO$14-AO$59-AO$69-AO$79)*$B80),MIN((-AO$14-AO$59-AO$69-AO$79)*$B80,(AO$42+IF($B$59<>AO$31,SUM($C$33:AO$35),0))*$B80)))","v":9.0949470177292824E-13},{"$f":"IF((-AP$14-AP$59-AP$69-AP$79)<=0,0,IF($B$14=\"As Received\",MIN(AP$42*$B80,(-AP$14-AP$59-AP$69-AP$79)*$B80),MIN((-AP$14-AP$59-AP$69-AP$79)*$B80,(AP$42+IF($B$59<>AP$31,SUM($C$33:AP$35),0))*$B80)))","v":9.0949470177292824E-13},{"$f":"IF((-AQ$14-AQ$59-AQ$69-AQ$79)<=0,0,IF($B$14=\"As Received\",MIN(AQ$42*$B80,(-AQ$14-AQ$59-AQ$69-AQ$79)*$B80),MIN((-AQ$14-AQ$59-AQ$69-AQ$79)*$B80,(AQ$42+IF($B$59<>AQ$31,SUM($C$33:AQ$35),0))*$B80)))","v":9.0949470177292824E-13},{"$f":"IF((-AR$14-AR$59-AR$69-AR$79)<=0,0,IF($B$14=\"As Received\",MIN(AR$42*$B80,(-AR$14-AR$59-AR$69-AR$79)*$B80),MIN((-AR$14-AR$59-AR$69-AR$79)*$B80,(AR$42+IF($B$59<>AR$31,SUM($C$33:AR$35),0))*$B80)))","v":9.0949470177292824E-13},{"$f":"IF((-AS$14-AS$59-AS$69-AS$79)<=0,0,IF($B$14=\"As Received\",MIN(AS$42*$B80,(-AS$14-AS$59-AS$69-AS$79)*$B80),MIN((-AS$14-AS$59-AS$69-AS$79)*$B80,(AS$42+IF($B$59<>AS$31,SUM($C$33:AS$35),0))*$B80)))","v":9.0949470177292824E-13},{"$f":"IF((-AT$14-AT$59-AT$69-AT$79)<=0,0,IF($B$14=\"As Received\",MIN(AT$42*$B80,(-AT$14-AT$59-AT$69-AT$79)*$B80),MIN((-AT$14-AT$59-AT$69-AT$79)*$B80,(AT$42+IF($B$59<>AT$31,SUM($C$33:AT$35),0))*$B80)))","v":9.0949470177292824E-13},{"$f":"IF((-AU$14-AU$59-AU$69-AU$79)<=0,0,IF($B$14=\"As Received\",MIN(AU$42*$B80,(-AU$14-AU$59-AU$69-AU$79)*$B80),MIN((-AU$14-AU$59-AU$69-AU$79)*$B80,(AU$42+IF($B$59<>AU$31,SUM($C$33:AU$35),0))*$B80)))","v":9.0949470177292824E-13},{"$f":"IF((-AV$14-AV$59-AV$69-AV$79)<=0,0,IF($B$14=\"As Received\",MIN(AV$42*$B80,(-AV$14-AV$59-AV$69-AV$79)*$B80),MIN((-AV$14-AV$59-AV$69-AV$79)*$B80,(AV$42+IF($B$59<>AV$31,SUM($C$33:AV$35),0))*$B80)))","v":9.0949470177292824E-13},{"$f":"IF((-AW$14-AW$59-AW$69-AW$79)<=0,0,IF($B$14=\"As Received\",MIN(AW$42*$B80,(-AW$14-AW$59-AW$69-AW$79)*$B80),MIN((-AW$14-AW$59-AW$69-AW$79)*$B80,(AW$42+IF($B$59<>AW$31,SUM($C$33:AW$35),0))*$B80)))","v":9.0949470177292824E-13},{"$f":"IF((-AX$14-AX$59-AX$69-AX$79)<=0,0,IF($B$14=\"As Received\",MIN(AX$42*$B80,(-AX$14-AX$59-AX$69-AX$79)*$B80),MIN((-AX$14-AX$59-AX$69-AX$79)*$B80,(AX$42+IF($B$59<>AX$31,SUM($C$33:AX$35),0))*$B80)))","v":9.0949470177292824E-13},{"$f":"IF((-AY$14-AY$59-AY$69-AY$79)<=0,0,IF($B$14=\"As Received\",MIN(AY$42*$B80,(-AY$14-AY$59-AY$69-AY$79)*$B80),MIN((-AY$14-AY$59-AY$69-AY$79)*$B80,(AY$42+IF($B$59<>AY$31,SUM($C$33:AY$35),0))*$B80)))","v":9.0949470177292824E-13},{"$f":"IF((-AZ$14-AZ$59-AZ$69-AZ$79)<=0,0,IF($B$14=\"As Received\",MIN(AZ$42*$B80,(-AZ$14-AZ$59-AZ$69-AZ$79)*$B80),MIN((-AZ$14-AZ$59-AZ$69-AZ$79)*$B80,(AZ$42+IF($B$59<>AZ$31,SUM($C$33:AZ$35),0))*$B80)))","v":0},{"$f":"IF((-BA$14-BA$59-BA$69-BA$79)<=0,0,IF($B$14=\"As Received\",MIN(BA$42*$B80,(-BA$14-BA$59-BA$69-BA$79)*$B80),MIN((-BA$14-BA$59-BA$69-BA$79)*$B80,(BA$42+IF($B$59<>BA$31,SUM($C$33:BA$35),0))*$B80)))","v":0},{"$f":"IF((-BB$14-BB$59-BB$69-BB$79)<=0,0,IF($B$14=\"As Received\",MIN(BB$42*$B80,(-BB$14-BB$59-BB$69-BB$79)*$B80),MIN((-BB$14-BB$59-BB$69-BB$79)*$B80,(BB$42+IF($B$59<>BB$31,SUM($C$33:BB$35),0))*$B80)))","v":0},{"$f":"IF((-BC$14-BC$59-BC$69-BC$79)<=0,0,IF($B$14=\"As Received\",MIN(BC$42*$B80,(-BC$14-BC$59-BC$69-BC$79)*$B80),MIN((-BC$14-BC$59-BC$69-BC$79)*$B80,(BC$42+IF($B$59<>BC$31,SUM($C$33:BC$35),0))*$B80)))","v":0},{"$f":"IF((-BD$14-BD$59-BD$69-BD$79)<=0,0,IF($B$14=\"As Received\",MIN(BD$42*$B80,(-BD$14-BD$59-BD$69-BD$79)*$B80),MIN((-BD$14-BD$59-BD$69-BD$79)*$B80,(BD$42+IF($B$59<>BD$31,SUM($C$33:BD$35),0))*$B80)))","v":0},{"$f":"IF((-BE$14-BE$59-BE$69-BE$79)<=0,0,IF($B$14=\"As Received\",MIN(BE$42*$B80,(-BE$14-BE$59-BE$69-BE$79)*$B80),MIN((-BE$14-BE$59-BE$69-BE$79)*$B80,(BE$42+IF($B$59<>BE$31,SUM($C$33:BE$35),0))*$B80)))","v":0},{"$f":"IF((-BF$14-BF$59-BF$69-BF$79)<=0,0,IF($B$14=\"As Received\",MIN(BF$42*$B80,(-BF$14-BF$59-BF$69-BF$79)*$B80),MIN((-BF$14-BF$59-BF$69-BF$79)*$B80,(BF$42+IF($B$59<>BF$31,SUM($C$33:BF$35),0))*$B80)))","v":0},{"$f":"IF((-BG$14-BG$59-BG$69-BG$79)<=0,0,IF($B$14=\"As Received\",MIN(BG$42*$B80,(-BG$14-BG$59-BG$69-BG$79)*$B80),MIN((-BG$14-BG$59-BG$69-BG$79)*$B80,(BG$42+IF($B$59<>BG$31,SUM($C$33:BG$35),0))*$B80)))","v":0},{"$f":"IF((-BH$14-BH$59-BH$69-BH$79)<=0,0,IF($B$14=\"As Received\",MIN(BH$42*$B80,(-BH$14-BH$59-BH$69-BH$79)*$B80),MIN((-BH$14-BH$59-BH$69-BH$79)*$B80,(BH$42+IF($B$59<>BH$31,SUM($C$33:BH$35),0))*$B80)))","v":0},{"$f":"IF((-BI$14-BI$59-BI$69-BI$79)<=0,0,IF($B$14=\"As Received\",MIN(BI$42*$B80,(-BI$14-BI$59-BI$69-BI$79)*$B80),MIN((-BI$14-BI$59-BI$69-BI$79)*$B80,(BI$42+IF($B$59<>BI$31,SUM($C$33:BI$35),0))*$B80)))","v":0},{"$f":"IF((-BJ$14-BJ$59-BJ$69-BJ$79)<=0,0,IF($B$14=\"As Received\",MIN(BJ$42*$B80,(-BJ$14-BJ$59-BJ$69-BJ$79)*$B80),MIN((-BJ$14-BJ$59-BJ$69-BJ$79)*$B80,(BJ$42+IF($B$59<>BJ$31,SUM($C$33:BJ$35),0))*$B80)))","v":0},{"$f":"IF((-BK$14-BK$59-BK$69-BK$79)<=0,0,IF($B$14=\"As Received\",MIN(BK$42*$B80,(-BK$14-BK$59-BK$69-BK$79)*$B80),MIN((-BK$14-BK$59-BK$69-BK$79)*$B80,(BK$42+IF($B$59<>BK$31,SUM($C$33:BK$35),0))*$B80)))","v":0},{"$f":"IF((-BL$14-BL$59-BL$69-BL$79)<=0,0,IF($B$14=\"As Received\",MIN(BL$42*$B80,(-BL$14-BL$59-BL$69-BL$79)*$B80),MIN((-BL$14-BL$59-BL$69-BL$79)*$B80,(BL$42+IF($B$59<>BL$31,SUM($C$33:BL$35),0))*$B80)))","v":0},{"$f":"IF((-BM$14-BM$59-BM$69-BM$79)<=0,0,IF($B$14=\"As Received\",MIN(BM$42*$B80,(-BM$14-BM$59-BM$69-BM$79)*$B80),MIN((-BM$14-BM$59-BM$69-BM$79)*$B80,(BM$42+IF($B$59<>BM$31,SUM($C$33:BM$35),0))*$B80)))","v":0},{"$f":"IF((-BN$14-BN$59-BN$69-BN$79)<=0,0,IF($B$14=\"As Received\",MIN(BN$42*$B80,(-BN$14-BN$59-BN$69-BN$79)*$B80),MIN((-BN$14-BN$59-BN$69-BN$79)*$B80,(BN$42+IF($B$59<>BN$31,SUM($C$33:BN$35),0))*$B80)))","v":0},{"$f":"IF((-BO$14-BO$59-BO$69-BO$79)<=0,0,IF($B$14=\"As Received\",MIN(BO$42*$B80,(-BO$14-BO$59-BO$69-BO$79)*$B80),MIN((-BO$14-BO$59-BO$69-BO$79)*$B80,(BO$42+IF($B$59<>BO$31,SUM($C$33:BO$35),0))*$B80)))","v":0},{"$f":"IF((-BP$14-BP$59-BP$69-BP$79)<=0,0,IF($B$14=\"As Received\",MIN(BP$42*$B80,(-BP$14-BP$59-BP$69-BP$79)*$B80),MIN((-BP$14-BP$59-BP$69-BP$79)*$B80,(BP$42+IF($B$59<>BP$31,SUM($C$33:BP$35),0))*$B80)))","v":0},{"$f":"IF((-BQ$14-BQ$59-BQ$69-BQ$79)<=0,0,IF($B$14=\"As Received\",MIN(BQ$42*$B80,(-BQ$14-BQ$59-BQ$69-BQ$79)*$B80),MIN((-BQ$14-BQ$59-BQ$69-BQ$79)*$B80,(BQ$42+IF($B$59<>BQ$31,SUM($C$33:BQ$35),0))*$B80)))","v":0},{"$f":"IF((-BR$14-BR$59-BR$69-BR$79)<=0,0,IF($B$14=\"As Received\",MIN(BR$42*$B80,(-BR$14-BR$59-BR$69-BR$79)*$B80),MIN((-BR$14-BR$59-BR$69-BR$79)*$B80,(BR$42+IF($B$59<>BR$31,SUM($C$33:BR$35),0))*$B80)))","v":0},{"$f":"IF((-BS$14-BS$59-BS$69-BS$79)<=0,0,IF($B$14=\"As Received\",MIN(BS$42*$B80,(-BS$14-BS$59-BS$69-BS$79)*$B80),MIN((-BS$14-BS$59-BS$69-BS$79)*$B80,(BS$42+IF($B$59<>BS$31,SUM($C$33:BS$35),0))*$B80)))","v":0},{"$f":"IF((-BT$14-BT$59-BT$69-BT$79)<=0,0,IF($B$14=\"As Received\",MIN(BT$42*$B80,(-BT$14-BT$59-BT$69-BT$79)*$B80),MIN((-BT$14-BT$59-BT$69-BT$79)*$B80,(BT$42+IF($B$59<>BT$31,SUM($C$33:BT$35),0))*$B80)))","v":0},{"$f":"IF((-BU$14-BU$59-BU$69-BU$79)<=0,0,IF($B$14=\"As Received\",MIN(BU$42*$B80,(-BU$14-BU$59-BU$69-BU$79)*$B80),MIN((-BU$14-BU$59-BU$69-BU$79)*$B80,(BU$42+IF($B$59<>BU$31,SUM($C$33:BU$35),0))*$B80)))","v":0},{"$f":"IF((-BV$14-BV$59-BV$69-BV$79)<=0,0,IF($B$14=\"As Received\",MIN(BV$42*$B80,(-BV$14-BV$59-BV$69-BV$79)*$B80),MIN((-BV$14-BV$59-BV$69-BV$79)*$B80,(BV$42+IF($B$59<>BV$31,SUM($C$33:BV$35),0))*$B80)))","v":0},{"$f":"IF((-BW$14-BW$59-BW$69-BW$79)<=0,0,IF($B$14=\"As Received\",MIN(BW$42*$B80,(-BW$14-BW$59-BW$69-BW$79)*$B80),MIN((-BW$14-BW$59-BW$69-BW$79)*$B80,(BW$42+IF($B$59<>BW$31,SUM($C$33:BW$35),0))*$B80)))","v":0},{"$f":"IF((-BX$14-BX$59-BX$69-BX$79)<=0,0,IF($B$14=\"As Received\",MIN(BX$42*$B80,(-BX$14-BX$59-BX$69-BX$79)*$B80),MIN((-BX$14-BX$59-BX$69-BX$79)*$B80,(BX$42+IF($B$59<>BX$31,SUM($C$33:BX$35),0))*$B80)))","v":0},{"$f":"IF((-BY$14-BY$59-BY$69-BY$79)<=0,0,IF($B$14=\"As Received\",MIN(BY$42*$B80,(-BY$14-BY$59-BY$69-BY$79)*$B80),MIN((-BY$14-BY$59-BY$69-BY$79)*$B80,(BY$42+IF($B$59<>BY$31,SUM($C$33:BY$35),0))*$B80)))","v":0},{"$f":"IF((-BZ$14-BZ$59-BZ$69-BZ$79)<=0,0,IF($B$14=\"As Received\",MIN(BZ$42*$B80,(-BZ$14-BZ$59-BZ$69-BZ$79)*$B80),MIN((-BZ$14-BZ$59-BZ$69-BZ$79)*$B80,(BZ$42+IF($B$59<>BZ$31,SUM($C$33:BZ$35),0))*$B80)))","v":0},{"$f":"IF((-CA$14-CA$59-CA$69-CA$79)<=0,0,IF($B$14=\"As Received\",MIN(CA$42*$B80,(-CA$14-CA$59-CA$69-CA$79)*$B80),MIN((-CA$14-CA$59-CA$69-CA$79)*$B80,(CA$42+IF($B$59<>CA$31,SUM($C$33:CA$35),0))*$B80)))","v":0},{"$f":"IF((-CB$14-CB$59-CB$69-CB$79)<=0,0,IF($B$14=\"As Received\",MIN(CB$42*$B80,(-CB$14-CB$59-CB$69-CB$79)*$B80),MIN((-CB$14-CB$59-CB$69-CB$79)*$B80,(CB$42+IF($B$59<>CB$31,SUM($C$33:CB$35),0))*$B80)))","v":0},{"$f":"IF((-CC$14-CC$59-CC$69-CC$79)<=0,0,IF($B$14=\"As Received\",MIN(CC$42*$B80,(-CC$14-CC$59-CC$69-CC$79)*$B80),MIN((-CC$14-CC$59-CC$69-CC$79)*$B80,(CC$42+IF($B$59<>CC$31,SUM($C$33:CC$35),0))*$B80)))","v":0},{"$f":"IF((-CD$14-CD$59-CD$69-CD$79)<=0,0,IF($B$14=\"As Received\",MIN(CD$42*$B80,(-CD$14-CD$59-CD$69-CD$79)*$B80),MIN((-CD$14-CD$59-CD$69-CD$79)*$B80,(CD$42+IF($B$59<>CD$31,SUM($C$33:CD$35),0))*$B80)))","v":0},{"$f":"IF((-CE$14-CE$59-CE$69-CE$79)<=0,0,IF($B$14=\"As Received\",MIN(CE$42*$B80,(-CE$14-CE$59-CE$69-CE$79)*$B80),MIN((-CE$14-CE$59-CE$69-CE$79)*$B80,(CE$42+IF($B$59<>CE$31,SUM($C$33:CE$35),0))*$B80)))","v":0},{"$f":"IF((-CF$14-CF$59-CF$69-CF$79)<=0,0,IF($B$14=\"As Received\",MIN(CF$42*$B80,(-CF$14-CF$59-CF$69-CF$79)*$B80),MIN((-CF$14-CF$59-CF$69-CF$79)*$B80,(CF$42+IF($B$59<>CF$31,SUM($C$33:CF$35),0))*$B80)))","v":0},{"$f":"IF((-CG$14-CG$59-CG$69-CG$79)<=0,0,IF($B$14=\"As Received\",MIN(CG$42*$B80,(-CG$14-CG$59-CG$69-CG$79)*$B80),MIN((-CG$14-CG$59-CG$69-CG$79)*$B80,(CG$42+IF($B$59<>CG$31,SUM($C$33:CG$35),0))*$B80)))","v":0},{"$f":"IF((-CH$14-CH$59-CH$69-CH$79)<=0,0,IF($B$14=\"As Received\",MIN(CH$42*$B80,(-CH$14-CH$59-CH$69-CH$79)*$B80),MIN((-CH$14-CH$59-CH$69-CH$79)*$B80,(CH$42+IF($B$59<>CH$31,SUM($C$33:CH$35),0))*$B80)))","v":0},{"$f":"IF((-CI$14-CI$59-CI$69-CI$79)<=0,0,IF($B$14=\"As Received\",MIN(CI$42*$B80,(-CI$14-CI$59-CI$69-CI$79)*$B80),MIN((-CI$14-CI$59-CI$69-CI$79)*$B80,(CI$42+IF($B$59<>CI$31,SUM($C$33:CI$35),0))*$B80)))","v":0},{"$f":"IF((-CJ$14-CJ$59-CJ$69-CJ$79)<=0,0,IF($B$14=\"As Received\",MIN(CJ$42*$B80,(-CJ$14-CJ$59-CJ$69-CJ$79)*$B80),MIN((-CJ$14-CJ$59-CJ$69-CJ$79)*$B80,(CJ$42+IF($B$59<>CJ$31,SUM($C$33:CJ$35),0))*$B80)))","v":0},{"$f":"IF((-CK$14-CK$59-CK$69-CK$79)<=0,0,IF($B$14=\"As Received\",MIN(CK$42*$B80,(-CK$14-CK$59-CK$69-CK$79)*$B80),MIN((-CK$14-CK$59-CK$69-CK$79)*$B80,(CK$42+IF($B$59<>CK$31,SUM($C$33:CK$35),0))*$B80)))","v":0},{"$f":"IF((-CL$14-CL$59-CL$69-CL$79)<=0,0,IF($B$14=\"As Received\",MIN(CL$42*$B80,(-CL$14-CL$59-CL$69-CL$79)*$B80),MIN((-CL$14-CL$59-CL$69-CL$79)*$B80,(CL$42+IF($B$59<>CL$31,SUM($C$33:CL$35),0))*$B80)))","v":0},{"$f":"IF((-CM$14-CM$59-CM$69-CM$79)<=0,0,IF($B$14=\"As Received\",MIN(CM$42*$B80,(-CM$14-CM$59-CM$69-CM$79)*$B80),MIN((-CM$14-CM$59-CM$69-CM$79)*$B80,(CM$42+IF($B$59<>CM$31,SUM($C$33:CM$35),0))*$B80)))","v":0},{"$f":"IF((-CN$14-CN$59-CN$69-CN$79)<=0,0,IF($B$14=\"As Received\",MIN(CN$42*$B80,(-CN$14-CN$59-CN$69-CN$79)*$B80),MIN((-CN$14-CN$59-CN$69-CN$79)*$B80,(CN$42+IF($B$59<>CN$31,SUM($C$33:CN$35),0))*$B80)))","v":0},{"$f":"IF((-CO$14-CO$59-CO$69-CO$79)<=0,0,IF($B$14=\"As Received\",MIN(CO$42*$B80,(-CO$14-CO$59-CO$69-CO$79)*$B80),MIN((-CO$14-CO$59-CO$69-CO$79)*$B80,(CO$42+IF($B$59<>CO$31,SUM($C$33:CO$35),0))*$B80)))","v":0},{"$f":"IF((-CP$14-CP$59-CP$69-CP$79)<=0,0,IF($B$14=\"As Received\",MIN(CP$42*$B80,(-CP$14-CP$59-CP$69-CP$79)*$B80),MIN((-CP$14-CP$59-CP$69-CP$79)*$B80,(CP$42+IF($B$59<>CP$31,SUM($C$33:CP$35),0))*$B80)))","v":0},{"$f":"IF((-CQ$14-CQ$59-CQ$69-CQ$79)<=0,0,IF($B$14=\"As Received\",MIN(CQ$42*$B80,(-CQ$14-CQ$59-CQ$69-CQ$79)*$B80),MIN((-CQ$14-CQ$59-CQ$69-CQ$79)*$B80,(CQ$42+IF($B$59<>CQ$31,SUM($C$33:CQ$35),0))*$B80)))","v":0},{"$f":"IF((-CR$14-CR$59-CR$69-CR$79)<=0,0,IF($B$14=\"As Received\",MIN(CR$42*$B80,(-CR$14-CR$59-CR$69-CR$79)*$B80),MIN((-CR$14-CR$59-CR$69-CR$79)*$B80,(CR$42+IF($B$59<>CR$31,SUM($C$33:CR$35),0))*$B80)))","v":0},{"$f":"IF((-CS$14-CS$59-CS$69-CS$79)<=0,0,IF($B$14=\"As Received\",MIN(CS$42*$B80,(-CS$14-CS$59-CS$69-CS$79)*$B80),MIN((-CS$14-CS$59-CS$69-CS$79)*$B80,(CS$42+IF($B$59<>CS$31,SUM($C$33:CS$35),0))*$B80)))","v":0},{"$f":"IF((-CT$14-CT$59-CT$69-CT$79)<=0,0,IF($B$14=\"As Received\",MIN(CT$42*$B80,(-CT$14-CT$59-CT$69-CT$79)*$B80),MIN((-CT$14-CT$59-CT$69-CT$79)*$B80,(CT$42+IF($B$59<>CT$31,SUM($C$33:CT$35),0))*$B80)))","v":0},{"$f":"IF((-CU$14-CU$59-CU$69-CU$79)<=0,0,IF($B$14=\"As Received\",MIN(CU$42*$B80,(-CU$14-CU$59-CU$69-CU$79)*$B80),MIN((-CU$14-CU$59-CU$69-CU$79)*$B80,(CU$42+IF($B$59<>CU$31,SUM($C$33:CU$35),0))*$B80)))","v":0},{"$f":"IF((-CV$14-CV$59-CV$69-CV$79)<=0,0,IF($B$14=\"As Received\",MIN(CV$42*$B80,(-CV$14-CV$59-CV$69-CV$79)*$B80),MIN((-CV$14-CV$59-CV$69-CV$79)*$B80,(CV$42+IF($B$59<>CV$31,SUM($C$33:CV$35),0))*$B80)))","v":0},{"$f":"IF((-CW$14-CW$59-CW$69-CW$79)<=0,0,IF($B$14=\"As Received\",MIN(CW$42*$B80,(-CW$14-CW$59-CW$69-CW$79)*$B80),MIN((-CW$14-CW$59-CW$69-CW$79)*$B80,(CW$42+IF($B$59<>CW$31,SUM($C$33:CW$35),0))*$B80)))","v":0},{"$f":"IF((-CX$14-CX$59-CX$69-CX$79)<=0,0,IF($B$14=\"As Received\",MIN(CX$42*$B80,(-CX$14-CX$59-CX$69-CX$79)*$B80),MIN((-CX$14-CX$59-CX$69-CX$79)*$B80,(CX$42+IF($B$59<>CX$31,SUM($C$33:CX$35),0))*$B80)))","v":0},{"$f":"IF((-CY$14-CY$59-CY$69-CY$79)<=0,0,IF($B$14=\"As Received\",MIN(CY$42*$B80,(-CY$14-CY$59-CY$69-CY$79)*$B80),MIN((-CY$14-CY$59-CY$69-CY$79)*$B80,(CY$42+IF($B$59<>CY$31,SUM($C$33:CY$35),0))*$B80)))","v":0},{"$f":"IF((-CZ$14-CZ$59-CZ$69-CZ$79)<=0,0,IF($B$14=\"As Received\",MIN(CZ$42*$B80,(-CZ$14-CZ$59-CZ$69-CZ$79)*$B80),MIN((-CZ$14-CZ$59-CZ$69-CZ$79)*$B80,(CZ$42+IF($B$59<>CZ$31,SUM($C$33:CZ$35),0))*$B80)))","v":0},{"$f":"IF((-DA$14-DA$59-DA$69-DA$79)<=0,0,IF($B$14=\"As Received\",MIN(DA$42*$B80,(-DA$14-DA$59-DA$69-DA$79)*$B80),MIN((-DA$14-DA$59-DA$69-DA$79)*$B80,(DA$42+IF($B$59<>DA$31,SUM($C$33:DA$35),0))*$B80)))","v":0},{"$f":"IF((-DB$14-DB$59-DB$69-DB$79)<=0,0,IF($B$14=\"As Received\",MIN(DB$42*$B80,(-DB$14-DB$59-DB$69-DB$79)*$B80),MIN((-DB$14-DB$59-DB$69-DB$79)*$B80,(DB$42+IF($B$59<>DB$31,SUM($C$33:DB$35),0))*$B80)))","v":0},{"$f":"IF((-DC$14-DC$59-DC$69-DC$79)<=0,0,IF($B$14=\"As Received\",MIN(DC$42*$B80,(-DC$14-DC$59-DC$69-DC$79)*$B80),MIN((-DC$14-DC$59-DC$69-DC$79)*$B80,(DC$42+IF($B$59<>DC$31,SUM($C$33:DC$35),0))*$B80)))","v":0},{"$f":"IF((-DD$14-DD$59-DD$69-DD$79)<=0,0,IF($B$14=\"As Received\",MIN(DD$42*$B80,(-DD$14-DD$59-DD$69-DD$79)*$B80),MIN((-DD$14-DD$59-DD$69-DD$79)*$B80,(DD$42+IF($B$59<>DD$31,SUM($C$33:DD$35),0))*$B80)))","v":0},{"$f":"IF((-DE$14-DE$59-DE$69-DE$79)<=0,0,IF($B$14=\"As Received\",MIN(DE$42*$B80,(-DE$14-DE$59-DE$69-DE$79)*$B80),MIN((-DE$14-DE$59-DE$69-DE$79)*$B80,(DE$42+IF($B$59<>DE$31,SUM($C$33:DE$35),0))*$B80)))","v":0},{"$f":"IF((-DF$14-DF$59-DF$69-DF$79)<=0,0,IF($B$14=\"As Received\",MIN(DF$42*$B80,(-DF$14-DF$59-DF$69-DF$79)*$B80),MIN((-DF$14-DF$59-DF$69-DF$79)*$B80,(DF$42+IF($B$59<>DF$31,SUM($C$33:DF$35),0))*$B80)))","v":0},{"$f":"IF((-DG$14-DG$59-DG$69-DG$79)<=0,0,IF($B$14=\"As Received\",MIN(DG$42*$B80,(-DG$14-DG$59-DG$69-DG$79)*$B80),MIN((-DG$14-DG$59-DG$69-DG$79)*$B80,(DG$42+IF($B$59<>DG$31,SUM($C$33:DG$35),0))*$B80)))","v":0},{"$f":"IF((-DH$14-DH$59-DH$69-DH$79)<=0,0,IF($B$14=\"As Received\",MIN(DH$42*$B80,(-DH$14-DH$59-DH$69-DH$79)*$B80),MIN((-DH$14-DH$59-DH$69-DH$79)*$B80,(DH$42+IF($B$59<>DH$31,SUM($C$33:DH$35),0))*$B80)))","v":0},{"$f":"IF((-DI$14-DI$59-DI$69-DI$79)<=0,0,IF($B$14=\"As Received\",MIN(DI$42*$B80,(-DI$14-DI$59-DI$69-DI$79)*$B80),MIN((-DI$14-DI$59-DI$69-DI$79)*$B80,(DI$42+IF($B$59<>DI$31,SUM($C$33:DI$35),0))*$B80)))","v":0},{"$f":"IF((-DJ$14-DJ$59-DJ$69-DJ$79)<=0,0,IF($B$14=\"As Received\",MIN(DJ$42*$B80,(-DJ$14-DJ$59-DJ$69-DJ$79)*$B80),MIN((-DJ$14-DJ$59-DJ$69-DJ$79)*$B80,(DJ$42+IF($B$59<>DJ$31,SUM($C$33:DJ$35),0))*$B80)))","v":0},{"$f":"IF((-DK$14-DK$59-DK$69-DK$79)<=0,0,IF($B$14=\"As Received\",MIN(DK$42*$B80,(-DK$14-DK$59-DK$69-DK$79)*$B80),MIN((-DK$14-DK$59-DK$69-DK$79)*$B80,(DK$42+IF($B$59<>DK$31,SUM($C$33:DK$35),0))*$B80)))","v":0},{"$f":"IF((-DL$14-DL$59-DL$69-DL$79)<=0,0,IF($B$14=\"As Received\",MIN(DL$42*$B80,(-DL$14-DL$59-DL$69-DL$79)*$B80),MIN((-DL$14-DL$59-DL$69-DL$79)*$B80,(DL$42+IF($B$59<>DL$31,SUM($C$33:DL$35),0))*$B80)))","v":0},{"$f":"IF((-DM$14-DM$59-DM$69-DM$79)<=0,0,IF($B$14=\"As Received\",MIN(DM$42*$B80,(-DM$14-DM$59-DM$69-DM$79)*$B80),MIN((-DM$14-DM$59-DM$69-DM$79)*$B80,(DM$42+IF($B$59<>DM$31,SUM($C$33:DM$35),0))*$B80)))","v":0},{"$f":"IF((-DN$14-DN$59-DN$69-DN$79)<=0,0,IF($B$14=\"As Received\",MIN(DN$42*$B80,(-DN$14-DN$59-DN$69-DN$79)*$B80),MIN((-DN$14-DN$59-DN$69-DN$79)*$B80,(DN$42+IF($B$59<>DN$31,SUM($C$33:DN$35),0))*$B80)))","v":0},{"$f":"IF((-DO$14-DO$59-DO$69-DO$79)<=0,0,IF($B$14=\"As Received\",MIN(DO$42*$B80,(-DO$14-DO$59-DO$69-DO$79)*$B80),MIN((-DO$14-DO$59-DO$69-DO$79)*$B80,(DO$42+IF($B$59<>DO$31,SUM($C$33:DO$35),0))*$B80)))","v":0},{"$f":"IF((-DP$14-DP$59-DP$69-DP$79)<=0,0,IF($B$14=\"As Received\",MIN(DP$42*$B80,(-DP$14-DP$59-DP$69-DP$79)*$B80),MIN((-DP$14-DP$59-DP$69-DP$79)*$B80,(DP$42+IF($B$59<>DP$31,SUM($C$33:DP$35),0))*$B80)))","v":0},{"$f":"IF((-DQ$14-DQ$59-DQ$69-DQ$79)<=0,0,IF($B$14=\"As Received\",MIN(DQ$42*$B80,(-DQ$14-DQ$59-DQ$69-DQ$79)*$B80),MIN((-DQ$14-DQ$59-DQ$69-DQ$79)*$B80,(DQ$42+IF($B$59<>DQ$31,SUM($C$33:DQ$35),0))*$B80)))","v":0},{"$f":"IF((-DR$14-DR$59-DR$69-DR$79)<=0,0,IF($B$14=\"As Received\",MIN(DR$42*$B80,(-DR$14-DR$59-DR$69-DR$79)*$B80),MIN((-DR$14-DR$59-DR$69-DR$79)*$B80,(DR$42+IF($B$59<>DR$31,SUM($C$33:DR$35),0))*$B80)))","v":0},{"$f":"IF((-DS$14-DS$59-DS$69-DS$79)<=0,0,IF($B$14=\"As Received\",MIN(DS$42*$B80,(-DS$14-DS$59-DS$69-DS$79)*$B80),MIN((-DS$14-DS$59-DS$69-DS$79)*$B80,(DS$42+IF($B$59<>DS$31,SUM($C$33:DS$35),0))*$B80)))","v":0}]
["Tier 2 Preferred Return",{"$f":"E28","v":0.5},{"$f":"IF((-C$14-C$59-C$69-C$79-C$60-C$70-C$80)<=0,0,IF($B$14=\"As Received\",MIN(C$48*$B81,(-C$14-C$59-C$69-C$79-C$60-C$70-C$80)*$B81),MIN((-C$14-C$59-C$69-C$79-C$60-C$70-C$80)*$B81,(C$48+IF($B$59<>C$31,SUM($C$33:C$35),0))*$B81)))","v":0},{"$f":"IF((-D$14-D$59-D$69-D$79-D$60-D$70-D$80)<=0,0,IF($B$14=\"As Received\",MIN(D$48*$B81,(-D$14-D$59-D$69-D$79-D$60-D$70-D$80)*$B81),MIN((-D$14-D$59-D$69-D$79-D$60-D$70-D$80)*$B81,(D$48+IF($B$59<>D$31,SUM($C$33:D$35),0))*$B81)))","v":0},{"$f":"IF((-E$14-E$59-E$69-E$79-E$60-E$70-E$80)<=0,0,IF($B$14=\"As Received\",MIN(E$48*$B81,(-E$14-E$59-E$69-E$79-E$60-E$70-E$80)*$B81),MIN((-E$14-E$59-E$69-E$79-E$60-E$70-E$80)*$B81,(E$48+IF($B$59<>E$31,SUM($C$33:E$35),0))*$B81)))","v":0},{"$f":"IF((-F$14-F$59-F$69-F$79-F$60-F$70-F$80)<=0,0,IF($B$14=\"As Received\",MIN(F$48*$B81,(-F$14-F$59-F$69-F$79-F$60-F$70-F$80)*$B81),MIN((-F$14-F$59-F$69-F$79-F$60-F$70-F$80)*$B81,(F$48+IF($B$59<>F$31,SUM($C$33:F$35),0))*$B81)))","v":0},{"$f":"IF((-G$14-G$59-G$69-G$79-G$60-G$70-G$80)<=0,0,IF($B$14=\"As Received\",MIN(G$48*$B81,(-G$14-G$59-G$69-G$79-G$60-G$70-G$80)*$B81),MIN((-G$14-G$59-G$69-G$79-G$60-G$70-G$80)*$B81,(G$48+IF($B$59<>G$31,SUM($C$33:G$35),0))*$B81)))","v":0},{"$f":"IF((-H$14-H$59-H$69-H$79-H$60-H$70-H$80)<=0,0,IF($B$14=\"As Received\",MIN(H$48*$B81,(-H$14-H$59-H$69-H$79-H$60-H$70-H$80)*$B81),MIN((-H$14-H$59-H$69-H$79-H$60-H$70-H$80)*$B81,(H$48+IF($B$59<>H$31,SUM($C$33:H$35),0))*$B81)))","v":0},{"$f":"IF((-I$14-I$59-I$69-I$79-I$60-I$70-I$80)<=0,0,IF($B$14=\"As Received\",MIN(I$48*$B81,(-I$14-I$59-I$69-I$79-I$60-I$70-I$80)*$B81),MIN((-I$14-I$59-I$69-I$79-I$60-I$70-I$80)*$B81,(I$48+IF($B$59<>I$31,SUM($C$33:I$35),0))*$B81)))","v":0},{"$f":"IF((-J$14-J$59-J$69-J$79-J$60-J$70-J$80)<=0,0,IF($B$14=\"As Received\",MIN(J$48*$B81,(-J$14-J$59-J$69-J$79-J$60-J$70-J$80)*$B81),MIN((-J$14-J$59-J$69-J$79-J$60-J$70-J$80)*$B81,(J$48+IF($B$59<>J$31,SUM($C$33:J$35),0))*$B81)))","v":0},{"$f":"IF((-K$14-K$59-K$69-K$79-K$60-K$70-K$80)<=0,0,IF($B$14=\"As Received\",MIN(K$48*$B81,(-K$14-K$59-K$69-K$79-K$60-K$70-K$80)*$B81),MIN((-K$14-K$59-K$69-K$79-K$60-K$70-K$80)*$B81,(K$48+IF($B$59<>K$31,SUM($C$33:K$35),0))*$B81)))","v":0},{"$f":"IF((-L$14-L$59-L$69-L$79-L$60-L$70-L$80)<=0,0,IF($B$14=\"As Received\",MIN(L$48*$B81,(-L$14-L$59-L$69-L$79-L$60-L$70-L$80)*$B81),MIN((-L$14-L$59-L$69-L$79-L$60-L$70-L$80)*$B81,(L$48+IF($B$59<>L$31,SUM($C$33:L$35),0))*$B81)))","v":0},{"$f":"IF((-M$14-M$59-M$69-M$79-M$60-M$70-M$80)<=0,0,IF($B$14=\"As Received\",MIN(M$48*$B81,(-M$14-M$59-M$69-M$79-M$60-M$70-M$80)*$B81),MIN((-M$14-M$59-M$69-M$79-M$60-M$70-M$80)*$B81,(M$48+IF($B$59<>M$31,SUM($C$33:M$35),0))*$B81)))","v":0},{"$f":"IF((-N$14-N$59-N$69-N$79-N$60-N$70-N$80)<=0,0,IF($B$14=\"As Received\",MIN(N$48*$B81,(-N$14-N$59-N$69-N$79-N$60-N$70-N$80)*$B81),MIN((-N$14-N$59-N$69-N$79-N$60-N$70-N$80)*$B81,(N$48+IF($B$59<>N$31,SUM($C$33:N$35),0))*$B81)))","v":0},{"$f":"IF((-O$14-O$59-O$69-O$79-O$60-O$70-O$80)<=0,0,IF($B$14=\"As Received\",MIN(O$48*$B81,(-O$14-O$59-O$69-O$79-O$60-O$70-O$80)*$B81),MIN((-O$14-O$59-O$69-O$79-O$60-O$70-O$80)*$B81,(O$48+IF($B$59<>O$31,SUM($C$33:O$35),0))*$B81)))","v":0},{"$f":"IF((-P$14-P$59-P$69-P$79-P$60-P$70-P$80)<=0,0,IF($B$14=\"As Received\",MIN(P$48*$B81,(-P$14-P$59-P$69-P$79-P$60-P$70-P$80)*$B81),MIN((-P$14-P$59-P$69-P$79-P$60-P$70-P$80)*$B81,(P$48+IF($B$59<>P$31,SUM($C$33:P$35),0))*$B81)))","v":0},{"$f":"IF((-Q$14-Q$59-Q$69-Q$79-Q$60-Q$70-Q$80)<=0,0,IF($B$14=\"As Received\",MIN(Q$48*$B81,(-Q$14-Q$59-Q$69-Q$79-Q$60-Q$70-Q$80)*$B81),MIN((-Q$14-Q$59-Q$69-Q$79-Q$60-Q$70-Q$80)*$B81,(Q$48+IF($B$59<>Q$31,SUM($C$33:Q$35),0))*$B81)))","v":0},{"$f":"IF((-R$14-R$59-R$69-R$79-R$60-R$70-R$80)<=0,0,IF($B$14=\"As Received\",MIN(R$48*$B81,(-R$14-R$59-R$69-R$79-R$60-R$70-R$80)*$B81),MIN((-R$14-R$59-R$69-R$79-R$60-R$70-R$80)*$B81,(R$48+IF($B$59<>R$31,SUM($C$33:R$35),0))*$B81)))","v":0},{"$f":"IF((-S$14-S$59-S$69-S$79-S$60-S$70-S$80)<=0,0,IF($B$14=\"As Received\",MIN(S$48*$B81,(-S$14-S$59-S$69-S$79-S$60-S$70-S$80)*$B81),MIN((-S$14-S$59-S$69-S$79-S$60-S$70-S$80)*$B81,(S$48+IF($B$59<>S$31,SUM($C$33:S$35),0))*$B81)))","v":0},{"$f":"IF((-T$14-T$59-T$69-T$79-T$60-T$70-T$80)<=0,0,IF($B$14=\"As Received\",MIN(T$48*$B81,(-T$14-T$59-T$69-T$79-T$60-T$70-T$80)*$B81),MIN((-T$14-T$59-T$69-T$79-T$60-T$70-T$80)*$B81,(T$48+IF($B$59<>T$31,SUM($C$33:T$35),0))*$B81)))","v":0},{"$f":"IF((-U$14-U$59-U$69-U$79-U$60-U$70-U$80)<=0,0,IF($B$14=\"As Received\",MIN(U$48*$B81,(-U$14-U$59-U$69-U$79-U$60-U$70-U$80)*$B81),MIN((-U$14-U$59-U$69-U$79-U$60-U$70-U$80)*$B81,(U$48+IF($B$59<>U$31,SUM($C$33:U$35),0))*$B81)))","v":0},{"$f":"IF((-V$14-V$59-V$69-V$79-V$60-V$70-V$80)<=0,0,IF($B$14=\"As Received\",MIN(V$48*$B81,(-V$14-V$59-V$69-V$79-V$60-V$70-V$80)*$B81),MIN((-V$14-V$59-V$69-V$79-V$60-V$70-V$80)*$B81,(V$48+IF($B$59<>V$31,SUM($C$33:V$35),0))*$B81)))","v":0},{"$f":"IF((-W$14-W$59-W$69-W$79-W$60-W$70-W$80)<=0,0,IF($B$14=\"As Received\",MIN(W$48*$B81,(-W$14-W$59-W$69-W$79-W$60-W$70-W$80)*$B81),MIN((-W$14-W$59-W$69-W$79-W$60-W$70-W$80)*$B81,(W$48+IF($B$59<>W$31,SUM($C$33:W$35),0))*$B81)))","v":0},{"$f":"IF((-X$14-X$59-X$69-X$79-X$60-X$70-X$80)<=0,0,IF($B$14=\"As Received\",MIN(X$48*$B81,(-X$14-X$59-X$69-X$79-X$60-X$70-X$80)*$B81),MIN((-X$14-X$59-X$69-X$79-X$60-X$70-X$80)*$B81,(X$48+IF($B$59<>X$31,SUM($C$33:X$35),0))*$B81)))","v":0},{"$f":"IF((-Y$14-Y$59-Y$69-Y$79-Y$60-Y$70-Y$80)<=0,0,IF($B$14=\"As Received\",MIN(Y$48*$B81,(-Y$14-Y$59-Y$69-Y$79-Y$60-Y$70-Y$80)*$B81),MIN((-Y$14-Y$59-Y$69-Y$79-Y$60-Y$70-Y$80)*$B81,(Y$48+IF($B$59<>Y$31,SUM($C$33:Y$35),0))*$B81)))","v":0},{"$f":"IF((-Z$14-Z$59-Z$69-Z$79-Z$60-Z$70-Z$80)<=0,0,IF($B$14=\"As Received\",MIN(Z$48*$B81,(-Z$14-Z$59-Z$69-Z$79-Z$60-Z$70-Z$80)*$B81),MIN((-Z$14-Z$59-Z$69-Z$79-Z$60-Z$70-Z$80)*$B81,(Z$48+IF($B$59<>Z$31,SUM($C$33:Z$35),0))*$B81)))","v":0},{"$f":"IF((-AA$14-AA$59-AA$69-AA$79-AA$60-AA$70-AA$80)<=0,0,IF($B$14=\"As Received\",MIN(AA$48*$B81,(-AA$14-AA$59-AA$69-AA$79-AA$60-AA$70-AA$80)*$B81),MIN((-AA$14-AA$59-AA$69-AA$79-AA$60-AA$70-AA$80)*$B81,(AA$48+IF($B$59<>AA$31,SUM($C$33:AA$35),0))*$B81)))","v":0},{"$f":"IF((-AB$14-AB$59-AB$69-AB$79-AB$60-AB$70-AB$80)<=0,0,IF($B$14=\"As Received\",MIN(AB$48*$B81,(-AB$14-AB$59-AB$69-AB$79-AB$60-AB$70-AB$80)*$B81),MIN((-AB$14-AB$59-AB$69-AB$79-AB$60-AB$70-AB$80)*$B81,(AB$48+IF($B$59<>AB$31,SUM($C$33:AB$35),0))*$B81)))","v":0},{"$f":"IF((-AC$14-AC$59-AC$69-AC$79-AC$60-AC$70-AC$80)<=0,0,IF($B$14=\"As Received\",MIN(AC$48*$B81,(-AC$14-AC$59-AC$69-AC$79-AC$60-AC$70-AC$80)*$B81),MIN((-AC$14-AC$59-AC$69-AC$79-AC$60-AC$70-AC$80)*$B81,(AC$48+IF($B$59<>AC$31,SUM($C$33:AC$35),0))*$B81)))","v":0},{"$f":"IF((-AD$14-AD$59-AD$69-AD$79-AD$60-AD$70-AD$80)<=0,0,IF($B$14=\"As Received\",MIN(AD$48*$B81,(-AD$14-AD$59-AD$69-AD$79-AD$60-AD$70-AD$80)*$B81),MIN((-AD$14-AD$59-AD$69-AD$79-AD$60-AD$70-AD$80)*$B81,(AD$48+IF($B$59<>AD$31,SUM($C$33:AD$35),0))*$B81)))","v":0},{"$f":"IF((-AE$14-AE$59-AE$69-AE$79-AE$60-AE$70-AE$80)<=0,0,IF($B$14=\"As Received\",MIN(AE$48*$B81,(-AE$14-AE$59-AE$69-AE$79-AE$60-AE$70-AE$80)*$B81),MIN((-AE$14-AE$59-AE$69-AE$79-AE$60-AE$70-AE$80)*$B81,(AE$48+IF($B$59<>AE$31,SUM($C$33:AE$35),0))*$B81)))","v":0},{"$f":"IF((-AF$14-AF$59-AF$69-AF$79-AF$60-AF$70-AF$80)<=0,0,IF($B$14=\"As Received\",MIN(AF$48*$B81,(-AF$14-AF$59-AF$69-AF$79-AF$60-AF$70-AF$80)*$B81),MIN((-AF$14-AF$59-AF$69-AF$79-AF$60-AF$70-AF$80)*$B81,(AF$48+IF($B$59<>AF$31,SUM($C$33:AF$35),0))*$B81)))","v":0},{"$f":"IF((-AG$14-AG$59-AG$69-AG$79-AG$60-AG$70-AG$80)<=0,0,IF($B$14=\"As Received\",MIN(AG$48*$B81,(-AG$14-AG$59-AG$69-AG$79-AG$60-AG$70-AG$80)*$B81),MIN((-AG$14-AG$59-AG$69-AG$79-AG$60-AG$70-AG$80)*$B81,(AG$48+IF($B$59<>AG$31,SUM($C$33:AG$35),0))*$B81)))","v":0},{"$f":"IF((-AH$14-AH$59-AH$69-AH$79-AH$60-AH$70-AH$80)<=0,0,IF($B$14=\"As Received\",MIN(AH$48*$B81,(-AH$14-AH$59-AH$69-AH$79-AH$60-AH$70-AH$80)*$B81),MIN((-AH$14-AH$59-AH$69-AH$79-AH$60-AH$70-AH$80)*$B81,(AH$48+IF($B$59<>AH$31,SUM($C$33:AH$35),0))*$B81)))","v":0},{"$f":"IF((-AI$14-AI$59-AI$69-AI$79-AI$60-AI$70-AI$80)<=0,0,IF($B$14=\"As Received\",MIN(AI$48*$B81,(-AI$14-AI$59-AI$69-AI$79-AI$60-AI$70-AI$80)*$B81),MIN((-AI$14-AI$59-AI$69-AI$79-AI$60-AI$70-AI$80)*$B81,(AI$48+IF($B$59<>AI$31,SUM($C$33:AI$35),0))*$B81)))","v":0},{"$f":"IF((-AJ$14-AJ$59-AJ$69-AJ$79-AJ$60-AJ$70-AJ$80)<=0,0,IF($B$14=\"As Received\",MIN(AJ$48*$B81,(-AJ$14-AJ$59-AJ$69-AJ$79-AJ$60-AJ$70-AJ$80)*$B81),MIN((-AJ$14-AJ$59-AJ$69-AJ$79-AJ$60-AJ$70-AJ$80)*$B81,(AJ$48+IF($B$59<>AJ$31,SUM($C$33:AJ$35),0))*$B81)))","v":0},{"$f":"IF((-AK$14-AK$59-AK$69-AK$79-AK$60-AK$70-AK$80)<=0,0,IF($B$14=\"As Received\",MIN(AK$48*$B81,(-AK$14-AK$59-AK$69-AK$79-AK$60-AK$70-AK$80)*$B81),MIN((-AK$14-AK$59-AK$69-AK$79-AK$60-AK$70-AK$80)*$B81,(AK$48+IF($B$59<>AK$31,SUM($C$33:AK$35),0))*$B81)))","v":0},{"$f":"IF((-AL$14-AL$59-AL$69-AL$79-AL$60-AL$70-AL$80)<=0,0,IF($B$14=\"As Received\",MIN(AL$48*$B81,(-AL$14-AL$59-AL$69-AL$79-AL$60-AL$70-AL$80)*$B81),MIN((-AL$14-AL$59-AL$69-AL$79-AL$60-AL$70-AL$80)*$B81,(AL$48+IF($B$59<>AL$31,SUM($C$33:AL$35),0))*$B81)))","v":0},{"$f":"IF((-AM$14-AM$59-AM$69-AM$79-AM$60-AM$70-AM$80)<=0,0,IF($B$14=\"As Received\",MIN(AM$48*$B81,(-AM$14-AM$59-AM$69-AM$79-AM$60-AM$70-AM$80)*$B81),MIN((-AM$14-AM$59-AM$69-AM$79-AM$60-AM$70-AM$80)*$B81,(AM$48+IF($B$59<>AM$31,SUM($C$33:AM$35),0))*$B81)))","v":0},{"$f":"IF((-AN$14-AN$59-AN$69-AN$79-AN$60-AN$70-AN$80)<=0,0,IF($B$14=\"As Received\",MIN(AN$48*$B81,(-AN$14-AN$59-AN$69-AN$79-AN$60-AN$70-AN$80)*$B81),MIN((-AN$14-AN$59-AN$69-AN$79-AN$60-AN$70-AN$80)*$B81,(AN$48+IF($B$59<>AN$31,SUM($C$33:AN$35),0))*$B81)))","v":0},{"$f":"IF((-AO$14-AO$59-AO$69-AO$79-AO$60-AO$70-AO$80)<=0,0,IF($B$14=\"As Received\",MIN(AO$48*$B81,(-AO$14-AO$59-AO$69-AO$79-AO$60-AO$70-AO$80)*$B81),MIN((-AO$14-AO$59-AO$69-AO$79-AO$60-AO$70-AO$80)*$B81,(AO$48+IF($B$59<>AO$31,SUM($C$33:AO$35),0))*$B81)))","v":0},{"$f":"IF((-AP$14-AP$59-AP$69-AP$79-AP$60-AP$70-AP$80)<=0,0,IF($B$14=\"As Received\",MIN(AP$48*$B81,(-AP$14-AP$59-AP$69-AP$79-AP$60-AP$70-AP$80)*$B81),MIN((-AP$14-AP$59-AP$69-AP$79-AP$60-AP$70-AP$80)*$B81,(AP$48+IF($B$59<>AP$31,SUM($C$33:AP$35),0))*$B81)))","v":0},{"$f":"IF((-AQ$14-AQ$59-AQ$69-AQ$79-AQ$60-AQ$70-AQ$80)<=0,0,IF($B$14=\"As Received\",MIN(AQ$48*$B81,(-AQ$14-AQ$59-AQ$69-AQ$79-AQ$60-AQ$70-AQ$80)*$B81),MIN((-AQ$14-AQ$59-AQ$69-AQ$79-AQ$60-AQ$70-AQ$80)*$B81,(AQ$48+IF($B$59<>AQ$31,SUM($C$33:AQ$35),0))*$B81)))","v":0},{"$f":"IF((-AR$14-AR$59-AR$69-AR$79-AR$60-AR$70-AR$80)<=0,0,IF($B$14=\"As Received\",MIN(AR$48*$B81,(-AR$14-AR$59-AR$69-AR$79-AR$60-AR$70-AR$80)*$B81),MIN((-AR$14-AR$59-AR$69-AR$79-AR$60-AR$70-AR$80)*$B81,(AR$48+IF($B$59<>AR$31,SUM($C$33:AR$35),0))*$B81)))","v":0},{"$f":"IF((-AS$14-AS$59-AS$69-AS$79-AS$60-AS$70-AS$80)<=0,0,IF($B$14=\"As Received\",MIN(AS$48*$B81,(-AS$14-AS$59-AS$69-AS$79-AS$60-AS$70-AS$80)*$B81),MIN((-AS$14-AS$59-AS$69-AS$79-AS$60-AS$70-AS$80)*$B81,(AS$48+IF($B$59<>AS$31,SUM($C$33:AS$35),0))*$B81)))","v":0},{"$f":"IF((-AT$14-AT$59-AT$69-AT$79-AT$60-AT$70-AT$80)<=0,0,IF($B$14=\"As Received\",MIN(AT$48*$B81,(-AT$14-AT$59-AT$69-AT$79-AT$60-AT$70-AT$80)*$B81),MIN((-AT$14-AT$59-AT$69-AT$79-AT$60-AT$70-AT$80)*$B81,(AT$48+IF($B$59<>AT$31,SUM($C$33:AT$35),0))*$B81)))","v":0},{"$f":"IF((-AU$14-AU$59-AU$69-AU$79-AU$60-AU$70-AU$80)<=0,0,IF($B$14=\"As Received\",MIN(AU$48*$B81,(-AU$14-AU$59-AU$69-AU$79-AU$60-AU$70-AU$80)*$B81),MIN((-AU$14-AU$59-AU$69-AU$79-AU$60-AU$70-AU$80)*$B81,(AU$48+IF($B$59<>AU$31,SUM($C$33:AU$35),0))*$B81)))","v":0},{"$f":"IF((-AV$14-AV$59-AV$69-AV$79-AV$60-AV$70-AV$80)<=0,0,IF($B$14=\"As Received\",MIN(AV$48*$B81,(-AV$14-AV$59-AV$69-AV$79-AV$60-AV$70-AV$80)*$B81),MIN((-AV$14-AV$59-AV$69-AV$79-AV$60-AV$70-AV$80)*$B81,(AV$48+IF($B$59<>AV$31,SUM($C$33:AV$35),0))*$B81)))","v":0},{"$f":"IF((-AW$14-AW$59-AW$69-AW$79-AW$60-AW$70-AW$80)<=0,0,IF($B$14=\"As Received\",MIN(AW$48*$B81,(-AW$14-AW$59-AW$69-AW$79-AW$60-AW$70-AW$80)*$B81),MIN((-AW$14-AW$59-AW$69-AW$79-AW$60-AW$70-AW$80)*$B81,(AW$48+IF($B$59<>AW$31,SUM($C$33:AW$35),0))*$B81)))","v":0},{"$f":"IF((-AX$14-AX$59-AX$69-AX$79-AX$60-AX$70-AX$80)<=0,0,IF($B$14=\"As Received\",MIN(AX$48*$B81,(-AX$14-AX$59-AX$69-AX$79-AX$60-AX$70-AX$80)*$B81),MIN((-AX$14-AX$59-AX$69-AX$79-AX$60-AX$70-AX$80)*$B81,(AX$48+IF($B$59<>AX$31,SUM($C$33:AX$35),0))*$B81)))","v":0},{"$f":"IF((-AY$14-AY$59-AY$69-AY$79-AY$60-AY$70-AY$80)<=0,0,IF($B$14=\"As Received\",MIN(AY$48*$B81,(-AY$14-AY$59-AY$69-AY$79-AY$60-AY$70-AY$80)*$B81),MIN((-AY$14-AY$59-AY$69-AY$79-AY$60-AY$70-AY$80)*$B81,(AY$48+IF($B$59<>AY$31,SUM($C$33:AY$35),0))*$B81)))","v":0},{"$f":"IF((-AZ$14-AZ$59-AZ$69-AZ$79-AZ$60-AZ$70-AZ$80)<=0,0,IF($B$14=\"As Received\",MIN(AZ$48*$B81,(-AZ$14-AZ$59-AZ$69-AZ$79-AZ$60-AZ$70-AZ$80)*$B81),MIN((-AZ$14-AZ$59-AZ$69-AZ$79-AZ$60-AZ$70-AZ$80)*$B81,(AZ$48+IF($B$59<>AZ$31,SUM($C$33:AZ$35),0))*$B81)))","v":0},{"$f":"IF((-BA$14-BA$59-BA$69-BA$79-BA$60-BA$70-BA$80)<=0,0,IF($B$14=\"As Received\",MIN(BA$48*$B81,(-BA$14-BA$59-BA$69-BA$79-BA$60-BA$70-BA$80)*$B81),MIN((-BA$14-BA$59-BA$69-BA$79-BA$60-BA$70-BA$80)*$B81,(BA$48+IF($B$59<>BA$31,SUM($C$33:BA$35),0))*$B81)))","v":0},{"$f":"IF((-BB$14-BB$59-BB$69-BB$79-BB$60-BB$70-BB$80)<=0,0,IF($B$14=\"As Received\",MIN(BB$48*$B81,(-BB$14-BB$59-BB$69-BB$79-BB$60-BB$70-BB$80)*$B81),MIN((-BB$14-BB$59-BB$69-BB$79-BB$60-BB$70-BB$80)*$B81,(BB$48+IF($B$59<>BB$31,SUM($C$33:BB$35),0))*$B81)))","v":0},{"$f":"IF((-BC$14-BC$59-BC$69-BC$79-BC$60-BC$70-BC$80)<=0,0,IF($B$14=\"As Received\",MIN(BC$48*$B81,(-BC$14-BC$59-BC$69-BC$79-BC$60-BC$70-BC$80)*$B81),MIN((-BC$14-BC$59-BC$69-BC$79-BC$60-BC$70-BC$80)*$B81,(BC$48+IF($B$59<>BC$31,SUM($C$33:BC$35),0))*$B81)))","v":0},{"$f":"IF((-BD$14-BD$59-BD$69-BD$79-BD$60-BD$70-BD$80)<=0,0,IF($B$14=\"As Received\",MIN(BD$48*$B81,(-BD$14-BD$59-BD$69-BD$79-BD$60-BD$70-BD$80)*$B81),MIN((-BD$14-BD$59-BD$69-BD$79-BD$60-BD$70-BD$80)*$B81,(BD$48+IF($B$59<>BD$31,SUM($C$33:BD$35),0))*$B81)))","v":0},{"$f":"IF((-BE$14-BE$59-BE$69-BE$79-BE$60-BE$70-BE$80)<=0,0,IF($B$14=\"As Received\",MIN(BE$48*$B81,(-BE$14-BE$59-BE$69-BE$79-BE$60-BE$70-BE$80)*$B81),MIN((-BE$14-BE$59-BE$69-BE$79-BE$60-BE$70-BE$80)*$B81,(BE$48+IF($B$59<>BE$31,SUM($C$33:BE$35),0))*$B81)))","v":0},{"$f":"IF((-BF$14-BF$59-BF$69-BF$79-BF$60-BF$70-BF$80)<=0,0,IF($B$14=\"As Received\",MIN(BF$48*$B81,(-BF$14-BF$59-BF$69-BF$79-BF$60-BF$70-BF$80)*$B81),MIN((-BF$14-BF$59-BF$69-BF$79-BF$60-BF$70-BF$80)*$B81,(BF$48+IF($B$59<>BF$31,SUM($C$33:BF$35),0))*$B81)))","v":0},{"$f":"IF((-BG$14-BG$59-BG$69-BG$79-BG$60-BG$70-BG$80)<=0,0,IF($B$14=\"As Received\",MIN(BG$48*$B81,(-BG$14-BG$59-BG$69-BG$79-BG$60-BG$70-BG$80)*$B81),MIN((-BG$14-BG$59-BG$69-BG$79-BG$60-BG$70-BG$80)*$B81,(BG$48+IF($B$59<>BG$31,SUM($C$33:BG$35),0))*$B81)))","v":0},{"$f":"IF((-BH$14-BH$59-BH$69-BH$79-BH$60-BH$70-BH$80)<=0,0,IF($B$14=\"As Received\",MIN(BH$48*$B81,(-BH$14-BH$59-BH$69-BH$79-BH$60-BH$70-BH$80)*$B81),MIN((-BH$14-BH$59-BH$69-BH$79-BH$60-BH$70-BH$80)*$B81,(BH$48+IF($B$59<>BH$31,SUM($C$33:BH$35),0))*$B81)))","v":0},{"$f":"IF((-BI$14-BI$59-BI$69-BI$79-BI$60-BI$70-BI$80)<=0,0,IF($B$14=\"As Received\",MIN(BI$48*$B81,(-BI$14-BI$59-BI$69-BI$79-BI$60-BI$70-BI$80)*$B81),MIN((-BI$14-BI$59-BI$69-BI$79-BI$60-BI$70-BI$80)*$B81,(BI$48+IF($B$59<>BI$31,SUM($C$33:BI$35),0))*$B81)))","v":0},{"$f":"IF((-BJ$14-BJ$59-BJ$69-BJ$79-BJ$60-BJ$70-BJ$80)<=0,0,IF($B$14=\"As Received\",MIN(BJ$48*$B81,(-BJ$14-BJ$59-BJ$69-BJ$79-BJ$60-BJ$70-BJ$80)*$B81),MIN((-BJ$14-BJ$59-BJ$69-BJ$79-BJ$60-BJ$70-BJ$80)*$B81,(BJ$48+IF($B$59<>BJ$31,SUM($C$33:BJ$35),0))*$B81)))","v":0},{"$f":"IF((-BK$14-BK$59-BK$69-BK$79-BK$60-BK$70-BK$80)<=0,0,IF($B$14=\"As Received\",MIN(BK$48*$B81,(-BK$14-BK$59-BK$69-BK$79-BK$60-BK$70-BK$80)*$B81),MIN((-BK$14-BK$59-BK$69-BK$79-BK$60-BK$70-BK$80)*$B81,(BK$48+IF($B$59<>BK$31,SUM($C$33:BK$35),0))*$B81)))","v":0},{"$f":"IF((-BL$14-BL$59-BL$69-BL$79-BL$60-BL$70-BL$80)<=0,0,IF($B$14=\"As Received\",MIN(BL$48*$B81,(-BL$14-BL$59-BL$69-BL$79-BL$60-BL$70-BL$80)*$B81),MIN((-BL$14-BL$59-BL$69-BL$79-BL$60-BL$70-BL$80)*$B81,(BL$48+IF($B$59<>BL$31,SUM($C$33:BL$35),0))*$B81)))","v":0},{"$f":"IF((-BM$14-BM$59-BM$69-BM$79-BM$60-BM$70-BM$80)<=0,0,IF($B$14=\"As Received\",MIN(BM$48*$B81,(-BM$14-BM$59-BM$69-BM$79-BM$60-BM$70-BM$80)*$B81),MIN((-BM$14-BM$59-BM$69-BM$79-BM$60-BM$70-BM$80)*$B81,(BM$48+IF($B$59<>BM$31,SUM($C$33:BM$35),0))*$B81)))","v":0},{"$f":"IF((-BN$14-BN$59-BN$69-BN$79-BN$60-BN$70-BN$80)<=0,0,IF($B$14=\"As Received\",MIN(BN$48*$B81,(-BN$14-BN$59-BN$69-BN$79-BN$60-BN$70-BN$80)*$B81),MIN((-BN$14-BN$59-BN$69-BN$79-BN$60-BN$70-BN$80)*$B81,(BN$48+IF($B$59<>BN$31,SUM($C$33:BN$35),0))*$B81)))","v":0},{"$f":"IF((-BO$14-BO$59-BO$69-BO$79-BO$60-BO$70-BO$80)<=0,0,IF($B$14=\"As Received\",MIN(BO$48*$B81,(-BO$14-BO$59-BO$69-BO$79-BO$60-BO$70-BO$80)*$B81),MIN((-BO$14-BO$59-BO$69-BO$79-BO$60-BO$70-BO$80)*$B81,(BO$48+IF($B$59<>BO$31,SUM($C$33:BO$35),0))*$B81)))","v":0},{"$f":"IF((-BP$14-BP$59-BP$69-BP$79-BP$60-BP$70-BP$80)<=0,0,IF($B$14=\"As Received\",MIN(BP$48*$B81,(-BP$14-BP$59-BP$69-BP$79-BP$60-BP$70-BP$80)*$B81),MIN((-BP$14-BP$59-BP$69-BP$79-BP$60-BP$70-BP$80)*$B81,(BP$48+IF($B$59<>BP$31,SUM($C$33:BP$35),0))*$B81)))","v":0},{"$f":"IF((-BQ$14-BQ$59-BQ$69-BQ$79-BQ$60-BQ$70-BQ$80)<=0,0,IF($B$14=\"As Received\",MIN(BQ$48*$B81,(-BQ$14-BQ$59-BQ$69-BQ$79-BQ$60-BQ$70-BQ$80)*$B81),MIN((-BQ$14-BQ$59-BQ$69-BQ$79-BQ$60-BQ$70-BQ$80)*$B81,(BQ$48+IF($B$59<>BQ$31,SUM($C$33:BQ$35),0))*$B81)))","v":0},{"$f":"IF((-BR$14-BR$59-BR$69-BR$79-BR$60-BR$70-BR$80)<=0,0,IF($B$14=\"As Received\",MIN(BR$48*$B81,(-BR$14-BR$59-BR$69-BR$79-BR$60-BR$70-BR$80)*$B81),MIN((-BR$14-BR$59-BR$69-BR$79-BR$60-BR$70-BR$80)*$B81,(BR$48+IF($B$59<>BR$31,SUM($C$33:BR$35),0))*$B81)))","v":0},{"$f":"IF((-BS$14-BS$59-BS$69-BS$79-BS$60-BS$70-BS$80)<=0,0,IF($B$14=\"As Received\",MIN(BS$48*$B81,(-BS$14-BS$59-BS$69-BS$79-BS$60-BS$70-BS$80)*$B81),MIN((-BS$14-BS$59-BS$69-BS$79-BS$60-BS$70-BS$80)*$B81,(BS$48+IF($B$59<>BS$31,SUM($C$33:BS$35),0))*$B81)))","v":0},{"$f":"IF((-BT$14-BT$59-BT$69-BT$79-BT$60-BT$70-BT$80)<=0,0,IF($B$14=\"As Received\",MIN(BT$48*$B81,(-BT$14-BT$59-BT$69-BT$79-BT$60-BT$70-BT$80)*$B81),MIN((-BT$14-BT$59-BT$69-BT$79-BT$60-BT$70-BT$80)*$B81,(BT$48+IF($B$59<>BT$31,SUM($C$33:BT$35),0))*$B81)))","v":0},{"$f":"IF((-BU$14-BU$59-BU$69-BU$79-BU$60-BU$70-BU$80)<=0,0,IF($B$14=\"As Received\",MIN(BU$48*$B81,(-BU$14-BU$59-BU$69-BU$79-BU$60-BU$70-BU$80)*$B81),MIN((-BU$14-BU$59-BU$69-BU$79-BU$60-BU$70-BU$80)*$B81,(BU$48+IF($B$59<>BU$31,SUM($C$33:BU$35),0))*$B81)))","v":0},{"$f":"IF((-BV$14-BV$59-BV$69-BV$79-BV$60-BV$70-BV$80)<=0,0,IF($B$14=\"As Received\",MIN(BV$48*$B81,(-BV$14-BV$59-BV$69-BV$79-BV$60-BV$70-BV$80)*$B81),MIN((-BV$14-BV$59-BV$69-BV$79-BV$60-BV$70-BV$80)*$B81,(BV$48+IF($B$59<>BV$31,SUM($C$33:BV$35),0))*$B81)))","v":0},{"$f":"IF((-BW$14-BW$59-BW$69-BW$79-BW$60-BW$70-BW$80)<=0,0,IF($B$14=\"As Received\",MIN(BW$48*$B81,(-BW$14-BW$59-BW$69-BW$79-BW$60-BW$70-BW$80)*$B81),MIN((-BW$14-BW$59-BW$69-BW$79-BW$60-BW$70-BW$80)*$B81,(BW$48+IF($B$59<>BW$31,SUM($C$33:BW$35),0))*$B81)))","v":0},{"$f":"IF((-BX$14-BX$59-BX$69-BX$79-BX$60-BX$70-BX$80)<=0,0,IF($B$14=\"As Received\",MIN(BX$48*$B81,(-BX$14-BX$59-BX$69-BX$79-BX$60-BX$70-BX$80)*$B81),MIN((-BX$14-BX$59-BX$69-BX$79-BX$60-BX$70-BX$80)*$B81,(BX$48+IF($B$59<>BX$31,SUM($C$33:BX$35),0))*$B81)))","v":0},{"$f":"IF((-BY$14-BY$59-BY$69-BY$79-BY$60-BY$70-BY$80)<=0,0,IF($B$14=\"As Received\",MIN(BY$48*$B81,(-BY$14-BY$59-BY$69-BY$79-BY$60-BY$70-BY$80)*$B81),MIN((-BY$14-BY$59-BY$69-BY$79-BY$60-BY$70-BY$80)*$B81,(BY$48+IF($B$59<>BY$31,SUM($C$33:BY$35),0))*$B81)))","v":0},{"$f":"IF((-BZ$14-BZ$59-BZ$69-BZ$79-BZ$60-BZ$70-BZ$80)<=0,0,IF($B$14=\"As Received\",MIN(BZ$48*$B81,(-BZ$14-BZ$59-BZ$69-BZ$79-BZ$60-BZ$70-BZ$80)*$B81),MIN((-BZ$14-BZ$59-BZ$69-BZ$79-BZ$60-BZ$70-BZ$80)*$B81,(BZ$48+IF($B$59<>BZ$31,SUM($C$33:BZ$35),0))*$B81)))","v":0},{"$f":"IF((-CA$14-CA$59-CA$69-CA$79-CA$60-CA$70-CA$80)<=0,0,IF($B$14=\"As Received\",MIN(CA$48*$B81,(-CA$14-CA$59-CA$69-CA$79-CA$60-CA$70-CA$80)*$B81),MIN((-CA$14-CA$59-CA$69-CA$79-CA$60-CA$70-CA$80)*$B81,(CA$48+IF($B$59<>CA$31,SUM($C$33:CA$35),0))*$B81)))","v":0},{"$f":"IF((-CB$14-CB$59-CB$69-CB$79-CB$60-CB$70-CB$80)<=0,0,IF($B$14=\"As Received\",MIN(CB$48*$B81,(-CB$14-CB$59-CB$69-CB$79-CB$60-CB$70-CB$80)*$B81),MIN((-CB$14-CB$59-CB$69-CB$79-CB$60-CB$70-CB$80)*$B81,(CB$48+IF($B$59<>CB$31,SUM($C$33:CB$35),0))*$B81)))","v":0},{"$f":"IF((-CC$14-CC$59-CC$69-CC$79-CC$60-CC$70-CC$80)<=0,0,IF($B$14=\"As Received\",MIN(CC$48*$B81,(-CC$14-CC$59-CC$69-CC$79-CC$60-CC$70-CC$80)*$B81),MIN((-CC$14-CC$59-CC$69-CC$79-CC$60-CC$70-CC$80)*$B81,(CC$48+IF($B$59<>CC$31,SUM($C$33:CC$35),0))*$B81)))","v":0},{"$f":"IF((-CD$14-CD$59-CD$69-CD$79-CD$60-CD$70-CD$80)<=0,0,IF($B$14=\"As Received\",MIN(CD$48*$B81,(-CD$14-CD$59-CD$69-CD$79-CD$60-CD$70-CD$80)*$B81),MIN((-CD$14-CD$59-CD$69-CD$79-CD$60-CD$70-CD$80)*$B81,(CD$48+IF($B$59<>CD$31,SUM($C$33:CD$35),0))*$B81)))","v":0},{"$f":"IF((-CE$14-CE$59-CE$69-CE$79-CE$60-CE$70-CE$80)<=0,0,IF($B$14=\"As Received\",MIN(CE$48*$B81,(-CE$14-CE$59-CE$69-CE$79-CE$60-CE$70-CE$80)*$B81),MIN((-CE$14-CE$59-CE$69-CE$79-CE$60-CE$70-CE$80)*$B81,(CE$48+IF($B$59<>CE$31,SUM($C$33:CE$35),0))*$B81)))","v":0},{"$f":"IF((-CF$14-CF$59-CF$69-CF$79-CF$60-CF$70-CF$80)<=0,0,IF($B$14=\"As Received\",MIN(CF$48*$B81,(-CF$14-CF$59-CF$69-CF$79-CF$60-CF$70-CF$80)*$B81),MIN((-CF$14-CF$59-CF$69-CF$79-CF$60-CF$70-CF$80)*$B81,(CF$48+IF($B$59<>CF$31,SUM($C$33:CF$35),0))*$B81)))","v":0},{"$f":"IF((-CG$14-CG$59-CG$69-CG$79-CG$60-CG$70-CG$80)<=0,0,IF($B$14=\"As Received\",MIN(CG$48*$B81,(-CG$14-CG$59-CG$69-CG$79-CG$60-CG$70-CG$80)*$B81),MIN((-CG$14-CG$59-CG$69-CG$79-CG$60-CG$70-CG$80)*$B81,(CG$48+IF($B$59<>CG$31,SUM($C$33:CG$35),0))*$B81)))","v":0},{"$f":"IF((-CH$14-CH$59-CH$69-CH$79-CH$60-CH$70-CH$80)<=0,0,IF($B$14=\"As Received\",MIN(CH$48*$B81,(-CH$14-CH$59-CH$69-CH$79-CH$60-CH$70-CH$80)*$B81),MIN((-CH$14-CH$59-CH$69-CH$79-CH$60-CH$70-CH$80)*$B81,(CH$48+IF($B$59<>CH$31,SUM($C$33:CH$35),0))*$B81)))","v":0},{"$f":"IF((-CI$14-CI$59-CI$69-CI$79-CI$60-CI$70-CI$80)<=0,0,IF($B$14=\"As Received\",MIN(CI$48*$B81,(-CI$14-CI$59-CI$69-CI$79-CI$60-CI$70-CI$80)*$B81),MIN((-CI$14-CI$59-CI$69-CI$79-CI$60-CI$70-CI$80)*$B81,(CI$48+IF($B$59<>CI$31,SUM($C$33:CI$35),0))*$B81)))","v":0},{"$f":"IF((-CJ$14-CJ$59-CJ$69-CJ$79-CJ$60-CJ$70-CJ$80)<=0,0,IF($B$14=\"As Received\",MIN(CJ$48*$B81,(-CJ$14-CJ$59-CJ$69-CJ$79-CJ$60-CJ$70-CJ$80)*$B81),MIN((-CJ$14-CJ$59-CJ$69-CJ$79-CJ$60-CJ$70-CJ$80)*$B81,(CJ$48+IF($B$59<>CJ$31,SUM($C$33:CJ$35),0))*$B81)))","v":0},{"$f":"IF((-CK$14-CK$59-CK$69-CK$79-CK$60-CK$70-CK$80)<=0,0,IF($B$14=\"As Received\",MIN(CK$48*$B81,(-CK$14-CK$59-CK$69-CK$79-CK$60-CK$70-CK$80)*$B81),MIN((-CK$14-CK$59-CK$69-CK$79-CK$60-CK$70-CK$80)*$B81,(CK$48+IF($B$59<>CK$31,SUM($C$33:CK$35),0))*$B81)))","v":0},{"$f":"IF((-CL$14-CL$59-CL$69-CL$79-CL$60-CL$70-CL$80)<=0,0,IF($B$14=\"As Received\",MIN(CL$48*$B81,(-CL$14-CL$59-CL$69-CL$79-CL$60-CL$70-CL$80)*$B81),MIN((-CL$14-CL$59-CL$69-CL$79-CL$60-CL$70-CL$80)*$B81,(CL$48+IF($B$59<>CL$31,SUM($C$33:CL$35),0))*$B81)))","v":0},{"$f":"IF((-CM$14-CM$59-CM$69-CM$79-CM$60-CM$70-CM$80)<=0,0,IF($B$14=\"As Received\",MIN(CM$48*$B81,(-CM$14-CM$59-CM$69-CM$79-CM$60-CM$70-CM$80)*$B81),MIN((-CM$14-CM$59-CM$69-CM$79-CM$60-CM$70-CM$80)*$B81,(CM$48+IF($B$59<>CM$31,SUM($C$33:CM$35),0))*$B81)))","v":0},{"$f":"IF((-CN$14-CN$59-CN$69-CN$79-CN$60-CN$70-CN$80)<=0,0,IF($B$14=\"As Received\",MIN(CN$48*$B81,(-CN$14-CN$59-CN$69-CN$79-CN$60-CN$70-CN$80)*$B81),MIN((-CN$14-CN$59-CN$69-CN$79-CN$60-CN$70-CN$80)*$B81,(CN$48+IF($B$59<>CN$31,SUM($C$33:CN$35),0))*$B81)))","v":0},{"$f":"IF((-CO$14-CO$59-CO$69-CO$79-CO$60-CO$70-CO$80)<=0,0,IF($B$14=\"As Received\",MIN(CO$48*$B81,(-CO$14-CO$59-CO$69-CO$79-CO$60-CO$70-CO$80)*$B81),MIN((-CO$14-CO$59-CO$69-CO$79-CO$60-CO$70-CO$80)*$B81,(CO$48+IF($B$59<>CO$31,SUM($C$33:CO$35),0))*$B81)))","v":0},{"$f":"IF((-CP$14-CP$59-CP$69-CP$79-CP$60-CP$70-CP$80)<=0,0,IF($B$14=\"As Received\",MIN(CP$48*$B81,(-CP$14-CP$59-CP$69-CP$79-CP$60-CP$70-CP$80)*$B81),MIN((-CP$14-CP$59-CP$69-CP$79-CP$60-CP$70-CP$80)*$B81,(CP$48+IF($B$59<>CP$31,SUM($C$33:CP$35),0))*$B81)))","v":0},{"$f":"IF((-CQ$14-CQ$59-CQ$69-CQ$79-CQ$60-CQ$70-CQ$80)<=0,0,IF($B$14=\"As Received\",MIN(CQ$48*$B81,(-CQ$14-CQ$59-CQ$69-CQ$79-CQ$60-CQ$70-CQ$80)*$B81),MIN((-CQ$14-CQ$59-CQ$69-CQ$79-CQ$60-CQ$70-CQ$80)*$B81,(CQ$48+IF($B$59<>CQ$31,SUM($C$33:CQ$35),0))*$B81)))","v":0},{"$f":"IF((-CR$14-CR$59-CR$69-CR$79-CR$60-CR$70-CR$80)<=0,0,IF($B$14=\"As Received\",MIN(CR$48*$B81,(-CR$14-CR$59-CR$69-CR$79-CR$60-CR$70-CR$80)*$B81),MIN((-CR$14-CR$59-CR$69-CR$79-CR$60-CR$70-CR$80)*$B81,(CR$48+IF($B$59<>CR$31,SUM($C$33:CR$35),0))*$B81)))","v":0},{"$f":"IF((-CS$14-CS$59-CS$69-CS$79-CS$60-CS$70-CS$80)<=0,0,IF($B$14=\"As Received\",MIN(CS$48*$B81,(-CS$14-CS$59-CS$69-CS$79-CS$60-CS$70-CS$80)*$B81),MIN((-CS$14-CS$59-CS$69-CS$79-CS$60-CS$70-CS$80)*$B81,(CS$48+IF($B$59<>CS$31,SUM($C$33:CS$35),0))*$B81)))","v":0},{"$f":"IF((-CT$14-CT$59-CT$69-CT$79-CT$60-CT$70-CT$80)<=0,0,IF($B$14=\"As Received\",MIN(CT$48*$B81,(-CT$14-CT$59-CT$69-CT$79-CT$60-CT$70-CT$80)*$B81),MIN((-CT$14-CT$59-CT$69-CT$79-CT$60-CT$70-CT$80)*$B81,(CT$48+IF($B$59<>CT$31,SUM($C$33:CT$35),0))*$B81)))","v":0},{"$f":"IF((-CU$14-CU$59-CU$69-CU$79-CU$60-CU$70-CU$80)<=0,0,IF($B$14=\"As Received\",MIN(CU$48*$B81,(-CU$14-CU$59-CU$69-CU$79-CU$60-CU$70-CU$80)*$B81),MIN((-CU$14-CU$59-CU$69-CU$79-CU$60-CU$70-CU$80)*$B81,(CU$48+IF($B$59<>CU$31,SUM($C$33:CU$35),0))*$B81)))","v":0},{"$f":"IF((-CV$14-CV$59-CV$69-CV$79-CV$60-CV$70-CV$80)<=0,0,IF($B$14=\"As Received\",MIN(CV$48*$B81,(-CV$14-CV$59-CV$69-CV$79-CV$60-CV$70-CV$80)*$B81),MIN((-CV$14-CV$59-CV$69-CV$79-CV$60-CV$70-CV$80)*$B81,(CV$48+IF($B$59<>CV$31,SUM($C$33:CV$35),0))*$B81)))","v":0},{"$f":"IF((-CW$14-CW$59-CW$69-CW$79-CW$60-CW$70-CW$80)<=0,0,IF($B$14=\"As Received\",MIN(CW$48*$B81,(-CW$14-CW$59-CW$69-CW$79-CW$60-CW$70-CW$80)*$B81),MIN((-CW$14-CW$59-CW$69-CW$79-CW$60-CW$70-CW$80)*$B81,(CW$48+IF($B$59<>CW$31,SUM($C$33:CW$35),0))*$B81)))","v":0},{"$f":"IF((-CX$14-CX$59-CX$69-CX$79-CX$60-CX$70-CX$80)<=0,0,IF($B$14=\"As Received\",MIN(CX$48*$B81,(-CX$14-CX$59-CX$69-CX$79-CX$60-CX$70-CX$80)*$B81),MIN((-CX$14-CX$59-CX$69-CX$79-CX$60-CX$70-CX$80)*$B81,(CX$48+IF($B$59<>CX$31,SUM($C$33:CX$35),0))*$B81)))","v":0},{"$f":"IF((-CY$14-CY$59-CY$69-CY$79-CY$60-CY$70-CY$80)<=0,0,IF($B$14=\"As Received\",MIN(CY$48*$B81,(-CY$14-CY$59-CY$69-CY$79-CY$60-CY$70-CY$80)*$B81),MIN((-CY$14-CY$59-CY$69-CY$79-CY$60-CY$70-CY$80)*$B81,(CY$48+IF($B$59<>CY$31,SUM($C$33:CY$35),0))*$B81)))","v":0},{"$f":"IF((-CZ$14-CZ$59-CZ$69-CZ$79-CZ$60-CZ$70-CZ$80)<=0,0,IF($B$14=\"As Received\",MIN(CZ$48*$B81,(-CZ$14-CZ$59-CZ$69-CZ$79-CZ$60-CZ$70-CZ$80)*$B81),MIN((-CZ$14-CZ$59-CZ$69-CZ$79-CZ$60-CZ$70-CZ$80)*$B81,(CZ$48+IF($B$59<>CZ$31,SUM($C$33:CZ$35),0))*$B81)))","v":0},{"$f":"IF((-DA$14-DA$59-DA$69-DA$79-DA$60-DA$70-DA$80)<=0,0,IF($B$14=\"As Received\",MIN(DA$48*$B81,(-DA$14-DA$59-DA$69-DA$79-DA$60-DA$70-DA$80)*$B81),MIN((-DA$14-DA$59-DA$69-DA$79-DA$60-DA$70-DA$80)*$B81,(DA$48+IF($B$59<>DA$31,SUM($C$33:DA$35),0))*$B81)))","v":0},{"$f":"IF((-DB$14-DB$59-DB$69-DB$79-DB$60-DB$70-DB$80)<=0,0,IF($B$14=\"As Received\",MIN(DB$48*$B81,(-DB$14-DB$59-DB$69-DB$79-DB$60-DB$70-DB$80)*$B81),MIN((-DB$14-DB$59-DB$69-DB$79-DB$60-DB$70-DB$80)*$B81,(DB$48+IF($B$59<>DB$31,SUM($C$33:DB$35),0))*$B81)))","v":0},{"$f":"IF((-DC$14-DC$59-DC$69-DC$79-DC$60-DC$70-DC$80)<=0,0,IF($B$14=\"As Received\",MIN(DC$48*$B81,(-DC$14-DC$59-DC$69-DC$79-DC$60-DC$70-DC$80)*$B81),MIN((-DC$14-DC$59-DC$69-DC$79-DC$60-DC$70-DC$80)*$B81,(DC$48+IF($B$59<>DC$31,SUM($C$33:DC$35),0))*$B81)))","v":0},{"$f":"IF((-DD$14-DD$59-DD$69-DD$79-DD$60-DD$70-DD$80)<=0,0,IF($B$14=\"As Received\",MIN(DD$48*$B81,(-DD$14-DD$59-DD$69-DD$79-DD$60-DD$70-DD$80)*$B81),MIN((-DD$14-DD$59-DD$69-DD$79-DD$60-DD$70-DD$80)*$B81,(DD$48+IF($B$59<>DD$31,SUM($C$33:DD$35),0))*$B81)))","v":0},{"$f":"IF((-DE$14-DE$59-DE$69-DE$79-DE$60-DE$70-DE$80)<=0,0,IF($B$14=\"As Received\",MIN(DE$48*$B81,(-DE$14-DE$59-DE$69-DE$79-DE$60-DE$70-DE$80)*$B81),MIN((-DE$14-DE$59-DE$69-DE$79-DE$60-DE$70-DE$80)*$B81,(DE$48+IF($B$59<>DE$31,SUM($C$33:DE$35),0))*$B81)))","v":0},{"$f":"IF((-DF$14-DF$59-DF$69-DF$79-DF$60-DF$70-DF$80)<=0,0,IF($B$14=\"As Received\",MIN(DF$48*$B81,(-DF$14-DF$59-DF$69-DF$79-DF$60-DF$70-DF$80)*$B81),MIN((-DF$14-DF$59-DF$69-DF$79-DF$60-DF$70-DF$80)*$B81,(DF$48+IF($B$59<>DF$31,SUM($C$33:DF$35),0))*$B81)))","v":0},{"$f":"IF((-DG$14-DG$59-DG$69-DG$79-DG$60-DG$70-DG$80)<=0,0,IF($B$14=\"As Received\",MIN(DG$48*$B81,(-DG$14-DG$59-DG$69-DG$79-DG$60-DG$70-DG$80)*$B81),MIN((-DG$14-DG$59-DG$69-DG$79-DG$60-DG$70-DG$80)*$B81,(DG$48+IF($B$59<>DG$31,SUM($C$33:DG$35),0))*$B81)))","v":0},{"$f":"IF((-DH$14-DH$59-DH$69-DH$79-DH$60-DH$70-DH$80)<=0,0,IF($B$14=\"As Received\",MIN(DH$48*$B81,(-DH$14-DH$59-DH$69-DH$79-DH$60-DH$70-DH$80)*$B81),MIN((-DH$14-DH$59-DH$69-DH$79-DH$60-DH$70-DH$80)*$B81,(DH$48+IF($B$59<>DH$31,SUM($C$33:DH$35),0))*$B81)))","v":0},{"$f":"IF((-DI$14-DI$59-DI$69-DI$79-DI$60-DI$70-DI$80)<=0,0,IF($B$14=\"As Received\",MIN(DI$48*$B81,(-DI$14-DI$59-DI$69-DI$79-DI$60-DI$70-DI$80)*$B81),MIN((-DI$14-DI$59-DI$69-DI$79-DI$60-DI$70-DI$80)*$B81,(DI$48+IF($B$59<>DI$31,SUM($C$33:DI$35),0))*$B81)))","v":0},{"$f":"IF((-DJ$14-DJ$59-DJ$69-DJ$79-DJ$60-DJ$70-DJ$80)<=0,0,IF($B$14=\"As Received\",MIN(DJ$48*$B81,(-DJ$14-DJ$59-DJ$69-DJ$79-DJ$60-DJ$70-DJ$80)*$B81),MIN((-DJ$14-DJ$59-DJ$69-DJ$79-DJ$60-DJ$70-DJ$80)*$B81,(DJ$48+IF($B$59<>DJ$31,SUM($C$33:DJ$35),0))*$B81)))","v":0},{"$f":"IF((-DK$14-DK$59-DK$69-DK$79-DK$60-DK$70-DK$80)<=0,0,IF($B$14=\"As Received\",MIN(DK$48*$B81,(-DK$14-DK$59-DK$69-DK$79-DK$60-DK$70-DK$80)*$B81),MIN((-DK$14-DK$59-DK$69-DK$79-DK$60-DK$70-DK$80)*$B81,(DK$48+IF($B$59<>DK$31,SUM($C$33:DK$35),0))*$B81)))","v":0},{"$f":"IF((-DL$14-DL$59-DL$69-DL$79-DL$60-DL$70-DL$80)<=0,0,IF($B$14=\"As Received\",MIN(DL$48*$B81,(-DL$14-DL$59-DL$69-DL$79-DL$60-DL$70-DL$80)*$B81),MIN((-DL$14-DL$59-DL$69-DL$79-DL$60-DL$70-DL$80)*$B81,(DL$48+IF($B$59<>DL$31,SUM($C$33:DL$35),0))*$B81)))","v":0},{"$f":"IF((-DM$14-DM$59-DM$69-DM$79-DM$60-DM$70-DM$80)<=0,0,IF($B$14=\"As Received\",MIN(DM$48*$B81,(-DM$14-DM$59-DM$69-DM$79-DM$60-DM$70-DM$80)*$B81),MIN((-DM$14-DM$59-DM$69-DM$79-DM$60-DM$70-DM$80)*$B81,(DM$48+IF($B$59<>DM$31,SUM($C$33:DM$35),0))*$B81)))","v":0},{"$f":"IF((-DN$14-DN$59-DN$69-DN$79-DN$60-DN$70-DN$80)<=0,0,IF($B$14=\"As Received\",MIN(DN$48*$B81,(-DN$14-DN$59-DN$69-DN$79-DN$60-DN$70-DN$80)*$B81),MIN((-DN$14-DN$59-DN$69-DN$79-DN$60-DN$70-DN$80)*$B81,(DN$48+IF($B$59<>DN$31,SUM($C$33:DN$35),0))*$B81)))","v":0},{"$f":"IF((-DO$14-DO$59-DO$69-DO$79-DO$60-DO$70-DO$80)<=0,0,IF($B$14=\"As Received\",MIN(DO$48*$B81,(-DO$14-DO$59-DO$69-DO$79-DO$60-DO$70-DO$80)*$B81),MIN((-DO$14-DO$59-DO$69-DO$79-DO$60-DO$70-DO$80)*$B81,(DO$48+IF($B$59<>DO$31,SUM($C$33:DO$35),0))*$B81)))","v":0},{"$f":"IF((-DP$14-DP$59-DP$69-DP$79-DP$60-DP$70-DP$80)<=0,0,IF($B$14=\"As Received\",MIN(DP$48*$B81,(-DP$14-DP$59-DP$69-DP$79-DP$60-DP$70-DP$80)*$B81),MIN((-DP$14-DP$59-DP$69-DP$79-DP$60-DP$70-DP$80)*$B81,(DP$48+IF($B$59<>DP$31,SUM($C$33:DP$35),0))*$B81)))","v":0},{"$f":"IF((-DQ$14-DQ$59-DQ$69-DQ$79-DQ$60-DQ$70-DQ$80)<=0,0,IF($B$14=\"As Received\",MIN(DQ$48*$B81,(-DQ$14-DQ$59-DQ$69-DQ$79-DQ$60-DQ$70-DQ$80)*$B81),MIN((-DQ$14-DQ$59-DQ$69-DQ$79-DQ$60-DQ$70-DQ$80)*$B81,(DQ$48+IF($B$59<>DQ$31,SUM($C$33:DQ$35),0))*$B81)))","v":0},{"$f":"IF((-DR$14-DR$59-DR$69-DR$79-DR$60-DR$70-DR$80)<=0,0,IF($B$14=\"As Received\",MIN(DR$48*$B81,(-DR$14-DR$59-DR$69-DR$79-DR$60-DR$70-DR$80)*$B81),MIN((-DR$14-DR$59-DR$69-DR$79-DR$60-DR$70-DR$80)*$B81,(DR$48+IF($B$59<>DR$31,SUM($C$33:DR$35),0))*$B81)))","v":0},{"$f":"IF((-DS$14-DS$59-DS$69-DS$79-DS$60-DS$70-DS$80)<=0,0,IF($B$14=\"As Received\",MIN(DS$48*$B81,(-DS$14-DS$59-DS$69-DS$79-DS$60-DS$70-DS$80)*$B81),MIN((-DS$14-DS$59-DS$69-DS$79-DS$60-DS$70-DS$80)*$B81,(DS$48+IF($B$59<>DS$31,SUM($C$33:DS$35),0))*$B81)))","v":0}]
["Tier 3 Preferred Return",{"$f":"F28","v":0.5},{"$f":"IF((-C$14-C$59-C$69-C$79-C$60-C$70-C$80-C$61-C$71-C$81)<=0,0,IF($B$14=\"As Received\",MIN(C$54*$B82,(-C$14-C$59-C$69-C$79-C$60-C$70-C$80-C$61-C$71-C$81)*$B82),MIN((-C$14-C$59-C$69-C$79-C$60-C$70-C$80-C$61-C$71-C$81)*$B82,(C$54+IF($B$59<>C$31,SUM($C$33:C$35),0))*$B82)))","v":0},{"$f":"IF((-D$14-D$59-D$69-D$79-D$60-D$70-D$80-D$61-D$71-D$81)<=0,0,IF($B$14=\"As Received\",MIN(D$54*$B82,(-D$14-D$59-D$69-D$79-D$60-D$70-D$80-D$61-D$71-D$81)*$B82),MIN((-D$14-D$59-D$69-D$79-D$60-D$70-D$80-D$61-D$71-D$81)*$B82,(D$54+IF($B$59<>D$31,SUM($C$33:D$35),0))*$B82)))","v":0},{"$f":"IF((-E$14-E$59-E$69-E$79-E$60-E$70-E$80-E$61-E$71-E$81)<=0,0,IF($B$14=\"As Received\",MIN(E$54*$B82,(-E$14-E$59-E$69-E$79-E$60-E$70-E$80-E$61-E$71-E$81)*$B82),MIN((-E$14-E$59-E$69-E$79-E$60-E$70-E$80-E$61-E$71-E$81)*$B82,(E$54+IF($B$59<>E$31,SUM($C$33:E$35),0))*$B82)))","v":0},{"$f":"IF((-F$14-F$59-F$69-F$79-F$60-F$70-F$80-F$61-F$71-F$81)<=0,0,IF($B$14=\"As Received\",MIN(F$54*$B82,(-F$14-F$59-F$69-F$79-F$60-F$70-F$80-F$61-F$71-F$81)*$B82),MIN((-F$14-F$59-F$69-F$79-F$60-F$70-F$80-F$61-F$71-F$81)*$B82,(F$54+IF($B$59<>F$31,SUM($C$33:F$35),0))*$B82)))","v":0},{"$f":"IF((-G$14-G$59-G$69-G$79-G$60-G$70-G$80-G$61-G$71-G$81)<=0,0,IF($B$14=\"As Received\",MIN(G$54*$B82,(-G$14-G$59-G$69-G$79-G$60-G$70-G$80-G$61-G$71-G$81)*$B82),MIN((-G$14-G$59-G$69-G$79-G$60-G$70-G$80-G$61-G$71-G$81)*$B82,(G$54+IF($B$59<>G$31,SUM($C$33:G$35),0))*$B82)))","v":0},{"$f":"IF((-H$14-H$59-H$69-H$79-H$60-H$70-H$80-H$61-H$71-H$81)<=0,0,IF($B$14=\"As Received\",MIN(H$54*$B82,(-H$14-H$59-H$69-H$79-H$60-H$70-H$80-H$61-H$71-H$81)*$B82),MIN((-H$14-H$59-H$69-H$79-H$60-H$70-H$80-H$61-H$71-H$81)*$B82,(H$54+IF($B$59<>H$31,SUM($C$33:H$35),0))*$B82)))","v":0},{"$f":"IF((-I$14-I$59-I$69-I$79-I$60-I$70-I$80-I$61-I$71-I$81)<=0,0,IF($B$14=\"As Received\",MIN(I$54*$B82,(-I$14-I$59-I$69-I$79-I$60-I$70-I$80-I$61-I$71-I$81)*$B82),MIN((-I$14-I$59-I$69-I$79-I$60-I$70-I$80-I$61-I$71-I$81)*$B82,(I$54+IF($B$59<>I$31,SUM($C$33:I$35),0))*$B82)))","v":0},{"$f":"IF((-J$14-J$59-J$69-J$79-J$60-J$70-J$80-J$61-J$71-J$81)<=0,0,IF($B$14=\"As Received\",MIN(J$54*$B82,(-J$14-J$59-J$69-J$79-J$60-J$70-J$80-J$61-J$71-J$81)*$B82),MIN((-J$14-J$59-J$69-J$79-J$60-J$70-J$80-J$61-J$71-J$81)*$B82,(J$54+IF($B$59<>J$31,SUM($C$33:J$35),0))*$B82)))","v":0},{"$f":"IF((-K$14-K$59-K$69-K$79-K$60-K$70-K$80-K$61-K$71-K$81)<=0,0,IF($B$14=\"As Received\",MIN(K$54*$B82,(-K$14-K$59-K$69-K$79-K$60-K$70-K$80-K$61-K$71-K$81)*$B82),MIN((-K$14-K$59-K$69-K$79-K$60-K$70-K$80-K$61-K$71-K$81)*$B82,(K$54+IF($B$59<>K$31,SUM($C$33:K$35),0))*$B82)))","v":0},{"$f":"IF((-L$14-L$59-L$69-L$79-L$60-L$70-L$80-L$61-L$71-L$81)<=0,0,IF($B$14=\"As Received\",MIN(L$54*$B82,(-L$14-L$59-L$69-L$79-L$60-L$70-L$80-L$61-L$71-L$81)*$B82),MIN((-L$14-L$59-L$69-L$79-L$60-L$70-L$80-L$61-L$71-L$81)*$B82,(L$54+IF($B$59<>L$31,SUM($C$33:L$35),0))*$B82)))","v":0},{"$f":"IF((-M$14-M$59-M$69-M$79-M$60-M$70-M$80-M$61-M$71-M$81)<=0,0,IF($B$14=\"As Received\",MIN(M$54*$B82,(-M$14-M$59-M$69-M$79-M$60-M$70-M$80-M$61-M$71-M$81)*$B82),MIN((-M$14-M$59-M$69-M$79-M$60-M$70-M$80-M$61-M$71-M$81)*$B82,(M$54+IF($B$59<>M$31,SUM($C$33:M$35),0))*$B82)))","v":0},{"$f":"IF((-N$14-N$59-N$69-N$79-N$60-N$70-N$80-N$61-N$71-N$81)<=0,0,IF($B$14=\"As Received\",MIN(N$54*$B82,(-N$14-N$59-N$69-N$79-N$60-N$70-N$80-N$61-N$71-N$81)*$B82),MIN((-N$14-N$59-N$69-N$79-N$60-N$70-N$80-N$61-N$71-N$81)*$B82,(N$54+IF($B$59<>N$31,SUM($C$33:N$35),0))*$B82)))","v":0},{"$f":"IF((-O$14-O$59-O$69-O$79-O$60-O$70-O$80-O$61-O$71-O$81)<=0,0,IF($B$14=\"As Received\",MIN(O$54*$B82,(-O$14-O$59-O$69-O$79-O$60-O$70-O$80-O$61-O$71-O$81)*$B82),MIN((-O$14-O$59-O$69-O$79-O$60-O$70-O$80-O$61-O$71-O$81)*$B82,(O$54+IF($B$59<>O$31,SUM($C$33:O$35),0))*$B82)))","v":0},{"$f":"IF((-P$14-P$59-P$69-P$79-P$60-P$70-P$80-P$61-P$71-P$81)<=0,0,IF($B$14=\"As Received\",MIN(P$54*$B82,(-P$14-P$59-P$69-P$79-P$60-P$70-P$80-P$61-P$71-P$81)*$B82),MIN((-P$14-P$59-P$69-P$79-P$60-P$70-P$80-P$61-P$71-P$81)*$B82,(P$54+IF($B$59<>P$31,SUM($C$33:P$35),0))*$B82)))","v":0},{"$f":"IF((-Q$14-Q$59-Q$69-Q$79-Q$60-Q$70-Q$80-Q$61-Q$71-Q$81)<=0,0,IF($B$14=\"As Received\",MIN(Q$54*$B82,(-Q$14-Q$59-Q$69-Q$79-Q$60-Q$70-Q$80-Q$61-Q$71-Q$81)*$B82),MIN((-Q$14-Q$59-Q$69-Q$79-Q$60-Q$70-Q$80-Q$61-Q$71-Q$81)*$B82,(Q$54+IF($B$59<>Q$31,SUM($C$33:Q$35),0))*$B82)))","v":0},{"$f":"IF((-R$14-R$59-R$69-R$79-R$60-R$70-R$80-R$61-R$71-R$81)<=0,0,IF($B$14=\"As Received\",MIN(R$54*$B82,(-R$14-R$59-R$69-R$79-R$60-R$70-R$80-R$61-R$71-R$81)*$B82),MIN((-R$14-R$59-R$69-R$79-R$60-R$70-R$80-R$61-R$71-R$81)*$B82,(R$54+IF($B$59<>R$31,SUM($C$33:R$35),0))*$B82)))","v":0},{"$f":"IF((-S$14-S$59-S$69-S$79-S$60-S$70-S$80-S$61-S$71-S$81)<=0,0,IF($B$14=\"As Received\",MIN(S$54*$B82,(-S$14-S$59-S$69-S$79-S$60-S$70-S$80-S$61-S$71-S$81)*$B82),MIN((-S$14-S$59-S$69-S$79-S$60-S$70-S$80-S$61-S$71-S$81)*$B82,(S$54+IF($B$59<>S$31,SUM($C$33:S$35),0))*$B82)))","v":0},{"$f":"IF((-T$14-T$59-T$69-T$79-T$60-T$70-T$80-T$61-T$71-T$81)<=0,0,IF($B$14=\"As Received\",MIN(T$54*$B82,(-T$14-T$59-T$69-T$79-T$60-T$70-T$80-T$61-T$71-T$81)*$B82),MIN((-T$14-T$59-T$69-T$79-T$60-T$70-T$80-T$61-T$71-T$81)*$B82,(T$54+IF($B$59<>T$31,SUM($C$33:T$35),0))*$B82)))","v":0},{"$f":"IF((-U$14-U$59-U$69-U$79-U$60-U$70-U$80-U$61-U$71-U$81)<=0,0,IF($B$14=\"As Received\",MIN(U$54*$B82,(-U$14-U$59-U$69-U$79-U$60-U$70-U$80-U$61-U$71-U$81)*$B82),MIN((-U$14-U$59-U$69-U$79-U$60-U$70-U$80-U$61-U$71-U$81)*$B82,(U$54+IF($B$59<>U$31,SUM($C$33:U$35),0))*$B82)))","v":0},{"$f":"IF((-V$14-V$59-V$69-V$79-V$60-V$70-V$80-V$61-V$71-V$81)<=0,0,IF($B$14=\"As Received\",MIN(V$54*$B82,(-V$14-V$59-V$69-V$79-V$60-V$70-V$80-V$61-V$71-V$81)*$B82),MIN((-V$14-V$59-V$69-V$79-V$60-V$70-V$80-V$61-V$71-V$81)*$B82,(V$54+IF($B$59<>V$31,SUM($C$33:V$35),0))*$B82)))","v":0},{"$f":"IF((-W$14-W$59-W$69-W$79-W$60-W$70-W$80-W$61-W$71-W$81)<=0,0,IF($B$14=\"As Received\",MIN(W$54*$B82,(-W$14-W$59-W$69-W$79-W$60-W$70-W$80-W$61-W$71-W$81)*$B82),MIN((-W$14-W$59-W$69-W$79-W$60-W$70-W$80-W$61-W$71-W$81)*$B82,(W$54+IF($B$59<>W$31,SUM($C$33:W$35),0))*$B82)))","v":0},{"$f":"IF((-X$14-X$59-X$69-X$79-X$60-X$70-X$80-X$61-X$71-X$81)<=0,0,IF($B$14=\"As Received\",MIN(X$54*$B82,(-X$14-X$59-X$69-X$79-X$60-X$70-X$80-X$61-X$71-X$81)*$B82),MIN((-X$14-X$59-X$69-X$79-X$60-X$70-X$80-X$61-X$71-X$81)*$B82,(X$54+IF($B$59<>X$31,SUM($C$33:X$35),0))*$B82)))","v":0},{"$f":"IF((-Y$14-Y$59-Y$69-Y$79-Y$60-Y$70-Y$80-Y$61-Y$71-Y$81)<=0,0,IF($B$14=\"As Received\",MIN(Y$54*$B82,(-Y$14-Y$59-Y$69-Y$79-Y$60-Y$70-Y$80-Y$61-Y$71-Y$81)*$B82),MIN((-Y$14-Y$59-Y$69-Y$79-Y$60-Y$70-Y$80-Y$61-Y$71-Y$81)*$B82,(Y$54+IF($B$59<>Y$31,SUM($C$33:Y$35),0))*$B82)))","v":0},{"$f":"IF((-Z$14-Z$59-Z$69-Z$79-Z$60-Z$70-Z$80-Z$61-Z$71-Z$81)<=0,0,IF($B$14=\"As Received\",MIN(Z$54*$B82,(-Z$14-Z$59-Z$69-Z$79-Z$60-Z$70-Z$80-Z$61-Z$71-Z$81)*$B82),MIN((-Z$14-Z$59-Z$69-Z$79-Z$60-Z$70-Z$80-Z$61-Z$71-Z$81)*$B82,(Z$54+IF($B$59<>Z$31,SUM($C$33:Z$35),0))*$B82)))","v":0},{"$f":"IF((-AA$14-AA$59-AA$69-AA$79-AA$60-AA$70-AA$80-AA$61-AA$71-AA$81)<=0,0,IF($B$14=\"As Received\",MIN(AA$54*$B82,(-AA$14-AA$59-AA$69-AA$79-AA$60-AA$70-AA$80-AA$61-AA$71-AA$81)*$B82),MIN((-AA$14-AA$59-AA$69-AA$79-AA$60-AA$70-AA$80-AA$61-AA$71-AA$81)*$B82,(AA$54+IF($B$59<>AA$31,SUM($C$33:AA$35),0))*$B82)))","v":0},{"$f":"IF((-AB$14-AB$59-AB$69-AB$79-AB$60-AB$70-AB$80-AB$61-AB$71-AB$81)<=0,0,IF($B$14=\"As Received\",MIN(AB$54*$B82,(-AB$14-AB$59-AB$69-AB$79-AB$60-AB$70-AB$80-AB$61-AB$71-AB$81)*$B82),MIN((-AB$14-AB$59-AB$69-AB$79-AB$60-AB$70-AB$80-AB$61-AB$71-AB$81)*$B82,(AB$54+IF($B$59<>AB$31,SUM($C$33:AB$35),0))*$B82)))","v":0},{"$f":"IF((-AC$14-AC$59-AC$69-AC$79-AC$60-AC$70-AC$80-AC$61-AC$71-AC$81)<=0,0,IF($B$14=\"As Received\",MIN(AC$54*$B82,(-AC$14-AC$59-AC$69-AC$79-AC$60-AC$70-AC$80-AC$61-AC$71-AC$81)*$B82),MIN((-AC$14-AC$59-AC$69-AC$79-AC$60-AC$70-AC$80-AC$61-AC$71-AC$81)*$B82,(AC$54+IF($B$59<>AC$31,SUM($C$33:AC$35),0))*$B82)))","v":0},{"$f":"IF((-AD$14-AD$59-AD$69-AD$79-AD$60-AD$70-AD$80-AD$61-AD$71-AD$81)<=0,0,IF($B$14=\"As Received\",MIN(AD$54*$B82,(-AD$14-AD$59-AD$69-AD$79-AD$60-AD$70-AD$80-AD$61-AD$71-AD$81)*$B82),MIN((-AD$14-AD$59-AD$69-AD$79-AD$60-AD$70-AD$80-AD$61-AD$71-AD$81)*$B82,(AD$54+IF($B$59<>AD$31,SUM($C$33:AD$35),0))*$B82)))","v":0},{"$f":"IF((-AE$14-AE$59-AE$69-AE$79-AE$60-AE$70-AE$80-AE$61-AE$71-AE$81)<=0,0,IF($B$14=\"As Received\",MIN(AE$54*$B82,(-AE$14-AE$59-AE$69-AE$79-AE$60-AE$70-AE$80-AE$61-AE$71-AE$81)*$B82),MIN((-AE$14-AE$59-AE$69-AE$79-AE$60-AE$70-AE$80-AE$61-AE$71-AE$81)*$B82,(AE$54+IF($B$59<>AE$31,SUM($C$33:AE$35),0))*$B82)))","v":0},{"$f":"IF((-AF$14-AF$59-AF$69-AF$79-AF$60-AF$70-AF$80-AF$61-AF$71-AF$81)<=0,0,IF($B$14=\"As Received\",MIN(AF$54*$B82,(-AF$14-AF$59-AF$69-AF$79-AF$60-AF$70-AF$80-AF$61-AF$71-AF$81)*$B82),MIN((-AF$14-AF$59-AF$69-AF$79-AF$60-AF$70-AF$80-AF$61-AF$71-AF$81)*$B82,(AF$54+IF($B$59<>AF$31,SUM($C$33:AF$35),0))*$B82)))","v":0},{"$f":"IF((-AG$14-AG$59-AG$69-AG$79-AG$60-AG$70-AG$80-AG$61-AG$71-AG$81)<=0,0,IF($B$14=\"As Received\",MIN(AG$54*$B82,(-AG$14-AG$59-AG$69-AG$79-AG$60-AG$70-AG$80-AG$61-AG$71-AG$81)*$B82),MIN((-AG$14-AG$59-AG$69-AG$79-AG$60-AG$70-AG$80-AG$61-AG$71-AG$81)*$B82,(AG$54+IF($B$59<>AG$31,SUM($C$33:AG$35),0))*$B82)))","v":0},{"$f":"IF((-AH$14-AH$59-AH$69-AH$79-AH$60-AH$70-AH$80-AH$61-AH$71-AH$81)<=0,0,IF($B$14=\"As Received\",MIN(AH$54*$B82,(-AH$14-AH$59-AH$69-AH$79-AH$60-AH$70-AH$80-AH$61-AH$71-AH$81)*$B82),MIN((-AH$14-AH$59-AH$69-AH$79-AH$60-AH$70-AH$80-AH$61-AH$71-AH$81)*$B82,(AH$54+IF($B$59<>AH$31,SUM($C$33:AH$35),0))*$B82)))","v":0},{"$f":"IF((-AI$14-AI$59-AI$69-AI$79-AI$60-AI$70-AI$80-AI$61-AI$71-AI$81)<=0,0,IF($B$14=\"As Received\",MIN(AI$54*$B82,(-AI$14-AI$59-AI$69-AI$79-AI$60-AI$70-AI$80-AI$61-AI$71-AI$81)*$B82),MIN((-AI$14-AI$59-AI$69-AI$79-AI$60-AI$70-AI$80-AI$61-AI$71-AI$81)*$B82,(AI$54+IF($B$59<>AI$31,SUM($C$33:AI$35),0))*$B82)))","v":0},{"$f":"IF((-AJ$14-AJ$59-AJ$69-AJ$79-AJ$60-AJ$70-AJ$80-AJ$61-AJ$71-AJ$81)<=0,0,IF($B$14=\"As Received\",MIN(AJ$54*$B82,(-AJ$14-AJ$59-AJ$69-AJ$79-AJ$60-AJ$70-AJ$80-AJ$61-AJ$71-AJ$81)*$B82),MIN((-AJ$14-AJ$59-AJ$69-AJ$79-AJ$60-AJ$70-AJ$80-AJ$61-AJ$71-AJ$81)*$B82,(AJ$54+IF($B$59<>AJ$31,SUM($C$33:AJ$35),0))*$B82)))","v":0},{"$f":"IF((-AK$14-AK$59-AK$69-AK$79-AK$60-AK$70-AK$80-AK$61-AK$71-AK$81)<=0,0,IF($B$14=\"As Received\",MIN(AK$54*$B82,(-AK$14-AK$59-AK$69-AK$79-AK$60-AK$70-AK$80-AK$61-AK$71-AK$81)*$B82),MIN((-AK$14-AK$59-AK$69-AK$79-AK$60-AK$70-AK$80-AK$61-AK$71-AK$81)*$B82,(AK$54+IF($B$59<>AK$31,SUM($C$33:AK$35),0))*$B82)))","v":0},{"$f":"IF((-AL$14-AL$59-AL$69-AL$79-AL$60-AL$70-AL$80-AL$61-AL$71-AL$81)<=0,0,IF($B$14=\"As Received\",MIN(AL$54*$B82,(-AL$14-AL$59-AL$69-AL$79-AL$60-AL$70-AL$80-AL$61-AL$71-AL$81)*$B82),MIN((-AL$14-AL$59-AL$69-AL$79-AL$60-AL$70-AL$80-AL$61-AL$71-AL$81)*$B82,(AL$54+IF($B$59<>AL$31,SUM($C$33:AL$35),0))*$B82)))","v":0},{"$f":"IF((-AM$14-AM$59-AM$69-AM$79-AM$60-AM$70-AM$80-AM$61-AM$71-AM$81)<=0,0,IF($B$14=\"As Received\",MIN(AM$54*$B82,(-AM$14-AM$59-AM$69-AM$79-AM$60-AM$70-AM$80-AM$61-AM$71-AM$81)*$B82),MIN((-AM$14-AM$59-AM$69-AM$79-AM$60-AM$70-AM$80-AM$61-AM$71-AM$81)*$B82,(AM$54+IF($B$59<>AM$31,SUM($C$33:AM$35),0))*$B82)))","v":0},{"$f":"IF((-AN$14-AN$59-AN$69-AN$79-AN$60-AN$70-AN$80-AN$61-AN$71-AN$81)<=0,0,IF($B$14=\"As Received\",MIN(AN$54*$B82,(-AN$14-AN$59-AN$69-AN$79-AN$60-AN$70-AN$80-AN$61-AN$71-AN$81)*$B82),MIN((-AN$14-AN$59-AN$69-AN$79-AN$60-AN$70-AN$80-AN$61-AN$71-AN$81)*$B82,(AN$54+IF($B$59<>AN$31,SUM($C$33:AN$35),0))*$B82)))","v":0},{"$f":"IF((-AO$14-AO$59-AO$69-AO$79-AO$60-AO$70-AO$80-AO$61-AO$71-AO$81)<=0,0,IF($B$14=\"As Received\",MIN(AO$54*$B82,(-AO$14-AO$59-AO$69-AO$79-AO$60-AO$70-AO$80-AO$61-AO$71-AO$81)*$B82),MIN((-AO$14-AO$59-AO$69-AO$79-AO$60-AO$70-AO$80-AO$61-AO$71-AO$81)*$B82,(AO$54+IF($B$59<>AO$31,SUM($C$33:AO$35),0))*$B82)))","v":0},{"$f":"IF((-AP$14-AP$59-AP$69-AP$79-AP$60-AP$70-AP$80-AP$61-AP$71-AP$81)<=0,0,IF($B$14=\"As Received\",MIN(AP$54*$B82,(-AP$14-AP$59-AP$69-AP$79-AP$60-AP$70-AP$80-AP$61-AP$71-AP$81)*$B82),MIN((-AP$14-AP$59-AP$69-AP$79-AP$60-AP$70-AP$80-AP$61-AP$71-AP$81)*$B82,(AP$54+IF($B$59<>AP$31,SUM($C$33:AP$35),0))*$B82)))","v":0},{"$f":"IF((-AQ$14-AQ$59-AQ$69-AQ$79-AQ$60-AQ$70-AQ$80-AQ$61-AQ$71-AQ$81)<=0,0,IF($B$14=\"As Received\",MIN(AQ$54*$B82,(-AQ$14-AQ$59-AQ$69-AQ$79-AQ$60-AQ$70-AQ$80-AQ$61-AQ$71-AQ$81)*$B82),MIN((-AQ$14-AQ$59-AQ$69-AQ$79-AQ$60-AQ$70-AQ$80-AQ$61-AQ$71-AQ$81)*$B82,(AQ$54+IF($B$59<>AQ$31,SUM($C$33:AQ$35),0))*$B82)))","v":0},{"$f":"IF((-AR$14-AR$59-AR$69-AR$79-AR$60-AR$70-AR$80-AR$61-AR$71-AR$81)<=0,0,IF($B$14=\"As Received\",MIN(AR$54*$B82,(-AR$14-AR$59-AR$69-AR$79-AR$60-AR$70-AR$80-AR$61-AR$71-AR$81)*$B82),MIN((-AR$14-AR$59-AR$69-AR$79-AR$60-AR$70-AR$80-AR$61-AR$71-AR$81)*$B82,(AR$54+IF($B$59<>AR$31,SUM($C$33:AR$35),0))*$B82)))","v":0},{"$f":"IF((-AS$14-AS$59-AS$69-AS$79-AS$60-AS$70-AS$80-AS$61-AS$71-AS$81)<=0,0,IF($B$14=\"As Received\",MIN(AS$54*$B82,(-AS$14-AS$59-AS$69-AS$79-AS$60-AS$70-AS$80-AS$61-AS$71-AS$81)*$B82),MIN((-AS$14-AS$59-AS$69-AS$79-AS$60-AS$70-AS$80-AS$61-AS$71-AS$81)*$B82,(AS$54+IF($B$59<>AS$31,SUM($C$33:AS$35),0))*$B82)))","v":0},{"$f":"IF((-AT$14-AT$59-AT$69-AT$79-AT$60-AT$70-AT$80-AT$61-AT$71-AT$81)<=0,0,IF($B$14=\"As Received\",MIN(AT$54*$B82,(-AT$14-AT$59-AT$69-AT$79-AT$60-AT$70-AT$80-AT$61-AT$71-AT$81)*$B82),MIN((-AT$14-AT$59-AT$69-AT$79-AT$60-AT$70-AT$80-AT$61-AT$71-AT$81)*$B82,(AT$54+IF($B$59<>AT$31,SUM($C$33:AT$35),0))*$B82)))","v":0},{"$f":"IF((-AU$14-AU$59-AU$69-AU$79-AU$60-AU$70-AU$80-AU$61-AU$71-AU$81)<=0,0,IF($B$14=\"As Received\",MIN(AU$54*$B82,(-AU$14-AU$59-AU$69-AU$79-AU$60-AU$70-AU$80-AU$61-AU$71-AU$81)*$B82),MIN((-AU$14-AU$59-AU$69-AU$79-AU$60-AU$70-AU$80-AU$61-AU$71-AU$81)*$B82,(AU$54+IF($B$59<>AU$31,SUM($C$33:AU$35),0))*$B82)))","v":0},{"$f":"IF((-AV$14-AV$59-AV$69-AV$79-AV$60-AV$70-AV$80-AV$61-AV$71-AV$81)<=0,0,IF($B$14=\"As Received\",MIN(AV$54*$B82,(-AV$14-AV$59-AV$69-AV$79-AV$60-AV$70-AV$80-AV$61-AV$71-AV$81)*$B82),MIN((-AV$14-AV$59-AV$69-AV$79-AV$60-AV$70-AV$80-AV$61-AV$71-AV$81)*$B82,(AV$54+IF($B$59<>AV$31,SUM($C$33:AV$35),0))*$B82)))","v":0},{"$f":"IF((-AW$14-AW$59-AW$69-AW$79-AW$60-AW$70-AW$80-AW$61-AW$71-AW$81)<=0,0,IF($B$14=\"As Received\",MIN(AW$54*$B82,(-AW$14-AW$59-AW$69-AW$79-AW$60-AW$70-AW$80-AW$61-AW$71-AW$81)*$B82),MIN((-AW$14-AW$59-AW$69-AW$79-AW$60-AW$70-AW$80-AW$61-AW$71-AW$81)*$B82,(AW$54+IF($B$59<>AW$31,SUM($C$33:AW$35),0))*$B82)))","v":0},{"$f":"IF((-AX$14-AX$59-AX$69-AX$79-AX$60-AX$70-AX$80-AX$61-AX$71-AX$81)<=0,0,IF($B$14=\"As Received\",MIN(AX$54*$B82,(-AX$14-AX$59-AX$69-AX$79-AX$60-AX$70-AX$80-AX$61-AX$71-AX$81)*$B82),MIN((-AX$14-AX$59-AX$69-AX$79-AX$60-AX$70-AX$80-AX$61-AX$71-AX$81)*$B82,(AX$54+IF($B$59<>AX$31,SUM($C$33:AX$35),0))*$B82)))","v":0},{"$f":"IF((-AY$14-AY$59-AY$69-AY$79-AY$60-AY$70-AY$80-AY$61-AY$71-AY$81)<=0,0,IF($B$14=\"As Received\",MIN(AY$54*$B82,(-AY$14-AY$59-AY$69-AY$79-AY$60-AY$70-AY$80-AY$61-AY$71-AY$81)*$B82),MIN((-AY$14-AY$59-AY$69-AY$79-AY$60-AY$70-AY$80-AY$61-AY$71-AY$81)*$B82,(AY$54+IF($B$59<>AY$31,SUM($C$33:AY$35),0))*$B82)))","v":0},{"$f":"IF((-AZ$14-AZ$59-AZ$69-AZ$79-AZ$60-AZ$70-AZ$80-AZ$61-AZ$71-AZ$81)<=0,0,IF($B$14=\"As Received\",MIN(AZ$54*$B82,(-AZ$14-AZ$59-AZ$69-AZ$79-AZ$60-AZ$70-AZ$80-AZ$61-AZ$71-AZ$81)*$B82),MIN((-AZ$14-AZ$59-AZ$69-AZ$79-AZ$60-AZ$70-AZ$80-AZ$61-AZ$71-AZ$81)*$B82,(AZ$54+IF($B$59<>AZ$31,SUM($C$33:AZ$35),0))*$B82)))","v":0},{"$f":"IF((-BA$14-BA$59-BA$69-BA$79-BA$60-BA$70-BA$80-BA$61-BA$71-BA$81)<=0,0,IF($B$14=\"As Received\",MIN(BA$54*$B82,(-BA$14-BA$59-BA$69-BA$79-BA$60-BA$70-BA$80-BA$61-BA$71-BA$81)*$B82),MIN((-BA$14-BA$59-BA$69-BA$79-BA$60-BA$70-BA$80-BA$61-BA$71-BA$81)*$B82,(BA$54+IF($B$59<>BA$31,SUM($C$33:BA$35),0))*$B82)))","v":0},{"$f":"IF((-BB$14-BB$59-BB$69-BB$79-BB$60-BB$70-BB$80-BB$61-BB$71-BB$81)<=0,0,IF($B$14=\"As Received\",MIN(BB$54*$B82,(-BB$14-BB$59-BB$69-BB$79-BB$60-BB$70-BB$80-BB$61-BB$71-BB$81)*$B82),MIN((-BB$14-BB$59-BB$69-BB$79-BB$60-BB$70-BB$80-BB$61-BB$71-BB$81)*$B82,(BB$54+IF($B$59<>BB$31,SUM($C$33:BB$35),0))*$B82)))","v":0},{"$f":"IF((-BC$14-BC$59-BC$69-BC$79-BC$60-BC$70-BC$80-BC$61-BC$71-BC$81)<=0,0,IF($B$14=\"As Received\",MIN(BC$54*$B82,(-BC$14-BC$59-BC$69-BC$79-BC$60-BC$70-BC$80-BC$61-BC$71-BC$81)*$B82),MIN((-BC$14-BC$59-BC$69-BC$79-BC$60-BC$70-BC$80-BC$61-BC$71-BC$81)*$B82,(BC$54+IF($B$59<>BC$31,SUM($C$33:BC$35),0))*$B82)))","v":0},{"$f":"IF((-BD$14-BD$59-BD$69-BD$79-BD$60-BD$70-BD$80-BD$61-BD$71-BD$81)<=0,0,IF($B$14=\"As Received\",MIN(BD$54*$B82,(-BD$14-BD$59-BD$69-BD$79-BD$60-BD$70-BD$80-BD$61-BD$71-BD$81)*$B82),MIN((-BD$14-BD$59-BD$69-BD$79-BD$60-BD$70-BD$80-BD$61-BD$71-BD$81)*$B82,(BD$54+IF($B$59<>BD$31,SUM($C$33:BD$35),0))*$B82)))","v":0},{"$f":"IF((-BE$14-BE$59-BE$69-BE$79-BE$60-BE$70-BE$80-BE$61-BE$71-BE$81)<=0,0,IF($B$14=\"As Received\",MIN(BE$54*$B82,(-BE$14-BE$59-BE$69-BE$79-BE$60-BE$70-BE$80-BE$61-BE$71-BE$81)*$B82),MIN((-BE$14-BE$59-BE$69-BE$79-BE$60-BE$70-BE$80-BE$61-BE$71-BE$81)*$B82,(BE$54+IF($B$59<>BE$31,SUM($C$33:BE$35),0))*$B82)))","v":0},{"$f":"IF((-BF$14-BF$59-BF$69-BF$79-BF$60-BF$70-BF$80-BF$61-BF$71-BF$81)<=0,0,IF($B$14=\"As Received\",MIN(BF$54*$B82,(-BF$14-BF$59-BF$69-BF$79-BF$60-BF$70-BF$80-BF$61-BF$71-BF$81)*$B82),MIN((-BF$14-BF$59-BF$69-BF$79-BF$60-BF$70-BF$80-BF$61-BF$71-BF$81)*$B82,(BF$54+IF($B$59<>BF$31,SUM($C$33:BF$35),0))*$B82)))","v":0},{"$f":"IF((-BG$14-BG$59-BG$69-BG$79-BG$60-BG$70-BG$80-BG$61-BG$71-BG$81)<=0,0,IF($B$14=\"As Received\",MIN(BG$54*$B82,(-BG$14-BG$59-BG$69-BG$79-BG$60-BG$70-BG$80-BG$61-BG$71-BG$81)*$B82),MIN((-BG$14-BG$59-BG$69-BG$79-BG$60-BG$70-BG$80-BG$61-BG$71-BG$81)*$B82,(BG$54+IF($B$59<>BG$31,SUM($C$33:BG$35),0))*$B82)))","v":0},{"$f":"IF((-BH$14-BH$59-BH$69-BH$79-BH$60-BH$70-BH$80-BH$61-BH$71-BH$81)<=0,0,IF($B$14=\"As Received\",MIN(BH$54*$B82,(-BH$14-BH$59-BH$69-BH$79-BH$60-BH$70-BH$80-BH$61-BH$71-BH$81)*$B82),MIN((-BH$14-BH$59-BH$69-BH$79-BH$60-BH$70-BH$80-BH$61-BH$71-BH$81)*$B82,(BH$54+IF($B$59<>BH$31,SUM($C$33:BH$35),0))*$B82)))","v":0},{"$f":"IF((-BI$14-BI$59-BI$69-BI$79-BI$60-BI$70-BI$80-BI$61-BI$71-BI$81)<=0,0,IF($B$14=\"As Received\",MIN(BI$54*$B82,(-BI$14-BI$59-BI$69-BI$79-BI$60-BI$70-BI$80-BI$61-BI$71-BI$81)*$B82),MIN((-BI$14-BI$59-BI$69-BI$79-BI$60-BI$70-BI$80-BI$61-BI$71-BI$81)*$B82,(BI$54+IF($B$59<>BI$31,SUM($C$33:BI$35),0))*$B82)))","v":0},{"$f":"IF((-BJ$14-BJ$59-BJ$69-BJ$79-BJ$60-BJ$70-BJ$80-BJ$61-BJ$71-BJ$81)<=0,0,IF($B$14=\"As Received\",MIN(BJ$54*$B82,(-BJ$14-BJ$59-BJ$69-BJ$79-BJ$60-BJ$70-BJ$80-BJ$61-BJ$71-BJ$81)*$B82),MIN((-BJ$14-BJ$59-BJ$69-BJ$79-BJ$60-BJ$70-BJ$80-BJ$61-BJ$71-BJ$81)*$B82,(BJ$54+IF($B$59<>BJ$31,SUM($C$33:BJ$35),0))*$B82)))","v":0},{"$f":"IF((-BK$14-BK$59-BK$69-BK$79-BK$60-BK$70-BK$80-BK$61-BK$71-BK$81)<=0,0,IF($B$14=\"As Received\",MIN(BK$54*$B82,(-BK$14-BK$59-BK$69-BK$79-BK$60-BK$70-BK$80-BK$61-BK$71-BK$81)*$B82),MIN((-BK$14-BK$59-BK$69-BK$79-BK$60-BK$70-BK$80-BK$61-BK$71-BK$81)*$B82,(BK$54+IF($B$59<>BK$31,SUM($C$33:BK$35),0))*$B82)))","v":0},{"$f":"IF((-BL$14-BL$59-BL$69-BL$79-BL$60-BL$70-BL$80-BL$61-BL$71-BL$81)<=0,0,IF($B$14=\"As Received\",MIN(BL$54*$B82,(-BL$14-BL$59-BL$69-BL$79-BL$60-BL$70-BL$80-BL$61-BL$71-BL$81)*$B82),MIN((-BL$14-BL$59-BL$69-BL$79-BL$60-BL$70-BL$80-BL$61-BL$71-BL$81)*$B82,(BL$54+IF($B$59<>BL$31,SUM($C$33:BL$35),0))*$B82)))","v":0},{"$f":"IF((-BM$14-BM$59-BM$69-BM$79-BM$60-BM$70-BM$80-BM$61-BM$71-BM$81)<=0,0,IF($B$14=\"As Received\",MIN(BM$54*$B82,(-BM$14-BM$59-BM$69-BM$79-BM$60-BM$70-BM$80-BM$61-BM$71-BM$81)*$B82),MIN((-BM$14-BM$59-BM$69-BM$79-BM$60-BM$70-BM$80-BM$61-BM$71-BM$81)*$B82,(BM$54+IF($B$59<>BM$31,SUM($C$33:BM$35),0))*$B82)))","v":0},{"$f":"IF((-BN$14-BN$59-BN$69-BN$79-BN$60-BN$70-BN$80-BN$61-BN$71-BN$81)<=0,0,IF($B$14=\"As Received\",MIN(BN$54*$B82,(-BN$14-BN$59-BN$69-BN$79-BN$60-BN$70-BN$80-BN$61-BN$71-BN$81)*$B82),MIN((-BN$14-BN$59-BN$69-BN$79-BN$60-BN$70-BN$80-BN$61-BN$71-BN$81)*$B82,(BN$54+IF($B$59<>BN$31,SUM($C$33:BN$35),0))*$B82)))","v":0},{"$f":"IF((-BO$14-BO$59-BO$69-BO$79-BO$60-BO$70-BO$80-BO$61-BO$71-BO$81)<=0,0,IF($B$14=\"As Received\",MIN(BO$54*$B82,(-BO$14-BO$59-BO$69-BO$79-BO$60-BO$70-BO$80-BO$61-BO$71-BO$81)*$B82),MIN((-BO$14-BO$59-BO$69-BO$79-BO$60-BO$70-BO$80-BO$61-BO$71-BO$81)*$B82,(BO$54+IF($B$59<>BO$31,SUM($C$33:BO$35),0))*$B82)))","v":0},{"$f":"IF((-BP$14-BP$59-BP$69-BP$79-BP$60-BP$70-BP$80-BP$61-BP$71-BP$81)<=0,0,IF($B$14=\"As Received\",MIN(BP$54*$B82,(-BP$14-BP$59-BP$69-BP$79-BP$60-BP$70-BP$80-BP$61-BP$71-BP$81)*$B82),MIN((-BP$14-BP$59-BP$69-BP$79-BP$60-BP$70-BP$80-BP$61-BP$71-BP$81)*$B82,(BP$54+IF($B$59<>BP$31,SUM($C$33:BP$35),0))*$B82)))","v":0},{"$f":"IF((-BQ$14-BQ$59-BQ$69-BQ$79-BQ$60-BQ$70-BQ$80-BQ$61-BQ$71-BQ$81)<=0,0,IF($B$14=\"As Received\",MIN(BQ$54*$B82,(-BQ$14-BQ$59-BQ$69-BQ$79-BQ$60-BQ$70-BQ$80-BQ$61-BQ$71-BQ$81)*$B82),MIN((-BQ$14-BQ$59-BQ$69-BQ$79-BQ$60-BQ$70-BQ$80-BQ$61-BQ$71-BQ$81)*$B82,(BQ$54+IF($B$59<>BQ$31,SUM($C$33:BQ$35),0))*$B82)))","v":0},{"$f":"IF((-BR$14-BR$59-BR$69-BR$79-BR$60-BR$70-BR$80-BR$61-BR$71-BR$81)<=0,0,IF($B$14=\"As Received\",MIN(BR$54*$B82,(-BR$14-BR$59-BR$69-BR$79-BR$60-BR$70-BR$80-BR$61-BR$71-BR$81)*$B82),MIN((-BR$14-BR$59-BR$69-BR$79-BR$60-BR$70-BR$80-BR$61-BR$71-BR$81)*$B82,(BR$54+IF($B$59<>BR$31,SUM($C$33:BR$35),0))*$B82)))","v":0},{"$f":"IF((-BS$14-BS$59-BS$69-BS$79-BS$60-BS$70-BS$80-BS$61-BS$71-BS$81)<=0,0,IF($B$14=\"As Received\",MIN(BS$54*$B82,(-BS$14-BS$59-BS$69-BS$79-BS$60-BS$70-BS$80-BS$61-BS$71-BS$81)*$B82),MIN((-BS$14-BS$59-BS$69-BS$79-BS$60-BS$70-BS$80-BS$61-BS$71-BS$81)*$B82,(BS$54+IF($B$59<>BS$31,SUM($C$33:BS$35),0))*$B82)))","v":0},{"$f":"IF((-BT$14-BT$59-BT$69-BT$79-BT$60-BT$70-BT$80-BT$61-BT$71-BT$81)<=0,0,IF($B$14=\"As Received\",MIN(BT$54*$B82,(-BT$14-BT$59-BT$69-BT$79-BT$60-BT$70-BT$80-BT$61-BT$71-BT$81)*$B82),MIN((-BT$14-BT$59-BT$69-BT$79-BT$60-BT$70-BT$80-BT$61-BT$71-BT$81)*$B82,(BT$54+IF($B$59<>BT$31,SUM($C$33:BT$35),0))*$B82)))","v":0},{"$f":"IF((-BU$14-BU$59-BU$69-BU$79-BU$60-BU$70-BU$80-BU$61-BU$71-BU$81)<=0,0,IF($B$14=\"As Received\",MIN(BU$54*$B82,(-BU$14-BU$59-BU$69-BU$79-BU$60-BU$70-BU$80-BU$61-BU$71-BU$81)*$B82),MIN((-BU$14-BU$59-BU$69-BU$79-BU$60-BU$70-BU$80-BU$61-BU$71-BU$81)*$B82,(BU$54+IF($B$59<>BU$31,SUM($C$33:BU$35),0))*$B82)))","v":0},{"$f":"IF((-BV$14-BV$59-BV$69-BV$79-BV$60-BV$70-BV$80-BV$61-BV$71-BV$81)<=0,0,IF($B$14=\"As Received\",MIN(BV$54*$B82,(-BV$14-BV$59-BV$69-BV$79-BV$60-BV$70-BV$80-BV$61-BV$71-BV$81)*$B82),MIN((-BV$14-BV$59-BV$69-BV$79-BV$60-BV$70-BV$80-BV$61-BV$71-BV$81)*$B82,(BV$54+IF($B$59<>BV$31,SUM($C$33:BV$35),0))*$B82)))","v":0},{"$f":"IF((-BW$14-BW$59-BW$69-BW$79-BW$60-BW$70-BW$80-BW$61-BW$71-BW$81)<=0,0,IF($B$14=\"As Received\",MIN(BW$54*$B82,(-BW$14-BW$59-BW$69-BW$79-BW$60-BW$70-BW$80-BW$61-BW$71-BW$81)*$B82),MIN((-BW$14-BW$59-BW$69-BW$79-BW$60-BW$70-BW$80-BW$61-BW$71-BW$81)*$B82,(BW$54+IF($B$59<>BW$31,SUM($C$33:BW$35),0))*$B82)))","v":0},{"$f":"IF((-BX$14-BX$59-BX$69-BX$79-BX$60-BX$70-BX$80-BX$61-BX$71-BX$81)<=0,0,IF($B$14=\"As Received\",MIN(BX$54*$B82,(-BX$14-BX$59-BX$69-BX$79-BX$60-BX$70-BX$80-BX$61-BX$71-BX$81)*$B82),MIN((-BX$14-BX$59-BX$69-BX$79-BX$60-BX$70-BX$80-BX$61-BX$71-BX$81)*$B82,(BX$54+IF($B$59<>BX$31,SUM($C$33:BX$35),0))*$B82)))","v":0},{"$f":"IF((-BY$14-BY$59-BY$69-BY$79-BY$60-BY$70-BY$80-BY$61-BY$71-BY$81)<=0,0,IF($B$14=\"As Received\",MIN(BY$54*$B82,(-BY$14-BY$59-BY$69-BY$79-BY$60-BY$70-BY$80-BY$61-BY$71-BY$81)*$B82),MIN((-BY$14-BY$59-BY$69-BY$79-BY$60-BY$70-BY$80-BY$61-BY$71-BY$81)*$B82,(BY$54+IF($B$59<>BY$31,SUM($C$33:BY$35),0))*$B82)))","v":0},{"$f":"IF((-BZ$14-BZ$59-BZ$69-BZ$79-BZ$60-BZ$70-BZ$80-BZ$61-BZ$71-BZ$81)<=0,0,IF($B$14=\"As Received\",MIN(BZ$54*$B82,(-BZ$14-BZ$59-BZ$69-BZ$79-BZ$60-BZ$70-BZ$80-BZ$61-BZ$71-BZ$81)*$B82),MIN((-BZ$14-BZ$59-BZ$69-BZ$79-BZ$60-BZ$70-BZ$80-BZ$61-BZ$71-BZ$81)*$B82,(BZ$54+IF($B$59<>BZ$31,SUM($C$33:BZ$35),0))*$B82)))","v":0},{"$f":"IF((-CA$14-CA$59-CA$69-CA$79-CA$60-CA$70-CA$80-CA$61-CA$71-CA$81)<=0,0,IF($B$14=\"As Received\",MIN(CA$54*$B82,(-CA$14-CA$59-CA$69-CA$79-CA$60-CA$70-CA$80-CA$61-CA$71-CA$81)*$B82),MIN((-CA$14-CA$59-CA$69-CA$79-CA$60-CA$70-CA$80-CA$61-CA$71-CA$81)*$B82,(CA$54+IF($B$59<>CA$31,SUM($C$33:CA$35),0))*$B82)))","v":0},{"$f":"IF((-CB$14-CB$59-CB$69-CB$79-CB$60-CB$70-CB$80-CB$61-CB$71-CB$81)<=0,0,IF($B$14=\"As Received\",MIN(CB$54*$B82,(-CB$14-CB$59-CB$69-CB$79-CB$60-CB$70-CB$80-CB$61-CB$71-CB$81)*$B82),MIN((-CB$14-CB$59-CB$69-CB$79-CB$60-CB$70-CB$80-CB$61-CB$71-CB$81)*$B82,(CB$54+IF($B$59<>CB$31,SUM($C$33:CB$35),0))*$B82)))","v":0},{"$f":"IF((-CC$14-CC$59-CC$69-CC$79-CC$60-CC$70-CC$80-CC$61-CC$71-CC$81)<=0,0,IF($B$14=\"As Received\",MIN(CC$54*$B82,(-CC$14-CC$59-CC$69-CC$79-CC$60-CC$70-CC$80-CC$61-CC$71-CC$81)*$B82),MIN((-CC$14-CC$59-CC$69-CC$79-CC$60-CC$70-CC$80-CC$61-CC$71-CC$81)*$B82,(CC$54+IF($B$59<>CC$31,SUM($C$33:CC$35),0))*$B82)))","v":0},{"$f":"IF((-CD$14-CD$59-CD$69-CD$79-CD$60-CD$70-CD$80-CD$61-CD$71-CD$81)<=0,0,IF($B$14=\"As Received\",MIN(CD$54*$B82,(-CD$14-CD$59-CD$69-CD$79-CD$60-CD$70-CD$80-CD$61-CD$71-CD$81)*$B82),MIN((-CD$14-CD$59-CD$69-CD$79-CD$60-CD$70-CD$80-CD$61-CD$71-CD$81)*$B82,(CD$54+IF($B$59<>CD$31,SUM($C$33:CD$35),0))*$B82)))","v":0},{"$f":"IF((-CE$14-CE$59-CE$69-CE$79-CE$60-CE$70-CE$80-CE$61-CE$71-CE$81)<=0,0,IF($B$14=\"As Received\",MIN(CE$54*$B82,(-CE$14-CE$59-CE$69-CE$79-CE$60-CE$70-CE$80-CE$61-CE$71-CE$81)*$B82),MIN((-CE$14-CE$59-CE$69-CE$79-CE$60-CE$70-CE$80-CE$61-CE$71-CE$81)*$B82,(CE$54+IF($B$59<>CE$31,SUM($C$33:CE$35),0))*$B82)))","v":0},{"$f":"IF((-CF$14-CF$59-CF$69-CF$79-CF$60-CF$70-CF$80-CF$61-CF$71-CF$81)<=0,0,IF($B$14=\"As Received\",MIN(CF$54*$B82,(-CF$14-CF$59-CF$69-CF$79-CF$60-CF$70-CF$80-CF$61-CF$71-CF$81)*$B82),MIN((-CF$14-CF$59-CF$69-CF$79-CF$60-CF$70-CF$80-CF$61-CF$71-CF$81)*$B82,(CF$54+IF($B$59<>CF$31,SUM($C$33:CF$35),0))*$B82)))","v":0},{"$f":"IF((-CG$14-CG$59-CG$69-CG$79-CG$60-CG$70-CG$80-CG$61-CG$71-CG$81)<=0,0,IF($B$14=\"As Received\",MIN(CG$54*$B82,(-CG$14-CG$59-CG$69-CG$79-CG$60-CG$70-CG$80-CG$61-CG$71-CG$81)*$B82),MIN((-CG$14-CG$59-CG$69-CG$79-CG$60-CG$70-CG$80-CG$61-CG$71-CG$81)*$B82,(CG$54+IF($B$59<>CG$31,SUM($C$33:CG$35),0))*$B82)))","v":0},{"$f":"IF((-CH$14-CH$59-CH$69-CH$79-CH$60-CH$70-CH$80-CH$61-CH$71-CH$81)<=0,0,IF($B$14=\"As Received\",MIN(CH$54*$B82,(-CH$14-CH$59-CH$69-CH$79-CH$60-CH$70-CH$80-CH$61-CH$71-CH$81)*$B82),MIN((-CH$14-CH$59-CH$69-CH$79-CH$60-CH$70-CH$80-CH$61-CH$71-CH$81)*$B82,(CH$54+IF($B$59<>CH$31,SUM($C$33:CH$35),0))*$B82)))","v":0},{"$f":"IF((-CI$14-CI$59-CI$69-CI$79-CI$60-CI$70-CI$80-CI$61-CI$71-CI$81)<=0,0,IF($B$14=\"As Received\",MIN(CI$54*$B82,(-CI$14-CI$59-CI$69-CI$79-CI$60-CI$70-CI$80-CI$61-CI$71-CI$81)*$B82),MIN((-CI$14-CI$59-CI$69-CI$79-CI$60-CI$70-CI$80-CI$61-CI$71-CI$81)*$B82,(CI$54+IF($B$59<>CI$31,SUM($C$33:CI$35),0))*$B82)))","v":0},{"$f":"IF((-CJ$14-CJ$59-CJ$69-CJ$79-CJ$60-CJ$70-CJ$80-CJ$61-CJ$71-CJ$81)<=0,0,IF($B$14=\"As Received\",MIN(CJ$54*$B82,(-CJ$14-CJ$59-CJ$69-CJ$79-CJ$60-CJ$70-CJ$80-CJ$61-CJ$71-CJ$81)*$B82),MIN((-CJ$14-CJ$59-CJ$69-CJ$79-CJ$60-CJ$70-CJ$80-CJ$61-CJ$71-CJ$81)*$B82,(CJ$54+IF($B$59<>CJ$31,SUM($C$33:CJ$35),0))*$B82)))","v":0},{"$f":"IF((-CK$14-CK$59-CK$69-CK$79-CK$60-CK$70-CK$80-CK$61-CK$71-CK$81)<=0,0,IF($B$14=\"As Received\",MIN(CK$54*$B82,(-CK$14-CK$59-CK$69-CK$79-CK$60-CK$70-CK$80-CK$61-CK$71-CK$81)*$B82),MIN((-CK$14-CK$59-CK$69-CK$79-CK$60-CK$70-CK$80-CK$61-CK$71-CK$81)*$B82,(CK$54+IF($B$59<>CK$31,SUM($C$33:CK$35),0))*$B82)))","v":0},{"$f":"IF((-CL$14-CL$59-CL$69-CL$79-CL$60-CL$70-CL$80-CL$61-CL$71-CL$81)<=0,0,IF($B$14=\"As Received\",MIN(CL$54*$B82,(-CL$14-CL$59-CL$69-CL$79-CL$60-CL$70-CL$80-CL$61-CL$71-CL$81)*$B82),MIN((-CL$14-CL$59-CL$69-CL$79-CL$60-CL$70-CL$80-CL$61-CL$71-CL$81)*$B82,(CL$54+IF($B$59<>CL$31,SUM($C$33:CL$35),0))*$B82)))","v":0},{"$f":"IF((-CM$14-CM$59-CM$69-CM$79-CM$60-CM$70-CM$80-CM$61-CM$71-CM$81)<=0,0,IF($B$14=\"As Received\",MIN(CM$54*$B82,(-CM$14-CM$59-CM$69-CM$79-CM$60-CM$70-CM$80-CM$61-CM$71-CM$81)*$B82),MIN((-CM$14-CM$59-CM$69-CM$79-CM$60-CM$70-CM$80-CM$61-CM$71-CM$81)*$B82,(CM$54+IF($B$59<>CM$31,SUM($C$33:CM$35),0))*$B82)))","v":0},{"$f":"IF((-CN$14-CN$59-CN$69-CN$79-CN$60-CN$70-CN$80-CN$61-CN$71-CN$81)<=0,0,IF($B$14=\"As Received\",MIN(CN$54*$B82,(-CN$14-CN$59-CN$69-CN$79-CN$60-CN$70-CN$80-CN$61-CN$71-CN$81)*$B82),MIN((-CN$14-CN$59-CN$69-CN$79-CN$60-CN$70-CN$80-CN$61-CN$71-CN$81)*$B82,(CN$54+IF($B$59<>CN$31,SUM($C$33:CN$35),0))*$B82)))","v":0},{"$f":"IF((-CO$14-CO$59-CO$69-CO$79-CO$60-CO$70-CO$80-CO$61-CO$71-CO$81)<=0,0,IF($B$14=\"As Received\",MIN(CO$54*$B82,(-CO$14-CO$59-CO$69-CO$79-CO$60-CO$70-CO$80-CO$61-CO$71-CO$81)*$B82),MIN((-CO$14-CO$59-CO$69-CO$79-CO$60-CO$70-CO$80-CO$61-CO$71-CO$81)*$B82,(CO$54+IF($B$59<>CO$31,SUM($C$33:CO$35),0))*$B82)))","v":0},{"$f":"IF((-CP$14-CP$59-CP$69-CP$79-CP$60-CP$70-CP$80-CP$61-CP$71-CP$81)<=0,0,IF($B$14=\"As Received\",MIN(CP$54*$B82,(-CP$14-CP$59-CP$69-CP$79-CP$60-CP$70-CP$80-CP$61-CP$71-CP$81)*$B82),MIN((-CP$14-CP$59-CP$69-CP$79-CP$60-CP$70-CP$80-CP$61-CP$71-CP$81)*$B82,(CP$54+IF($B$59<>CP$31,SUM($C$33:CP$35),0))*$B82)))","v":0},{"$f":"IF((-CQ$14-CQ$59-CQ$69-CQ$79-CQ$60-CQ$70-CQ$80-CQ$61-CQ$71-CQ$81)<=0,0,IF($B$14=\"As Received\",MIN(CQ$54*$B82,(-CQ$14-CQ$59-CQ$69-CQ$79-CQ$60-CQ$70-CQ$80-CQ$61-CQ$71-CQ$81)*$B82),MIN((-CQ$14-CQ$59-CQ$69-CQ$79-CQ$60-CQ$70-CQ$80-CQ$61-CQ$71-CQ$81)*$B82,(CQ$54+IF($B$59<>CQ$31,SUM($C$33:CQ$35),0))*$B82)))","v":0},{"$f":"IF((-CR$14-CR$59-CR$69-CR$79-CR$60-CR$70-CR$80-CR$61-CR$71-CR$81)<=0,0,IF($B$14=\"As Received\",MIN(CR$54*$B82,(-CR$14-CR$59-CR$69-CR$79-CR$60-CR$70-CR$80-CR$61-CR$71-CR$81)*$B82),MIN((-CR$14-CR$59-CR$69-CR$79-CR$60-CR$70-CR$80-CR$61-CR$71-CR$81)*$B82,(CR$54+IF($B$59<>CR$31,SUM($C$33:CR$35),0))*$B82)))","v":0},{"$f":"IF((-CS$14-CS$59-CS$69-CS$79-CS$60-CS$70-CS$80-CS$61-CS$71-CS$81)<=0,0,IF($B$14=\"As Received\",MIN(CS$54*$B82,(-CS$14-CS$59-CS$69-CS$79-CS$60-CS$70-CS$80-CS$61-CS$71-CS$81)*$B82),MIN((-CS$14-CS$59-CS$69-CS$79-CS$60-CS$70-CS$80-CS$61-CS$71-CS$81)*$B82,(CS$54+IF($B$59<>CS$31,SUM($C$33:CS$35),0))*$B82)))","v":0},{"$f":"IF((-CT$14-CT$59-CT$69-CT$79-CT$60-CT$70-CT$80-CT$61-CT$71-CT$81)<=0,0,IF($B$14=\"As Received\",MIN(CT$54*$B82,(-CT$14-CT$59-CT$69-CT$79-CT$60-CT$70-CT$80-CT$61-CT$71-CT$81)*$B82),MIN((-CT$14-CT$59-CT$69-CT$79-CT$60-CT$70-CT$80-CT$61-CT$71-CT$81)*$B82,(CT$54+IF($B$59<>CT$31,SUM($C$33:CT$35),0))*$B82)))","v":0},{"$f":"IF((-CU$14-CU$59-CU$69-CU$79-CU$60-CU$70-CU$80-CU$61-CU$71-CU$81)<=0,0,IF($B$14=\"As Received\",MIN(CU$54*$B82,(-CU$14-CU$59-CU$69-CU$79-CU$60-CU$70-CU$80-CU$61-CU$71-CU$81)*$B82),MIN((-CU$14-CU$59-CU$69-CU$79-CU$60-CU$70-CU$80-CU$61-CU$71-CU$81)*$B82,(CU$54+IF($B$59<>CU$31,SUM($C$33:CU$35),0))*$B82)))","v":0},{"$f":"IF((-CV$14-CV$59-CV$69-CV$79-CV$60-CV$70-CV$80-CV$61-CV$71-CV$81)<=0,0,IF($B$14=\"As Received\",MIN(CV$54*$B82,(-CV$14-CV$59-CV$69-CV$79-CV$60-CV$70-CV$80-CV$61-CV$71-CV$81)*$B82),MIN((-CV$14-CV$59-CV$69-CV$79-CV$60-CV$70-CV$80-CV$61-CV$71-CV$81)*$B82,(CV$54+IF($B$59<>CV$31,SUM($C$33:CV$35),0))*$B82)))","v":0},{"$f":"IF((-CW$14-CW$59-CW$69-CW$79-CW$60-CW$70-CW$80-CW$61-CW$71-CW$81)<=0,0,IF($B$14=\"As Received\",MIN(CW$54*$B82,(-CW$14-CW$59-CW$69-CW$79-CW$60-CW$70-CW$80-CW$61-CW$71-CW$81)*$B82),MIN((-CW$14-CW$59-CW$69-CW$79-CW$60-CW$70-CW$80-CW$61-CW$71-CW$81)*$B82,(CW$54+IF($B$59<>CW$31,SUM($C$33:CW$35),0))*$B82)))","v":0},{"$f":"IF((-CX$14-CX$59-CX$69-CX$79-CX$60-CX$70-CX$80-CX$61-CX$71-CX$81)<=0,0,IF($B$14=\"As Received\",MIN(CX$54*$B82,(-CX$14-CX$59-CX$69-CX$79-CX$60-CX$70-CX$80-CX$61-CX$71-CX$81)*$B82),MIN((-CX$14-CX$59-CX$69-CX$79-CX$60-CX$70-CX$80-CX$61-CX$71-CX$81)*$B82,(CX$54+IF($B$59<>CX$31,SUM($C$33:CX$35),0))*$B82)))","v":0},{"$f":"IF((-CY$14-CY$59-CY$69-CY$79-CY$60-CY$70-CY$80-CY$61-CY$71-CY$81)<=0,0,IF($B$14=\"As Received\",MIN(CY$54*$B82,(-CY$14-CY$59-CY$69-CY$79-CY$60-CY$70-CY$80-CY$61-CY$71-CY$81)*$B82),MIN((-CY$14-CY$59-CY$69-CY$79-CY$60-CY$70-CY$80-CY$61-CY$71-CY$81)*$B82,(CY$54+IF($B$59<>CY$31,SUM($C$33:CY$35),0))*$B82)))","v":0},{"$f":"IF((-CZ$14-CZ$59-CZ$69-CZ$79-CZ$60-CZ$70-CZ$80-CZ$61-CZ$71-CZ$81)<=0,0,IF($B$14=\"As Received\",MIN(CZ$54*$B82,(-CZ$14-CZ$59-CZ$69-CZ$79-CZ$60-CZ$70-CZ$80-CZ$61-CZ$71-CZ$81)*$B82),MIN((-CZ$14-CZ$59-CZ$69-CZ$79-CZ$60-CZ$70-CZ$80-CZ$61-CZ$71-CZ$81)*$B82,(CZ$54+IF($B$59<>CZ$31,SUM($C$33:CZ$35),0))*$B82)))","v":0},{"$f":"IF((-DA$14-DA$59-DA$69-DA$79-DA$60-DA$70-DA$80-DA$61-DA$71-DA$81)<=0,0,IF($B$14=\"As Received\",MIN(DA$54*$B82,(-DA$14-DA$59-DA$69-DA$79-DA$60-DA$70-DA$80-DA$61-DA$71-DA$81)*$B82),MIN((-DA$14-DA$59-DA$69-DA$79-DA$60-DA$70-DA$80-DA$61-DA$71-DA$81)*$B82,(DA$54+IF($B$59<>DA$31,SUM($C$33:DA$35),0))*$B82)))","v":0},{"$f":"IF((-DB$14-DB$59-DB$69-DB$79-DB$60-DB$70-DB$80-DB$61-DB$71-DB$81)<=0,0,IF($B$14=\"As Received\",MIN(DB$54*$B82,(-DB$14-DB$59-DB$69-DB$79-DB$60-DB$70-DB$80-DB$61-DB$71-DB$81)*$B82),MIN((-DB$14-DB$59-DB$69-DB$79-DB$60-DB$70-DB$80-DB$61-DB$71-DB$81)*$B82,(DB$54+IF($B$59<>DB$31,SUM($C$33:DB$35),0))*$B82)))","v":0},{"$f":"IF((-DC$14-DC$59-DC$69-DC$79-DC$60-DC$70-DC$80-DC$61-DC$71-DC$81)<=0,0,IF($B$14=\"As Received\",MIN(DC$54*$B82,(-DC$14-DC$59-DC$69-DC$79-DC$60-DC$70-DC$80-DC$61-DC$71-DC$81)*$B82),MIN((-DC$14-DC$59-DC$69-DC$79-DC$60-DC$70-DC$80-DC$61-DC$71-DC$81)*$B82,(DC$54+IF($B$59<>DC$31,SUM($C$33:DC$35),0))*$B82)))","v":0},{"$f":"IF((-DD$14-DD$59-DD$69-DD$79-DD$60-DD$70-DD$80-DD$61-DD$71-DD$81)<=0,0,IF($B$14=\"As Received\",MIN(DD$54*$B82,(-DD$14-DD$59-DD$69-DD$79-DD$60-DD$70-DD$80-DD$61-DD$71-DD$81)*$B82),MIN((-DD$14-DD$59-DD$69-DD$79-DD$60-DD$70-DD$80-DD$61-DD$71-DD$81)*$B82,(DD$54+IF($B$59<>DD$31,SUM($C$33:DD$35),0))*$B82)))","v":0},{"$f":"IF((-DE$14-DE$59-DE$69-DE$79-DE$60-DE$70-DE$80-DE$61-DE$71-DE$81)<=0,0,IF($B$14=\"As Received\",MIN(DE$54*$B82,(-DE$14-DE$59-DE$69-DE$79-DE$60-DE$70-DE$80-DE$61-DE$71-DE$81)*$B82),MIN((-DE$14-DE$59-DE$69-DE$79-DE$60-DE$70-DE$80-DE$61-DE$71-DE$81)*$B82,(DE$54+IF($B$59<>DE$31,SUM($C$33:DE$35),0))*$B82)))","v":0},{"$f":"IF((-DF$14-DF$59-DF$69-DF$79-DF$60-DF$70-DF$80-DF$61-DF$71-DF$81)<=0,0,IF($B$14=\"As Received\",MIN(DF$54*$B82,(-DF$14-DF$59-DF$69-DF$79-DF$60-DF$70-DF$80-DF$61-DF$71-DF$81)*$B82),MIN((-DF$14-DF$59-DF$69-DF$79-DF$60-DF$70-DF$80-DF$61-DF$71-DF$81)*$B82,(DF$54+IF($B$59<>DF$31,SUM($C$33:DF$35),0))*$B82)))","v":0},{"$f":"IF((-DG$14-DG$59-DG$69-DG$79-DG$60-DG$70-DG$80-DG$61-DG$71-DG$81)<=0,0,IF($B$14=\"As Received\",MIN(DG$54*$B82,(-DG$14-DG$59-DG$69-DG$79-DG$60-DG$70-DG$80-DG$61-DG$71-DG$81)*$B82),MIN((-DG$14-DG$59-DG$69-DG$79-DG$60-DG$70-DG$80-DG$61-DG$71-DG$81)*$B82,(DG$54+IF($B$59<>DG$31,SUM($C$33:DG$35),0))*$B82)))","v":0},{"$f":"IF((-DH$14-DH$59-DH$69-DH$79-DH$60-DH$70-DH$80-DH$61-DH$71-DH$81)<=0,0,IF($B$14=\"As Received\",MIN(DH$54*$B82,(-DH$14-DH$59-DH$69-DH$79-DH$60-DH$70-DH$80-DH$61-DH$71-DH$81)*$B82),MIN((-DH$14-DH$59-DH$69-DH$79-DH$60-DH$70-DH$80-DH$61-DH$71-DH$81)*$B82,(DH$54+IF($B$59<>DH$31,SUM($C$33:DH$35),0))*$B82)))","v":0},{"$f":"IF((-DI$14-DI$59-DI$69-DI$79-DI$60-DI$70-DI$80-DI$61-DI$71-DI$81)<=0,0,IF($B$14=\"As Received\",MIN(DI$54*$B82,(-DI$14-DI$59-DI$69-DI$79-DI$60-DI$70-DI$80-DI$61-DI$71-DI$81)*$B82),MIN((-DI$14-DI$59-DI$69-DI$79-DI$60-DI$70-DI$80-DI$61-DI$71-DI$81)*$B82,(DI$54+IF($B$59<>DI$31,SUM($C$33:DI$35),0))*$B82)))","v":0},{"$f":"IF((-DJ$14-DJ$59-DJ$69-DJ$79-DJ$60-DJ$70-DJ$80-DJ$61-DJ$71-DJ$81)<=0,0,IF($B$14=\"As Received\",MIN(DJ$54*$B82,(-DJ$14-DJ$59-DJ$69-DJ$79-DJ$60-DJ$70-DJ$80-DJ$61-DJ$71-DJ$81)*$B82),MIN((-DJ$14-DJ$59-DJ$69-DJ$79-DJ$60-DJ$70-DJ$80-DJ$61-DJ$71-DJ$81)*$B82,(DJ$54+IF($B$59<>DJ$31,SUM($C$33:DJ$35),0))*$B82)))","v":0},{"$f":"IF((-DK$14-DK$59-DK$69-DK$79-DK$60-DK$70-DK$80-DK$61-DK$71-DK$81)<=0,0,IF($B$14=\"As Received\",MIN(DK$54*$B82,(-DK$14-DK$59-DK$69-DK$79-DK$60-DK$70-DK$80-DK$61-DK$71-DK$81)*$B82),MIN((-DK$14-DK$59-DK$69-DK$79-DK$60-DK$70-DK$80-DK$61-DK$71-DK$81)*$B82,(DK$54+IF($B$59<>DK$31,SUM($C$33:DK$35),0))*$B82)))","v":0},{"$f":"IF((-DL$14-DL$59-DL$69-DL$79-DL$60-DL$70-DL$80-DL$61-DL$71-DL$81)<=0,0,IF($B$14=\"As Received\",MIN(DL$54*$B82,(-DL$14-DL$59-DL$69-DL$79-DL$60-DL$70-DL$80-DL$61-DL$71-DL$81)*$B82),MIN((-DL$14-DL$59-DL$69-DL$79-DL$60-DL$70-DL$80-DL$61-DL$71-DL$81)*$B82,(DL$54+IF($B$59<>DL$31,SUM($C$33:DL$35),0))*$B82)))","v":0},{"$f":"IF((-DM$14-DM$59-DM$69-DM$79-DM$60-DM$70-DM$80-DM$61-DM$71-DM$81)<=0,0,IF($B$14=\"As Received\",MIN(DM$54*$B82,(-DM$14-DM$59-DM$69-DM$79-DM$60-DM$70-DM$80-DM$61-DM$71-DM$81)*$B82),MIN((-DM$14-DM$59-DM$69-DM$79-DM$60-DM$70-DM$80-DM$61-DM$71-DM$81)*$B82,(DM$54+IF($B$59<>DM$31,SUM($C$33:DM$35),0))*$B82)))","v":0},{"$f":"IF((-DN$14-DN$59-DN$69-DN$79-DN$60-DN$70-DN$80-DN$61-DN$71-DN$81)<=0,0,IF($B$14=\"As Received\",MIN(DN$54*$B82,(-DN$14-DN$59-DN$69-DN$79-DN$60-DN$70-DN$80-DN$61-DN$71-DN$81)*$B82),MIN((-DN$14-DN$59-DN$69-DN$79-DN$60-DN$70-DN$80-DN$61-DN$71-DN$81)*$B82,(DN$54+IF($B$59<>DN$31,SUM($C$33:DN$35),0))*$B82)))","v":0},{"$f":"IF((-DO$14-DO$59-DO$69-DO$79-DO$60-DO$70-DO$80-DO$61-DO$71-DO$81)<=0,0,IF($B$14=\"As Received\",MIN(DO$54*$B82,(-DO$14-DO$59-DO$69-DO$79-DO$60-DO$70-DO$80-DO$61-DO$71-DO$81)*$B82),MIN((-DO$14-DO$59-DO$69-DO$79-DO$60-DO$70-DO$80-DO$61-DO$71-DO$81)*$B82,(DO$54+IF($B$59<>DO$31,SUM($C$33:DO$35),0))*$B82)))","v":0},{"$f":"IF((-DP$14-DP$59-DP$69-DP$79-DP$60-DP$70-DP$80-DP$61-DP$71-DP$81)<=0,0,IF($B$14=\"As Received\",MIN(DP$54*$B82,(-DP$14-DP$59-DP$69-DP$79-DP$60-DP$70-DP$80-DP$61-DP$71-DP$81)*$B82),MIN((-DP$14-DP$59-DP$69-DP$79-DP$60-DP$70-DP$80-DP$61-DP$71-DP$81)*$B82,(DP$54+IF($B$59<>DP$31,SUM($C$33:DP$35),0))*$B82)))","v":0},{"$f":"IF((-DQ$14-DQ$59-DQ$69-DQ$79-DQ$60-DQ$70-DQ$80-DQ$61-DQ$71-DQ$81)<=0,0,IF($B$14=\"As Received\",MIN(DQ$54*$B82,(-DQ$14-DQ$59-DQ$69-DQ$79-DQ$60-DQ$70-DQ$80-DQ$61-DQ$71-DQ$81)*$B82),MIN((-DQ$14-DQ$59-DQ$69-DQ$79-DQ$60-DQ$70-DQ$80-DQ$61-DQ$71-DQ$81)*$B82,(DQ$54+IF($B$59<>DQ$31,SUM($C$33:DQ$35),0))*$B82)))","v":0},{"$f":"IF((-DR$14-DR$59-DR$69-DR$79-DR$60-DR$70-DR$80-DR$61-DR$71-DR$81)<=0,0,IF($B$14=\"As Received\",MIN(DR$54*$B82,(-DR$14-DR$59-DR$69-DR$79-DR$60-DR$70-DR$80-DR$61-DR$71-DR$81)*$B82),MIN((-DR$14-DR$59-DR$69-DR$79-DR$60-DR$70-DR$80-DR$61-DR$71-DR$81)*$B82,(DR$54+IF($B$59<>DR$31,SUM($C$33:DR$35),0))*$B82)))","v":0},{"$f":"IF((-DS$14-DS$59-DS$69-DS$79-DS$60-DS$70-DS$80-DS$61-DS$71-DS$81)<=0,0,IF($B$14=\"As Received\",MIN(DS$54*$B82,(-DS$14-DS$59-DS$69-DS$79-DS$60-DS$70-DS$80-DS$61-DS$71-DS$81)*$B82),MIN((-DS$14-DS$59-DS$69-DS$79-DS$60-DS$70-DS$80-DS$61-DS$71-DS$81)*$B82,(DS$54+IF($B$59<>DS$31,SUM($C$33:DS$35),0))*$B82)))","v":0}]
["Residual",{"$f":"G28","v":0.5},{"$f":"IF((-C$14-C$59-C$69-C$79-C$60-C$70-C$80-C$61-C$71-C$81-C$62-C$72-C$82)<=0,0,IF($B$14=\"As Received\",(-C$14-C$59-C$69-C$79-C$60-C$70-C$80-C$61-C$71-C$81-C$62-C$72-C$82)*$B83,MIN((-C$14-C$59-C$69-C$79-C$60-C$70-C$80-C$61-C$71-C$81-C$62-C$72-C$82)*$B83,(C$54+IF($B$59<>C$31,SUM($C$33:C$35),0))*$B83)))","v":0},{"$f":"IF((-D$14-D$59-D$69-D$79-D$60-D$70-D$80-D$61-D$71-D$81-D$62-D$72-D$82)<=0,0,IF($B$14=\"As Received\",(-D$14-D$59-D$69-D$79-D$60-D$70-D$80-D$61-D$71-D$81-D$62-D$72-D$82)*$B83,MIN((-D$14-D$59-D$69-D$79-D$60-D$70-D$80-D$61-D$71-D$81-D$62-D$72-D$82)*$B83,(D$54+IF($B$59<>D$31,SUM($C$33:D$35),0))*$B83)))","v":0},{"$f":"IF((-E$14-E$59-E$69-E$79-E$60-E$70-E$80-E$61-E$71-E$81-E$62-E$72-E$82)<=0,0,IF($B$14=\"As Received\",(-E$14-E$59-E$69-E$79-E$60-E$70-E$80-E$61-E$71-E$81-E$62-E$72-E$82)*$B83,MIN((-E$14-E$59-E$69-E$79-E$60-E$70-E$80-E$61-E$71-E$81-E$62-E$72-E$82)*$B83,(E$54+IF($B$59<>E$31,SUM($C$33:E$35),0))*$B83)))","v":0},{"$f":"IF((-F$14-F$59-F$69-F$79-F$60-F$70-F$80-F$61-F$71-F$81-F$62-F$72-F$82)<=0,0,IF($B$14=\"As Received\",(-F$14-F$59-F$69-F$79-F$60-F$70-F$80-F$61-F$71-F$81-F$62-F$72-F$82)*$B83,MIN((-F$14-F$59-F$69-F$79-F$60-F$70-F$80-F$61-F$71-F$81-F$62-F$72-F$82)*$B83,(F$54+IF($B$59<>F$31,SUM($C$33:F$35),0))*$B83)))","v":0},{"$f":"IF((-G$14-G$59-G$69-G$79-G$60-G$70-G$80-G$61-G$71-G$81-G$62-G$72-G$82)<=0,0,IF($B$14=\"As Received\",(-G$14-G$59-G$69-G$79-G$60-G$70-G$80-G$61-G$71-G$81-G$62-G$72-G$82)*$B83,MIN((-G$14-G$59-G$69-G$79-G$60-G$70-G$80-G$61-G$71-G$81-G$62-G$72-G$82)*$B83,(G$54+IF($B$59<>G$31,SUM($C$33:G$35),0))*$B83)))","v":0},{"$f":"IF((-H$14-H$59-H$69-H$79-H$60-H$70-H$80-H$61-H$71-H$81-H$62-H$72-H$82)<=0,0,IF($B$14=\"As Received\",(-H$14-H$59-H$69-H$79-H$60-H$70-H$80-H$61-H$71-H$81-H$62-H$72-H$82)*$B83,MIN((-H$14-H$59-H$69-H$79-H$60-H$70-H$80-H$61-H$71-H$81-H$62-H$72-H$82)*$B83,(H$54+IF($B$59<>H$31,SUM($C$33:H$35),0))*$B83)))","v":0},{"$f":"IF((-I$14-I$59-I$69-I$79-I$60-I$70-I$80-I$61-I$71-I$81-I$62-I$72-I$82)<=0,0,IF($B$14=\"As Received\",(-I$14-I$59-I$69-I$79-I$60-I$70-I$80-I$61-I$71-I$81-I$62-I$72-I$82)*$B83,MIN((-I$14-I$59-I$69-I$79-I$60-I$70-I$80-I$61-I$71-I$81-I$62-I$72-I$82)*$B83,(I$54+IF($B$59<>I$31,SUM($C$33:I$35),0))*$B83)))","v":0},{"$f":"IF((-J$14-J$59-J$69-J$79-J$60-J$70-J$80-J$61-J$71-J$81-J$62-J$72-J$82)<=0,0,IF($B$14=\"As Received\",(-J$14-J$59-J$69-J$79-J$60-J$70-J$80-J$61-J$71-J$81-J$62-J$72-J$82)*$B83,MIN((-J$14-J$59-J$69-J$79-J$60-J$70-J$80-J$61-J$71-J$81-J$62-J$72-J$82)*$B83,(J$54+IF($B$59<>J$31,SUM($C$33:J$35),0))*$B83)))","v":0},{"$f":"IF((-K$14-K$59-K$69-K$79-K$60-K$70-K$80-K$61-K$71-K$81-K$62-K$72-K$82)<=0,0,IF($B$14=\"As Received\",(-K$14-K$59-K$69-K$79-K$60-K$70-K$80-K$61-K$71-K$81-K$62-K$72-K$82)*$B83,MIN((-K$14-K$59-K$69-K$79-K$60-K$70-K$80-K$61-K$71-K$81-K$62-K$72-K$82)*$B83,(K$54+IF($B$59<>K$31,SUM($C$33:K$35),0))*$B83)))","v":0},{"$f":"IF((-L$14-L$59-L$69-L$79-L$60-L$70-L$80-L$61-L$71-L$81-L$62-L$72-L$82)<=0,0,IF($B$14=\"As Received\",(-L$14-L$59-L$69-L$79-L$60-L$70-L$80-L$61-L$71-L$81-L$62-L$72-L$82)*$B83,MIN((-L$14-L$59-L$69-L$79-L$60-L$70-L$80-L$61-L$71-L$81-L$62-L$72-L$82)*$B83,(L$54+IF($B$59<>L$31,SUM($C$33:L$35),0))*$B83)))","v":0},{"$f":"IF((-M$14-M$59-M$69-M$79-M$60-M$70-M$80-M$61-M$71-M$81-M$62-M$72-M$82)<=0,0,IF($B$14=\"As Received\",(-M$14-M$59-M$69-M$79-M$60-M$70-M$80-M$61-M$71-M$81-M$62-M$72-M$82)*$B83,MIN((-M$14-M$59-M$69-M$79-M$60-M$70-M$80-M$61-M$71-M$81-M$62-M$72-M$82)*$B83,(M$54+IF($B$59<>M$31,SUM($C$33:M$35),0))*$B83)))","v":0},{"$f":"IF((-N$14-N$59-N$69-N$79-N$60-N$70-N$80-N$61-N$71-N$81-N$62-N$72-N$82)<=0,0,IF($B$14=\"As Received\",(-N$14-N$59-N$69-N$79-N$60-N$70-N$80-N$61-N$71-N$81-N$62-N$72-N$82)*$B83,MIN((-N$14-N$59-N$69-N$79-N$60-N$70-N$80-N$61-N$71-N$81-N$62-N$72-N$82)*$B83,(N$54+IF($B$59<>N$31,SUM($C$33:N$35),0))*$B83)))","v":0},{"$f":"IF((-O$14-O$59-O$69-O$79-O$60-O$70-O$80-O$61-O$71-O$81-O$62-O$72-O$82)<=0,0,IF($B$14=\"As Received\",(-O$14-O$59-O$69-O$79-O$60-O$70-O$80-O$61-O$71-O$81-O$62-O$72-O$82)*$B83,MIN((-O$14-O$59-O$69-O$79-O$60-O$70-O$80-O$61-O$71-O$81-O$62-O$72-O$82)*$B83,(O$54+IF($B$59<>O$31,SUM($C$33:O$35),0))*$B83)))","v":0},{"$f":"IF((-P$14-P$59-P$69-P$79-P$60-P$70-P$80-P$61-P$71-P$81-P$62-P$72-P$82)<=0,0,IF($B$14=\"As Received\",(-P$14-P$59-P$69-P$79-P$60-P$70-P$80-P$61-P$71-P$81-P$62-P$72-P$82)*$B83,MIN((-P$14-P$59-P$69-P$79-P$60-P$70-P$80-P$61-P$71-P$81-P$62-P$72-P$82)*$B83,(P$54+IF($B$59<>P$31,SUM($C$33:P$35),0))*$B83)))","v":0},{"$f":"IF((-Q$14-Q$59-Q$69-Q$79-Q$60-Q$70-Q$80-Q$61-Q$71-Q$81-Q$62-Q$72-Q$82)<=0,0,IF($B$14=\"As Received\",(-Q$14-Q$59-Q$69-Q$79-Q$60-Q$70-Q$80-Q$61-Q$71-Q$81-Q$62-Q$72-Q$82)*$B83,MIN((-Q$14-Q$59-Q$69-Q$79-Q$60-Q$70-Q$80-Q$61-Q$71-Q$81-Q$62-Q$72-Q$82)*$B83,(Q$54+IF($B$59<>Q$31,SUM($C$33:Q$35),0))*$B83)))","v":0},{"$f":"IF((-R$14-R$59-R$69-R$79-R$60-R$70-R$80-R$61-R$71-R$81-R$62-R$72-R$82)<=0,0,IF($B$14=\"As Received\",(-R$14-R$59-R$69-R$79-R$60-R$70-R$80-R$61-R$71-R$81-R$62-R$72-R$82)*$B83,MIN((-R$14-R$59-R$69-R$79-R$60-R$70-R$80-R$61-R$71-R$81-R$62-R$72-R$82)*$B83,(R$54+IF($B$59<>R$31,SUM($C$33:R$35),0))*$B83)))","v":0},{"$f":"IF((-S$14-S$59-S$69-S$79-S$60-S$70-S$80-S$61-S$71-S$81-S$62-S$72-S$82)<=0,0,IF($B$14=\"As Received\",(-S$14-S$59-S$69-S$79-S$60-S$70-S$80-S$61-S$71-S$81-S$62-S$72-S$82)*$B83,MIN((-S$14-S$59-S$69-S$79-S$60-S$70-S$80-S$61-S$71-S$81-S$62-S$72-S$82)*$B83,(S$54+IF($B$59<>S$31,SUM($C$33:S$35),0))*$B83)))","v":0},{"$f":"IF((-T$14-T$59-T$69-T$79-T$60-T$70-T$80-T$61-T$71-T$81-T$62-T$72-T$82)<=0,0,IF($B$14=\"As Received\",(-T$14-T$59-T$69-T$79-T$60-T$70-T$80-T$61-T$71-T$81-T$62-T$72-T$82)*$B83,MIN((-T$14-T$59-T$69-T$79-T$60-T$70-T$80-T$61-T$71-T$81-T$62-T$72-T$82)*$B83,(T$54+IF($B$59<>T$31,SUM($C$33:T$35),0))*$B83)))","v":0},{"$f":"IF((-U$14-U$59-U$69-U$79-U$60-U$70-U$80-U$61-U$71-U$81-U$62-U$72-U$82)<=0,0,IF($B$14=\"As Received\",(-U$14-U$59-U$69-U$79-U$60-U$70-U$80-U$61-U$71-U$81-U$62-U$72-U$82)*$B83,MIN((-U$14-U$59-U$69-U$79-U$60-U$70-U$80-U$61-U$71-U$81-U$62-U$72-U$82)*$B83,(U$54+IF($B$59<>U$31,SUM($C$33:U$35),0))*$B83)))","v":0},{"$f":"IF((-V$14-V$59-V$69-V$79-V$60-V$70-V$80-V$61-V$71-V$81-V$62-V$72-V$82)<=0,0,IF($B$14=\"As Received\",(-V$14-V$59-V$69-V$79-V$60-V$70-V$80-V$61-V$71-V$81-V$62-V$72-V$82)*$B83,MIN((-V$14-V$59-V$69-V$79-V$60-V$70-V$80-V$61-V$71-V$81-V$62-V$72-V$82)*$B83,(V$54+IF($B$59<>V$31,SUM($C$33:V$35),0))*$B83)))","v":0},{"$f":"IF((-W$14-W$59-W$69-W$79-W$60-W$70-W$80-W$61-W$71-W$81-W$62-W$72-W$82)<=0,0,IF($B$14=\"As Received\",(-W$14-W$59-W$69-W$79-W$60-W$70-W$80-W$61-W$71-W$81-W$62-W$72-W$82)*$B83,MIN((-W$14-W$59-W$69-W$79-W$60-W$70-W$80-W$61-W$71-W$81-W$62-W$72-W$82)*$B83,(W$54+IF($B$59<>W$31,SUM($C$33:W$35),0))*$B83)))","v":0},{"$f":"IF((-X$14-X$59-X$69-X$79-X$60-X$70-X$80-X$61-X$71-X$81-X$62-X$72-X$82)<=0,0,IF($B$14=\"As Received\",(-X$14-X$59-X$69-X$79-X$60-X$70-X$80-X$61-X$71-X$81-X$62-X$72-X$82)*$B83,MIN((-X$14-X$59-X$69-X$79-X$60-X$70-X$80-X$61-X$71-X$81-X$62-X$72-X$82)*$B83,(X$54+IF($B$59<>X$31,SUM($C$33:X$35),0))*$B83)))","v":0},{"$f":"IF((-Y$14-Y$59-Y$69-Y$79-Y$60-Y$70-Y$80-Y$61-Y$71-Y$81-Y$62-Y$72-Y$82)<=0,0,IF($B$14=\"As Received\",(-Y$14-Y$59-Y$69-Y$79-Y$60-Y$70-Y$80-Y$61-Y$71-Y$81-Y$62-Y$72-Y$82)*$B83,MIN((-Y$14-Y$59-Y$69-Y$79-Y$60-Y$70-Y$80-Y$61-Y$71-Y$81-Y$62-Y$72-Y$82)*$B83,(Y$54+IF($B$59<>Y$31,SUM($C$33:Y$35),0))*$B83)))","v":0},{"$f":"IF((-Z$14-Z$59-Z$69-Z$79-Z$60-Z$70-Z$80-Z$61-Z$71-Z$81-Z$62-Z$72-Z$82)<=0,0,IF($B$14=\"As Received\",(-Z$14-Z$59-Z$69-Z$79-Z$60-Z$70-Z$80-Z$61-Z$71-Z$81-Z$62-Z$72-Z$82)*$B83,MIN((-Z$14-Z$59-Z$69-Z$79-Z$60-Z$70-Z$80-Z$61-Z$71-Z$81-Z$62-Z$72-Z$82)*$B83,(Z$54+IF($B$59<>Z$31,SUM($C$33:Z$35),0))*$B83)))","v":0},{"$f":"IF((-AA$14-AA$59-AA$69-AA$79-AA$60-AA$70-AA$80-AA$61-AA$71-AA$81-AA$62-AA$72-AA$82)<=0,0,IF($B$14=\"As Received\",(-AA$14-AA$59-AA$69-AA$79-AA$60-AA$70-AA$80-AA$61-AA$71-AA$81-AA$62-AA$72-AA$82)*$B83,MIN((-AA$14-AA$59-AA$69-AA$79-AA$60-AA$70-AA$80-AA$61-AA$71-AA$81-AA$62-AA$72-AA$82)*$B83,(AA$54+IF($B$59<>AA$31,SUM($C$33:AA$35),0))*$B83)))","v":0},{"$f":"IF((-AB$14-AB$59-AB$69-AB$79-AB$60-AB$70-AB$80-AB$61-AB$71-AB$81-AB$62-AB$72-AB$82)<=0,0,IF($B$14=\"As Received\",(-AB$14-AB$59-AB$69-AB$79-AB$60-AB$70-AB$80-AB$61-AB$71-AB$81-AB$62-AB$72-AB$82)*$B83,MIN((-AB$14-AB$59-AB$69-AB$79-AB$60-AB$70-AB$80-AB$61-AB$71-AB$81-AB$62-AB$72-AB$82)*$B83,(AB$54+IF($B$59<>AB$31,SUM($C$33:AB$35),0))*$B83)))","v":0},{"$f":"IF((-AC$14-AC$59-AC$69-AC$79-AC$60-AC$70-AC$80-AC$61-AC$71-AC$81-AC$62-AC$72-AC$82)<=0,0,IF($B$14=\"As Received\",(-AC$14-AC$59-AC$69-AC$79-AC$60-AC$70-AC$80-AC$61-AC$71-AC$81-AC$62-AC$72-AC$82)*$B83,MIN((-AC$14-AC$59-AC$69-AC$79-AC$60-AC$70-AC$80-AC$61-AC$71-AC$81-AC$62-AC$72-AC$82)*$B83,(AC$54+IF($B$59<>AC$31,SUM($C$33:AC$35),0))*$B83)))","v":0},{"$f":"IF((-AD$14-AD$59-AD$69-AD$79-AD$60-AD$70-AD$80-AD$61-AD$71-AD$81-AD$62-AD$72-AD$82)<=0,0,IF($B$14=\"As Received\",(-AD$14-AD$59-AD$69-AD$79-AD$60-AD$70-AD$80-AD$61-AD$71-AD$81-AD$62-AD$72-AD$82)*$B83,MIN((-AD$14-AD$59-AD$69-AD$79-AD$60-AD$70-AD$80-AD$61-AD$71-AD$81-AD$62-AD$72-AD$82)*$B83,(AD$54+IF($B$59<>AD$31,SUM($C$33:AD$35),0))*$B83)))","v":0},{"$f":"IF((-AE$14-AE$59-AE$69-AE$79-AE$60-AE$70-AE$80-AE$61-AE$71-AE$81-AE$62-AE$72-AE$82)<=0,0,IF($B$14=\"As Received\",(-AE$14-AE$59-AE$69-AE$79-AE$60-AE$70-AE$80-AE$61-AE$71-AE$81-AE$62-AE$72-AE$82)*$B83,MIN((-AE$14-AE$59-AE$69-AE$79-AE$60-AE$70-AE$80-AE$61-AE$71-AE$81-AE$62-AE$72-AE$82)*$B83,(AE$54+IF($B$59<>AE$31,SUM($C$33:AE$35),0))*$B83)))","v":0},{"$f":"IF((-AF$14-AF$59-AF$69-AF$79-AF$60-AF$70-AF$80-AF$61-AF$71-AF$81-AF$62-AF$72-AF$82)<=0,0,IF($B$14=\"As Received\",(-AF$14-AF$59-AF$69-AF$79-AF$60-AF$70-AF$80-AF$61-AF$71-AF$81-AF$62-AF$72-AF$82)*$B83,MIN((-AF$14-AF$59-AF$69-AF$79-AF$60-AF$70-AF$80-AF$61-AF$71-AF$81-AF$62-AF$72-AF$82)*$B83,(AF$54+IF($B$59<>AF$31,SUM($C$33:AF$35),0))*$B83)))","v":0},{"$f":"IF((-AG$14-AG$59-AG$69-AG$79-AG$60-AG$70-AG$80-AG$61-AG$71-AG$81-AG$62-AG$72-AG$82)<=0,0,IF($B$14=\"As Received\",(-AG$14-AG$59-AG$69-AG$79-AG$60-AG$70-AG$80-AG$61-AG$71-AG$81-AG$62-AG$72-AG$82)*$B83,MIN((-AG$14-AG$59-AG$69-AG$79-AG$60-AG$70-AG$80-AG$61-AG$71-AG$81-AG$62-AG$72-AG$82)*$B83,(AG$54+IF($B$59<>AG$31,SUM($C$33:AG$35),0))*$B83)))","v":0},{"$f":"IF((-AH$14-AH$59-AH$69-AH$79-AH$60-AH$70-AH$80-AH$61-AH$71-AH$81-AH$62-AH$72-AH$82)<=0,0,IF($B$14=\"As Received\",(-AH$14-AH$59-AH$69-AH$79-AH$60-AH$70-AH$80-AH$61-AH$71-AH$81-AH$62-AH$72-AH$82)*$B83,MIN((-AH$14-AH$59-AH$69-AH$79-AH$60-AH$70-AH$80-AH$61-AH$71-AH$81-AH$62-AH$72-AH$82)*$B83,(AH$54+IF($B$59<>AH$31,SUM($C$33:AH$35),0))*$B83)))","v":0},{"$f":"IF((-AI$14-AI$59-AI$69-AI$79-AI$60-AI$70-AI$80-AI$61-AI$71-AI$81-AI$62-AI$72-AI$82)<=0,0,IF($B$14=\"As Received\",(-AI$14-AI$59-AI$69-AI$79-AI$60-AI$70-AI$80-AI$61-AI$71-AI$81-AI$62-AI$72-AI$82)*$B83,MIN((-AI$14-AI$59-AI$69-AI$79-AI$60-AI$70-AI$80-AI$61-AI$71-AI$81-AI$62-AI$72-AI$82)*$B83,(AI$54+IF($B$59<>AI$31,SUM($C$33:AI$35),0))*$B83)))","v":0},{"$f":"IF((-AJ$14-AJ$59-AJ$69-AJ$79-AJ$60-AJ$70-AJ$80-AJ$61-AJ$71-AJ$81-AJ$62-AJ$72-AJ$82)<=0,0,IF($B$14=\"As Received\",(-AJ$14-AJ$59-AJ$69-AJ$79-AJ$60-AJ$70-AJ$80-AJ$61-AJ$71-AJ$81-AJ$62-AJ$72-AJ$82)*$B83,MIN((-AJ$14-AJ$59-AJ$69-AJ$79-AJ$60-AJ$70-AJ$80-AJ$61-AJ$71-AJ$81-AJ$62-AJ$72-AJ$82)*$B83,(AJ$54+IF($B$59<>AJ$31,SUM($C$33:AJ$35),0))*$B83)))","v":0},{"$f":"IF((-AK$14-AK$59-AK$69-AK$79-AK$60-AK$70-AK$80-AK$61-AK$71-AK$81-AK$62-AK$72-AK$82)<=0,0,IF($B$14=\"As Received\",(-AK$14-AK$59-AK$69-AK$79-AK$60-AK$70-AK$80-AK$61-AK$71-AK$81-AK$62-AK$72-AK$82)*$B83,MIN((-AK$14-AK$59-AK$69-AK$79-AK$60-AK$70-AK$80-AK$61-AK$71-AK$81-AK$62-AK$72-AK$82)*$B83,(AK$54+IF($B$59<>AK$31,SUM($C$33:AK$35),0))*$B83)))","v":0},{"$f":"IF((-AL$14-AL$59-AL$69-AL$79-AL$60-AL$70-AL$80-AL$61-AL$71-AL$81-AL$62-AL$72-AL$82)<=0,0,IF($B$14=\"As Received\",(-AL$14-AL$59-AL$69-AL$79-AL$60-AL$70-AL$80-AL$61-AL$71-AL$81-AL$62-AL$72-AL$82)*$B83,MIN((-AL$14-AL$59-AL$69-AL$79-AL$60-AL$70-AL$80-AL$61-AL$71-AL$81-AL$62-AL$72-AL$82)*$B83,(AL$54+IF($B$59<>AL$31,SUM($C$33:AL$35),0))*$B83)))","v":0},{"$f":"IF((-AM$14-AM$59-AM$69-AM$79-AM$60-AM$70-AM$80-AM$61-AM$71-AM$81-AM$62-AM$72-AM$82)<=0,0,IF($B$14=\"As Received\",(-AM$14-AM$59-AM$69-AM$79-AM$60-AM$70-AM$80-AM$61-AM$71-AM$81-AM$62-AM$72-AM$82)*$B83,MIN((-AM$14-AM$59-AM$69-AM$79-AM$60-AM$70-AM$80-AM$61-AM$71-AM$81-AM$62-AM$72-AM$82)*$B83,(AM$54+IF($B$59<>AM$31,SUM($C$33:AM$35),0))*$B83)))","v":0},{"$f":"IF((-AN$14-AN$59-AN$69-AN$79-AN$60-AN$70-AN$80-AN$61-AN$71-AN$81-AN$62-AN$72-AN$82)<=0,0,IF($B$14=\"As Received\",(-AN$14-AN$59-AN$69-AN$79-AN$60-AN$70-AN$80-AN$61-AN$71-AN$81-AN$62-AN$72-AN$82)*$B83,MIN((-AN$14-AN$59-AN$69-AN$79-AN$60-AN$70-AN$80-AN$61-AN$71-AN$81-AN$62-AN$72-AN$82)*$B83,(AN$54+IF($B$59<>AN$31,SUM($C$33:AN$35),0))*$B83)))","v":0},{"$f":"IF((-AO$14-AO$59-AO$69-AO$79-AO$60-AO$70-AO$80-AO$61-AO$71-AO$81-AO$62-AO$72-AO$82)<=0,0,IF($B$14=\"As Received\",(-AO$14-AO$59-AO$69-AO$79-AO$60-AO$70-AO$80-AO$61-AO$71-AO$81-AO$62-AO$72-AO$82)*$B83,MIN((-AO$14-AO$59-AO$69-AO$79-AO$60-AO$70-AO$80-AO$61-AO$71-AO$81-AO$62-AO$72-AO$82)*$B83,(AO$54+IF($B$59<>AO$31,SUM($C$33:AO$35),0))*$B83)))","v":0},{"$f":"IF((-AP$14-AP$59-AP$69-AP$79-AP$60-AP$70-AP$80-AP$61-AP$71-AP$81-AP$62-AP$72-AP$82)<=0,0,IF($B$14=\"As Received\",(-AP$14-AP$59-AP$69-AP$79-AP$60-AP$70-AP$80-AP$61-AP$71-AP$81-AP$62-AP$72-AP$82)*$B83,MIN((-AP$14-AP$59-AP$69-AP$79-AP$60-AP$70-AP$80-AP$61-AP$71-AP$81-AP$62-AP$72-AP$82)*$B83,(AP$54+IF($B$59<>AP$31,SUM($C$33:AP$35),0))*$B83)))","v":0},{"$f":"IF((-AQ$14-AQ$59-AQ$69-AQ$79-AQ$60-AQ$70-AQ$80-AQ$61-AQ$71-AQ$81-AQ$62-AQ$72-AQ$82)<=0,0,IF($B$14=\"As Received\",(-AQ$14-AQ$59-AQ$69-AQ$79-AQ$60-AQ$70-AQ$80-AQ$61-AQ$71-AQ$81-AQ$62-AQ$72-AQ$82)*$B83,MIN((-AQ$14-AQ$59-AQ$69-AQ$79-AQ$60-AQ$70-AQ$80-AQ$61-AQ$71-AQ$81-AQ$62-AQ$72-AQ$82)*$B83,(AQ$54+IF($B$59<>AQ$31,SUM($C$33:AQ$35),0))*$B83)))","v":0},{"$f":"IF((-AR$14-AR$59-AR$69-AR$79-AR$60-AR$70-AR$80-AR$61-AR$71-AR$81-AR$62-AR$72-AR$82)<=0,0,IF($B$14=\"As Received\",(-AR$14-AR$59-AR$69-AR$79-AR$60-AR$70-AR$80-AR$61-AR$71-AR$81-AR$62-AR$72-AR$82)*$B83,MIN((-AR$14-AR$59-AR$69-AR$79-AR$60-AR$70-AR$80-AR$61-AR$71-AR$81-AR$62-AR$72-AR$82)*$B83,(AR$54+IF($B$59<>AR$31,SUM($C$33:AR$35),0))*$B83)))","v":0},{"$f":"IF((-AS$14-AS$59-AS$69-AS$79-AS$60-AS$70-AS$80-AS$61-AS$71-AS$81-AS$62-AS$72-AS$82)<=0,0,IF($B$14=\"As Received\",(-AS$14-AS$59-AS$69-AS$79-AS$60-AS$70-AS$80-AS$61-AS$71-AS$81-AS$62-AS$72-AS$82)*$B83,MIN((-AS$14-AS$59-AS$69-AS$79-AS$60-AS$70-AS$80-AS$61-AS$71-AS$81-AS$62-AS$72-AS$82)*$B83,(AS$54+IF($B$59<>AS$31,SUM($C$33:AS$35),0))*$B83)))","v":0},{"$f":"IF((-AT$14-AT$59-AT$69-AT$79-AT$60-AT$70-AT$80-AT$61-AT$71-AT$81-AT$62-AT$72-AT$82)<=0,0,IF($B$14=\"As Received\",(-AT$14-AT$59-AT$69-AT$79-AT$60-AT$70-AT$80-AT$61-AT$71-AT$81-AT$62-AT$72-AT$82)*$B83,MIN((-AT$14-AT$59-AT$69-AT$79-AT$60-AT$70-AT$80-AT$61-AT$71-AT$81-AT$62-AT$72-AT$82)*$B83,(AT$54+IF($B$59<>AT$31,SUM($C$33:AT$35),0))*$B83)))","v":0},{"$f":"IF((-AU$14-AU$59-AU$69-AU$79-AU$60-AU$70-AU$80-AU$61-AU$71-AU$81-AU$62-AU$72-AU$82)<=0,0,IF($B$14=\"As Received\",(-AU$14-AU$59-AU$69-AU$79-AU$60-AU$70-AU$80-AU$61-AU$71-AU$81-AU$62-AU$72-AU$82)*$B83,MIN((-AU$14-AU$59-AU$69-AU$79-AU$60-AU$70-AU$80-AU$61-AU$71-AU$81-AU$62-AU$72-AU$82)*$B83,(AU$54+IF($B$59<>AU$31,SUM($C$33:AU$35),0))*$B83)))","v":0},{"$f":"IF((-AV$14-AV$59-AV$69-AV$79-AV$60-AV$70-AV$80-AV$61-AV$71-AV$81-AV$62-AV$72-AV$82)<=0,0,IF($B$14=\"As Received\",(-AV$14-AV$59-AV$69-AV$79-AV$60-AV$70-AV$80-AV$61-AV$71-AV$81-AV$62-AV$72-AV$82)*$B83,MIN((-AV$14-AV$59-AV$69-AV$79-AV$60-AV$70-AV$80-AV$61-AV$71-AV$81-AV$62-AV$72-AV$82)*$B83,(AV$54+IF($B$59<>AV$31,SUM($C$33:AV$35),0))*$B83)))","v":0},{"$f":"IF((-AW$14-AW$59-AW$69-AW$79-AW$60-AW$70-AW$80-AW$61-AW$71-AW$81-AW$62-AW$72-AW$82)<=0,0,IF($B$14=\"As Received\",(-AW$14-AW$59-AW$69-AW$79-AW$60-AW$70-AW$80-AW$61-AW$71-AW$81-AW$62-AW$72-AW$82)*$B83,MIN((-AW$14-AW$59-AW$69-AW$79-AW$60-AW$70-AW$80-AW$61-AW$71-AW$81-AW$62-AW$72-AW$82)*$B83,(AW$54+IF($B$59<>AW$31,SUM($C$33:AW$35),0))*$B83)))","v":0},{"$f":"IF((-AX$14-AX$59-AX$69-AX$79-AX$60-AX$70-AX$80-AX$61-AX$71-AX$81-AX$62-AX$72-AX$82)<=0,0,IF($B$14=\"As Received\",(-AX$14-AX$59-AX$69-AX$79-AX$60-AX$70-AX$80-AX$61-AX$71-AX$81-AX$62-AX$72-AX$82)*$B83,MIN((-AX$14-AX$59-AX$69-AX$79-AX$60-AX$70-AX$80-AX$61-AX$71-AX$81-AX$62-AX$72-AX$82)*$B83,(AX$54+IF($B$59<>AX$31,SUM($C$33:AX$35),0))*$B83)))","v":0},{"$f":"IF((-AY$14-AY$59-AY$69-AY$79-AY$60-AY$70-AY$80-AY$61-AY$71-AY$81-AY$62-AY$72-AY$82)<=0,0,IF($B$14=\"As Received\",(-AY$14-AY$59-AY$69-AY$79-AY$60-AY$70-AY$80-AY$61-AY$71-AY$81-AY$62-AY$72-AY$82)*$B83,MIN((-AY$14-AY$59-AY$69-AY$79-AY$60-AY$70-AY$80-AY$61-AY$71-AY$81-AY$62-AY$72-AY$82)*$B83,(AY$54+IF($B$59<>AY$31,SUM($C$33:AY$35),0))*$B83)))","v":0},{"$f":"IF((-AZ$14-AZ$59-AZ$69-AZ$79-AZ$60-AZ$70-AZ$80-AZ$61-AZ$71-AZ$81-AZ$62-AZ$72-AZ$82)<=0,0,IF($B$14=\"As Received\",(-AZ$14-AZ$59-AZ$69-AZ$79-AZ$60-AZ$70-AZ$80-AZ$61-AZ$71-AZ$81-AZ$62-AZ$72-AZ$82)*$B83,MIN((-AZ$14-AZ$59-AZ$69-AZ$79-AZ$60-AZ$70-AZ$80-AZ$61-AZ$71-AZ$81-AZ$62-AZ$72-AZ$82)*$B83,(AZ$54+IF($B$59<>AZ$31,SUM($C$33:AZ$35),0))*$B83)))","v":0},{"$f":"IF((-BA$14-BA$59-BA$69-BA$79-BA$60-BA$70-BA$80-BA$61-BA$71-BA$81-BA$62-BA$72-BA$82)<=0,0,IF($B$14=\"As Received\",(-BA$14-BA$59-BA$69-BA$79-BA$60-BA$70-BA$80-BA$61-BA$71-BA$81-BA$62-BA$72-BA$82)*$B83,MIN((-BA$14-BA$59-BA$69-BA$79-BA$60-BA$70-BA$80-BA$61-BA$71-BA$81-BA$62-BA$72-BA$82)*$B83,(BA$54+IF($B$59<>BA$31,SUM($C$33:BA$35),0))*$B83)))","v":0},{"$f":"IF((-BB$14-BB$59-BB$69-BB$79-BB$60-BB$70-BB$80-BB$61-BB$71-BB$81-BB$62-BB$72-BB$82)<=0,0,IF($B$14=\"As Received\",(-BB$14-BB$59-BB$69-BB$79-BB$60-BB$70-BB$80-BB$61-BB$71-BB$81-BB$62-BB$72-BB$82)*$B83,MIN((-BB$14-BB$59-BB$69-BB$79-BB$60-BB$70-BB$80-BB$61-BB$71-BB$81-BB$62-BB$72-BB$82)*$B83,(BB$54+IF($B$59<>BB$31,SUM($C$33:BB$35),0))*$B83)))","v":0},{"$f":"IF((-BC$14-BC$59-BC$69-BC$79-BC$60-BC$70-BC$80-BC$61-BC$71-BC$81-BC$62-BC$72-BC$82)<=0,0,IF($B$14=\"As Received\",(-BC$14-BC$59-BC$69-BC$79-BC$60-BC$70-BC$80-BC$61-BC$71-BC$81-BC$62-BC$72-BC$82)*$B83,MIN((-BC$14-BC$59-BC$69-BC$79-BC$60-BC$70-BC$80-BC$61-BC$71-BC$81-BC$62-BC$72-BC$82)*$B83,(BC$54+IF($B$59<>BC$31,SUM($C$33:BC$35),0))*$B83)))","v":0},{"$f":"IF((-BD$14-BD$59-BD$69-BD$79-BD$60-BD$70-BD$80-BD$61-BD$71-BD$81-BD$62-BD$72-BD$82)<=0,0,IF($B$14=\"As Received\",(-BD$14-BD$59-BD$69-BD$79-BD$60-BD$70-BD$80-BD$61-BD$71-BD$81-BD$62-BD$72-BD$82)*$B83,MIN((-BD$14-BD$59-BD$69-BD$79-BD$60-BD$70-BD$80-BD$61-BD$71-BD$81-BD$62-BD$72-BD$82)*$B83,(BD$54+IF($B$59<>BD$31,SUM($C$33:BD$35),0))*$B83)))","v":0},{"$f":"IF((-BE$14-BE$59-BE$69-BE$79-BE$60-BE$70-BE$80-BE$61-BE$71-BE$81-BE$62-BE$72-BE$82)<=0,0,IF($B$14=\"As Received\",(-BE$14-BE$59-BE$69-BE$79-BE$60-BE$70-BE$80-BE$61-BE$71-BE$81-BE$62-BE$72-BE$82)*$B83,MIN((-BE$14-BE$59-BE$69-BE$79-BE$60-BE$70-BE$80-BE$61-BE$71-BE$81-BE$62-BE$72-BE$82)*$B83,(BE$54+IF($B$59<>BE$31,SUM($C$33:BE$35),0))*$B83)))","v":0},{"$f":"IF((-BF$14-BF$59-BF$69-BF$79-BF$60-BF$70-BF$80-BF$61-BF$71-BF$81-BF$62-BF$72-BF$82)<=0,0,IF($B$14=\"As Received\",(-BF$14-BF$59-BF$69-BF$79-BF$60-BF$70-BF$80-BF$61-BF$71-BF$81-BF$62-BF$72-BF$82)*$B83,MIN((-BF$14-BF$59-BF$69-BF$79-BF$60-BF$70-BF$80-BF$61-BF$71-BF$81-BF$62-BF$72-BF$82)*$B83,(BF$54+IF($B$59<>BF$31,SUM($C$33:BF$35),0))*$B83)))","v":0},{"$f":"IF((-BG$14-BG$59-BG$69-BG$79-BG$60-BG$70-BG$80-BG$61-BG$71-BG$81-BG$62-BG$72-BG$82)<=0,0,IF($B$14=\"As Received\",(-BG$14-BG$59-BG$69-BG$79-BG$60-BG$70-BG$80-BG$61-BG$71-BG$81-BG$62-BG$72-BG$82)*$B83,MIN((-BG$14-BG$59-BG$69-BG$79-BG$60-BG$70-BG$80-BG$61-BG$71-BG$81-BG$62-BG$72-BG$82)*$B83,(BG$54+IF($B$59<>BG$31,SUM($C$33:BG$35),0))*$B83)))","v":0},{"$f":"IF((-BH$14-BH$59-BH$69-BH$79-BH$60-BH$70-BH$80-BH$61-BH$71-BH$81-BH$62-BH$72-BH$82)<=0,0,IF($B$14=\"As Received\",(-BH$14-BH$59-BH$69-BH$79-BH$60-BH$70-BH$80-BH$61-BH$71-BH$81-BH$62-BH$72-BH$82)*$B83,MIN((-BH$14-BH$59-BH$69-BH$79-BH$60-BH$70-BH$80-BH$61-BH$71-BH$81-BH$62-BH$72-BH$82)*$B83,(BH$54+IF($B$59<>BH$31,SUM($C$33:BH$35),0))*$B83)))","v":0},{"$f":"IF((-BI$14-BI$59-BI$69-BI$79-BI$60-BI$70-BI$80-BI$61-BI$71-BI$81-BI$62-BI$72-BI$82)<=0,0,IF($B$14=\"As Received\",(-BI$14-BI$59-BI$69-BI$79-BI$60-BI$70-BI$80-BI$61-BI$71-BI$81-BI$62-BI$72-BI$82)*$B83,MIN((-BI$14-BI$59-BI$69-BI$79-BI$60-BI$70-BI$80-BI$61-BI$71-BI$81-BI$62-BI$72-BI$82)*$B83,(BI$54+IF($B$59<>BI$31,SUM($C$33:BI$35),0))*$B83)))","v":0},{"$f":"IF((-BJ$14-BJ$59-BJ$69-BJ$79-BJ$60-BJ$70-BJ$80-BJ$61-BJ$71-BJ$81-BJ$62-BJ$72-BJ$82)<=0,0,IF($B$14=\"As Received\",(-BJ$14-BJ$59-BJ$69-BJ$79-BJ$60-BJ$70-BJ$80-BJ$61-BJ$71-BJ$81-BJ$62-BJ$72-BJ$82)*$B83,MIN((-BJ$14-BJ$59-BJ$69-BJ$79-BJ$60-BJ$70-BJ$80-BJ$61-BJ$71-BJ$81-BJ$62-BJ$72-BJ$82)*$B83,(BJ$54+IF($B$59<>BJ$31,SUM($C$33:BJ$35),0))*$B83)))","v":0},{"$f":"IF((-BK$14-BK$59-BK$69-BK$79-BK$60-BK$70-BK$80-BK$61-BK$71-BK$81-BK$62-BK$72-BK$82)<=0,0,IF($B$14=\"As Received\",(-BK$14-BK$59-BK$69-BK$79-BK$60-BK$70-BK$80-BK$61-BK$71-BK$81-BK$62-BK$72-BK$82)*$B83,MIN((-BK$14-BK$59-BK$69-BK$79-BK$60-BK$70-BK$80-BK$61-BK$71-BK$81-BK$62-BK$72-BK$82)*$B83,(BK$54+IF($B$59<>BK$31,SUM($C$33:BK$35),0))*$B83)))","v":0},{"$f":"IF((-BL$14-BL$59-BL$69-BL$79-BL$60-BL$70-BL$80-BL$61-BL$71-BL$81-BL$62-BL$72-BL$82)<=0,0,IF($B$14=\"As Received\",(-BL$14-BL$59-BL$69-BL$79-BL$60-BL$70-BL$80-BL$61-BL$71-BL$81-BL$62-BL$72-BL$82)*$B83,MIN((-BL$14-BL$59-BL$69-BL$79-BL$60-BL$70-BL$80-BL$61-BL$71-BL$81-BL$62-BL$72-BL$82)*$B83,(BL$54+IF($B$59<>BL$31,SUM($C$33:BL$35),0))*$B83)))","v":0},{"$f":"IF((-BM$14-BM$59-BM$69-BM$79-BM$60-BM$70-BM$80-BM$61-BM$71-BM$81-BM$62-BM$72-BM$82)<=0,0,IF($B$14=\"As Received\",(-BM$14-BM$59-BM$69-BM$79-BM$60-BM$70-BM$80-BM$61-BM$71-BM$81-BM$62-BM$72-BM$82)*$B83,MIN((-BM$14-BM$59-BM$69-BM$79-BM$60-BM$70-BM$80-BM$61-BM$71-BM$81-BM$62-BM$72-BM$82)*$B83,(BM$54+IF($B$59<>BM$31,SUM($C$33:BM$35),0))*$B83)))","v":0},{"$f":"IF((-BN$14-BN$59-BN$69-BN$79-BN$60-BN$70-BN$80-BN$61-BN$71-BN$81-BN$62-BN$72-BN$82)<=0,0,IF($B$14=\"As Received\",(-BN$14-BN$59-BN$69-BN$79-BN$60-BN$70-BN$80-BN$61-BN$71-BN$81-BN$62-BN$72-BN$82)*$B83,MIN((-BN$14-BN$59-BN$69-BN$79-BN$60-BN$70-BN$80-BN$61-BN$71-BN$81-BN$62-BN$72-BN$82)*$B83,(BN$54+IF($B$59<>BN$31,SUM($C$33:BN$35),0))*$B83)))","v":0},{"$f":"IF((-BO$14-BO$59-BO$69-BO$79-BO$60-BO$70-BO$80-BO$61-BO$71-BO$81-BO$62-BO$72-BO$82)<=0,0,IF($B$14=\"As Received\",(-BO$14-BO$59-BO$69-BO$79-BO$60-BO$70-BO$80-BO$61-BO$71-BO$81-BO$62-BO$72-BO$82)*$B83,MIN((-BO$14-BO$59-BO$69-BO$79-BO$60-BO$70-BO$80-BO$61-BO$71-BO$81-BO$62-BO$72-BO$82)*$B83,(BO$54+IF($B$59<>BO$31,SUM($C$33:BO$35),0))*$B83)))","v":0},{"$f":"IF((-BP$14-BP$59-BP$69-BP$79-BP$60-BP$70-BP$80-BP$61-BP$71-BP$81-BP$62-BP$72-BP$82)<=0,0,IF($B$14=\"As Received\",(-BP$14-BP$59-BP$69-BP$79-BP$60-BP$70-BP$80-BP$61-BP$71-BP$81-BP$62-BP$72-BP$82)*$B83,MIN((-BP$14-BP$59-BP$69-BP$79-BP$60-BP$70-BP$80-BP$61-BP$71-BP$81-BP$62-BP$72-BP$82)*$B83,(BP$54+IF($B$59<>BP$31,SUM($C$33:BP$35),0))*$B83)))","v":0},{"$f":"IF((-BQ$14-BQ$59-BQ$69-BQ$79-BQ$60-BQ$70-BQ$80-BQ$61-BQ$71-BQ$81-BQ$62-BQ$72-BQ$82)<=0,0,IF($B$14=\"As Received\",(-BQ$14-BQ$59-BQ$69-BQ$79-BQ$60-BQ$70-BQ$80-BQ$61-BQ$71-BQ$81-BQ$62-BQ$72-BQ$82)*$B83,MIN((-BQ$14-BQ$59-BQ$69-BQ$79-BQ$60-BQ$70-BQ$80-BQ$61-BQ$71-BQ$81-BQ$62-BQ$72-BQ$82)*$B83,(BQ$54+IF($B$59<>BQ$31,SUM($C$33:BQ$35),0))*$B83)))","v":0},{"$f":"IF((-BR$14-BR$59-BR$69-BR$79-BR$60-BR$70-BR$80-BR$61-BR$71-BR$81-BR$62-BR$72-BR$82)<=0,0,IF($B$14=\"As Received\",(-BR$14-BR$59-BR$69-BR$79-BR$60-BR$70-BR$80-BR$61-BR$71-BR$81-BR$62-BR$72-BR$82)*$B83,MIN((-BR$14-BR$59-BR$69-BR$79-BR$60-BR$70-BR$80-BR$61-BR$71-BR$81-BR$62-BR$72-BR$82)*$B83,(BR$54+IF($B$59<>BR$31,SUM($C$33:BR$35),0))*$B83)))","v":0},{"$f":"IF((-BS$14-BS$59-BS$69-BS$79-BS$60-BS$70-BS$80-BS$61-BS$71-BS$81-BS$62-BS$72-BS$82)<=0,0,IF($B$14=\"As Received\",(-BS$14-BS$59-BS$69-BS$79-BS$60-BS$70-BS$80-BS$61-BS$71-BS$81-BS$62-BS$72-BS$82)*$B83,MIN((-BS$14-BS$59-BS$69-BS$79-BS$60-BS$70-BS$80-BS$61-BS$71-BS$81-BS$62-BS$72-BS$82)*$B83,(BS$54+IF($B$59<>BS$31,SUM($C$33:BS$35),0))*$B83)))","v":0},{"$f":"IF((-BT$14-BT$59-BT$69-BT$79-BT$60-BT$70-BT$80-BT$61-BT$71-BT$81-BT$62-BT$72-BT$82)<=0,0,IF($B$14=\"As Received\",(-BT$14-BT$59-BT$69-BT$79-BT$60-BT$70-BT$80-BT$61-BT$71-BT$81-BT$62-BT$72-BT$82)*$B83,MIN((-BT$14-BT$59-BT$69-BT$79-BT$60-BT$70-BT$80-BT$61-BT$71-BT$81-BT$62-BT$72-BT$82)*$B83,(BT$54+IF($B$59<>BT$31,SUM($C$33:BT$35),0))*$B83)))","v":0},{"$f":"IF((-BU$14-BU$59-BU$69-BU$79-BU$60-BU$70-BU$80-BU$61-BU$71-BU$81-BU$62-BU$72-BU$82)<=0,0,IF($B$14=\"As Received\",(-BU$14-BU$59-BU$69-BU$79-BU$60-BU$70-BU$80-BU$61-BU$71-BU$81-BU$62-BU$72-BU$82)*$B83,MIN((-BU$14-BU$59-BU$69-BU$79-BU$60-BU$70-BU$80-BU$61-BU$71-BU$81-BU$62-BU$72-BU$82)*$B83,(BU$54+IF($B$59<>BU$31,SUM($C$33:BU$35),0))*$B83)))","v":0},{"$f":"IF((-BV$14-BV$59-BV$69-BV$79-BV$60-BV$70-BV$80-BV$61-BV$71-BV$81-BV$62-BV$72-BV$82)<=0,0,IF($B$14=\"As Received\",(-BV$14-BV$59-BV$69-BV$79-BV$60-BV$70-BV$80-BV$61-BV$71-BV$81-BV$62-BV$72-BV$82)*$B83,MIN((-BV$14-BV$59-BV$69-BV$79-BV$60-BV$70-BV$80-BV$61-BV$71-BV$81-BV$62-BV$72-BV$82)*$B83,(BV$54+IF($B$59<>BV$31,SUM($C$33:BV$35),0))*$B83)))","v":0},{"$f":"IF((-BW$14-BW$59-BW$69-BW$79-BW$60-BW$70-BW$80-BW$61-BW$71-BW$81-BW$62-BW$72-BW$82)<=0,0,IF($B$14=\"As Received\",(-BW$14-BW$59-BW$69-BW$79-BW$60-BW$70-BW$80-BW$61-BW$71-BW$81-BW$62-BW$72-BW$82)*$B83,MIN((-BW$14-BW$59-BW$69-BW$79-BW$60-BW$70-BW$80-BW$61-BW$71-BW$81-BW$62-BW$72-BW$82)*$B83,(BW$54+IF($B$59<>BW$31,SUM($C$33:BW$35),0))*$B83)))","v":0},{"$f":"IF((-BX$14-BX$59-BX$69-BX$79-BX$60-BX$70-BX$80-BX$61-BX$71-BX$81-BX$62-BX$72-BX$82)<=0,0,IF($B$14=\"As Received\",(-BX$14-BX$59-BX$69-BX$79-BX$60-BX$70-BX$80-BX$61-BX$71-BX$81-BX$62-BX$72-BX$82)*$B83,MIN((-BX$14-BX$59-BX$69-BX$79-BX$60-BX$70-BX$80-BX$61-BX$71-BX$81-BX$62-BX$72-BX$82)*$B83,(BX$54+IF($B$59<>BX$31,SUM($C$33:BX$35),0))*$B83)))","v":0},{"$f":"IF((-BY$14-BY$59-BY$69-BY$79-BY$60-BY$70-BY$80-BY$61-BY$71-BY$81-BY$62-BY$72-BY$82)<=0,0,IF($B$14=\"As Received\",(-BY$14-BY$59-BY$69-BY$79-BY$60-BY$70-BY$80-BY$61-BY$71-BY$81-BY$62-BY$72-BY$82)*$B83,MIN((-BY$14-BY$59-BY$69-BY$79-BY$60-BY$70-BY$80-BY$61-BY$71-BY$81-BY$62-BY$72-BY$82)*$B83,(BY$54+IF($B$59<>BY$31,SUM($C$33:BY$35),0))*$B83)))","v":0},{"$f":"IF((-BZ$14-BZ$59-BZ$69-BZ$79-BZ$60-BZ$70-BZ$80-BZ$61-BZ$71-BZ$81-BZ$62-BZ$72-BZ$82)<=0,0,IF($B$14=\"As Received\",(-BZ$14-BZ$59-BZ$69-BZ$79-BZ$60-BZ$70-BZ$80-BZ$61-BZ$71-BZ$81-BZ$62-BZ$72-BZ$82)*$B83,MIN((-BZ$14-BZ$59-BZ$69-BZ$79-BZ$60-BZ$70-BZ$80-BZ$61-BZ$71-BZ$81-BZ$62-BZ$72-BZ$82)*$B83,(BZ$54+IF($B$59<>BZ$31,SUM($C$33:BZ$35),0))*$B83)))","v":0},{"$f":"IF((-CA$14-CA$59-CA$69-CA$79-CA$60-CA$70-CA$80-CA$61-CA$71-CA$81-CA$62-CA$72-CA$82)<=0,0,IF($B$14=\"As Received\",(-CA$14-CA$59-CA$69-CA$79-CA$60-CA$70-CA$80-CA$61-CA$71-CA$81-CA$62-CA$72-CA$82)*$B83,MIN((-CA$14-CA$59-CA$69-CA$79-CA$60-CA$70-CA$80-CA$61-CA$71-CA$81-CA$62-CA$72-CA$82)*$B83,(CA$54+IF($B$59<>CA$31,SUM($C$33:CA$35),0))*$B83)))","v":0},{"$f":"IF((-CB$14-CB$59-CB$69-CB$79-CB$60-CB$70-CB$80-CB$61-CB$71-CB$81-CB$62-CB$72-CB$82)<=0,0,IF($B$14=\"As Received\",(-CB$14-CB$59-CB$69-CB$79-CB$60-CB$70-CB$80-CB$61-CB$71-CB$81-CB$62-CB$72-CB$82)*$B83,MIN((-CB$14-CB$59-CB$69-CB$79-CB$60-CB$70-CB$80-CB$61-CB$71-CB$81-CB$62-CB$72-CB$82)*$B83,(CB$54+IF($B$59<>CB$31,SUM($C$33:CB$35),0))*$B83)))","v":0},{"$f":"IF((-CC$14-CC$59-CC$69-CC$79-CC$60-CC$70-CC$80-CC$61-CC$71-CC$81-CC$62-CC$72-CC$82)<=0,0,IF($B$14=\"As Received\",(-CC$14-CC$59-CC$69-CC$79-CC$60-CC$70-CC$80-CC$61-CC$71-CC$81-CC$62-CC$72-CC$82)*$B83,MIN((-CC$14-CC$59-CC$69-CC$79-CC$60-CC$70-CC$80-CC$61-CC$71-CC$81-CC$62-CC$72-CC$82)*$B83,(CC$54+IF($B$59<>CC$31,SUM($C$33:CC$35),0))*$B83)))","v":0},{"$f":"IF((-CD$14-CD$59-CD$69-CD$79-CD$60-CD$70-CD$80-CD$61-CD$71-CD$81-CD$62-CD$72-CD$82)<=0,0,IF($B$14=\"As Received\",(-CD$14-CD$59-CD$69-CD$79-CD$60-CD$70-CD$80-CD$61-CD$71-CD$81-CD$62-CD$72-CD$82)*$B83,MIN((-CD$14-CD$59-CD$69-CD$79-CD$60-CD$70-CD$80-CD$61-CD$71-CD$81-CD$62-CD$72-CD$82)*$B83,(CD$54+IF($B$59<>CD$31,SUM($C$33:CD$35),0))*$B83)))","v":0},{"$f":"IF((-CE$14-CE$59-CE$69-CE$79-CE$60-CE$70-CE$80-CE$61-CE$71-CE$81-CE$62-CE$72-CE$82)<=0,0,IF($B$14=\"As Received\",(-CE$14-CE$59-CE$69-CE$79-CE$60-CE$70-CE$80-CE$61-CE$71-CE$81-CE$62-CE$72-CE$82)*$B83,MIN((-CE$14-CE$59-CE$69-CE$79-CE$60-CE$70-CE$80-CE$61-CE$71-CE$81-CE$62-CE$72-CE$82)*$B83,(CE$54+IF($B$59<>CE$31,SUM($C$33:CE$35),0))*$B83)))","v":0},{"$f":"IF((-CF$14-CF$59-CF$69-CF$79-CF$60-CF$70-CF$80-CF$61-CF$71-CF$81-CF$62-CF$72-CF$82)<=0,0,IF($B$14=\"As Received\",(-CF$14-CF$59-CF$69-CF$79-CF$60-CF$70-CF$80-CF$61-CF$71-CF$81-CF$62-CF$72-CF$82)*$B83,MIN((-CF$14-CF$59-CF$69-CF$79-CF$60-CF$70-CF$80-CF$61-CF$71-CF$81-CF$62-CF$72-CF$82)*$B83,(CF$54+IF($B$59<>CF$31,SUM($C$33:CF$35),0))*$B83)))","v":0},{"$f":"IF((-CG$14-CG$59-CG$69-CG$79-CG$60-CG$70-CG$80-CG$61-CG$71-CG$81-CG$62-CG$72-CG$82)<=0,0,IF($B$14=\"As Received\",(-CG$14-CG$59-CG$69-CG$79-CG$60-CG$70-CG$80-CG$61-CG$71-CG$81-CG$62-CG$72-CG$82)*$B83,MIN((-CG$14-CG$59-CG$69-CG$79-CG$60-CG$70-CG$80-CG$61-CG$71-CG$81-CG$62-CG$72-CG$82)*$B83,(CG$54+IF($B$59<>CG$31,SUM($C$33:CG$35),0))*$B83)))","v":0},{"$f":"IF((-CH$14-CH$59-CH$69-CH$79-CH$60-CH$70-CH$80-CH$61-CH$71-CH$81-CH$62-CH$72-CH$82)<=0,0,IF($B$14=\"As Received\",(-CH$14-CH$59-CH$69-CH$79-CH$60-CH$70-CH$80-CH$61-CH$71-CH$81-CH$62-CH$72-CH$82)*$B83,MIN((-CH$14-CH$59-CH$69-CH$79-CH$60-CH$70-CH$80-CH$61-CH$71-CH$81-CH$62-CH$72-CH$82)*$B83,(CH$54+IF($B$59<>CH$31,SUM($C$33:CH$35),0))*$B83)))","v":0},{"$f":"IF((-CI$14-CI$59-CI$69-CI$79-CI$60-CI$70-CI$80-CI$61-CI$71-CI$81-CI$62-CI$72-CI$82)<=0,0,IF($B$14=\"As Received\",(-CI$14-CI$59-CI$69-CI$79-CI$60-CI$70-CI$80-CI$61-CI$71-CI$81-CI$62-CI$72-CI$82)*$B83,MIN((-CI$14-CI$59-CI$69-CI$79-CI$60-CI$70-CI$80-CI$61-CI$71-CI$81-CI$62-CI$72-CI$82)*$B83,(CI$54+IF($B$59<>CI$31,SUM($C$33:CI$35),0))*$B83)))","v":4401590.6707377201},{"$f":"IF((-CJ$14-CJ$59-CJ$69-CJ$79-CJ$60-CJ$70-CJ$80-CJ$61-CJ$71-CJ$81-CJ$62-CJ$72-CJ$82)<=0,0,IF($B$14=\"As Received\",(-CJ$14-CJ$59-CJ$69-CJ$79-CJ$60-CJ$70-CJ$80-CJ$61-CJ$71-CJ$81-CJ$62-CJ$72-CJ$82)*$B83,MIN((-CJ$14-CJ$59-CJ$69-CJ$79-CJ$60-CJ$70-CJ$80-CJ$61-CJ$71-CJ$81-CJ$62-CJ$72-CJ$82)*$B83,(CJ$54+IF($B$59<>CJ$31,SUM($C$33:CJ$35),0))*$B83)))","v":0},{"$f":"IF((-CK$14-CK$59-CK$69-CK$79-CK$60-CK$70-CK$80-CK$61-CK$71-CK$81-CK$62-CK$72-CK$82)<=0,0,IF($B$14=\"As Received\",(-CK$14-CK$59-CK$69-CK$79-CK$60-CK$70-CK$80-CK$61-CK$71-CK$81-CK$62-CK$72-CK$82)*$B83,MIN((-CK$14-CK$59-CK$69-CK$79-CK$60-CK$70-CK$80-CK$61-CK$71-CK$81-CK$62-CK$72-CK$82)*$B83,(CK$54+IF($B$59<>CK$31,SUM($C$33:CK$35),0))*$B83)))","v":0},{"$f":"IF((-CL$14-CL$59-CL$69-CL$79-CL$60-CL$70-CL$80-CL$61-CL$71-CL$81-CL$62-CL$72-CL$82)<=0,0,IF($B$14=\"As Received\",(-CL$14-CL$59-CL$69-CL$79-CL$60-CL$70-CL$80-CL$61-CL$71-CL$81-CL$62-CL$72-CL$82)*$B83,MIN((-CL$14-CL$59-CL$69-CL$79-CL$60-CL$70-CL$80-CL$61-CL$71-CL$81-CL$62-CL$72-CL$82)*$B83,(CL$54+IF($B$59<>CL$31,SUM($C$33:CL$35),0))*$B83)))","v":0},{"$f":"IF((-CM$14-CM$59-CM$69-CM$79-CM$60-CM$70-CM$80-CM$61-CM$71-CM$81-CM$62-CM$72-CM$82)<=0,0,IF($B$14=\"As Received\",(-CM$14-CM$59-CM$69-CM$79-CM$60-CM$70-CM$80-CM$61-CM$71-CM$81-CM$62-CM$72-CM$82)*$B83,MIN((-CM$14-CM$59-CM$69-CM$79-CM$60-CM$70-CM$80-CM$61-CM$71-CM$81-CM$62-CM$72-CM$82)*$B83,(CM$54+IF($B$59<>CM$31,SUM($C$33:CM$35),0))*$B83)))","v":0},{"$f":"IF((-CN$14-CN$59-CN$69-CN$79-CN$60-CN$70-CN$80-CN$61-CN$71-CN$81-CN$62-CN$72-CN$82)<=0,0,IF($B$14=\"As Received\",(-CN$14-CN$59-CN$69-CN$79-CN$60-CN$70-CN$80-CN$61-CN$71-CN$81-CN$62-CN$72-CN$82)*$B83,MIN((-CN$14-CN$59-CN$69-CN$79-CN$60-CN$70-CN$80-CN$61-CN$71-CN$81-CN$62-CN$72-CN$82)*$B83,(CN$54+IF($B$59<>CN$31,SUM($C$33:CN$35),0))*$B83)))","v":0},{"$f":"IF((-CO$14-CO$59-CO$69-CO$79-CO$60-CO$70-CO$80-CO$61-CO$71-CO$81-CO$62-CO$72-CO$82)<=0,0,IF($B$14=\"As Received\",(-CO$14-CO$59-CO$69-CO$79-CO$60-CO$70-CO$80-CO$61-CO$71-CO$81-CO$62-CO$72-CO$82)*$B83,MIN((-CO$14-CO$59-CO$69-CO$79-CO$60-CO$70-CO$80-CO$61-CO$71-CO$81-CO$62-CO$72-CO$82)*$B83,(CO$54+IF($B$59<>CO$31,SUM($C$33:CO$35),0))*$B83)))","v":0},{"$f":"IF((-CP$14-CP$59-CP$69-CP$79-CP$60-CP$70-CP$80-CP$61-CP$71-CP$81-CP$62-CP$72-CP$82)<=0,0,IF($B$14=\"As Received\",(-CP$14-CP$59-CP$69-CP$79-CP$60-CP$70-CP$80-CP$61-CP$71-CP$81-CP$62-CP$72-CP$82)*$B83,MIN((-CP$14-CP$59-CP$69-CP$79-CP$60-CP$70-CP$80-CP$61-CP$71-CP$81-CP$62-CP$72-CP$82)*$B83,(CP$54+IF($B$59<>CP$31,SUM($C$33:CP$35),0))*$B83)))","v":0},{"$f":"IF((-CQ$14-CQ$59-CQ$69-CQ$79-CQ$60-CQ$70-CQ$80-CQ$61-CQ$71-CQ$81-CQ$62-CQ$72-CQ$82)<=0,0,IF($B$14=\"As Received\",(-CQ$14-CQ$59-CQ$69-CQ$79-CQ$60-CQ$70-CQ$80-CQ$61-CQ$71-CQ$81-CQ$62-CQ$72-CQ$82)*$B83,MIN((-CQ$14-CQ$59-CQ$69-CQ$79-CQ$60-CQ$70-CQ$80-CQ$61-CQ$71-CQ$81-CQ$62-CQ$72-CQ$82)*$B83,(CQ$54+IF($B$59<>CQ$31,SUM($C$33:CQ$35),0))*$B83)))","v":0},{"$f":"IF((-CR$14-CR$59-CR$69-CR$79-CR$60-CR$70-CR$80-CR$61-CR$71-CR$81-CR$62-CR$72-CR$82)<=0,0,IF($B$14=\"As Received\",(-CR$14-CR$59-CR$69-CR$79-CR$60-CR$70-CR$80-CR$61-CR$71-CR$81-CR$62-CR$72-CR$82)*$B83,MIN((-CR$14-CR$59-CR$69-CR$79-CR$60-CR$70-CR$80-CR$61-CR$71-CR$81-CR$62-CR$72-CR$82)*$B83,(CR$54+IF($B$59<>CR$31,SUM($C$33:CR$35),0))*$B83)))","v":0},{"$f":"IF((-CS$14-CS$59-CS$69-CS$79-CS$60-CS$70-CS$80-CS$61-CS$71-CS$81-CS$62-CS$72-CS$82)<=0,0,IF($B$14=\"As Received\",(-CS$14-CS$59-CS$69-CS$79-CS$60-CS$70-CS$80-CS$61-CS$71-CS$81-CS$62-CS$72-CS$82)*$B83,MIN((-CS$14-CS$59-CS$69-CS$79-CS$60-CS$70-CS$80-CS$61-CS$71-CS$81-CS$62-CS$72-CS$82)*$B83,(CS$54+IF($B$59<>CS$31,SUM($C$33:CS$35),0))*$B83)))","v":0},{"$f":"IF((-CT$14-CT$59-CT$69-CT$79-CT$60-CT$70-CT$80-CT$61-CT$71-CT$81-CT$62-CT$72-CT$82)<=0,0,IF($B$14=\"As Received\",(-CT$14-CT$59-CT$69-CT$79-CT$60-CT$70-CT$80-CT$61-CT$71-CT$81-CT$62-CT$72-CT$82)*$B83,MIN((-CT$14-CT$59-CT$69-CT$79-CT$60-CT$70-CT$80-CT$61-CT$71-CT$81-CT$62-CT$72-CT$82)*$B83,(CT$54+IF($B$59<>CT$31,SUM($C$33:CT$35),0))*$B83)))","v":0},{"$f":"IF((-CU$14-CU$59-CU$69-CU$79-CU$60-CU$70-CU$80-CU$61-CU$71-CU$81-CU$62-CU$72-CU$82)<=0,0,IF($B$14=\"As Received\",(-CU$14-CU$59-CU$69-CU$79-CU$60-CU$70-CU$80-CU$61-CU$71-CU$81-CU$62-CU$72-CU$82)*$B83,MIN((-CU$14-CU$59-CU$69-CU$79-CU$60-CU$70-CU$80-CU$61-CU$71-CU$81-CU$62-CU$72-CU$82)*$B83,(CU$54+IF($B$59<>CU$31,SUM($C$33:CU$35),0))*$B83)))","v":0},{"$f":"IF((-CV$14-CV$59-CV$69-CV$79-CV$60-CV$70-CV$80-CV$61-CV$71-CV$81-CV$62-CV$72-CV$82)<=0,0,IF($B$14=\"As Received\",(-CV$14-CV$59-CV$69-CV$79-CV$60-CV$70-CV$80-CV$61-CV$71-CV$81-CV$62-CV$72-CV$82)*$B83,MIN((-CV$14-CV$59-CV$69-CV$79-CV$60-CV$70-CV$80-CV$61-CV$71-CV$81-CV$62-CV$72-CV$82)*$B83,(CV$54+IF($B$59<>CV$31,SUM($C$33:CV$35),0))*$B83)))","v":0},{"$f":"IF((-CW$14-CW$59-CW$69-CW$79-CW$60-CW$70-CW$80-CW$61-CW$71-CW$81-CW$62-CW$72-CW$82)<=0,0,IF($B$14=\"As Received\",(-CW$14-CW$59-CW$69-CW$79-CW$60-CW$70-CW$80-CW$61-CW$71-CW$81-CW$62-CW$72-CW$82)*$B83,MIN((-CW$14-CW$59-CW$69-CW$79-CW$60-CW$70-CW$80-CW$61-CW$71-CW$81-CW$62-CW$72-CW$82)*$B83,(CW$54+IF($B$59<>CW$31,SUM($C$33:CW$35),0))*$B83)))","v":0},{"$f":"IF((-CX$14-CX$59-CX$69-CX$79-CX$60-CX$70-CX$80-CX$61-CX$71-CX$81-CX$62-CX$72-CX$82)<=0,0,IF($B$14=\"As Received\",(-CX$14-CX$59-CX$69-CX$79-CX$60-CX$70-CX$80-CX$61-CX$71-CX$81-CX$62-CX$72-CX$82)*$B83,MIN((-CX$14-CX$59-CX$69-CX$79-CX$60-CX$70-CX$80-CX$61-CX$71-CX$81-CX$62-CX$72-CX$82)*$B83,(CX$54+IF($B$59<>CX$31,SUM($C$33:CX$35),0))*$B83)))","v":0},{"$f":"IF((-CY$14-CY$59-CY$69-CY$79-CY$60-CY$70-CY$80-CY$61-CY$71-CY$81-CY$62-CY$72-CY$82)<=0,0,IF($B$14=\"As Received\",(-CY$14-CY$59-CY$69-CY$79-CY$60-CY$70-CY$80-CY$61-CY$71-CY$81-CY$62-CY$72-CY$82)*$B83,MIN((-CY$14-CY$59-CY$69-CY$79-CY$60-CY$70-CY$80-CY$61-CY$71-CY$81-CY$62-CY$72-CY$82)*$B83,(CY$54+IF($B$59<>CY$31,SUM($C$33:CY$35),0))*$B83)))","v":0},{"$f":"IF((-CZ$14-CZ$59-CZ$69-CZ$79-CZ$60-CZ$70-CZ$80-CZ$61-CZ$71-CZ$81-CZ$62-CZ$72-CZ$82)<=0,0,IF($B$14=\"As Received\",(-CZ$14-CZ$59-CZ$69-CZ$79-CZ$60-CZ$70-CZ$80-CZ$61-CZ$71-CZ$81-CZ$62-CZ$72-CZ$82)*$B83,MIN((-CZ$14-CZ$59-CZ$69-CZ$79-CZ$60-CZ$70-CZ$80-CZ$61-CZ$71-CZ$81-CZ$62-CZ$72-CZ$82)*$B83,(CZ$54+IF($B$59<>CZ$31,SUM($C$33:CZ$35),0))*$B83)))","v":0},{"$f":"IF((-DA$14-DA$59-DA$69-DA$79-DA$60-DA$70-DA$80-DA$61-DA$71-DA$81-DA$62-DA$72-DA$82)<=0,0,IF($B$14=\"As Received\",(-DA$14-DA$59-DA$69-DA$79-DA$60-DA$70-DA$80-DA$61-DA$71-DA$81-DA$62-DA$72-DA$82)*$B83,MIN((-DA$14-DA$59-DA$69-DA$79-DA$60-DA$70-DA$80-DA$61-DA$71-DA$81-DA$62-DA$72-DA$82)*$B83,(DA$54+IF($B$59<>DA$31,SUM($C$33:DA$35),0))*$B83)))","v":0},{"$f":"IF((-DB$14-DB$59-DB$69-DB$79-DB$60-DB$70-DB$80-DB$61-DB$71-DB$81-DB$62-DB$72-DB$82)<=0,0,IF($B$14=\"As Received\",(-DB$14-DB$59-DB$69-DB$79-DB$60-DB$70-DB$80-DB$61-DB$71-DB$81-DB$62-DB$72-DB$82)*$B83,MIN((-DB$14-DB$59-DB$69-DB$79-DB$60-DB$70-DB$80-DB$61-DB$71-DB$81-DB$62-DB$72-DB$82)*$B83,(DB$54+IF($B$59<>DB$31,SUM($C$33:DB$35),0))*$B83)))","v":0},{"$f":"IF((-DC$14-DC$59-DC$69-DC$79-DC$60-DC$70-DC$80-DC$61-DC$71-DC$81-DC$62-DC$72-DC$82)<=0,0,IF($B$14=\"As Received\",(-DC$14-DC$59-DC$69-DC$79-DC$60-DC$70-DC$80-DC$61-DC$71-DC$81-DC$62-DC$72-DC$82)*$B83,MIN((-DC$14-DC$59-DC$69-DC$79-DC$60-DC$70-DC$80-DC$61-DC$71-DC$81-DC$62-DC$72-DC$82)*$B83,(DC$54+IF($B$59<>DC$31,SUM($C$33:DC$35),0))*$B83)))","v":0},{"$f":"IF((-DD$14-DD$59-DD$69-DD$79-DD$60-DD$70-DD$80-DD$61-DD$71-DD$81-DD$62-DD$72-DD$82)<=0,0,IF($B$14=\"As Received\",(-DD$14-DD$59-DD$69-DD$79-DD$60-DD$70-DD$80-DD$61-DD$71-DD$81-DD$62-DD$72-DD$82)*$B83,MIN((-DD$14-DD$59-DD$69-DD$79-DD$60-DD$70-DD$80-DD$61-DD$71-DD$81-DD$62-DD$72-DD$82)*$B83,(DD$54+IF($B$59<>DD$31,SUM($C$33:DD$35),0))*$B83)))","v":0},{"$f":"IF((-DE$14-DE$59-DE$69-DE$79-DE$60-DE$70-DE$80-DE$61-DE$71-DE$81-DE$62-DE$72-DE$82)<=0,0,IF($B$14=\"As Received\",(-DE$14-DE$59-DE$69-DE$79-DE$60-DE$70-DE$80-DE$61-DE$71-DE$81-DE$62-DE$72-DE$82)*$B83,MIN((-DE$14-DE$59-DE$69-DE$79-DE$60-DE$70-DE$80-DE$61-DE$71-DE$81-DE$62-DE$72-DE$82)*$B83,(DE$54+IF($B$59<>DE$31,SUM($C$33:DE$35),0))*$B83)))","v":0},{"$f":"IF((-DF$14-DF$59-DF$69-DF$79-DF$60-DF$70-DF$80-DF$61-DF$71-DF$81-DF$62-DF$72-DF$82)<=0,0,IF($B$14=\"As Received\",(-DF$14-DF$59-DF$69-DF$79-DF$60-DF$70-DF$80-DF$61-DF$71-DF$81-DF$62-DF$72-DF$82)*$B83,MIN((-DF$14-DF$59-DF$69-DF$79-DF$60-DF$70-DF$80-DF$61-DF$71-DF$81-DF$62-DF$72-DF$82)*$B83,(DF$54+IF($B$59<>DF$31,SUM($C$33:DF$35),0))*$B83)))","v":0},{"$f":"IF((-DG$14-DG$59-DG$69-DG$79-DG$60-DG$70-DG$80-DG$61-DG$71-DG$81-DG$62-DG$72-DG$82)<=0,0,IF($B$14=\"As Received\",(-DG$14-DG$59-DG$69-DG$79-DG$60-DG$70-DG$80-DG$61-DG$71-DG$81-DG$62-DG$72-DG$82)*$B83,MIN((-DG$14-DG$59-DG$69-DG$79-DG$60-DG$70-DG$80-DG$61-DG$71-DG$81-DG$62-DG$72-DG$82)*$B83,(DG$54+IF($B$59<>DG$31,SUM($C$33:DG$35),0))*$B83)))","v":0},{"$f":"IF((-DH$14-DH$59-DH$69-DH$79-DH$60-DH$70-DH$80-DH$61-DH$71-DH$81-DH$62-DH$72-DH$82)<=0,0,IF($B$14=\"As Received\",(-DH$14-DH$59-DH$69-DH$79-DH$60-DH$70-DH$80-DH$61-DH$71-DH$81-DH$62-DH$72-DH$82)*$B83,MIN((-DH$14-DH$59-DH$69-DH$79-DH$60-DH$70-DH$80-DH$61-DH$71-DH$81-DH$62-DH$72-DH$82)*$B83,(DH$54+IF($B$59<>DH$31,SUM($C$33:DH$35),0))*$B83)))","v":0},{"$f":"IF((-DI$14-DI$59-DI$69-DI$79-DI$60-DI$70-DI$80-DI$61-DI$71-DI$81-DI$62-DI$72-DI$82)<=0,0,IF($B$14=\"As Received\",(-DI$14-DI$59-DI$69-DI$79-DI$60-DI$70-DI$80-DI$61-DI$71-DI$81-DI$62-DI$72-DI$82)*$B83,MIN((-DI$14-DI$59-DI$69-DI$79-DI$60-DI$70-DI$80-DI$61-DI$71-DI$81-DI$62-DI$72-DI$82)*$B83,(DI$54+IF($B$59<>DI$31,SUM($C$33:DI$35),0))*$B83)))","v":0},{"$f":"IF((-DJ$14-DJ$59-DJ$69-DJ$79-DJ$60-DJ$70-DJ$80-DJ$61-DJ$71-DJ$81-DJ$62-DJ$72-DJ$82)<=0,0,IF($B$14=\"As Received\",(-DJ$14-DJ$59-DJ$69-DJ$79-DJ$60-DJ$70-DJ$80-DJ$61-DJ$71-DJ$81-DJ$62-DJ$72-DJ$82)*$B83,MIN((-DJ$14-DJ$59-DJ$69-DJ$79-DJ$60-DJ$70-DJ$80-DJ$61-DJ$71-DJ$81-DJ$62-DJ$72-DJ$82)*$B83,(DJ$54+IF($B$59<>DJ$31,SUM($C$33:DJ$35),0))*$B83)))","v":0},{"$f":"IF((-DK$14-DK$59-DK$69-DK$79-DK$60-DK$70-DK$80-DK$61-DK$71-DK$81-DK$62-DK$72-DK$82)<=0,0,IF($B$14=\"As Received\",(-DK$14-DK$59-DK$69-DK$79-DK$60-DK$70-DK$80-DK$61-DK$71-DK$81-DK$62-DK$72-DK$82)*$B83,MIN((-DK$14-DK$59-DK$69-DK$79-DK$60-DK$70-DK$80-DK$61-DK$71-DK$81-DK$62-DK$72-DK$82)*$B83,(DK$54+IF($B$59<>DK$31,SUM($C$33:DK$35),0))*$B83)))","v":0},{"$f":"IF((-DL$14-DL$59-DL$69-DL$79-DL$60-DL$70-DL$80-DL$61-DL$71-DL$81-DL$62-DL$72-DL$82)<=0,0,IF($B$14=\"As Received\",(-DL$14-DL$59-DL$69-DL$79-DL$60-DL$70-DL$80-DL$61-DL$71-DL$81-DL$62-DL$72-DL$82)*$B83,MIN((-DL$14-DL$59-DL$69-DL$79-DL$60-DL$70-DL$80-DL$61-DL$71-DL$81-DL$62-DL$72-DL$82)*$B83,(DL$54+IF($B$59<>DL$31,SUM($C$33:DL$35),0))*$B83)))","v":0},{"$f":"IF((-DM$14-DM$59-DM$69-DM$79-DM$60-DM$70-DM$80-DM$61-DM$71-DM$81-DM$62-DM$72-DM$82)<=0,0,IF($B$14=\"As Received\",(-DM$14-DM$59-DM$69-DM$79-DM$60-DM$70-DM$80-DM$61-DM$71-DM$81-DM$62-DM$72-DM$82)*$B83,MIN((-DM$14-DM$59-DM$69-DM$79-DM$60-DM$70-DM$80-DM$61-DM$71-DM$81-DM$62-DM$72-DM$82)*$B83,(DM$54+IF($B$59<>DM$31,SUM($C$33:DM$35),0))*$B83)))","v":0},{"$f":"IF((-DN$14-DN$59-DN$69-DN$79-DN$60-DN$70-DN$80-DN$61-DN$71-DN$81-DN$62-DN$72-DN$82)<=0,0,IF($B$14=\"As Received\",(-DN$14-DN$59-DN$69-DN$79-DN$60-DN$70-DN$80-DN$61-DN$71-DN$81-DN$62-DN$72-DN$82)*$B83,MIN((-DN$14-DN$59-DN$69-DN$79-DN$60-DN$70-DN$80-DN$61-DN$71-DN$81-DN$62-DN$72-DN$82)*$B83,(DN$54+IF($B$59<>DN$31,SUM($C$33:DN$35),0))*$B83)))","v":0},{"$f":"IF((-DO$14-DO$59-DO$69-DO$79-DO$60-DO$70-DO$80-DO$61-DO$71-DO$81-DO$62-DO$72-DO$82)<=0,0,IF($B$14=\"As Received\",(-DO$14-DO$59-DO$69-DO$79-DO$60-DO$70-DO$80-DO$61-DO$71-DO$81-DO$62-DO$72-DO$82)*$B83,MIN((-DO$14-DO$59-DO$69-DO$79-DO$60-DO$70-DO$80-DO$61-DO$71-DO$81-DO$62-DO$72-DO$82)*$B83,(DO$54+IF($B$59<>DO$31,SUM($C$33:DO$35),0))*$B83)))","v":0},{"$f":"IF((-DP$14-DP$59-DP$69-DP$79-DP$60-DP$70-DP$80-DP$61-DP$71-DP$81-DP$62-DP$72-DP$82)<=0,0,IF($B$14=\"As Received\",(-DP$14-DP$59-DP$69-DP$79-DP$60-DP$70-DP$80-DP$61-DP$71-DP$81-DP$62-DP$72-DP$82)*$B83,MIN((-DP$14-DP$59-DP$69-DP$79-DP$60-DP$70-DP$80-DP$61-DP$71-DP$81-DP$62-DP$72-DP$82)*$B83,(DP$54+IF($B$59<>DP$31,SUM($C$33:DP$35),0))*$B83)))","v":0},{"$f":"IF((-DQ$14-DQ$59-DQ$69-DQ$79-DQ$60-DQ$70-DQ$80-DQ$61-DQ$71-DQ$81-DQ$62-DQ$72-DQ$82)<=0,0,IF($B$14=\"As Received\",(-DQ$14-DQ$59-DQ$69-DQ$79-DQ$60-DQ$70-DQ$80-DQ$61-DQ$71-DQ$81-DQ$62-DQ$72-DQ$82)*$B83,MIN((-DQ$14-DQ$59-DQ$69-DQ$79-DQ$60-DQ$70-DQ$80-DQ$61-DQ$71-DQ$81-DQ$62-DQ$72-DQ$82)*$B83,(DQ$54+IF($B$59<>DQ$31,SUM($C$33:DQ$35),0))*$B83)))","v":0},{"$f":"IF((-DR$14-DR$59-DR$69-DR$79-DR$60-DR$70-DR$80-DR$61-DR$71-DR$81-DR$62-DR$72-DR$82)<=0,0,IF($B$14=\"As Received\",(-DR$14-DR$59-DR$69-DR$79-DR$60-DR$70-DR$80-DR$61-DR$71-DR$81-DR$62-DR$72-DR$82)*$B83,MIN((-DR$14-DR$59-DR$69-DR$79-DR$60-DR$70-DR$80-DR$61-DR$71-DR$81-DR$62-DR$72-DR$82)*$B83,(DR$54+IF($B$59<>DR$31,SUM($C$33:DR$35),0))*$B83)))","v":0},{"$f":"IF((-DS$14-DS$59-DS$69-DS$79-DS$60-DS$70-DS$80-DS$61-DS$71-DS$81-DS$62-DS$72-DS$82)<=0,0,IF($B$14=\"As Received\",(-DS$14-DS$59-DS$69-DS$79-DS$60-DS$70-DS$80-DS$61-DS$71-DS$81-DS$62-DS$72-DS$82)*$B83,MIN((-DS$14-DS$59-DS$69-DS$79-DS$60-DS$70-DS$80-DS$61-DS$71-DS$81-DS$62-DS$72-DS$82)*$B83,(DS$54+IF($B$59<>DS$31,SUM($C$33:DS$35),0))*$B83)))","v":0}]
["Total",null,{"$f":"SUM(C78:C83)","v":0},4.5474735088646412E-13,4.5474735088646412E-13,4.5474735088646412E-13,0,4.5474735088646412E-13,4.5474735088646412E-13,4.5474735088646412E-13,4.5474735088646412E-13,0,0,0,0,0,0,0,0,0,0,0,0,0,0,0,0,0,0,0,0,0,0,0,0,0,0,0,9.0949470177292824E-13,9.0949470177292824E-13,9.0949470177292824E-13,9.0949470177292824E-13,9.0949470177292824E-13,9.0949470177292824E-13,9.0949470177292824E-13,9.0949470177292824E-13,9.0949470177292824E-13,9.0949470177292824E-13,9.0949470177292824E-13,9.0949470177292824E-13,9.0949470177292824E-13,0,0,0,0,0,0,0,0,0,0,0,0,0,0,0,{"$f":"SUM(BO78:BO83)","v":0},0,0,0,0,0,0,0,0,0,0,0,0,0,0,0,0,0,0,0,4401590.6707377201,0,0,0,0,0,0,0,0,0,0,0,0,0,0,0,0,0,0,0,0,0,0,0,0,0,0,0,0,0,0,0,0,0,0,0,0]
["IRR",{"$f":"IF(ISERROR(IRR(C84:OFFSET(C84,,B79),0.01)),\"N/A\",(1+IRR(C84:OFFSET(C84,,B79),0.01))^$B$113-1)","v":"N/A"}]
[]
["Total View Cash Flows",null,{"$f":"C74+C84","v":-999855.99999999977},{"$f":"D74+D84","v":7072.6674160289076},7072.6674160289076,7072.6674160289076,6059.4841644139633,7727.4361644139644,7727.4361644139644,7727.4361644139644,7164.5565801834382,8091.1965801834376,8138.8632468501064,8372.4299135167748,6916.2247462213527,9795.5011462213533,9795.5011462213533,9892.4360795546836,9331.3976676112725,10163.71102800243,11673.79102800243,11673.79102800243,12028.431028002437,12028.431028002437,12028.431028002437,12028.431028002437,12246.88357599439,12246.88357599439,12246.88357599439,12246.88357599439,12277.39024266106,12277.39024266106,12277.39024266106,12277.39024266106,12336.954509327728,12336.954509327728,12336.954509327728,12336.954509327728,12323.154447092784,12323.154447092784,12323.154447092784,12323.154447092784,12323.154447092784,12323.154447092784,12323.154447092784,12323.154447092784,12323.154447092784,12323.154447092784,12323.154447092784,12323.154447092784,12308.940382990782,12518.67371632412,12518.67371632412,12518.67371632412,12518.67371632412,12518.67371632412,12518.67371632412,12518.67371632412,12518.67371632412,12518.67371632412,12518.67371632412,12518.67371632412,12504.033230299057,12675.633230299058,12675.633230299058,12675.633230299058,12675.633230299058,{"$f":"BP74+BP84","v":12675.633230299058},12675.633230299058,12675.633230299058,12675.633230299058,12675.633230299058,12742.366563632395,13078.702563632396,13063.62286302659,13139.81326302659,13139.81326302659,13139.81326302659,13139.81326302659,13139.81326302659,13139.81326302659,13139.81326302659,13139.81326302659,13139.81326302659,13139.81326302659,13139.81326302659,5443603.20886801]
["Total View IRR",{"$f":"IF(ISERROR(IRR(C87:OFFSET(C87,,B79),0.01)),\"N/A\",(1+IRR(C87:OFFSET(C87,,B79),0.01))^$B$113-1)","v":0.35826455748621067}]
["Calculation Audit"]
["Equity Cash Flow Check",null,{"$f":"C64+C74+C84","v":-4369999.9999999991},{"$f":"D64+D74+D84","v":30912.007937189279},30912.007937189279,30912.007937189279,26483.759459851237,33773.759459851237,33773.759459851237,33773.759459851237,31313.621416885653,35363.621416885653,35571.954750218996,36592.788083552339,30228.255009708708,42812.505009708708,42812.505009708708,43236.171676375365,40784.08071508423,44421.813933577054,51021.813933577054,51021.813933577054,52571.813933577083,52571.813933577083,52571.813933577083,52571.813933577083,53526.58905591954,53526.58905591954,53526.58905591954,53526.58905591954,53659.922389252883,53659.922389252883,53659.922389252883,53659.922389252883,53920.255722586226,53920.255722586226,53920.255722586226,53920.255722586226,53859.940765265652,53859.940765265652,53859.940765265652,53859.940765265652,53859.940765265652,53859.940765265652,53859.940765265652,53859.940765265652,53859.940765265652,53859.940765265652,53859.940765265652,53859.940765265652,53797.816359225442,54714.483025892128,54714.483025892128,54714.483025892128,54714.483025892128,54714.483025892128,54714.483025892128,54714.483025892128,54714.483025892128,54714.483025892128,54714.483025892128,54714.483025892128,54650.494887670706,55400.494887670706,55400.494887670706,55400.494887670706,55400.494887670706,{"$f":"BP64+BP74+BP84","v":55400.494887670706},55400.494887670706,55400.494887670706,55400.494887670706,55400.494887670706,55692.161554337392,57162.161554337392,57096.253771969365,57429.253771969365,57429.253771969365,57429.253771969365,57429.253771969365,57429.253771969365,57429.253771969365,57429.253771969365,57429.253771969365,57429.253771969365,57429.253771969365,57429.253771969365,8955841.2744540237,0,0,0,0,0,0,0,0,0,0,0,0,0,0,0,0,0,0,0,0,0,0,0,0,0,0,0,0,0,0,0,0,0,0,0,0]
["Variance",null,{"$f":"-C14+C18-C90","v":0},0,0,0,0,0,0,0,0,0,0,0,0,0,0,0,0,0,0,0,0,0,0,0,0,0,0,0,0,0,0,0,0,0,0,0,0,0,0,0,0,0,0,0,0,0,0,0,0,0,0,0,0,0,0,0,0,0,0,0,0,0,0,0,{"$f":"-BO14+BO18-BO90","v":0},0,0,0,0,0,0,0,0,0,0,0,0,0,0,0,0,0,0,0,0,0,0,0,0,0,0,0,0,0,0,0,0,0,0,0,0,0,0,0,0,0,0,0,0,0,0,0,0,0,0,0,0,0,0,0,0]
["IRR",{"$f":"IF(ISERROR((1+IRR(C90:OFFSET(C90,,B59),0.01))^B113-1),\"N/A\",(1+IRR(C90:OFFSET(C90,,$B$59),0.01))^$B$113-1)","v":0.2201883134514413}]
[]
[{"$f":"A26&\" Hurdle Check\"","v":"LP - Raised Hurdle Check"}]
["Tier 1",{"$f":"IF(ISERROR(IRR(C95:OFFSET(C95,,$B$59),0.01)),0,(1+IRR(C95:OFFSET(C95,,$B$59),0.01))^$B$113-1)","v":0},{"$f":"SUM(C$58:C60)","v":-3370143.9999999991},{"$f":"SUM(D$58:D60)","v":23839.340521160371},{"$f":"SUM(E$58:E60)","v":23839.340521160371},{"$f":"SUM(F$58:F60)","v":23839.340521160371},{"$f":"SUM(G$58:G60)","v":20424.275295437274},{"$f":"SUM(H$58:H60)","v":26046.323295437272},{"$f":"SUM(I$58:I60)","v":26046.323295437272},{"$f":"SUM(J$58:J60)","v":26046.323295437272},{"$f":"SUM(K$58:K60)","v":24149.064836702215},{"$f":"SUM(L$58:L60)","v":27272.424836702216},{"$f":"SUM(M$58:M60)","v":27433.091503368891},{"$f":"SUM(N$58:N60)","v":28220.358170035564},{"$f":"SUM(O$58:O60)","v":23312.030263487355},{"$f":"SUM(P$58:P60)","v":33017.003863487356},{"$f":"SUM(Q$58:Q60)","v":33017.003863487356},{"$f":"SUM(R$58:R60)","v":33343.735596820683},{"$f":"SUM(S$58:S60)","v":31452.683047472958},{"$f":"SUM(T$58:T60)","v":34258.102905574626},{"$f":"SUM(U$58:U60)","v":39348.022905574624},{"$f":"SUM(V$58:V60)","v":39348.022905574624},{"$f":"SUM(W$58:W60)","v":40543.382905574646},{"$f":"SUM(X$58:X60)","v":40543.382905574646},{"$f":"SUM(Y$58:Y60)","v":40543.382905574646},{"$f":"SUM(Z$58:Z60)","v":40543.382905574646},{"$f":"SUM(AA$58:AA60)","v":41279.705479925149},{"$f":"SUM(AB$58:AB60)","v":41279.705479925149},{"$f":"SUM(AC$58:AC60)","v":41279.705479925149},{"$f":"SUM(AD$58:AD60)","v":41279.705479925149},{"$f":"SUM(AE$58:AE60)","v":41382.532146591824},{"$f":"SUM(AF$58:AF60)","v":41382.532146591824},{"$f":"SUM(AG$58:AG60)","v":41382.532146591824},{"$f":"SUM(AH$58:AH60)","v":41382.532146591824},{"$f":"SUM(AI$58:AI60)","v":41583.301213258499},{"$f":"SUM(AJ$58:AJ60)","v":41583.301213258499},{"$f":"SUM(AK$58:AK60)","v":41583.301213258499},{"$f":"SUM(AL$58:AL60)","v":41583.301213258499},{"$f":"SUM(AM$58:AM60)","v":41536.786318172868},{"$f":"SUM(AN$58:AN60)","v":41536.786318172868},{"$f":"SUM(AO$58:AO60)","v":41536.786318172868},{"$f":"SUM(AP$58:AP60)","v":41536.786318172868},{"$f":"SUM(AQ$58:AQ60)","v":41536.786318172868},{"$f":"SUM(AR$58:AR60)","v":41536.786318172868},{"$f":"SUM(AS$58:AS60)","v":41536.786318172868},{"$f":"SUM(AT$58:AT60)","v":41536.786318172868},{"$f":"SUM(AU$58:AU60)","v":41536.786318172868},{"$f":"SUM(AV$58:AV60)","v":41536.786318172868},{"$f":"SUM(AW$58:AW60)","v":41536.786318172868},{"$f":"SUM(AX$58:AX60)","v":41536.786318172868},{"$f":"SUM(AY$58:AY60)","v":41488.87597623466},{"$f":"SUM(AZ$58:AZ60)","v":42195.809309568009},{"$f":"SUM(BA$58:BA60)","v":42195.809309568009},{"$f":"SUM(BB$58:BB60)","v":42195.809309568009},{"$f":"SUM(BC$58:BC60)","v":42195.809309568009},{"$f":"SUM(BD$58:BD60)","v":42195.809309568009},{"$f":"SUM(BE$58:BE60)","v":42195.809309568009},{"$f":"SUM(BF$58:BF60)","v":42195.809309568009},{"$f":"SUM(BG$58:BG60)","v":42195.809309568009},{"$f":"SUM(BH$58:BH60)","v":42195.809309568009},{"$f":"SUM(BI$58:BI60)","v":42195.809309568009},{"$f":"SUM(BJ$58:BJ60)","v":42195.809309568009},{"$f":"SUM(BK$58:BK60)","v":42146.461657371648},{"$f":"SUM(BL$58:BL60)","v":42724.86165737165},{"$f":"SUM(BM$58:BM60)","v":42724.86165737165},{"$f":"SUM(BN$58:BN60)","v":42724.86165737165},{"$f":"SUM(BO$58:BO60)","v":42724.86165737165},{"$f":"SUM(BP$58:BP60)","v":42724.86165737165},{"$f":"SUM(BQ$58:BQ60)","v":42724.86165737165},{"$f":"SUM(BR$58:BR60)","v":42724.86165737165},{"$f":"SUM(BS$58:BS60)","v":42724.86165737165},{"$f":"SUM(BT$58:BT60)","v":42724.86165737165},{"$f":"SUM(BU$58:BU60)","v":42949.794990704999},{"$f":"SUM(BV$58:BV60)","v":44083.458990704996},{"$f":"SUM(BW$58:BW60)","v":44032.630908942774},{"$f":"SUM(BX$58:BX60)","v":44289.440508942775},{"$f":"SUM(BY$58:BY60)","v":44289.440508942775},{"$f":"SUM(BZ$58:BZ60)","v":44289.440508942775},{"$f":"SUM(CA$58:CA60)","v":44289.440508942775},{"$f":"SUM(CB$58:CB60)","v":44289.440508942775},{"$f":"SUM(CC$58:CC60)","v":44289.440508942775},{"$f":"SUM(CD$58:CD60)","v":44289.440508942775},{"$f":"SUM(CE$58:CE60)","v":44289.440508942775},{"$f":"SUM(CF$58:CF60)","v":44289.440508942775},{"$f":"SUM(CG$58:CG60)","v":44289.440508942775},{"$f":"SUM(CH$58:CH60)","v":44289.440508942775},{"$f":"SUM(CI$58:CI60)","v":117731.34031308396},{"$f":"SUM(CJ$58:CJ60)","v":0},{"$f":"SUM(CK$58:CK60)","v":0},{"$f":"SUM(CL$58:CL60)","v":0},{"$f":"SUM(CM$58:CM60)","v":0},{"$f":"SUM(CN$58:CN60)","v":0},{"$f":"SUM(CO$58:CO60)","v":0},{"$f":"SUM(CP$58:CP60)","v":0},{"$f":"SUM(CQ$58:CQ60)","v":0},{"$f":"SUM(CR$58:CR60)","v":0},{"$f":"SUM(CS$58:CS60)","v":0},{"$f":"SUM(CT$58:CT60)","v":0},{"$f":"SUM(CU$58:CU60)","v":0},{"$f":"SUM(CV$58:CV60)","v":0},{"$f":"SUM(CW$58:CW60)","v":0},{"$f":"SUM(CX$58:CX60)","v":0},{"$f":"SUM(CY$58:CY60)","v":0},{"$f":"SUM(CZ$58:CZ60)","v":0},{"$f":"SUM(DA$58:DA60)","v":0},{"$f":"SUM(DB$58:DB60)","v":0},{"$f":"SUM(DC$58:DC60)","v":0},{"$f":"SUM(DD$58:DD60)","v":0},{"$f":"SUM(DE$58:DE60)","v":0},{"$f":"SUM(DF$58:DF60)","v":0},{"$f":"SUM(DG$58:DG60)","v":0},{"$f":"SUM(DH$58:DH60)","v":0},{"$f":"SUM(DI$58:DI60)","v":0},{"$f":"SUM(DJ$58:DJ60)","v":0},{"$f":"SUM(DK$58:DK60)","v":0},{"$f":"SUM(DL$58:DL60)","v":0},{"$f":"SUM(DM$58:DM60)","v":0},{"$f":"SUM(DN$58:DN60)","v":0},{"$f":"SUM(DO$58:DO60)","v":0},{"$f":"SUM(DP$58:DP60)","v":0},{"$f":"SUM(DQ$58:DQ60)","v":0},{"$f":"SUM(DR$58:DR60)","v":0},{"$f":"SUM(DS$58:DS60)","v":0}]
["Tier 2",{"$f":"IF(ISERROR(IRR(C96:OFFSET(C96,,$B$59),0.01)),0,(1+IRR(C96:OFFSET(C96,,$B$59),0.01))^$B$113-1)","v":0},{"$f":"SUM(C$58:C61)","v":-3370143.9999999991},{"$f":"SUM(D$58:D61)","v":23839.340521160371},{"$f":"SUM(E$58:E61)","v":23839.340521160371},{"$f":"SUM(F$58:F61)","v":23839.340521160371},{"$f":"SUM(G$58:G61)","v":20424.275295437274},{"$f":"SUM(H$58:H61)","v":26046.323295437272},{"$f":"SUM(I$58:I61)","v":26046.323295437272},{"$f":"SUM(J$58:J61)","v":26046.323295437272},{"$f":"SUM(K$58:K61)","v":24149.064836702215},{"$f":"SUM(L$58:L61)","v":27272.424836702216},{"$f":"SUM(M$58:M61)","v":27433.091503368891},{"$f":"SUM(N$58:N61)","v":28220.358170035564},{"$f":"SUM(O$58:O61)","v":23312.030263487355},{"$f":"SUM(P$58:P61)","v":33017.003863487356},{"$f":"SUM(Q$58:Q61)","v":33017.003863487356},{"$f":"SUM(R$58:R61)","v":33343.735596820683},{"$f":"SUM(S$58:S61)","v":31452.683047472958},{"$f":"SUM(T$58:T61)","v":34258.102905574626},{"$f":"SUM(U$58:U61)","v":39348.022905574624},{"$f":"SUM(V$58:V61)","v":39348.022905574624},{"$f":"SUM(W$58:W61)","v":40543.382905574646},{"$f":"SUM(X$58:X61)","v":40543.382905574646},{"$f":"SUM(Y$58:Y61)","v":40543.382905574646},{"$f":"SUM(Z$58:Z61)","v":40543.382905574646},{"$f":"SUM(AA$58:AA61)","v":41279.705479925149},{"$f":"SUM(AB$58:AB61)","v":41279.705479925149},{"$f":"SUM(AC$58:AC61)","v":41279.705479925149},{"$f":"SUM(AD$58:AD61)","v":41279.705479925149},{"$f":"SUM(AE$58:AE61)","v":41382.532146591824},{"$f":"SUM(AF$58:AF61)","v":41382.532146591824},{"$f":"SUM(AG$58:AG61)","v":41382.532146591824},{"$f":"SUM(AH$58:AH61)","v":41382.532146591824},{"$f":"SUM(AI$58:AI61)","v":41583.301213258499},{"$f":"SUM(AJ$58:AJ61)","v":41583.301213258499},{"$f":"SUM(AK$58:AK61)","v":41583.301213258499},{"$f":"SUM(AL$58:AL61)","v":41583.301213258499},{"$f":"SUM(AM$58:AM61)","v":41536.786318172868},{"$f":"SUM(AN$58:AN61)","v":41536.786318172868},{"$f":"SUM(AO$58:AO61)","v":41536.786318172868},{"$f":"SUM(AP$58:AP61)","v":41536.786318172868},{"$f":"SUM(AQ$58:AQ61)","v":41536.786318172868},{"$f":"SUM(AR$58:AR61)","v":41536.786318172868},{"$f":"SUM(AS$58:AS61)","v":41536.786318172868},{"$f":"SUM(AT$58:AT61)","v":41536.786318172868},{"$f":"SUM(AU$58:AU61)","v":41536.786318172868},{"$f":"SUM(AV$58:AV61)","v":41536.786318172868},{"$f":"SUM(AW$58:AW61)","v":41536.786318172868},{"$f":"SUM(AX$58:AX61)","v":41536.786318172868},{"$f":"SUM(AY$58:AY61)","v":41488.87597623466},{"$f":"SUM(AZ$58:AZ61)","v":42195.809309568009},{"$f":"SUM(BA$58:BA61)","v":42195.809309568009},{"$f":"SUM(BB$58:BB61)","v":42195.809309568009},{"$f":"SUM(BC$58:BC61)","v":42195.809309568009},{"$f":"SUM(BD$58:BD61)","v":42195.809309568009},{"$f":"SUM(BE$58:BE61)","v":42195.809309568009},{"$f":"SUM(BF$58:BF61)","v":42195.809309568009},{"$f":"SUM(BG$58:BG61)","v":42195.809309568009},{"$f":"SUM(BH$58:BH61)","v":42195.809309568009},{"$f":"SUM(BI$58:BI61)","v":42195.809309568009},{"$f":"SUM(BJ$58:BJ61)","v":42195.809309568009},{"$f":"SUM(BK$58:BK61)","v":42146.461657371648},{"$f":"SUM(BL$58:BL61)","v":42724.86165737165},{"$f":"SUM(BM$58:BM61)","v":42724.86165737165},{"$f":"SUM(BN$58:BN61)","v":42724.86165737165},{"$f":"SUM(BO$58:BO61)","v":42724.86165737165},{"$f":"SUM(BP$58:BP61)","v":42724.86165737165},{"$f":"SUM(BQ$58:BQ61)","v":42724.86165737165},{"$f":"SUM(BR$58:BR61)","v":42724.86165737165},{"$f":"SUM(BS$58:BS61)","v":42724.86165737165},{"$f":"SUM(BT$58:BT61)","v":42724.86165737165},{"$f":"SUM(BU$58:BU61)","v":42949.794990704999},{"$f":"SUM(BV$58:BV61)","v":44083.458990704996},{"$f":"SUM(BW$58:BW61)","v":44032.630908942774},{"$f":"SUM(BX$58:BX61)","v":44289.440508942775},{"$f":"SUM(BY$58:BY61)","v":44289.440508942775},{"$f":"SUM(BZ$58:BZ61)","v":44289.440508942775},{"$f":"SUM(CA$58:CA61)","v":44289.440508942775},{"$f":"SUM(CB$58:CB61)","v":44289.440508942775},{"$f":"SUM(CC$58:CC61)","v":44289.440508942775},{"$f":"SUM(CD$58:CD61)","v":44289.440508942775},{"$f":"SUM(CE$58:CE61)","v":44289.440508942775},{"$f":"SUM(CF$58:CF61)","v":44289.440508942775},{"$f":"SUM(CG$58:CG61)","v":44289.440508942775},{"$f":"SUM(CH$58:CH61)","v":44289.440508942775},{"$f":"SUM(CI$58:CI61)","v":117731.34031308396},{"$f":"SUM(CJ$58:CJ61)","v":0},{"$f":"SUM(CK$58:CK61)","v":0},{"$f":"SUM(CL$58:CL61)","v":0},{"$f":"SUM(CM$58:CM61)","v":0},{"$f":"SUM(CN$58:CN61)","v":0},{"$f":"SUM(CO$58:CO61)","v":0},{"$f":"SUM(CP$58:CP61)","v":0},{"$f":"SUM(CQ$58:CQ61)","v":0},{"$f":"SUM(CR$58:CR61)","v":0},{"$f":"SUM(CS$58:CS61)","v":0},{"$f":"SUM(CT$58:CT61)","v":0},{"$f":"SUM(CU$58:CU61)","v":0},{"$f":"SUM(CV$58:CV61)","v":0},{"$f":"SUM(CW$58:CW61)","v":0},{"$f":"SUM(CX$58:CX61)","v":0},{"$f":"SUM(CY$58:CY61)","v":0},{"$f":"SUM(CZ$58:CZ61)","v":0},{"$f":"SUM(DA$58:DA61)","v":0},{"$f":"SUM(DB$58:DB61)","v":0},{"$f":"SUM(DC$58:DC61)","v":0},{"$f":"SUM(DD$58:DD61)","v":0},{"$f":"SUM(DE$58:DE61)","v":0},{"$f":"SUM(DF$58:DF61)","v":0},{"$f":"SUM(DG$58:DG61)","v":0},{"$f":"SUM(DH$58:DH61)","v":0},{"$f":"SUM(DI$58:DI61)","v":0},{"$f":"SUM(DJ$58:DJ61)","v":0},{"$f":"SUM(DK$58:DK61)","v":0},{"$f":"SUM(DL$58:DL61)","v":0},{"$f":"SUM(DM$58:DM61)","v":0},{"$f":"SUM(DN$58:DN61)","v":0},{"$f":"SUM(DO$58:DO61)","v":0},{"$f":"SUM(DP$58:DP61)","v":0},{"$f":"SUM(DQ$58:DQ61)","v":0},{"$f":"SUM(DR$58:DR61)","v":0},{"$f":"SUM(DS$58:DS61)","v":0}]
["Tier 3",{"$f":"IF(ISERROR(IRR(C97:OFFSET(C97,,$B$59),0.01)),0,(1+IRR(C97:OFFSET(C97,,$B$59),0.01))^$B$113-1)","v":0},{"$f":"SUM(C$58:C62)","v":-3370143.9999999991},{"$f":"SUM(D$58:D62)","v":23839.340521160371},{"$f":"SUM(E$58:E62)","v":23839.340521160371},{"$f":"SUM(F$58:F62)","v":23839.340521160371},{"$f":"SUM(G$58:G62)","v":20424.275295437274},{"$f":"SUM(H$58:H62)","v":26046.323295437272},{"$f":"SUM(I$58:I62)","v":26046.323295437272},{"$f":"SUM(J$58:J62)","v":26046.323295437272},{"$f":"SUM(K$58:K62)","v":24149.064836702215},{"$f":"SUM(L$58:L62)","v":27272.424836702216},{"$f":"SUM(M$58:M62)","v":27433.091503368891},{"$f":"SUM(N$58:N62)","v":28220.358170035564},{"$f":"SUM(O$58:O62)","v":23312.030263487355},{"$f":"SUM(P$58:P62)","v":33017.003863487356},{"$f":"SUM(Q$58:Q62)","v":33017.003863487356},{"$f":"SUM(R$58:R62)","v":33343.735596820683},{"$f":"SUM(S$58:S62)","v":31452.683047472958},{"$f":"SUM(T$58:T62)","v":34258.102905574626},{"$f":"SUM(U$58:U62)","v":39348.022905574624},{"$f":"SUM(V$58:V62)","v":39348.022905574624},{"$f":"SUM(W$58:W62)","v":40543.382905574646},{"$f":"SUM(X$58:X62)","v":40543.382905574646},{"$f":"SUM(Y$58:Y62)","v":40543.382905574646},{"$f":"SUM(Z$58:Z62)","v":40543.382905574646},{"$f":"SUM(AA$58:AA62)","v":41279.705479925149},{"$f":"SUM(AB$58:AB62)","v":41279.705479925149},{"$f":"SUM(AC$58:AC62)","v":41279.705479925149},{"$f":"SUM(AD$58:AD62)","v":41279.705479925149},{"$f":"SUM(AE$58:AE62)","v":41382.532146591824},{"$f":"SUM(AF$58:AF62)","v":41382.532146591824},{"$f":"SUM(AG$58:AG62)","v":41382.532146591824},{"$f":"SUM(AH$58:AH62)","v":41382.532146591824},{"$f":"SUM(AI$58:AI62)","v":41583.301213258499},{"$f":"SUM(AJ$58:AJ62)","v":41583.301213258499},{"$f":"SUM(AK$58:AK62)","v":41583.301213258499},{"$f":"SUM(AL$58:AL62)","v":41583.301213258499},{"$f":"SUM(AM$58:AM62)","v":41536.786318172868},{"$f":"SUM(AN$58:AN62)","v":41536.786318172868},{"$f":"SUM(AO$58:AO62)","v":41536.786318172868},{"$f":"SUM(AP$58:AP62)","v":41536.786318172868},{"$f":"SUM(AQ$58:AQ62)","v":41536.786318172868},{"$f":"SUM(AR$58:AR62)","v":41536.786318172868},{"$f":"SUM(AS$58:AS62)","v":41536.786318172868},{"$f":"SUM(AT$58:AT62)","v":41536.786318172868},{"$f":"SUM(AU$58:AU62)","v":41536.786318172868},{"$f":"SUM(AV$58:AV62)","v":41536.786318172868},{"$f":"SUM(AW$58:AW62)","v":41536.786318172868},{"$f":"SUM(AX$58:AX62)","v":41536.786318172868},{"$f":"SUM(AY$58:AY62)","v":41488.87597623466},{"$f":"SUM(AZ$58:AZ62)","v":42195.809309568009},{"$f":"SUM(BA$58:BA62)","v":42195.809309568009},{"$f":"SUM(BB$58:BB62)","v":42195.809309568009},{"$f":"SUM(BC$58:BC62)","v":42195.809309568009},{"$f":"SUM(BD$58:BD62)","v":42195.809309568009},{"$f":"SUM(BE$58:BE62)","v":42195.809309568009},{"$f":"SUM(BF$58:BF62)","v":42195.809309568009},{"$f":"SUM(BG$58:BG62)","v":42195.809309568009},{"$f":"SUM(BH$58:BH62)","v":42195.809309568009},{"$f":"SUM(BI$58:BI62)","v":42195.809309568009},{"$f":"SUM(BJ$58:BJ62)","v":42195.809309568009},{"$f":"SUM(BK$58:BK62)","v":42146.461657371648},{"$f":"SUM(BL$58:BL62)","v":42724.86165737165},{"$f":"SUM(BM$58:BM62)","v":42724.86165737165},{"$f":"SUM(BN$58:BN62)","v":42724.86165737165},{"$f":"SUM(BO$58:BO62)","v":42724.86165737165},{"$f":"SUM(BP$58:BP62)","v":42724.86165737165},{"$f":"SUM(BQ$58:BQ62)","v":42724.86165737165},{"$f":"SUM(BR$58:BR62)","v":42724.86165737165},{"$f":"SUM(BS$58:BS62)","v":42724.86165737165},{"$f":"SUM(BT$58:BT62)","v":42724.86165737165},{"$f":"SUM(BU$58:BU62)","v":42949.794990704999},{"$f":"SUM(BV$58:BV62)","v":44083.458990704996},{"$f":"SUM(BW$58:BW62)","v":44032.630908942774},{"$f":"SUM(BX$58:BX62)","v":44289.440508942775},{"$f":"SUM(BY$58:BY62)","v":44289.440508942775},{"$f":"SUM(BZ$58:BZ62)","v":44289.440508942775},{"$f":"SUM(CA$58:CA62)","v":44289.440508942775},{"$f":"SUM(CB$58:CB62)","v":44289.440508942775},{"$f":"SUM(CC$58:CC62)","v":44289.440508942775},{"$f":"SUM(CD$58:CD62)","v":44289.440508942775},{"$f":"SUM(CE$58:CE62)","v":44289.440508942775},{"$f":"SUM(CF$58:CF62)","v":44289.440508942775},{"$f":"SUM(CG$58:CG62)","v":44289.440508942775},{"$f":"SUM(CH$58:CH62)","v":44289.440508942775},{"$f":"SUM(CI$58:CI62)","v":117731.34031308396},{"$f":"SUM(CJ$58:CJ62)","v":0},{"$f":"SUM(CK$58:CK62)","v":0},{"$f":"SUM(CL$58:CL62)","v":0},{"$f":"SUM(CM$58:CM62)","v":0},{"$f":"SUM(CN$58:CN62)","v":0},{"$f":"SUM(CO$58:CO62)","v":0},{"$f":"SUM(CP$58:CP62)","v":0},{"$f":"SUM(CQ$58:CQ62)","v":0},{"$f":"SUM(CR$58:CR62)","v":0},{"$f":"SUM(CS$58:CS62)","v":0},{"$f":"SUM(CT$58:CT62)","v":0},{"$f":"SUM(CU$58:CU62)","v":0},{"$f":"SUM(CV$58:CV62)","v":0},{"$f":"SUM(CW$58:CW62)","v":0},{"$f":"SUM(CX$58:CX62)","v":0},{"$f":"SUM(CY$58:CY62)","v":0},{"$f":"SUM(CZ$58:CZ62)","v":0},{"$f":"SUM(DA$58:DA62)","v":0},{"$f":"SUM(DB$58:DB62)","v":0},{"$f":"SUM(DC$58:DC62)","v":0},{"$f":"SUM(DD$58:DD62)","v":0},{"$f":"SUM(DE$58:DE62)","v":0},{"$f":"SUM(DF$58:DF62)","v":0},{"$f":"SUM(DG$58:DG62)","v":0},{"$f":"SUM(DH$58:DH62)","v":0},{"$f":"SUM(DI$58:DI62)","v":0},{"$f":"SUM(DJ$58:DJ62)","v":0},{"$f":"SUM(DK$58:DK62)","v":0},{"$f":"SUM(DL$58:DL62)","v":0},{"$f":"SUM(DM$58:DM62)","v":0},{"$f":"SUM(DN$58:DN62)","v":0},{"$f":"SUM(DO$58:DO62)","v":0},{"$f":"SUM(DP$58:DP62)","v":0},{"$f":"SUM(DQ$58:DQ62)","v":0},{"$f":"SUM(DR$58:DR62)","v":0},{"$f":"SUM(DS$58:DS62)","v":0}]
["Total",{"$f":"IF(ISERROR(IRR(C98:OFFSET(C98,,$B$59),0.01)),0,(1+IRR(C98:OFFSET(C98,,$B$59),0.01))^$B$113-1)","v":0.14594303425646338},{"$f":"SUM(C$58:C63)","v":-3370143.9999999991},{"$f":"SUM(D$58:D63)","v":23839.340521160371},{"$f":"SUM(E$58:E63)","v":23839.340521160371},{"$f":"SUM(F$58:F63)","v":23839.340521160371},{"$f":"SUM(G$58:G63)","v":20424.275295437274},{"$f":"SUM(H$58:H63)","v":26046.323295437272},{"$f":"SUM(I$58:I63)","v":26046.323295437272},{"$f":"SUM(J$58:J63)","v":26046.323295437272},{"$f":"SUM(K$58:K63)","v":24149.064836702215},{"$f":"SUM(L$58:L63)","v":27272.424836702216},{"$f":"SUM(M$58:M63)","v":27433.091503368891},{"$f":"SUM(N$58:N63)","v":28220.358170035564},{"$f":"SUM(O$58:O63)","v":23312.030263487355},{"$f":"SUM(P$58:P63)","v":33017.003863487356},{"$f":"SUM(Q$58:Q63)","v":33017.003863487356},{"$f":"SUM(R$58:R63)","v":33343.735596820683},{"$f":"SUM(S$58:S63)","v":31452.683047472958},{"$f":"SUM(T$58:T63)","v":34258.102905574626},{"$f":"SUM(U$58:U63)","v":39348.022905574624},{"$f":"SUM(V$58:V63)","v":39348.022905574624},{"$f":"SUM(W$58:W63)","v":40543.382905574646},{"$f":"SUM(X$58:X63)","v":40543.382905574646},{"$f":"SUM(Y$58:Y63)","v":40543.382905574646},{"$f":"SUM(Z$58:Z63)","v":40543.382905574646},{"$f":"SUM(AA$58:AA63)","v":41279.705479925149},{"$f":"SUM(AB$58:AB63)","v":41279.705479925149},{"$f":"SUM(AC$58:AC63)","v":41279.705479925149},{"$f":"SUM(AD$58:AD63)","v":41279.705479925149},{"$f":"SUM(AE$58:AE63)","v":41382.532146591824},{"$f":"SUM(AF$58:AF63)","v":41382.532146591824},{"$f":"SUM(AG$58:AG63)","v":41382.532146591824},{"$f":"SUM(AH$58:AH63)","v":41382.532146591824},{"$f":"SUM(AI$58:AI63)","v":41583.301213258499},{"$f":"SUM(AJ$58:AJ63)","v":41583.301213258499},{"$f":"SUM(AK$58:AK63)","v":41583.301213258499},{"$f":"SUM(AL$58:AL63)","v":41583.301213258499},{"$f":"SUM(AM$58:AM63)","v":41536.786318172868},{"$f":"SUM(AN$58:AN63)","v":41536.786318172868},{"$f":"SUM(AO$58:AO63)","v":41536.786318172868},{"$f":"SUM(AP$58:AP63)","v":41536.786318172868},{"$f":"SUM(AQ$58:AQ63)","v":41536.786318172868},{"$f":"SUM(AR$58:AR63)","v":41536.786318172868},{"$f":"SUM(AS$58:AS63)","v":41536.786318172868},{"$f":"SUM(AT$58:AT63)","v":41536.786318172868},{"$f":"SUM(AU$58:AU63)","v":41536.786318172868},{"$f":"SUM(AV$58:AV63)","v":41536.786318172868},{"$f":"SUM(AW$58:AW63)","v":41536.786318172868},{"$f":"SUM(AX$58:AX63)","v":41536.786318172868},{"$f":"SUM(AY$58:AY63)","v":41488.87597623466},{"$f":"SUM(AZ$58:AZ63)","v":42195.809309568009},{"$f":"SUM(BA$58:BA63)","v":42195.809309568009},{"$f":"SUM(BB$58:BB63)","v":42195.809309568009},{"$f":"SUM(BC$58:BC63)","v":42195.809309568009},{"$f":"SUM(BD$58:BD63)","v":42195.809309568009},{"$f":"SUM(BE$58:BE63)","v":42195.809309568009},{"$f":"SUM(BF$58:BF63)","v":42195.809309568009},{"$f":"SUM(BG$58:BG63)","v":42195.809309568009},{"$f":"SUM(BH$58:BH63)","v":42195.809309568009},{"$f":"SUM(BI$58:BI63)","v":42195.809309568009},{"$f":"SUM(BJ$58:BJ63)","v":42195.809309568009},{"$f":"SUM(BK$58:BK63)","v":42146.461657371648},{"$f":"SUM(BL$58:BL63)","v":42724.86165737165},{"$f":"SUM(BM$58:BM63)","v":42724.86165737165},{"$f":"SUM(BN$58:BN63)","v":42724.86165737165},{"$f":"SUM(BO$58:BO63)","v":42724.86165737165},{"$f":"SUM(BP$58:BP63)","v":42724.86165737165},{"$f":"SUM(BQ$58:BQ63)","v":42724.86165737165},{"$f":"SUM(BR$58:BR63)","v":42724.86165737165},{"$f":"SUM(BS$58:BS63)","v":42724.86165737165},{"$f":"SUM(BT$58:BT63)","v":42724.86165737165},{"$f":"SUM(BU$58:BU63)","v":42949.794990704999},{"$f":"SUM(BV$58:BV63)","v":44083.458990704996},{"$f":"SUM(BW$58:BW63)","v":44032.630908942774},{"$f":"SUM(BX$58:BX63)","v":44289.440508942775},{"$f":"SUM(BY$58:BY63)","v":44289.440508942775},{"$f":"SUM(BZ$58:BZ63)","v":44289.440508942775},{"$f":"SUM(CA$58:CA63)","v":44289.440508942775},{"$f":"SUM(CB$58:CB63)","v":44289.440508942775},{"$f":"SUM(CC$58:CC63)","v":44289.440508942775},{"$f":"SUM(CD$58:CD63)","v":44289.440508942775},{"$f":"SUM(CE$58:CE63)","v":44289.440508942775},{"$f":"SUM(CF$58:CF63)","v":44289.440508942775},{"$f":"SUM(CG$58:CG63)","v":44289.440508942775},{"$f":"SUM(CH$58:CH63)","v":44289.440508942775},{"$f":"SUM(CI$58:CI63)","v":3512238.0655860137},{"$f":"SUM(CJ$58:CJ63)","v":0},{"$f":"SUM(CK$58:CK63)","v":0},{"$f":"SUM(CL$58:CL63)","v":0},{"$f":"SUM(CM$58:CM63)","v":0},{"$f":"SUM(CN$58:CN63)","v":0},{"$f":"SUM(CO$58:CO63)","v":0},{"$f":"SUM(CP$58:CP63)","v":0},{"$f":"SUM(CQ$58:CQ63)","v":0},{"$f":"SUM(CR$58:CR63)","v":0},{"$f":"SUM(CS$58:CS63)","v":0},{"$f":"SUM(CT$58:CT63)","v":0},{"$f":"SUM(CU$58:CU63)","v":0},{"$f":"SUM(CV$58:CV63)","v":0},{"$f":"SUM(CW$58:CW63)","v":0},{"$f":"SUM(CX$58:CX63)","v":0},{"$f":"SUM(CY$58:CY63)","v":0},{"$f":"SUM(CZ$58:CZ63)","v":0},{"$f":"SUM(DA$58:DA63)","v":0},{"$f":"SUM(DB$58:DB63)","v":0},{"$f":"SUM(DC$58:DC63)","v":0},{"$f":"SUM(DD$58:DD63)","v":0},{"$f":"SUM(DE$58:DE63)","v":0},{"$f":"SUM(DF$58:DF63)","v":0},{"$f":"SUM(DG$58:DG63)","v":0},{"$f":"SUM(DH$58:DH63)","v":0},{"$f":"SUM(DI$58:DI63)","v":0},{"$f":"SUM(DJ$58:DJ63)","v":0},{"$f":"SUM(DK$58:DK63)","v":0},{"$f":"SUM(DL$58:DL63)","v":0},{"$f":"SUM(DM$58:DM63)","v":0},{"$f":"SUM(DN$58:DN63)","v":0},{"$f":"SUM(DO$58:DO63)","v":0},{"$f":"SUM(DP$58:DP63)","v":0},{"$f":"SUM(DQ$58:DQ63)","v":0},{"$f":"SUM(DR$58:DR63)","v":0},{"$f":"SUM(DS$58:DS63)","v":0}]
[]
[{"$f":"A27&\" Hurdle Check\"","v":"LP - Alan and Adam Hurdle Check"}]
[{"$f":"A95","v":"Tier 1"},{"$f":"IF(ISERROR(IRR(C101:OFFSET(C101,,$B$59),0.01)),0,(1+IRR(C101:OFFSET(C101,,$B$59),0.01))^$B$113-1)","v":0},{"$f":"SUM(C$68:C70)","v":-999855.99999999977},{"$f":"SUM(D$68:D70)","v":7072.6674160289067},{"$f":"SUM(E$68:E70)","v":7072.6674160289067},{"$f":"SUM(F$68:F70)","v":7072.6674160289067},{"$f":"SUM(G$68:G70)","v":6059.4841644139633},{"$f":"SUM(H$68:H70)","v":7727.4361644139635},{"$f":"SUM(I$68:I70)","v":7727.4361644139635},{"$f":"SUM(J$68:J70)","v":7727.4361644139635},{"$f":"SUM(K$68:K70)","v":7164.5565801834373},{"$f":"SUM(L$68:L70)","v":8091.1965801834376},{"$f":"SUM(M$68:M70)","v":8138.8632468501064},{"$f":"SUM(N$68:N70)","v":8372.4299135167748},{"$f":"SUM(O$68:O70)","v":6916.2247462213527},{"$f":"SUM(P$68:P70)","v":9795.5011462213533},{"$f":"SUM(Q$68:Q70)","v":9795.5011462213533},{"$f":"SUM(R$68:R70)","v":9892.4360795546836},{"$f":"SUM(S$68:S70)","v":9331.3976676112725},{"$f":"SUM(T$68:T70)","v":10163.71102800243},{"$f":"SUM(U$68:U70)","v":11673.79102800243},{"$f":"SUM(V$68:V70)","v":11673.79102800243},{"$f":"SUM(W$68:W70)","v":12028.431028002437},{"$f":"SUM(X$68:X70)","v":12028.431028002437},{"$f":"SUM(Y$68:Y70)","v":12028.431028002437},{"$f":"SUM(Z$68:Z70)","v":12028.431028002437},{"$f":"SUM(AA$68:AA70)","v":12246.88357599439},{"$f":"SUM(AB$68:AB70)","v":12246.88357599439},{"$f":"SUM(AC$68:AC70)","v":12246.88357599439},{"$f":"SUM(AD$68:AD70)","v":12246.88357599439},{"$f":"SUM(AE$68:AE70)","v":12277.39024266106},{"$f":"SUM(AF$68:AF70)","v":12277.39024266106},{"$f":"SUM(AG$68:AG70)","v":12277.39024266106},{"$f":"SUM(AH$68:AH70)","v":12277.39024266106},{"$f":"SUM(AI$68:AI70)","v":12336.954509327728},{"$f":"SUM(AJ$68:AJ70)","v":12336.954509327728},{"$f":"SUM(AK$68:AK70)","v":12336.954509327728},{"$f":"SUM(AL$68:AL70)","v":12336.954509327728},{"$f":"SUM(AM$68:AM70)","v":12323.154447092782},{"$f":"SUM(AN$68:AN70)","v":12323.154447092782},{"$f":"SUM(AO$68:AO70)","v":12323.154447092782},{"$f":"SUM(AP$68:AP70)","v":12323.154447092782},{"$f":"SUM(AQ$68:AQ70)","v":12323.154447092782},{"$f":"SUM(AR$68:AR70)","v":12323.154447092782},{"$f":"SUM(AS$68:AS70)","v":12323.154447092782},{"$f":"SUM(AT$68:AT70)","v":12323.154447092782},{"$f":"SUM(AU$68:AU70)","v":12323.154447092782},{"$f":"SUM(AV$68:AV70)","v":12323.154447092782},{"$f":"SUM(AW$68:AW70)","v":12323.154447092782},{"$f":"SUM(AX$68:AX70)","v":12323.154447092782},{"$f":"SUM(AY$68:AY70)","v":12308.940382990781},{"$f":"SUM(AZ$68:AZ70)","v":12518.67371632412},{"$f":"SUM(BA$68:BA70)","v":12518.67371632412},{"$f":"SUM(BB$68:BB70)","v":12518.67371632412},{"$f":"SUM(BC$68:BC70)","v":12518.67371632412},{"$f":"SUM(BD$68:BD70)","v":12518.67371632412},{"$f":"SUM(BE$68:BE70)","v":12518.67371632412},{"$f":"SUM(BF$68:BF70)","v":12518.67371632412},{"$f":"SUM(BG$68:BG70)","v":12518.67371632412},{"$f":"SUM(BH$68:BH70)","v":12518.67371632412},{"$f":"SUM(BI$68:BI70)","v":12518.67371632412},{"$f":"SUM(BJ$68:BJ70)","v":12518.67371632412},{"$f":"SUM(BK$68:BK70)","v":12504.033230299057},{"$f":"SUM(BL$68:BL70)","v":12675.633230299058},{"$f":"SUM(BM$68:BM70)","v":12675.633230299058},{"$f":"SUM(BN$68:BN70)","v":12675.633230299058},{"$f":"SUM(BO$68:BO70)","v":12675.633230299058},{"$f":"SUM(BP$68:BP70)","v":12675.633230299058},{"$f":"SUM(BQ$68:BQ70)","v":12675.633230299058},{"$f":"SUM(BR$68:BR70)","v":12675.633230299058},{"$f":"SUM(BS$68:BS70)","v":12675.633230299058},{"$f":"SUM(BT$68:BT70)","v":12675.633230299058},{"$f":"SUM(BU$68:BU70)","v":12742.366563632395},{"$f":"SUM(BV$68:BV70)","v":13078.702563632396},{"$f":"SUM(BW$68:BW70)","v":13063.62286302659},{"$f":"SUM(BX$68:BX70)","v":13139.81326302659},{"$f":"SUM(BY$68:BY70)","v":13139.81326302659},{"$f":"SUM(BZ$68:BZ70)","v":13139.81326302659},{"$f":"SUM(CA$68:CA70)","v":13139.81326302659},{"$f":"SUM(CB$68:CB70)","v":13139.81326302659},{"$f":"SUM(CC$68:CC70)","v":13139.81326302659},{"$f":"SUM(CD$68:CD70)","v":13139.81326302659},{"$f":"SUM(CE$68:CE70)","v":13139.81326302659},{"$f":"SUM(CF$68:CF70)","v":13139.81326302659},{"$f":"SUM(CG$68:CG70)","v":13139.81326302659},{"$f":"SUM(CH$68:CH70)","v":13139.81326302659},{"$f":"SUM(CI$68:CI70)","v":34928.592665499542},{"$f":"SUM(CJ$68:CJ70)","v":0},{"$f":"SUM(CK$68:CK70)","v":0},{"$f":"SUM(CL$68:CL70)","v":0},{"$f":"SUM(CM$68:CM70)","v":0},{"$f":"SUM(CN$68:CN70)","v":0},{"$f":"SUM(CO$68:CO70)","v":0},{"$f":"SUM(CP$68:CP70)","v":0},{"$f":"SUM(CQ$68:CQ70)","v":0},{"$f":"SUM(CR$68:CR70)","v":0},{"$f":"SUM(CS$68:CS70)","v":0},{"$f":"SUM(CT$68:CT70)","v":0},{"$f":"SUM(CU$68:CU70)","v":0},{"$f":"SUM(CV$68:CV70)","v":0},{"$f":"SUM(CW$68:CW70)","v":0},{"$f":"SUM(CX$68:CX70)","v":0},{"$f":"SUM(CY$68:CY70)","v":0},{"$f":"SUM(CZ$68:CZ70)","v":0},{"$f":"SUM(DA$68:DA70)","v":0},{"$f":"SUM(DB$68:DB70)","v":0},{"$f":"SUM(DC$68:DC70)","v":0},{"$f":"SUM(DD$68:DD70)","v":0},{"$f":"SUM(DE$68:DE70)","v":0},{"$f":"SUM(DF$68:DF70)","v":0},{"$f":"SUM(DG$68:DG70)","v":0},{"$f":"SUM(DH$68:DH70)","v":0},{"$f":"SUM(DI$68:DI70)","v":0},{"$f":"SUM(DJ$68:DJ70)","v":0},{"$f":"SUM(DK$68:DK70)","v":0},{"$f":"SUM(DL$68:DL70)","v":0},{"$f":"SUM(DM$68:DM70)","v":0},{"$f":"SUM(DN$68:DN70)","v":0},{"$f":"SUM(DO$68:DO70)","v":0},{"$f":"SUM(DP$68:DP70)","v":0},{"$f":"SUM(DQ$68:DQ70)","v":0},{"$f":"SUM(DR$68:DR70)","v":0},{"$f":"SUM(DS$68:DS70)","v":0}]
[{"$f":"A96","v":"Tier 2"},{"$f":"IF(ISERROR(IRR(C102:OFFSET(C102,,$B$59),0.01)),0,(1+IRR(C102:OFFSET(C102,,$B$59),0.01))^$B$113-1)","v":0},{"$f":"SUM(C$68:C71)","v":-999855.99999999977},{"$f":"SUM(D$68:D71)","v":7072.6674160289067},{"$f":"SUM(E$68:E71)","v":7072.6674160289067},{"$f":"SUM(F$68:F71)","v":7072.6674160289067},{"$f":"SUM(G$68:G71)","v":6059.4841644139633},{"$f":"SUM(H$68:H71)","v":7727.4361644139635},{"$f":"SUM(I$68:I71)","v":7727.4361644139635},{"$f":"SUM(J$68:J71)","v":7727.4361644139635},{"$f":"SUM(K$68:K71)","v":7164.5565801834373},{"$f":"SUM(L$68:L71)","v":8091.1965801834376},{"$f":"SUM(M$68:M71)","v":8138.8632468501064},{"$f":"SUM(N$68:N71)","v":8372.4299135167748},{"$f":"SUM(O$68:O71)","v":6916.2247462213527},{"$f":"SUM(P$68:P71)","v":9795.5011462213533},{"$f":"SUM(Q$68:Q71)","v":9795.5011462213533},{"$f":"SUM(R$68:R71)","v":9892.4360795546836},{"$f":"SUM(S$68:S71)","v":9331.3976676112725},{"$f":"SUM(T$68:T71)","v":10163.71102800243},{"$f":"SUM(U$68:U71)","v":11673.79102800243},{"$f":"SUM(V$68:V71)","v":11673.79102800243},{"$f":"SUM(W$68:W71)","v":12028.431028002437},{"$f":"SUM(X$68:X71)","v":12028.431028002437},{"$f":"SUM(Y$68:Y71)","v":12028.431028002437},{"$f":"SUM(Z$68:Z71)","v":12028.431028002437},{"$f":"SUM(AA$68:AA71)","v":12246.88357599439},{"$f":"SUM(AB$68:AB71)","v":12246.88357599439},{"$f":"SUM(AC$68:AC71)","v":12246.88357599439},{"$f":"SUM(AD$68:AD71)","v":12246.88357599439},{"$f":"SUM(AE$68:AE71)","v":12277.39024266106},{"$f":"SUM(AF$68:AF71)","v":12277.39024266106},{"$f":"SUM(AG$68:AG71)","v":12277.39024266106},{"$f":"SUM(AH$68:AH71)","v":12277.39024266106},{"$f":"SUM(AI$68:AI71)","v":12336.954509327728},{"$f":"SUM(AJ$68:AJ71)","v":12336.954509327728},{"$f":"SUM(AK$68:AK71)","v":12336.954509327728},{"$f":"SUM(AL$68:AL71)","v":12336.954509327728},{"$f":"SUM(AM$68:AM71)","v":12323.154447092782},{"$f":"SUM(AN$68:AN71)","v":12323.154447092782},{"$f":"SUM(AO$68:AO71)","v":12323.154447092782},{"$f":"SUM(AP$68:AP71)","v":12323.154447092782},{"$f":"SUM(AQ$68:AQ71)","v":12323.154447092782},{"$f":"SUM(AR$68:AR71)","v":12323.154447092782},{"$f":"SUM(AS$68:AS71)","v":12323.154447092782},{"$f":"SUM(AT$68:AT71)","v":12323.154447092782},{"$f":"SUM(AU$68:AU71)","v":12323.154447092782},{"$f":"SUM(AV$68:AV71)","v":12323.154447092782},{"$f":"SUM(AW$68:AW71)","v":12323.154447092782},{"$f":"SUM(AX$68:AX71)","v":12323.154447092782},{"$f":"SUM(AY$68:AY71)","v":12308.940382990781},{"$f":"SUM(AZ$68:AZ71)","v":12518.67371632412},{"$f":"SUM(BA$68:BA71)","v":12518.67371632412},{"$f":"SUM(BB$68:BB71)","v":12518.67371632412},{"$f":"SUM(BC$68:BC71)","v":12518.67371632412},{"$f":"SUM(BD$68:BD71)","v":12518.67371632412},{"$f":"SUM(BE$68:BE71)","v":12518.67371632412},{"$f":"SUM(BF$68:BF71)","v":12518.67371632412},{"$f":"SUM(BG$68:BG71)","v":12518.67371632412},{"$f":"SUM(BH$68:BH71)","v":12518.67371632412},{"$f":"SUM(BI$68:BI71)","v":12518.67371632412},{"$f":"SUM(BJ$68:BJ71)","v":12518.67371632412},{"$f":"SUM(BK$68:BK71)","v":12504.033230299057},{"$f":"SUM(BL$68:BL71)","v":12675.633230299058},{"$f":"SUM(BM$68:BM71)","v":12675.633230299058},{"$f":"SUM(BN$68:BN71)","v":12675.633230299058},{"$f":"SUM(BO$68:BO71)","v":12675.633230299058},{"$f":"SUM(BP$68:BP71)","v":12675.633230299058},{"$f":"SUM(BQ$68:BQ71)","v":12675.633230299058},{"$f":"SUM(BR$68:BR71)","v":12675.633230299058},{"$f":"SUM(BS$68:BS71)","v":12675.633230299058},{"$f":"SUM(BT$68:BT71)","v":12675.633230299058},{"$f":"SUM(BU$68:BU71)","v":12742.366563632395},{"$f":"SUM(BV$68:BV71)","v":13078.702563632396},{"$f":"SUM(BW$68:BW71)","v":13063.62286302659},{"$f":"SUM(BX$68:BX71)","v":13139.81326302659},{"$f":"SUM(BY$68:BY71)","v":13139.81326302659},{"$f":"SUM(BZ$68:BZ71)","v":13139.81326302659},{"$f":"SUM(CA$68:CA71)","v":13139.81326302659},{"$f":"SUM(CB$68:CB71)","v":13139.81326302659},{"$f":"SUM(CC$68:CC71)","v":13139.81326302659},{"$f":"SUM(CD$68:CD71)","v":13139.81326302659},{"$f":"SUM(CE$68:CE71)","v":13139.81326302659},{"$f":"SUM(CF$68:CF71)","v":13139.81326302659},{"$f":"SUM(CG$68:CG71)","v":13139.81326302659},{"$f":"SUM(CH$68:CH71)","v":13139.81326302659},{"$f":"SUM(CI$68:CI71)","v":34928.592665499542},{"$f":"SUM(CJ$68:CJ71)","v":0},{"$f":"SUM(CK$68:CK71)","v":0},{"$f":"SUM(CL$68:CL71)","v":0},{"$f":"SUM(CM$68:CM71)","v":0},{"$f":"SUM(CN$68:CN71)","v":0},{"$f":"SUM(CO$68:CO71)","v":0},{"$f":"SUM(CP$68:CP71)","v":0},{"$f":"SUM(CQ$68:CQ71)","v":0},{"$f":"SUM(CR$68:CR71)","v":0},{"$f":"SUM(CS$68:CS71)","v":0},{"$f":"SUM(CT$68:CT71)","v":0},{"$f":"SUM(CU$68:CU71)","v":0},{"$f":"SUM(CV$68:CV71)","v":0},{"$f":"SUM(CW$68:CW71)","v":0},{"$f":"SUM(CX$68:CX71)","v":0},{"$f":"SUM(CY$68:CY71)","v":0},{"$f":"SUM(CZ$68:CZ71)","v":0},{"$f":"SUM(DA$68:DA71)","v":0},{"$f":"SUM(DB$68:DB71)","v":0},{"$f":"SUM(DC$68:DC71)","v":0},{"$f":"SUM(DD$68:DD71)","v":0},{"$f":"SUM(DE$68:DE71)","v":0},{"$f":"SUM(DF$68:DF71)","v":0},{"$f":"SUM(DG$68:DG71)","v":0},{"$f":"SUM(DH$68:DH71)","v":0},{"$f":"SUM(DI$68:DI71)","v":0},{"$f":"SUM(DJ$68:DJ71)","v":0},{"$f":"SUM(DK$68:DK71)","v":0},{"$f":"SUM(DL$68:DL71)","v":0},{"$f":"SUM(DM$68:DM71)","v":0},{"$f":"SUM(DN$68:DN71)","v":0},{"$f":"SUM(DO$68:DO71)","v":0},{"$f":"SUM(DP$68:DP71)","v":0},{"$f":"SUM(DQ$68:DQ71)","v":0},{"$f":"SUM(DR$68:DR71)","v":0},{"$f":"SUM(DS$68:DS71)","v":0}]
[{"$f":"A97","v":"Tier 3"},{"$f":"IF(ISERROR(IRR(C103:OFFSET(C103,,$B$59),0.01)),0,(1+IRR(C103:OFFSET(C103,,$B$59),0.01))^$B$113-1)","v":0},{"$f":"SUM(C$68:C72)","v":-999855.99999999977},{"$f":"SUM(D$68:D72)","v":7072.6674160289067},{"$f":"SUM(E$68:E72)","v":7072.6674160289067},{"$f":"SUM(F$68:F72)","v":7072.6674160289067},{"$f":"SUM(G$68:G72)","v":6059.4841644139633},{"$f":"SUM(H$68:H72)","v":7727.4361644139635},{"$f":"SUM(I$68:I72)","v":7727.4361644139635},{"$f":"SUM(J$68:J72)","v":7727.4361644139635},{"$f":"SUM(K$68:K72)","v":7164.5565801834373},{"$f":"SUM(L$68:L72)","v":8091.1965801834376},{"$f":"SUM(M$68:M72)","v":8138.8632468501064},{"$f":"SUM(N$68:N72)","v":8372.4299135167748},{"$f":"SUM(O$68:O72)","v":6916.2247462213527},{"$f":"SUM(P$68:P72)","v":9795.5011462213533},{"$f":"SUM(Q$68:Q72)","v":9795.5011462213533},{"$f":"SUM(R$68:R72)","v":9892.4360795546836},{"$f":"SUM(S$68:S72)","v":9331.3976676112725},{"$f":"SUM(T$68:T72)","v":10163.71102800243},{"$f":"SUM(U$68:U72)","v":11673.79102800243},{"$f":"SUM(V$68:V72)","v":11673.79102800243},{"$f":"SUM(W$68:W72)","v":12028.431028002437},{"$f":"SUM(X$68:X72)","v":12028.431028002437},{"$f":"SUM(Y$68:Y72)","v":12028.431028002437},{"$f":"SUM(Z$68:Z72)","v":12028.431028002437},{"$f":"SUM(AA$68:AA72)","v":12246.88357599439},{"$f":"SUM(AB$68:AB72)","v":12246.88357599439},{"$f":"SUM(AC$68:AC72)","v":12246.88357599439},{"$f":"SUM(AD$68:AD72)","v":12246.88357599439},{"$f":"SUM(AE$68:AE72)","v":12277.39024266106},{"$f":"SUM(AF$68:AF72)","v":12277.39024266106},{"$f":"SUM(AG$68:AG72)","v":12277.39024266106},{"$f":"SUM(AH$68:AH72)","v":12277.39024266106},{"$f":"SUM(AI$68:AI72)","v":12336.954509327728},{"$f":"SUM(AJ$68:AJ72)","v":12336.954509327728},{"$f":"SUM(AK$68:AK72)","v":12336.954509327728},{"$f":"SUM(AL$68:AL72)","v":12336.954509327728},{"$f":"SUM(AM$68:AM72)","v":12323.154447092782},{"$f":"SUM(AN$68:AN72)","v":12323.154447092782},{"$f":"SUM(AO$68:AO72)","v":12323.154447092782},{"$f":"SUM(AP$68:AP72)","v":12323.154447092782},{"$f":"SUM(AQ$68:AQ72)","v":12323.154447092782},{"$f":"SUM(AR$68:AR72)","v":12323.154447092782},{"$f":"SUM(AS$68:AS72)","v":12323.154447092782},{"$f":"SUM(AT$68:AT72)","v":12323.154447092782},{"$f":"SUM(AU$68:AU72)","v":12323.154447092782},{"$f":"SUM(AV$68:AV72)","v":12323.154447092782},{"$f":"SUM(AW$68:AW72)","v":12323.154447092782},{"$f":"SUM(AX$68:AX72)","v":12323.154447092782},{"$f":"SUM(AY$68:AY72)","v":12308.940382990781},{"$f":"SUM(AZ$68:AZ72)","v":12518.67371632412},{"$f":"SUM(BA$68:BA72)","v":12518.67371632412},{"$f":"SUM(BB$68:BB72)","v":12518.67371632412},{"$f":"SUM(BC$68:BC72)","v":12518.67371632412},{"$f":"SUM(BD$68:BD72)","v":12518.67371632412},{"$f":"SUM(BE$68:BE72)","v":12518.67371632412},{"$f":"SUM(BF$68:BF72)","v":12518.67371632412},{"$f":"SUM(BG$68:BG72)","v":12518.67371632412},{"$f":"SUM(BH$68:BH72)","v":12518.67371632412},{"$f":"SUM(BI$68:BI72)","v":12518.67371632412},{"$f":"SUM(BJ$68:BJ72)","v":12518.67371632412},{"$f":"SUM(BK$68:BK72)","v":12504.033230299057},{"$f":"SUM(BL$68:BL72)","v":12675.633230299058},{"$f":"SUM(BM$68:BM72)","v":12675.633230299058},{"$f":"SUM(BN$68:BN72)","v":12675.633230299058},{"$f":"SUM(BO$68:BO72)","v":12675.633230299058},{"$f":"SUM(BP$68:BP72)","v":12675.633230299058},{"$f":"SUM(BQ$68:BQ72)","v":12675.633230299058},{"$f":"SUM(BR$68:BR72)","v":12675.633230299058},{"$f":"SUM(BS$68:BS72)","v":12675.633230299058},{"$f":"SUM(BT$68:BT72)","v":12675.633230299058},{"$f":"SUM(BU$68:BU72)","v":12742.366563632395},{"$f":"SUM(BV$68:BV72)","v":13078.702563632396},{"$f":"SUM(BW$68:BW72)","v":13063.62286302659},{"$f":"SUM(BX$68:BX72)","v":13139.81326302659},{"$f":"SUM(BY$68:BY72)","v":13139.81326302659},{"$f":"SUM(BZ$68:BZ72)","v":13139.81326302659},{"$f":"SUM(CA$68:CA72)","v":13139.81326302659},{"$f":"SUM(CB$68:CB72)","v":13139.81326302659},{"$f":"SUM(CC$68:CC72)","v":13139.81326302659},{"$f":"SUM(CD$68:CD72)","v":13139.81326302659},{"$f":"SUM(CE$68:CE72)","v":13139.81326302659},{"$f":"SUM(CF$68:CF72)","v":13139.81326302659},{"$f":"SUM(CG$68:CG72)","v":13139.81326302659},{"$f":"SUM(CH$68:CH72)","v":13139.81326302659},{"$f":"SUM(CI$68:CI72)","v":34928.592665499542},{"$f":"SUM(CJ$68:CJ72)","v":0},{"$f":"SUM(CK$68:CK72)","v":0},{"$f":"SUM(CL$68:CL72)","v":0},{"$f":"SUM(CM$68:CM72)","v":0},{"$f":"SUM(CN$68:CN72)","v":0},{"$f":"SUM(CO$68:CO72)","v":0},{"$f":"SUM(CP$68:CP72)","v":0},{"$f":"SUM(CQ$68:CQ72)","v":0},{"$f":"SUM(CR$68:CR72)","v":0},{"$f":"SUM(CS$68:CS72)","v":0},{"$f":"SUM(CT$68:CT72)","v":0},{"$f":"SUM(CU$68:CU72)","v":0},{"$f":"SUM(CV$68:CV72)","v":0},{"$f":"SUM(CW$68:CW72)","v":0},{"$f":"SUM(CX$68:CX72)","v":0},{"$f":"SUM(CY$68:CY72)","v":0},{"$f":"SUM(CZ$68:CZ72)","v":0},{"$f":"SUM(DA$68:DA72)","v":0},{"$f":"SUM(DB$68:DB72)","v":0},{"$f":"SUM(DC$68:DC72)","v":0},{"$f":"SUM(DD$68:DD72)","v":0},{"$f":"SUM(DE$68:DE72)","v":0},{"$f":"SUM(DF$68:DF72)","v":0},{"$f":"SUM(DG$68:DG72)","v":0},{"$f":"SUM(DH$68:DH72)","v":0},{"$f":"SUM(DI$68:DI72)","v":0},{"$f":"SUM(DJ$68:DJ72)","v":0},{"$f":"SUM(DK$68:DK72)","v":0},{"$f":"SUM(DL$68:DL72)","v":0},{"$f":"SUM(DM$68:DM72)","v":0},{"$f":"SUM(DN$68:DN72)","v":0},{"$f":"SUM(DO$68:DO72)","v":0},{"$f":"SUM(DP$68:DP72)","v":0},{"$f":"SUM(DQ$68:DQ72)","v":0},{"$f":"SUM(DR$68:DR72)","v":0},{"$f":"SUM(DS$68:DS72)","v":0}]
[{"$f":"A98","v":"Total"},{"$f":"IF(ISERROR(IRR(C104:OFFSET(C104,,$B$59),0.01)),0,(1+IRR(C104:OFFSET(C104,,$B$59),0.01))^$B$113-1)","v":0.14594303425646338},{"$f":"SUM(C$68:C73)","v":-999855.99999999977},{"$f":"SUM(D$68:D73)","v":7072.6674160289067},{"$f":"SUM(E$68:E73)","v":7072.6674160289067},{"$f":"SUM(F$68:F73)","v":7072.6674160289067},{"$f":"SUM(G$68:G73)","v":6059.4841644139633},{"$f":"SUM(H$68:H73)","v":7727.4361644139635},{"$f":"SUM(I$68:I73)","v":7727.4361644139635},{"$f":"SUM(J$68:J73)","v":7727.4361644139635},{"$f":"SUM(K$68:K73)","v":7164.5565801834373},{"$f":"SUM(L$68:L73)","v":8091.1965801834376},{"$f":"SUM(M$68:M73)","v":8138.8632468501064},{"$f":"SUM(N$68:N73)","v":8372.4299135167748},{"$f":"SUM(O$68:O73)","v":6916.2247462213527},{"$f":"SUM(P$68:P73)","v":9795.5011462213533},{"$f":"SUM(Q$68:Q73)","v":9795.5011462213533},{"$f":"SUM(R$68:R73)","v":9892.4360795546836},{"$f":"SUM(S$68:S73)","v":9331.3976676112725},{"$f":"SUM(T$68:T73)","v":10163.71102800243},{"$f":"SUM(U$68:U73)","v":11673.79102800243},{"$f":"SUM(V$68:V73)","v":11673.79102800243},{"$f":"SUM(W$68:W73)","v":12028.431028002437},{"$f":"SUM(X$68:X73)","v":12028.431028002437},{"$f":"SUM(Y$68:Y73)","v":12028.431028002437},{"$f":"SUM(Z$68:Z73)","v":12028.431028002437},{"$f":"SUM(AA$68:AA73)","v":12246.88357599439},{"$f":"SUM(AB$68:AB73)","v":12246.88357599439},{"$f":"SUM(AC$68:AC73)","v":12246.88357599439},{"$f":"SUM(AD$68:AD73)","v":12246.88357599439},{"$f":"SUM(AE$68:AE73)","v":12277.39024266106},{"$f":"SUM(AF$68:AF73)","v":12277.39024266106},{"$f":"SUM(AG$68:AG73)","v":12277.39024266106},{"$f":"SUM(AH$68:AH73)","v":12277.39024266106},{"$f":"SUM(AI$68:AI73)","v":12336.954509327728},{"$f":"SUM(AJ$68:AJ73)","v":12336.954509327728},{"$f":"SUM(AK$68:AK73)","v":12336.954509327728},{"$f":"SUM(AL$68:AL73)","v":12336.954509327728},{"$f":"SUM(AM$68:AM73)","v":12323.154447092782},{"$f":"SUM(AN$68:AN73)","v":12323.154447092782},{"$f":"SUM(AO$68:AO73)","v":12323.154447092782},{"$f":"SUM(AP$68:AP73)","v":12323.154447092782},{"$f":"SUM(AQ$68:AQ73)","v":12323.154447092782},{"$f":"SUM(AR$68:AR73)","v":12323.154447092782},{"$f":"SUM(AS$68:AS73)","v":12323.154447092782},{"$f":"SUM(AT$68:AT73)","v":12323.154447092782},{"$f":"SUM(AU$68:AU73)","v":12323.154447092782},{"$f":"SUM(AV$68:AV73)","v":12323.154447092782},{"$f":"SUM(AW$68:AW73)","v":12323.154447092782},{"$f":"SUM(AX$68:AX73)","v":12323.154447092782},{"$f":"SUM(AY$68:AY73)","v":12308.940382990781},{"$f":"SUM(AZ$68:AZ73)","v":12518.67371632412},{"$f":"SUM(BA$68:BA73)","v":12518.67371632412},{"$f":"SUM(BB$68:BB73)","v":12518.67371632412},{"$f":"SUM(BC$68:BC73)","v":12518.67371632412},{"$f":"SUM(BD$68:BD73)","v":12518.67371632412},{"$f":"SUM(BE$68:BE73)","v":12518.67371632412},{"$f":"SUM(BF$68:BF73)","v":12518.67371632412},{"$f":"SUM(BG$68:BG73)","v":12518.67371632412},{"$f":"SUM(BH$68:BH73)","v":12518.67371632412},{"$f":"SUM(BI$68:BI73)","v":12518.67371632412},{"$f":"SUM(BJ$68:BJ73)","v":12518.67371632412},{"$f":"SUM(BK$68:BK73)","v":12504.033230299057},{"$f":"SUM(BL$68:BL73)","v":12675.633230299058},{"$f":"SUM(BM$68:BM73)","v":12675.633230299058},{"$f":"SUM(BN$68:BN73)","v":12675.633230299058},{"$f":"SUM(BO$68:BO73)","v":12675.633230299058},{"$f":"SUM(BP$68:BP73)","v":12675.633230299058},{"$f":"SUM(BQ$68:BQ73)","v":12675.633230299058},{"$f":"SUM(BR$68:BR73)","v":12675.633230299058},{"$f":"SUM(BS$68:BS73)","v":12675.633230299058},{"$f":"SUM(BT$68:BT73)","v":12675.633230299058},{"$f":"SUM(BU$68:BU73)","v":12742.366563632395},{"$f":"SUM(BV$68:BV73)","v":13078.702563632396},{"$f":"SUM(BW$68:BW73)","v":13063.62286302659},{"$f":"SUM(BX$68:BX73)","v":13139.81326302659},{"$f":"SUM(BY$68:BY73)","v":13139.81326302659},{"$f":"SUM(BZ$68:BZ73)","v":13139.81326302659},{"$f":"SUM(CA$68:CA73)","v":13139.81326302659},{"$f":"SUM(CB$68:CB73)","v":13139.81326302659},{"$f":"SUM(CC$68:CC73)","v":13139.81326302659},{"$f":"SUM(CD$68:CD73)","v":13139.81326302659},{"$f":"SUM(CE$68:CE73)","v":13139.81326302659},{"$f":"SUM(CF$68:CF73)","v":13139.81326302659},{"$f":"SUM(CG$68:CG73)","v":13139.81326302659},{"$f":"SUM(CH$68:CH73)","v":13139.81326302659},{"$f":"SUM(CI$68:CI73)","v":1042012.5381302899},{"$f":"SUM(CJ$68:CJ73)","v":0},{"$f":"SUM(CK$68:CK73)","v":0},{"$f":"SUM(CL$68:CL73)","v":0},{"$f":"SUM(CM$68:CM73)","v":0},{"$f":"SUM(CN$68:CN73)","v":0},{"$f":"SUM(CO$68:CO73)","v":0},{"$f":"SUM(CP$68:CP73)","v":0},{"$f":"SUM(CQ$68:CQ73)","v":0},{"$f":"SUM(CR$68:CR73)","v":0},{"$f":"SUM(CS$68:CS73)","v":0},{"$f":"SUM(CT$68:CT73)","v":0},{"$f":"SUM(CU$68:CU73)","v":0},{"$f":"SUM(CV$68:CV73)","v":0},{"$f":"SUM(CW$68:CW73)","v":0},{"$f":"SUM(CX$68:CX73)","v":0},{"$f":"SUM(CY$68:CY73)","v":0},{"$f":"SUM(CZ$68:CZ73)","v":0},{"$f":"SUM(DA$68:DA73)","v":0},{"$f":"SUM(DB$68:DB73)","v":0},{"$f":"SUM(DC$68:DC73)","v":0},{"$f":"SUM(DD$68:DD73)","v":0},{"$f":"SUM(DE$68:DE73)","v":0},{"$f":"SUM(DF$68:DF73)","v":0},{"$f":"SUM(DG$68:DG73)","v":0},{"$f":"SUM(DH$68:DH73)","v":0},{"$f":"SUM(DI$68:DI73)","v":0},{"$f":"SUM(DJ$68:DJ73)","v":0},{"$f":"SUM(DK$68:DK73)","v":0},{"$f":"SUM(DL$68:DL73)","v":0},{"$f":"SUM(DM$68:DM73)","v":0},{"$f":"SUM(DN$68:DN73)","v":0},{"$f":"SUM(DO$68:DO73)","v":0},{"$f":"SUM(DP$68:DP73)","v":0},{"$f":"SUM(DQ$68:DQ73)","v":0},{"$f":"SUM(DR$68:DR73)","v":0},{"$f":"SUM(DS$68:DS73)","v":0}]
[]
[{"$f":"A28&\" Hurdle Check\"","v":"GP Hurdle Check"}]
[{"$f":"A95","v":"Tier 1"},{"$f":"IF(ISERROR(IRR(C107:OFFSET(C107,,$B$59),0.01)),0,(1+IRR(C107:OFFSET(C107,,$B$59),0.01))^$B$113-1)","v":0},{"$f":"SUM(C$78:C80)","v":0},{"$f":"SUM(D$78:D80)","v":4.5474735088646412E-13},{"$f":"SUM(E$78:E80)","v":4.5474735088646412E-13},{"$f":"SUM(F$78:F80)","v":4.5474735088646412E-13},{"$f":"SUM(G$78:G80)","v":0},{"$f":"SUM(H$78:H80)","v":4.5474735088646412E-13},{"$f":"SUM(I$78:I80)","v":4.5474735088646412E-13},{"$f":"SUM(J$78:J80)","v":4.5474735088646412E-13},{"$f":"SUM(K$78:K80)","v":4.5474735088646412E-13},{"$f":"SUM(L$78:L80)","v":0},{"$f":"SUM(M$78:M80)","v":0},{"$f":"SUM(N$78:N80)","v":0},{"$f":"SUM(O$78:O80)","v":0},{"$f":"SUM(P$78:P80)","v":0},{"$f":"SUM(Q$78:Q80)","v":0},{"$f":"SUM(R$78:R80)","v":0},{"$f":"SUM(S$78:S80)","v":0},{"$f":"SUM(T$78:T80)","v":0},{"$f":"SUM(U$78:U80)","v":0},{"$f":"SUM(V$78:V80)","v":0},{"$f":"SUM(W$78:W80)","v":0},{"$f":"SUM(X$78:X80)","v":0},{"$f":"SUM(Y$78:Y80)","v":0},{"$f":"SUM(Z$78:Z80)","v":0},{"$f":"SUM(AA$78:AA80)","v":0},{"$f":"SUM(AB$78:AB80)","v":0},{"$f":"SUM(AC$78:AC80)","v":0},{"$f":"SUM(AD$78:AD80)","v":0},{"$f":"SUM(AE$78:AE80)","v":0},{"$f":"SUM(AF$78:AF80)","v":0},{"$f":"SUM(AG$78:AG80)","v":0},{"$f":"SUM(AH$78:AH80)","v":0},{"$f":"SUM(AI$78:AI80)","v":0},{"$f":"SUM(AJ$78:AJ80)","v":0},{"$f":"SUM(AK$78:AK80)","v":0},{"$f":"SUM(AL$78:AL80)","v":0},{"$f":"SUM(AM$78:AM80)","v":9.0949470177292824E-13},{"$f":"SUM(AN$78:AN80)","v":9.0949470177292824E-13},{"$f":"SUM(AO$78:AO80)","v":9.0949470177292824E-13},{"$f":"SUM(AP$78:AP80)","v":9.0949470177292824E-13},{"$f":"SUM(AQ$78:AQ80)","v":9.0949470177292824E-13},{"$f":"SUM(AR$78:AR80)","v":9.0949470177292824E-13},{"$f":"SUM(AS$78:AS80)","v":9.0949470177292824E-13},{"$f":"SUM(AT$78:AT80)","v":9.0949470177292824E-13},{"$f":"SUM(AU$78:AU80)","v":9.0949470177292824E-13},{"$f":"SUM(AV$78:AV80)","v":9.0949470177292824E-13},{"$f":"SUM(AW$78:AW80)","v":9.0949470177292824E-13},{"$f":"SUM(AX$78:AX80)","v":9.0949470177292824E-13},{"$f":"SUM(AY$78:AY80)","v":9.0949470177292824E-13},{"$f":"SUM(AZ$78:AZ80)","v":0},{"$f":"SUM(BA$78:BA80)","v":0},{"$f":"SUM(BB$78:BB80)","v":0},{"$f":"SUM(BC$78:BC80)","v":0},{"$f":"SUM(BD$78:BD80)","v":0},{"$f":"SUM(BE$78:BE80)","v":0},{"$f":"SUM(BF$78:BF80)","v":0},{"$f":"SUM(BG$78:BG80)","v":0},{"$f":"SUM(BH$78:BH80)","v":0},{"$f":"SUM(BI$78:BI80)","v":0},{"$f":"SUM(BJ$78:BJ80)","v":0},{"$f":"SUM(BK$78:BK80)","v":0},{"$f":"SUM(BL$78:BL80)","v":0},{"$f":"SUM(BM$78:BM80)","v":0},{"$f":"SUM(BN$78:BN80)","v":0},{"$f":"SUM(BO$78:BO80)","v":0},{"$f":"SUM(BP$78:BP80)","v":0},{"$f":"SUM(BQ$78:BQ80)","v":0},{"$f":"SUM(BR$78:BR80)","v":0},{"$f":"SUM(BS$78:BS80)","v":0},{"$f":"SUM(BT$78:BT80)","v":0},{"$f":"SUM(BU$78:BU80)","v":0},{"$f":"SUM(BV$78:BV80)","v":0},{"$f":"SUM(BW$78:BW80)","v":0},{"$f":"SUM(BX$78:BX80)","v":0},{"$f":"SUM(BY$78:BY80)","v":0},{"$f":"SUM(BZ$78:BZ80)","v":0},{"$f":"SUM(CA$78:CA80)","v":0},{"$f":"SUM(CB$78:CB80)","v":0},{"$f":"SUM(CC$78:CC80)","v":0},{"$f":"SUM(CD$78:CD80)","v":0},{"$f":"SUM(CE$78:CE80)","v":0},{"$f":"SUM(CF$78:CF80)","v":0},{"$f":"SUM(CG$78:CG80)","v":0},{"$f":"SUM(CH$78:CH80)","v":0},{"$f":"SUM(CI$78:CI80)","v":0},{"$f":"SUM(CJ$78:CJ80)","v":0},{"$f":"SUM(CK$78:CK80)","v":0},{"$f":"SUM(CL$78:CL80)","v":0},{"$f":"SUM(CM$78:CM80)","v":0},{"$f":"SUM(CN$78:CN80)","v":0},{"$f":"SUM(CO$78:CO80)","v":0},{"$f":"SUM(CP$78:CP80)","v":0},{"$f":"SUM(CQ$78:CQ80)","v":0},{"$f":"SUM(CR$78:CR80)","v":0},{"$f":"SUM(CS$78:CS80)","v":0},{"$f":"SUM(CT$78:CT80)","v":0},{"$f":"SUM(CU$78:CU80)","v":0},{"$f":"SUM(CV$78:CV80)","v":0},{"$f":"SUM(CW$78:CW80)","v":0},{"$f":"SUM(CX$78:CX80)","v":0},{"$f":"SUM(CY$78:CY80)","v":0},{"$f":"SUM(CZ$78:CZ80)","v":0},{"$f":"SUM(DA$78:DA80)","v":0},{"$f":"SUM(DB$78:DB80)","v":0},{"$f":"SUM(DC$78:DC80)","v":0},{"$f":"SUM(DD$78:DD80)","v":0},{"$f":"SUM(DE$78:DE80)","v":0},{"$f":"SUM(DF$78:DF80)","v":0},{"$f":"SUM(DG$78:DG80)","v":0},{"$f":"SUM(DH$78:DH80)","v":0},{"$f":"SUM(DI$78:DI80)","v":0},{"$f":"SUM(DJ$78:DJ80)","v":0},{"$f":"SUM(DK$78:DK80)","v":0},{"$f":"SUM(DL$78:DL80)","v":0},{"$f":"SUM(DM$78:DM80)","v":0},{"$f":"SUM(DN$78:DN80)","v":0},{"$f":"SUM(DO$78:DO80)","v":0},{"$f":"SUM(DP$78:DP80)","v":0},{"$f":"SUM(DQ$78:DQ80)","v":0},{"$f":"SUM(DR$78:DR80)","v":0},{"$f":"SUM(DS$78:DS80)","v":0}]
[{"$f":"A96","v":"Tier 2"},{"$f":"IF(ISERROR(IRR(C108:OFFSET(C108,,$B$59),0.01)),0,(1+IRR(C108:OFFSET(C108,,$B$59),0.01))^$B$113-1)","v":0},{"$f":"SUM(C$78:C81)","v":0},{"$f":"SUM(D$78:D81)","v":4.5474735088646412E-13},{"$f":"SUM(E$78:E81)","v":4.5474735088646412E-13},{"$f":"SUM(F$78:F81)","v":4.5474735088646412E-13},{"$f":"SUM(G$78:G81)","v":0},{"$f":"SUM(H$78:H81)","v":4.5474735088646412E-13},{"$f":"SUM(I$78:I81)","v":4.5474735088646412E-13},{"$f":"SUM(J$78:J81)","v":4.5474735088646412E-13},{"$f":"SUM(K$78:K81)","v":4.5474735088646412E-13},{"$f":"SUM(L$78:L81)","v":0},{"$f":"SUM(M$78:M81)","v":0},{"$f":"SUM(N$78:N81)","v":0},{"$f":"SUM(O$78:O81)","v":0},{"$f":"SUM(P$78:P81)","v":0},{"$f":"SUM(Q$78:Q81)","v":0},{"$f":"SUM(R$78:R81)","v":0},{"$f":"SUM(S$78:S81)","v":0},{"$f":"SUM(T$78:T81)","v":0},{"$f":"SUM(U$78:U81)","v":0},{"$f":"SUM(V$78:V81)","v":0},{"$f":"SUM(W$78:W81)","v":0},{"$f":"SUM(X$78:X81)","v":0},{"$f":"SUM(Y$78:Y81)","v":0},{"$f":"SUM(Z$78:Z81)","v":0},{"$f":"SUM(AA$78:AA81)","v":0},{"$f":"SUM(AB$78:AB81)","v":0},{"$f":"SUM(AC$78:AC81)","v":0},{"$f":"SUM(AD$78:AD81)","v":0},{"$f":"SUM(AE$78:AE81)","v":0},{"$f":"SUM(AF$78:AF81)","v":0},{"$f":"SUM(AG$78:AG81)","v":0},{"$f":"SUM(AH$78:AH81)","v":0},{"$f":"SUM(AI$78:AI81)","v":0},{"$f":"SUM(AJ$78:AJ81)","v":0},{"$f":"SUM(AK$78:AK81)","v":0},{"$f":"SUM(AL$78:AL81)","v":0},{"$f":"SUM(AM$78:AM81)","v":9.0949470177292824E-13},{"$f":"SUM(AN$78:AN81)","v":9.0949470177292824E-13},{"$f":"SUM(AO$78:AO81)","v":9.0949470177292824E-13},{"$f":"SUM(AP$78:AP81)","v":9.0949470177292824E-13},{"$f":"SUM(AQ$78:AQ81)","v":9.0949470177292824E-13},{"$f":"SUM(AR$78:AR81)","v":9.0949470177292824E-13},{"$f":"SUM(AS$78:AS81)","v":9.0949470177292824E-13},{"$f":"SUM(AT$78:AT81)","v":9.0949470177292824E-13},{"$f":"SUM(AU$78:AU81)","v":9.0949470177292824E-13},{"$f":"SUM(AV$78:AV81)","v":9.0949470177292824E-13},{"$f":"SUM(AW$78:AW81)","v":9.0949470177292824E-13},{"$f":"SUM(AX$78:AX81)","v":9.0949470177292824E-13},{"$f":"SUM(AY$78:AY81)","v":9.0949470177292824E-13},{"$f":"SUM(AZ$78:AZ81)","v":0},{"$f":"SUM(BA$78:BA81)","v":0},{"$f":"SUM(BB$78:BB81)","v":0},{"$f":"SUM(BC$78:BC81)","v":0},{"$f":"SUM(BD$78:BD81)","v":0},{"$f":"SUM(BE$78:BE81)","v":0},{"$f":"SUM(BF$78:BF81)","v":0},{"$f":"SUM(BG$78:BG81)","v":0},{"$f":"SUM(BH$78:BH81)","v":0},{"$f":"SUM(BI$78:BI81)","v":0},{"$f":"SUM(BJ$78:BJ81)","v":0},{"$f":"SUM(BK$78:BK81)","v":0},{"$f":"SUM(BL$78:BL81)","v":0},{"$f":"SUM(BM$78:BM81)","v":0},{"$f":"SUM(BN$78:BN81)","v":0},{"$f":"SUM(BO$78:BO81)","v":0},{"$f":"SUM(BP$78:BP81)","v":0},{"$f":"SUM(BQ$78:BQ81)","v":0},{"$f":"SUM(BR$78:BR81)","v":0},{"$f":"SUM(BS$78:BS81)","v":0},{"$f":"SUM(BT$78:BT81)","v":0},{"$f":"SUM(BU$78:BU81)","v":0},{"$f":"SUM(BV$78:BV81)","v":0},{"$f":"SUM(BW$78:BW81)","v":0},{"$f":"SUM(BX$78:BX81)","v":0},{"$f":"SUM(BY$78:BY81)","v":0},{"$f":"SUM(BZ$78:BZ81)","v":0},{"$f":"SUM(CA$78:CA81)","v":0},{"$f":"SUM(CB$78:CB81)","v":0},{"$f":"SUM(CC$78:CC81)","v":0},{"$f":"SUM(CD$78:CD81)","v":0},{"$f":"SUM(CE$78:CE81)","v":0},{"$f":"SUM(CF$78:CF81)","v":0},{"$f":"SUM(CG$78:CG81)","v":0},{"$f":"SUM(CH$78:CH81)","v":0},{"$f":"SUM(CI$78:CI81)","v":0},{"$f":"SUM(CJ$78:CJ81)","v":0},{"$f":"SUM(CK$78:CK81)","v":0},{"$f":"SUM(CL$78:CL81)","v":0},{"$f":"SUM(CM$78:CM81)","v":0},{"$f":"SUM(CN$78:CN81)","v":0},{"$f":"SUM(CO$78:CO81)","v":0},{"$f":"SUM(CP$78:CP81)","v":0},{"$f":"SUM(CQ$78:CQ81)","v":0},{"$f":"SUM(CR$78:CR81)","v":0},{"$f":"SUM(CS$78:CS81)","v":0},{"$f":"SUM(CT$78:CT81)","v":0},{"$f":"SUM(CU$78:CU81)","v":0},{"$f":"SUM(CV$78:CV81)","v":0},{"$f":"SUM(CW$78:CW81)","v":0},{"$f":"SUM(CX$78:CX81)","v":0},{"$f":"SUM(CY$78:CY81)","v":0},{"$f":"SUM(CZ$78:CZ81)","v":0},{"$f":"SUM(DA$78:DA81)","v":0},{"$f":"SUM(DB$78:DB81)","v":0},{"$f":"SUM(DC$78:DC81)","v":0},{"$f":"SUM(DD$78:DD81)","v":0},{"$f":"SUM(DE$78:DE81)","v":0},{"$f":"SUM(DF$78:DF81)","v":0},{"$f":"SUM(DG$78:DG81)","v":0},{"$f":"SUM(DH$78:DH81)","v":0},{"$f":"SUM(DI$78:DI81)","v":0},{"$f":"SUM(DJ$78:DJ81)","v":0},{"$f":"SUM(DK$78:DK81)","v":0},{"$f":"SUM(DL$78:DL81)","v":0},{"$f":"SUM(DM$78:DM81)","v":0},{"$f":"SUM(DN$78:DN81)","v":0},{"$f":"SUM(DO$78:DO81)","v":0},{"$f":"SUM(DP$78:DP81)","v":0},{"$f":"SUM(DQ$78:DQ81)","v":0},{"$f":"SUM(DR$78:DR81)","v":0},{"$f":"SUM(DS$78:DS81)","v":0}]
[{"$f":"A97","v":"Tier 3"},{"$f":"IF(ISERROR(IRR(C109:OFFSET(C109,,$B$59),0.01)),0,(1+IRR(C109:OFFSET(C109,,$B$59),0.01))^$B$113-1)","v":0},{"$f":"SUM(C$78:C82)","v":0},{"$f":"SUM(D$78:D82)","v":4.5474735088646412E-13},{"$f":"SUM(E$78:E82)","v":4.5474735088646412E-13},{"$f":"SUM(F$78:F82)","v":4.5474735088646412E-13},{"$f":"SUM(G$78:G82)","v":0},{"$f":"SUM(H$78:H82)","v":4.5474735088646412E-13},{"$f":"SUM(I$78:I82)","v":4.5474735088646412E-13},{"$f":"SUM(J$78:J82)","v":4.5474735088646412E-13},{"$f":"SUM(K$78:K82)","v":4.5474735088646412E-13},{"$f":"SUM(L$78:L82)","v":0},{"$f":"SUM(M$78:M82)","v":0},{"$f":"SUM(N$78:N82)","v":0},{"$f":"SUM(O$78:O82)","v":0},{"$f":"SUM(P$78:P82)","v":0},{"$f":"SUM(Q$78:Q82)","v":0},{"$f":"SUM(R$78:R82)","v":0},{"$f":"SUM(S$78:S82)","v":0},{"$f":"SUM(T$78:T82)","v":0},{"$f":"SUM(U$78:U82)","v":0},{"$f":"SUM(V$78:V82)","v":0},{"$f":"SUM(W$78:W82)","v":0},{"$f":"SUM(X$78:X82)","v":0},{"$f":"SUM(Y$78:Y82)","v":0},{"$f":"SUM(Z$78:Z82)","v":0},{"$f":"SUM(AA$78:AA82)","v":0},{"$f":"SUM(AB$78:AB82)","v":0},{"$f":"SUM(AC$78:AC82)","v":0},{"$f":"SUM(AD$78:AD82)","v":0},{"$f":"SUM(AE$78:AE82)","v":0},{"$f":"SUM(AF$78:AF82)","v":0},{"$f":"SUM(AG$78:AG82)","v":0},{"$f":"SUM(AH$78:AH82)","v":0},{"$f":"SUM(AI$78:AI82)","v":0},{"$f":"SUM(AJ$78:AJ82)","v":0},{"$f":"SUM(AK$78:AK82)","v":0},{"$f":"SUM(AL$78:AL82)","v":0},{"$f":"SUM(AM$78:AM82)","v":9.0949470177292824E-13},{"$f":"SUM(AN$78:AN82)","v":9.0949470177292824E-13},{"$f":"SUM(AO$78:AO82)","v":9.0949470177292824E-13},{"$f":"SUM(AP$78:AP82)","v":9.0949470177292824E-13},{"$f":"SUM(AQ$78:AQ82)","v":9.0949470177292824E-13},{"$f":"SUM(AR$78:AR82)","v":9.0949470177292824E-13},{"$f":"SUM(AS$78:AS82)","v":9.0949470177292824E-13},{"$f":"SUM(AT$78:AT82)","v":9.0949470177292824E-13},{"$f":"SUM(AU$78:AU82)","v":9.0949470177292824E-13},{"$f":"SUM(AV$78:AV82)","v":9.0949470177292824E-13},{"$f":"SUM(AW$78:AW82)","v":9.0949470177292824E-13},{"$f":"SUM(AX$78:AX82)","v":9.0949470177292824E-13},{"$f":"SUM(AY$78:AY82)","v":9.0949470177292824E-13},{"$f":"SUM(AZ$78:AZ82)","v":0},{"$f":"SUM(BA$78:BA82)","v":0},{"$f":"SUM(BB$78:BB82)","v":0},{"$f":"SUM(BC$78:BC82)","v":0},{"$f":"SUM(BD$78:BD82)","v":0},{"$f":"SUM(BE$78:BE82)","v":0},{"$f":"SUM(BF$78:BF82)","v":0},{"$f":"SUM(BG$78:BG82)","v":0},{"$f":"SUM(BH$78:BH82)","v":0},{"$f":"SUM(BI$78:BI82)","v":0},{"$f":"SUM(BJ$78:BJ82)","v":0},{"$f":"SUM(BK$78:BK82)","v":0},{"$f":"SUM(BL$78:BL82)","v":0},{"$f":"SUM(BM$78:BM82)","v":0},{"$f":"SUM(BN$78:BN82)","v":0},{"$f":"SUM(BO$78:BO82)","v":0},{"$f":"SUM(BP$78:BP82)","v":0},{"$f":"SUM(BQ$78:BQ82)","v":0},{"$f":"SUM(BR$78:BR82)","v":0},{"$f":"SUM(BS$78:BS82)","v":0},{"$f":"SUM(BT$78:BT82)","v":0},{"$f":"SUM(BU$78:BU82)","v":0},{"$f":"SUM(BV$78:BV82)","v":0},{"$f":"SUM(BW$78:BW82)","v":0},{"$f":"SUM(BX$78:BX82)","v":0},{"$f":"SUM(BY$78:BY82)","v":0},{"$f":"SUM(BZ$78:BZ82)","v":0},{"$f":"SUM(CA$78:CA82)","v":0},{"$f":"SUM(CB$78:CB82)","v":0},{"$f":"SUM(CC$78:CC82)","v":0},{"$f":"SUM(CD$78:CD82)","v":0},{"$f":"SUM(CE$78:CE82)","v":0},{"$f":"SUM(CF$78:CF82)","v":0},{"$f":"SUM(CG$78:CG82)","v":0},{"$f":"SUM(CH$78:CH82)","v":0},{"$f":"SUM(CI$78:CI82)","v":0},{"$f":"SUM(CJ$78:CJ82)","v":0},{"$f":"SUM(CK$78:CK82)","v":0},{"$f":"SUM(CL$78:CL82)","v":0},{"$f":"SUM(CM$78:CM82)","v":0},{"$f":"SUM(CN$78:CN82)","v":0},{"$f":"SUM(CO$78:CO82)","v":0},{"$f":"SUM(CP$78:CP82)","v":0},{"$f":"SUM(CQ$78:CQ82)","v":0},{"$f":"SUM(CR$78:CR82)","v":0},{"$f":"SUM(CS$78:CS82)","v":0},{"$f":"SUM(CT$78:CT82)","v":0},{"$f":"SUM(CU$78:CU82)","v":0},{"$f":"SUM(CV$78:CV82)","v":0},{"$f":"SUM(CW$78:CW82)","v":0},{"$f":"SUM(CX$78:CX82)","v":0},{"$f":"SUM(CY$78:CY82)","v":0},{"$f":"SUM(CZ$78:CZ82)","v":0},{"$f":"SUM(DA$78:DA82)","v":0},{"$f":"SUM(DB$78:DB82)","v":0},{"$f":"SUM(DC$78:DC82)","v":0},{"$f":"SUM(DD$78:DD82)","v":0},{"$f":"SUM(DE$78:DE82)","v":0},{"$f":"SUM(DF$78:DF82)","v":0},{"$f":"SUM(DG$78:DG82)","v":0},{"$f":"SUM(DH$78:DH82)","v":0},{"$f":"SUM(DI$78:DI82)","v":0},{"$f":"SUM(DJ$78:DJ82)","v":0},{"$f":"SUM(DK$78:DK82)","v":0},{"$f":"SUM(DL$78:DL82)","v":0},{"$f":"SUM(DM$78:DM82)","v":0},{"$f":"SUM(DN$78:DN82)","v":0},{"$f":"SUM(DO$78:DO82)","v":0},{"$f":"SUM(DP$78:DP82)","v":0},{"$f":"SUM(DQ$78:DQ82)","v":0},{"$f":"SUM(DR$78:DR82)","v":0},{"$f":"SUM(DS$78:DS82)","v":0}]
[{"$f":"A98","v":"Total"},{"$f":"IF(ISERROR(IRR(C110:OFFSET(C110,,$B$59),0.01)),0,(1+IRR(C110:OFFSET(C110,,$B$59),0.01))^$B$113-1)","v":0},{"$f":"SUM(C$78:C83)","v":0},{"$f":"SUM(D$78:D83)","v":4.5474735088646412E-13},{"$f":"SUM(E$78:E83)","v":4.5474735088646412E-13},{"$f":"SUM(F$78:F83)","v":4.5474735088646412E-13},{"$f":"SUM(G$78:G83)","v":0},{"$f":"SUM(H$78:H83)","v":4.5474735088646412E-13},{"$f":"SUM(I$78:I83)","v":4.5474735088646412E-13},{"$f":"SUM(J$78:J83)","v":4.5474735088646412E-13},{"$f":"SUM(K$78:K83)","v":4.5474735088646412E-13},{"$f":"SUM(L$78:L83)","v":0},{"$f":"SUM(M$78:M83)","v":0},{"$f":"SUM(N$78:N83)","v":0},{"$f":"SUM(O$78:O83)","v":0},{"$f":"SUM(P$78:P83)","v":0},{"$f":"SUM(Q$78:Q83)","v":0},{"$f":"SUM(R$78:R83)","v":0},{"$f":"SUM(S$78:S83)","v":0},{"$f":"SUM(T$78:T83)","v":0},{"$f":"SUM(U$78:U83)","v":0},{"$f":"SUM(V$78:V83)","v":0},{"$f":"SUM(W$78:W83)","v":0},{"$f":"SUM(X$78:X83)","v":0},{"$f":"SUM(Y$78:Y83)","v":0},{"$f":"SUM(Z$78:Z83)","v":0},{"$f":"SUM(AA$78:AA83)","v":0},{"$f":"SUM(AB$78:AB83)","v":0},{"$f":"SUM(AC$78:AC83)","v":0},{"$f":"SUM(AD$78:AD83)","v":0},{"$f":"SUM(AE$78:AE83)","v":0},{"$f":"SUM(AF$78:AF83)","v":0},{"$f":"SUM(AG$78:AG83)","v":0},{"$f":"SUM(AH$78:AH83)","v":0},{"$f":"SUM(AI$78:AI83)","v":0},{"$f":"SUM(AJ$78:AJ83)","v":0},{"$f":"SUM(AK$78:AK83)","v":0},{"$f":"SUM(AL$78:AL83)","v":0},{"$f":"SUM(AM$78:AM83)","v":9.0949470177292824E-13},{"$f":"SUM(AN$78:AN83)","v":9.0949470177292824E-13},{"$f":"SUM(AO$78:AO83)","v":9.0949470177292824E-13},{"$f":"SUM(AP$78:AP83)","v":9.0949470177292824E-13},{"$f":"SUM(AQ$78:AQ83)","v":9.0949470177292824E-13},{"$f":"SUM(AR$78:AR83)","v":9.0949470177292824E-13},{"$f":"SUM(AS$78:AS83)","v":9.0949470177292824E-13},{"$f":"SUM(AT$78:AT83)","v":9.0949470177292824E-13},{"$f":"SUM(AU$78:AU83)","v":9.0949470177292824E-13},{"$f":"SUM(AV$78:AV83)","v":9.0949470177292824E-13},{"$f":"SUM(AW$78:AW83)","v":9.0949470177292824E-13},{"$f":"SUM(AX$78:AX83)","v":9.0949470177292824E-13},{"$f":"SUM(AY$78:AY83)","v":9.0949470177292824E-13},{"$f":"SUM(AZ$78:AZ83)","v":0},{"$f":"SUM(BA$78:BA83)","v":0},{"$f":"SUM(BB$78:BB83)","v":0},{"$f":"SUM(BC$78:BC83)","v":0},{"$f":"SUM(BD$78:BD83)","v":0},{"$f":"SUM(BE$78:BE83)","v":0},{"$f":"SUM(BF$78:BF83)","v":0},{"$f":"SUM(BG$78:BG83)","v":0},{"$f":"SUM(BH$78:BH83)","v":0},{"$f":"SUM(BI$78:BI83)","v":0},{"$f":"SUM(BJ$78:BJ83)","v":0},{"$f":"SUM(BK$78:BK83)","v":0},{"$f":"SUM(BL$78:BL83)","v":0},{"$f":"SUM(BM$78:BM83)","v":0},{"$f":"SUM(BN$78:BN83)","v":0},{"$f":"SUM(BO$78:BO83)","v":0},{"$f":"SUM(BP$78:BP83)","v":0},{"$f":"SUM(BQ$78:BQ83)","v":0},{"$f":"SUM(BR$78:BR83)","v":0},{"$f":"SUM(BS$78:BS83)","v":0},{"$f":"SUM(BT$78:BT83)","v":0},{"$f":"SUM(BU$78:BU83)","v":0},{"$f":"SUM(BV$78:BV83)","v":0},{"$f":"SUM(BW$78:BW83)","v":0},{"$f":"SUM(BX$78:BX83)","v":0},{"$f":"SUM(BY$78:BY83)","v":0},{"$f":"SUM(BZ$78:BZ83)","v":0},{"$f":"SUM(CA$78:CA83)","v":0},{"$f":"SUM(CB$78:CB83)","v":0},{"$f":"SUM(CC$78:CC83)","v":0},{"$f":"SUM(CD$78:CD83)","v":0},{"$f":"SUM(CE$78:CE83)","v":0},{"$f":"SUM(CF$78:CF83)","v":0},{"$f":"SUM(CG$78:CG83)","v":0},{"$f":"SUM(CH$78:CH83)","v":0},{"$f":"SUM(CI$78:CI83)","v":4401590.6707377201},{"$f":"SUM(CJ$78:CJ83)","v":0},{"$f":"SUM(CK$78:CK83)","v":0},{"$f":"SUM(CL$78:CL83)","v":0},{"$f":"SUM(CM$78:CM83)","v":0},{"$f":"SUM(CN$78:CN83)","v":0},{"$f":"SUM(CO$78:CO83)","v":0},{"$f":"SUM(CP$78:CP83)","v":0},{"$f":"SUM(CQ$78:CQ83)","v":0},{"$f":"SUM(CR$78:CR83)","v":0},{"$f":"SUM(CS$78:CS83)","v":0},{"$f":"SUM(CT$78:CT83)","v":0},{"$f":"SUM(CU$78:CU83)","v":0},{"$f":"SUM(CV$78:CV83)","v":0},{"$f":"SUM(CW$78:CW83)","v":0},{"$f":"SUM(CX$78:CX83)","v":0},{"$f":"SUM(CY$78:CY83)","v":0},{"$f":"SUM(CZ$78:CZ83)","v":0},{"$f":"SUM(DA$78:DA83)","v":0},{"$f":"SUM(DB$78:DB83)","v":0},{"$f":"SUM(DC$78:DC83)","v":0},{"$f":"SUM(DD$78:DD83)","v":0},{"$f":"SUM(DE$78:DE83)","v":0},{"$f":"SUM(DF$78:DF83)","v":0},{"$f":"SUM(DG$78:DG83)","v":0},{"$f":"SUM(DH$78:DH83)","v":0},{"$f":"SUM(DI$78:DI83)","v":0},{"$f":"SUM(DJ$78:DJ83)","v":0},{"$f":"SUM(DK$78:DK83)","v":0},{"$f":"SUM(DL$78:DL83)","v":0},{"$f":"SUM(DM$78:DM83)","v":0},{"$f":"SUM(DN$78:DN83)","v":0},{"$f":"SUM(DO$78:DO83)","v":0},{"$f":"SUM(DP$78:DP83)","v":0},{"$f":"SUM(DQ$78:DQ83)","v":0},{"$f":"SUM(DR$78:DR83)","v":0},{"$f":"SUM(DS$78:DS83)","v":0}]
[]
["IRR Calculation"]
["Annual Compounding Periods",12]
[]
["Equity Ticker to Pre-Sales (Built Into Tier 1)"]
["Rate/Effective Rate",0,{"$f":"B113*((B116+1)^(1/B113)-1)","v":0}]
["Months",0]
[]
[]
[]
[]
[{"$f":"+A20&\" and \"&A28&\" IRR\"","v":"LP - Alan and Adam and GP IRR"},null,{"$f":"+C110+C104","v":-999855.99999999977},{"$f":"+D110+D104","v":7072.6674160289076},7072.6674160289076,7072.6674160289076,6059.4841644139633,7727.4361644139644,7727.4361644139644,7727.4361644139644,7164.5565801834382,8091.1965801834376,8138.8632468501064,8372.4299135167748,6916.2247462213527,9795.5011462213533,9795.5011462213533,9892.4360795546836,9331.3976676112725,10163.71102800243,11673.79102800243,11673.79102800243,12028.431028002437,12028.431028002437,12028.431028002437,12028.431028002437,12246.88357599439,12246.88357599439,12246.88357599439,12246.88357599439,12277.39024266106,12277.39024266106,12277.39024266106,12277.39024266106,12336.954509327728,12336.954509327728,12336.954509327728,12336.954509327728,12323.154447092784,12323.154447092784,12323.154447092784,12323.154447092784,12323.154447092784,12323.154447092784,12323.154447092784,12323.154447092784,12323.154447092784,12323.154447092784,12323.154447092784,12323.154447092784,12308.940382990782,12518.67371632412,12518.67371632412,12518.67371632412,12518.67371632412,12518.67371632412,12518.67371632412,12518.67371632412,12518.67371632412,12518.67371632412,12518.67371632412,12518.67371632412,12504.033230299057,12675.633230299058,12675.633230299058,12675.633230299058,12675.633230299058,{"$f":"+BP110+BP104","v":12675.633230299058},12675.633230299058,12675.633230299058,12675.633230299058,12675.633230299058,12742.366563632395,13078.702563632396,13063.62286302659,13139.81326302659,13139.81326302659,13139.81326302659,13139.81326302659,13139.81326302659,13139.81326302659,13139.81326302659,13139.81326302659,13139.81326302659,13139.81326302659,13139.81326302659,5443603.20886801,0,0,0,0,0,0,0,0,0,0,0,0,0,0,0,0,0,0,0,0,0,0,0,0,0,0,0,0,0,0,0,0,0,0,0,0]
[null,{"$f":"IF(ISERROR(IRR(C122:OFFSET(C122,,$B$69),0.01)),\"N/A\",(1+IRR(C122:OFFSET(C122,,$B$69),0.01))^$B$113-1)","v":0.35826455748621067}]

{"sheet":"Tax Wksht","index":12,"n_rows":11,"n_cols":3,"rows_kept":11,"cut":false,"hidden":true,"merged":[]}
["Entity","Description","Millage"]
[15,"Galena Park ISD",1.5632999999999999]
[40,"Harris County",0.41800999999999999]
[41,"Harris County Flood Control",2.8309999999999998E-2]
[42,"Port of Houston Authority",1.256E-2]
[43,"Harris County Hospital District",0.1711]
[44,"Harris County Education Department",5.195E-3]
[47,"San Jacinto Community College District",0.183335]
[668,"HC Emergency Service District 12",4.7699999999999999E-2]
[676,"HC Emergency Service District 6",8.3999999999999995E-3]
[null,"Total",{"$f":"SUM(C2:C10)","v":2.43791}]

{"sheet":"Global Assumptions","index":13,"n_rows":36,"n_cols":22,"rows_kept":36,"cut":false,"hidden":true,"merged":[]}
[]
[null,"x",null,null,null,null,null,null,null,null,null,null,null,null,null,null,null,null,null,null,null,"x"]
[null,null,"Global Assumptions"]
[null,null,{"$f":"+'Project Summary'!C4","v":"Woodforest Shopping Center"}]
[]
[null,null,"CALENDAR YEAR ANALYSIS",null,null,null,null,null,"CAPITAL ITEMS",null,null,null,null,null,"LEASE-UP ASSUMPTIONS"]
[null,null,"Analysis Begin Date:",null,null,null,"2016-01-31",null,"Capital Reserve: ",null,null," ",0.15,null,"Vacancy","Lease Start","SF","Rate","Term","Abatement","TI"]
[null,null,"Analysis End Date:",null,null,null,"2025-12-31",null,"Capital Improvements",null,null,null,{"$f":"+'Project Summary'!I26","v":0},null,"Tenant 1","2020-01-01",97620,27,10,6,65]
[null,null,"Term of Analysis:",null,null,null,{"$f":"+ROUND((G8-G7)/365,1)","v":9.9},null,null,null,null,null,null,null,"Suite 1100","2020-07-01",97620,27,10,6,65]
[null,null,null,null,null,null,null,null,"General Vacancy:",null,null,{"$f":"+M10*G11","v":0},0,null,"Suite 1100","2021-01-01",97620,27.81,10,6,65]
[null,null,"Total Property NRA",null,null,null,{"$f":"'Project Summary'!J12","v":113781},null,null,null,null,null,null,null,"Suite 1100","2021-07-01",78096,27.81,10,6,65]
[null,null,null,null,null,null,null,null,"Total Vacancy",null,null,{"$f":"+SUM(L10:L11)","v":0},{"$f":"SUM(M10:M11)","v":0}]
[null,null,"MAJOR TENANTS",null,null,null,null,null,null,null,null,null,null,null,"LEASING ASSUMPTIONS"]
[null,null,null,null,"SF","% of Total","Expires",null,"Downtime:",null,null,null,"Varied",null,"Term",null,null,null,null,null,"10 years / 5 years"]
[null,null,null,null,null,null,null,null,"Renewal Probability:",null,null,null,"Varied",null,"Rent Steps",null,null,null,null,null,0]
[null,null,null,null,null,null,null,null,"Rent Type:",null,null,null,"Net",null,"Abatement",null,null,null,null,null,"Varied"]
[null,null,null,null,null,null,null,null,"Global Inflation:",null,null,null,0.03,null,"Tenant Improvement",null,null,null,null,null,"Varied"]
[null,null,null,null,null,null,null,null,null,null,null,null,null,null,"Leasing Commissions",null,null,null,null,null,"6.0% / 6.0%"]
[]
[null,null,"Total / Weighted Average",null,{"$f":"SUM(E15:E19)","v":0},{"$f":"SUM(F15:F19)","v":0},{"$f":"+SUMPRODUCT(G15:G19,E15:E19)/E20","v":{"$error":"#DIV/0!"}},null,"OPERATING ASSUMPTIONS",null,null,null,null,null,"OTHER ASSUMPTIONS"]
[null,null,null,null,null,null,null,null,"Operating Expenses (estimated year 1):"]
[null,null,"GROSS MARKET RENTS",null,null,null,null,null,null,"Type",null,"PSF","Total"]
[null,null,null,null,null,null,null,null,null,{"$f":"+'Monthly CF'!B23","v":"Management Fee"},null,{"$f":"+M23/$G$11","v":0.36315415139610308},{"$f":"+-SUM('Monthly CF'!F23:Q23)","v":41320.042500000003}]
[null,null,null,null,null,null,null,null,null,{"$f":"+'Monthly CF'!B24","v":"Water & Sewer"},null,5.6283298617519614E-2,{"$f":"+-SUM('Monthly CF'!F24:Q24)","v":6403.9699999999993}]
[null,null,"Market Rent (2020):",null,null,null,null,null,null,{"$f":"+'Monthly CF'!B38","v":"Insurance"},null,0.3900887230732723,{"$f":"+-SUM('Monthly CF'!F38:Q38)","v":44384.684999999998}]
[null,null,null,null,null,null,null,null,null,{"$f":"+'Monthly CF'!B39","v":0},null,0,{"$f":"+-SUM('Monthly CF'!F39:Q39)","v":0}]
[null,null,"Market Rent Growth:",null,2021,0.03,{"$f":"G25+(G25*F27)","v":0},null,null,{"$f":"+'Monthly CF'!B40","v":0},null,0,{"$f":"+-SUM('Monthly CF'!F40:Q40)","v":0}]
[null,null,null,null,{"$f":"E27+1","v":2022},0.03,{"$f":"G27+(G27*F28)","v":0},null,null,{"$f":"+'Monthly CF'!B41","v":0},null,0,{"$f":"+-SUM('Monthly CF'!F41:Q41)","v":0}]
[null,null,null,null,{"$f":"E28+1","v":2023},0.03,{"$f":"G28+(G28*F29)","v":0},null,null,{"$f":"+'Monthly CF'!B42","v":0},null,0,{"$f":"+-SUM('Monthly CF'!F42:Q42)","v":0}]
[null,null,null,null,2024,0.03,0,null,null,{"$f":"+'Monthly CF'!B43","v":0},null,0,{"$f":"+-SUM('Monthly CF'!F43:Q43)","v":0}]
[null,null,null,null,2025,0.03,{"$f":"G30+(G30*F31)","v":0},null,null,{"$f":"+'Monthly CF'!B44","v":0},null,{"$f":"+M31/$G$11","v":0},{"$f":"+-SUM('Monthly CF'!F44:Q44)","v":0}]
[null,null,null,null,null,null,null,null,null,{"$f":"+'Monthly CF'!B45","v":0},null,{"$f":"+M32/$G$11","v":0},{"$f":"+-SUM('Monthly CF'!F45:Q45)","v":0}]
[null,null,null,null,null,null,null,null,null,{"$f":"+'Monthly CF'!B46","v":0},null,0,{"$f":"+-SUM('Monthly CF'!F46:Q46)","v":0}]
[null,null,null,null,null,null,null,null,null,"Total",null,{"$f":"SUM(L23:L33)","v":0.80952617308689501},{"$f":"SUM(M23:M33)","v":92108.697500000009}]
[]
[null,"x",null,null,null,null,null,null,null,null,null,null,null,null,null,null,null,null,null,null,null,"x"]